{"text_format":"1","workbook":"xlsx","n_sheets":18,"sheets":["CUADRO RENTING","AHORRO FOTOVOLTAICA","AHORRO FUTURO","AHORRO SIN PEAJES","AHORRO FUTURO (2)","PORCENTAJES","ORDENA HORAS","IMPORTACIÓN DATOS ANUALES PVGIS","DISCR HORARIA PORCENTAJES","ZONAS CLIMÁTICAS","RADIACIONES SEGÚN ZONA","DISCRIMINACIÓN HORARIA","COSTES","Venta","Resumen oferta","Balance energético y ahorro","Hoja2","Hoja1"],"not_rendered":{"charts":3,"images":6,"macros":1,"external_links":0,"defined_names":66,"comments":3,"pivot_tables":0},"unopened":[],"bounds":{"document_bytes":16777216,"sheet_cells":100000,"rows_first":2000,"rows_last":500,"rows_between":2000,"halvings":0,"cell_chars":16384,"cell_head_chars":4096},"cells_cut":0,"cells_raw":0,"read":"whole","date_system":"1900"}

{"sheet":"CUADRO RENTING","index":0,"n_rows":56,"n_cols":47,"rows_kept":56,"cut":false,"hidden":false,"merged":[[7,6,7,7],[8,6,8,7],[9,6,9,7],[10,6,10,7]]}
[null,null,"Potencia Wp",10000,"Mantenimiento",100,"PROVINCIA","Ciudad_Real",null,null,null,null,null,null,null,null,"Puertollano","ANGULO",null,null,null,"ADOSADO",null,null,null,null,null,null,null,null,null,null,null,null,null,null,null,null,null,null,null,null,null,null,null,null,"Vivienda conectada"]
[null,null,"Precio €/Wp",1.25,"Seguro",100,"ZONA",{"$f":"Q2","v":4},null,null,null,null,null,"zona ",null,null,{"$f":"VLOOKUP($Q$1,'ZONAS CLIMÁTICAS'!H22:L500,2,0)","v":4},null,null,null,null,null,"2.0A",null,"30º",null,"Tipo 1","Autoconsumo",null,null,null,null,null,null,null,null,null,null,null,null,null,null,null,null,null,null,"Vivienda aislada"]
[null,null,"Coste",{"$f":"D1*D2","v":12500},"Cuota ESE",0,"Coef. Produccion",{"$f":"Q3","v":1.5227999999999999},null,null,null,null,null,"coef producción",null,null,{"$f":"IF(V1=\"30º\",VLOOKUP($Q$1,'ZONAS CLIMÁTICAS'!H22:L500,3,0),IF(V1=\"ÓPTIMO\",VLOOKUP($Q$1,'ZONAS CLIMÁTICAS'!H22:L500,4,0),IF(V1=\"ADOSADO\",VLOOKUP($Q$1,'ZONAS CLIMÁTICAS'!H22:L500,3,0)*0.94,1)))","v":1.5227999999999999},null,null,null,null,null,"2.0DHA",null,"ÓPTIMO",null,"Tipo 2","Venta",null,null,null,null,null,null,null,null,null,null,null,null,null,null,null,null,null,null,"Comunidad de propietarios"]
[null,null,"Subvención",0,null,null,null,null,null,null,null,null,null,null,null,null,{"$f":"'AHORRO FOTOVOLTAICA'!N1","v":0},null,null,null,null,null,"2.1A",null,"ADOSADO",null,null,null,null,null,null,null,null,null,null,null,null,null,null,null,null,null,null,null,null,null,"Empresa"]
[null,null,"FONDOS PROPIOS",1,"Financiación","renting","Tipo de instalación","Tipo 2",{"$f":"VLOOKUP(H5,AA2:AB3,2)","v":"Venta"},null,"Ahorro Potencia",200,null,null,null,null,null,null,null,null,null,null,"2.1DHA"]
[null,null,"ACTIVIDAD","Empresa",null,null,"Precio de Venta",4.4999999999999998E-2]
[null,null,null,null,null,null,null,null,null,null,null,null,null,"se tiene en cuenta un porcentaje de pérdidas del 10 % y acimutal de 0",null,null,null,null,null,null,null,null,"3.0A"]
[null,"Operación de Préstamo",null,null,"Gastos Escritura",5.0000000000000001E-3,"Precio kWh a 25 años",null,{"$f":"SUM(M16:M41)/SUM(Q17:Q41)","v":5.0430796309324094E-2},null,null,null,null,null,null,null,null,null,null,null,null,null,"3.1A"]
[null,"FP",{"$f":"D5*D3","v":12500},null,"Comisión Aptra",5.0000000000000001E-3,"Precio kWh a 40 años",null,{"$f":"SUM(M16:M56)/SUM(Q17:Q56)","v":4.1579840930141346E-2},null,null,null,null,null,null,null,null,null,null,null,null,null,"6.1A"]
[null,"Cf",{"$f":"D3-C9+S14+U14","v":0},null,"Anualidad",{"$f":"IF(C11=0,0,PMT(C12,C11,-C10,C13))","v":0},"Precio kWh a 10 años",null,{"$f":"SUM(M16:M26)/SUM(Q16:Q26)","v":9.654616601093638E-2}]
[null,"año",0,null,"IPC",0.02,"Precio kWh a 7 años",null,{"$f":"SUM(M16:M23)/SUM(Q16:Q23)","v":0.1309402612345946}]
[null,"i",2.5000000000000001E-2,null,"IMP. SOCIEDADES",0.25]
[null,"VR",0,null,"IPE",0.04]
[null,null,null,null,"DED. VIVIENDAS",0,null,null,null,null,null,null,null,null,null,null,null,null,{"$f":"SUMIF(T17:T56,\"OK\",S17:S56)","v":0},null,{"$f":"SUMIF(T17:T56,\"OK\",U17:U56)","v":0}]
[null,"Año","Anualidad","Intereses","Amortización","IVA","Mantenimiento","Seguro","Gastos Banc","SUBVENCIÓN","DED. FISCAL","AHORRO REAL","CUOTA REAL","Cap. Vivo","Cap. Amort.","€/kWh","Produccion",null,"Coste Mantenimiento",null,"Coste Seguro","Coste fv"]
[null,0,{"$f":"C9","v":12500},0,0,{"$f":"IF(F5=\"renting\",IF(D5=100%,D3*21%,C16*21%),D3*21%)","v":2625},{"$f":"IF($D$6=\"Empresa\",IF($C$11>=B16,0,S16),S16*1.21)","v":0},{"$f":"IF($C$11>=B16,0,U16)","v":0},{"$f":"C10*F9+C10*F8","v":0},null,{"$f":"IF($F$5=\"renting\",IF($C$11>=B16,-(C16+S16+U16)*$F$12,-(S16+U16)*$F$12),-(D3)*$F$12)","v":-3125},null,{"$f":"IF($C$11>=B16,IF($D$6=\"Empresa\",C16+G16+H16+I16,C16+G16+H16+I16+F16),+G16+H16+I16-J16)","v":12500},{"$f":"+C10","v":0}]
[null,1,{"$f":"IF($C$11>=B17,+$F$10,\"\")","v":""},{"$f":"IF($C$11>=B17,+N16*$C$12,\"\")","v":""},{"$f":"IF($C$11>=B17,+C17-D17,\"\")","v":""},{"$f":"IF($C$11-B17<0,0,IF($F$5=\"renting\",IF(C17>0,C17*0.21,0),0))","v":0},{"$f":"IF($D$6=\"Empresa\",IF($C$11>=B17,0,S17),S17*1.21)","v":0},{"$f":"IF($C$11>=B17,0,U17)","v":100},null,{"$f":"D4*D3","v":0},{"$f":"IF($F$5=\"renting\",IF($C$11>=B17,-(C17+S17+U17)*$F$12,-(S17+U17)*$F$12),-(S17+U17)*$F$12)","v":-25},{"$f":"'AHORRO FUTURO'!C22","v":1366.0910112165093},100,{"$f":"IF($C$11>=B17,+N16-E17,\"\")","v":""},{"$f":"IF($C$11>=B17,+O16+E17,\"\")","v":""},{"$f":"M17/Q17","v":6.5668505384817444E-3},{"$f":"Q3*D1","v":15228},null,0,{"$f":"IF($C$11-$B17>=0,\"OK\",\"FAIL\")","v":"FAIL"},{"$f":"F2","v":100},{"$f":"Q17*P17","v":100}]
[null,2,"","",{"$f":"IF($C$11>=B18,+C18-D18,\"\")","v":""},0,100,102,null,null,-50.5,{"$f":"'AHORRO FUTURO'!C23","v":1417.8931823618393},202,"","",1.3291621330393912E-2,{"$f":"Q17*0.998","v":15197.544},null,{"$f":"F1","v":100},{"$f":"IF($C$11-$B18>=0,\"OK\",\"FAIL\")","v":"FAIL"},{"$f":"U17+$F$11*U17","v":102},202]
[null,3,"","","",0,102,104.04,null,null,-51.510000000000005,{"$f":"'AHORRO FUTURO'!C24","v":1471.6596918370003},206.04000000000002,"","",1.3584623003007806E-2,{"$f":"Q18*0.998","v":15167.148912000001},null,{"$f":"S18+$F$11*S18","v":102},"FAIL",104.04,206.04000000000002]
[null,4,"","","",0,104.04,106.1208,null,null,-52.540199999999999,{"$f":"'AHORRO FUTURO'!C25","v":1527.4650273514594},210.16079999999999,"","",1.3884083630328618E-2,15136.814614176001,null,104.04,"FAIL",106.1208,210.16079999999999]
[null,5,"","","",0,106.1208,108.243216,null,null,-53.591003999999998,{"$f":"'AHORRO FUTURO'!C26","v":1585.3865011886269},214.36401599999999,"","",1.4190145594123436E-2,15106.540984947649,null,106.1208,"FAIL",108.243216,214.36401599999999]
[null,6,"","","",0,108.243216,110.40808032000001,null,null,-54.662824080000007,{"$f":"'AHORRO FUTURO'!C27","v":1645.5043573136998},218.65129632000003,"","",1.4502954414835579E-2,15076.327902977753,null,108.243216,"FAIL",110.40808032000001,218.65129632000003]
[null,7,"","","",0,110.40808032000001,112.61624192640001,null,null,-55.756080561600001,{"$f":"'AHORRO FUTURO'!C28","v":1707.9018825430353},223.0243222464,"","",1.4822658820773837E-2,15046.175247171797,null,110.40808032000001,"FAIL",112.61624192640001,223.0243222464]
[null,8,"","","",0,112.61624192640001,114.868566764928,null,null,-56.871202172832,{"$f":"'AHORRO FUTURO'!C29","v":1772.6655219290672},227.484808691328,"","",1.5149410818826967E-2,15016.082896677453,null,112.61624192640001,"FAIL",114.868566764928,227.484808691328]
[null,9,"","","",0,114.868566764928,117.16593810022657,null,null,-58.008626216288647,{"$f":"'AHORRO FUTURO'!C30","v":1839.8849985206175},232.03450486515459,"","",1.5483365766736982E-2,14986.050730884099,null,114.868566764928,"FAIL",117.16593810022657,232.03450486515459]
[null,10,"","","",0,117.16593810022657,119.5092568622311,null,null,-59.16879874061442,{"$f":"'AHORRO FUTURO'!C31","v":1909.6534376645195},236.67519496245768,"","",1.5824682446965652E-2,14956.078629422331,null,117.16593810022657,"FAIL",119.5092568622311,236.67519496245765]
[null,11,"","","",0,119.5092568622311,121.89944199947573,null,null,-60.352174715426706,{"$f":"'AHORRO FUTURO'!C32","v":1982.0674960207582},241.40869886170682,"","",1.6173523142189346E-2,14926.166472163486,null,119.5092568622311,"FAIL",121.89944199947573,241.40869886170685]
[null,12,"","","",0,121.89944199947573,124.33743083946524,null,null,-61.559218209735242,{"$f":"'AHORRO FUTURO'!C33","v":2057.2274954698655},246.23687283894097,"","",1.6530053712458047E-2,14896.314139219159,null,121.89944199947573,"FAIL",124.33743083946524,246.23687283894097]
[null,13,"","","",0,124.33743083946524,126.82417945625454,null,null,-62.790402573929946,{"$f":"'AHORRO FUTURO'!C34","v":2135.2375620980829},251.16161029571978,"","",1.6894443674055321E-2,14866.52151094072,null,124.33743083946524,"FAIL",126.82417945625454,251.16161029571978]
[null,14,"","","",0,126.82417945625454,129.36066304537962,null,null,-64.046210625408548,{"$f":"'AHORRO FUTURO'!C35","v":2216.205770452842},256.18484250163419,"","",1.7266866280096618E-2,14836.788467918839,null,126.82417945625454,"FAIL",129.36066304537962,256.18484250163419]
[null,15,"","","",0,129.36066304537962,131.94787630628721,null,null,-65.327134837916702,{"$f":"'AHORRO FUTURO'!C36","v":2300.2442932684135},261.30853935166681,"","",1.7647498602904356E-2,14807.114890983001,null,129.36066304537962,"FAIL",131.94787630628721,261.30853935166681]
[null,16,"","","",0,131.94787630628721,134.58683383241296,null,null,-66.633677534675044,{"$f":"'AHORRO FUTURO'!C37","v":2387.4695568691518},266.53471013870018,"","",1.8036521618198843E-2,14777.500661201035,null,131.94787630628721,"FAIL",134.58683383241296,266.53471013870018]
[null,17,"","","",0,134.58683383241296,137.27857050906121,null,null,-67.966351085368544,{"$f":"'AHORRO FUTURO'!C38","v":2478.0024024656304},271.86540434147417,"","",1.843412029114511E-2,14747.945659878633,null,134.58683383241296,"FAIL",137.27857050906121,271.86540434147417]
[null,18,"","","",0,137.27857050906121,140.02414191924242,null,null,-69.325678107075902,{"$f":"'AHORRO FUTURO'!C39","v":2571.9682535671272},277.30271242830361,"","",1.8840483664296602E-2,14718.449768558876,null,137.27857050906121,"FAIL",140.02414191924242,277.30271242830361]
[null,19,"","","",0,140.02414191924242,142.82462475762728,null,null,-70.712191669217418,{"$f":"'AHORRO FUTURO'!C40","v":2669.4972897423927},282.84876667686967,"","",1.9255804947477487E-2,14689.012869021759,null,140.02414191924242,"FAIL",142.82462475762728,282.84876667686967]
[null,20,"","","",0,142.82462475762728,145.68111725277981,null,null,-72.126435502601765,{"$f":"'AHORRO FUTURO'!C41","v":2770.7246269694242},288.50574201040706,"","",1.9680281609646331E-2,14659.634843283715,null,142.82462475762728,"FAIL",145.68111725277981,288.50574201040706]
[null,21,"","","",0,145.68111725277981,148.5947395978354,null,null,-73.56896421265381,{"$f":"'AHORRO FUTURO'!C42","v":2875.7905048241046},294.27585685061524,"","",2.0114115472784831E-2,14630.315573597147,null,145.68111725277981,"FAIL",148.5947395978354,294.27585685061524]
[null,22,"","","",0,148.5947395978354,151.56663438979211,null,null,-75.040343496906871,{"$f":"'AHORRO FUTURO'!C43","v":2984.8404807670345},300.16137398762748,"","",2.0557512807856233E-2,14601.054942449953,null,148.5947395978354,"FAIL",151.56663438979211,300.16137398762748]
[null,23,"","","",0,151.56663438979211,154.59796707758795,null,null,-76.541150366845017,{"$f":"'AHORRO FUTURO'!C44","v":3098.025631797721},306.16460146738007,"","",2.101068443287912E-2,14571.852832565053,null,151.56663438979211,"FAIL",154.59796707758795,306.16460146738007]
[null,24,"","","",0,154.59796707758795,157.68992641913971,null,null,-78.071973374181908,{"$f":"'AHORRO FUTURO'!C45","v":3215.5027637554904},312.28789349672763,"","",2.1473845813163025E-2,14542.709126899923,null,154.59796707758795,"FAIL",157.68992641913971,312.28789349672763]
[null,25,"","","",0,157.68992641913971,160.8437249475225,null,null,-79.633412841665546,{"$f":"'AHORRO FUTURO'!C46","v":3337.4346285570987},318.53365136666218,"","",2.1947217163753793E-2,14513.623708646122,null,157.68992641913971,"FAIL",160.8437249475225,318.53365136666218]
[null,26,"","",{"$f":"IF($C$11>=B42,+C42-D42,\"\")","v":""},0,160.8437249475225,164.06059944647296,null,null,-81.226081098498867,{"$f":"'AHORRO FUTURO'!C47","v":3463.990149671984},324.90432439399547,"","",2.2431023554137147E-2,14484.59646122883,null,{"$f":"S41+$F$11*S41","v":160.8437249475225},"FAIL",{"$f":"U41+$F$11*U41","v":164.06059944647296},324.90432439399547]
[null,27,"","","",0,164.06059944647296,167.34181143540243,null,null,-82.850602720468856,{"$f":"'AHORRO FUTURO'!C48","v":3595.3446561475457},331.40241088187543,"","",2.2925495015250395E-2,14455.627268306373,null,164.06059944647296,"FAIL",167.34181143540243,331.40241088187543]
[null,28,"","","",0,167.34181143540243,170.68864766411048,null,null,-84.50761477487822,{"$f":"'AHORRO FUTURO'!C49","v":3731.6801255086607},338.03045909951288,"","",2.3430866648853105E-2,14426.716013769759,null,167.34181143540243,"FAIL",170.68864766411048,338.03045909951288]
[null,29,"","","",0,170.68864766411048,174.10242061739268,null,null,-86.197767070375789,{"$f":"'AHORRO FUTURO'!C50","v":3873.1854358679489},344.79106828150316,"","",2.3947378739308786E-2,14397.86258174222,null,170.68864766411048,"FAIL",174.10242061739268,344.79106828150316]
[null,30,"","","",0,174.10242061739268,177.58446902974055,null,null,-87.921722411783307,{"$f":"'AHORRO FUTURO'!C51","v":4020.0566275960614},351.68688964713323,"","",2.4475276867830627E-2,14369.066856578735,null,174.10242061739268,"FAIL",177.58446902974055,351.68688964713323]
[null,31,"","","",0,177.58446902974055,181.13615841033536,null,null,-89.680156860018968,{"$f":"'AHORRO FUTURO'!C52","v":4172.4971749145043},358.72062744007587,"","",2.5014812029245728E-2,14340.328722865577,null,177.58446902974055,"FAIL",181.13615841033536,358.72062744007587]
[null,32,"","","",0,181.13615841033536,184.75888157854206,null,null,-91.473759997219361,{"$f":"'AHORRO FUTURO'!C53","v":4330.7182677872624},365.89503998887744,"","",2.5566240751333312E-2,14311.648065419846,null,181.13615841033536,"FAIL",184.75888157854206,365.89503998887744]
[null,33,"","","",0,184.75888157854206,188.45405921011289,null,null,-93.30323519716373,{"$f":"'AHORRO FUTURO'!C54","v":4494.9391045017555},373.21294078865492,"","",2.6129825216793561E-2,14283.024769289006,null,184.75888157854206,"FAIL",188.45405921011289,373.21294078865492]
[null,34,"","","",0,188.45405921011289,192.22314039431515,null,null,-95.16929990110701,{"$f":"'AHORRO FUTURO'!C55","v":4665.3871953444623},380.67719960442804,"","",2.6705833387905244E-2,14254.458719750428,null,188.45405921011289,"FAIL",192.22314039431515,380.67719960442804]
[null,35,"","","",0,192.22314039431515,196.06760320220147,null,null,-97.072685899129155,{"$f":"'AHORRO FUTURO'!C56","v":4842.2986777919241},388.29074359651662,"","",2.7294539133931216E-2,14225.949802310926,null,192.22314039431515,"FAIL",196.06760320220147,388.29074359651662]
[null,36,"","","",0,196.06760320220147,199.98895526624551,null,null,-99.014139617111738,{"$f":"'AHORRO FUTURO'!C57","v":5025.9186436537939},396.05655846844695,"","",2.7896222361332507E-2,14197.497902706304,null,196.06760320220147,"FAIL",199.98895526624551,396.05655846844695]
[null,37,"","",{"$f":"IF($C$11>=B53,+C53-D53,\"\")","v":""},0,199.98895526624551,203.98873437157042,null,null,-100.99442240945399,{"$f":"'AHORRO FUTURO'!C58","v":5216.5014786211459},403.97768963781596,"","",2.8511169146852866E-2,14169.102906900891,null,199.98895526624551,"FAIL",203.98873437157042,403.97768963781596]
[null,38,"","",{"$f":"IF($C$11>=B54,+C54-D54,\"\")","v":""},0,203.98873437157042,208.06850905900183,null,null,-103.01431085764307,{"$f":"'AHORRO FUTURO'!C59","v":5414.3112146904605},412.05724343057227,"","",2.9139671873536999E-2,14140.76470108709,null,203.98873437157042,"FAIL",208.06850905900183,412.05724343057227]
[null,39,"","",{"$f":"IF($C$11>=B55,+C55-D55,\"\")","v":""},0,208.06850905900183,212.22987924018187,null,null,-105.07459707479592,{"$f":"'AHORRO FUTURO'!C60","v":5619.6218959515236},420.29838829918367,"","",2.9782029369747231E-2,14112.483171684915,null,208.06850905900183,"FAIL",212.22987924018187,420.29838829918367]
[null,40,"","",{"$f":"IF($C$11>=B56,+C56-D56,\"\")","v":""},0,212.22987924018187,216.47447682498552,null,null,-107.17608901629185,{"$f":"'AHORRO FUTURO'!C61","v":5832.7179582460049},428.70435606516742,"","",3.0438547051244672E-2,14084.258205341544,null,212.22987924018187,"FAIL",216.47447682498552,428.70435606516742]

{"sheet":"AHORRO FOTOVOLTAICA","index":1,"n_rows":38,"n_cols":20,"rows_kept":38,"cut":false,"hidden":false,"merged":[]}
["Tarifa","2.1A",null,null,null,null,null,null,{"$f":"B1","v":"2.1A"},null,null,null,null,null,"tarifas",null,null,null,0,0]
["Periodos",{"$f":"IF($B$1=\"tarifas\",\"\",\"1 (Punta)\")","v":"1 (Punta)"},{"$f":"IF($B$1=\"3.0A\",\"2 (Llano)\",IF($B$1=\"3.1A\",\"2 (Llano)\",IF($B$1=\"6.1A\",\"2 (Llano)\",\"\")))","v":""},{"$f":"IF($B$1=\"3.0A\",\"3 (Valle)\",IF($B$1=\"3.1A\",\"3 (Valle)\",IF($B$1=\"6.1A\",\"3 (Valle)\",IF($B$1=\"2.0DHA\",\"3 (Valle)\",IF($B$1=\"2.1DHA\",\"3 (Valle)\",\"\")))))","v":""},{"$f":"IF($B$1=\"tarifas\",\"\",IF($B$1=\"6.1A\",4,\"\"))","v":""},{"$f":"IF($B$1=\"tarifas\",\"\",IF($B$1=\"6.1A\",5,\"\"))","v":""},{"$f":"IF($B$1=\"tarifas\",\"\",IF($B$1=\"6.1A\",6,\"\"))","v":""},null,null,null,null,null,null,null,"2.0A"]
["Precio kWh",0.105056,0,0,0,0,0,null,{"$f":"B3","v":0.105056},0,0,0,0,0,"2.0DHA"]
["Potencia kW",null,null,null,null,null,null,null,null,null,null,null,null,null,"2.1A"]
["Precio kW",null,null,null,null,null,null,null,null,null,null,null,null,null,"2.1DHA"]
["Consumo anual",null,null,0,null,0,null,0,null,0,null,0,null,null,"3.0A"]
[null,{"$f":"IF($B$2=\"\",\"\",$B$2)","v":"1 (Punta)"},{"$f":"IF(B7=\"\",\"\",\"Precio Real\")","v":"Precio Real"},{"$f":"IF($B$1=\"3.0A\",\"2 (Llano)\",IF($B$1=\"3.1A\",\"2 (Llano)\",IF($B$1=\"6.1A\",\"2 (Llano)\",\"\")))","v":""},{"$f":"IF(D7=\"\",\"\",\"Precio Real\")","v":""},{"$f":"IF($B$1=\"3.0A\",\"3 (Valle)\",IF($B$1=\"3.1A\",\"3 (Valle)\",IF($B$1=\"6.1A\",\"3 (Valle)\",IF($B$1=\"2.0DHA\",\"3 (Valle)\",IF($B$1=\"2.1DHA\",\"3 (Valle)\",\"\")))))","v":""},{"$f":"IF(F7=\"\",\"\",\"Precio Real\")","v":""},{"$f":"IF($B$1=\"tarifas\",\"\",IF($B$1=\"6.1A\",4,\"\"))","v":""},{"$f":"IF(H7=\"\",\"\",\"Precio Real\")","v":""},{"$f":"IF($B$1=\"tarifas\",\"\",IF($B$1=\"6.1A\",5,\"\"))","v":""},{"$f":"IF(J7=\"\",\"\",\"Precio Real\")","v":""},{"$f":"IF($B$1=\"tarifas\",\"\",IF($B$1=\"6.1A\",6,\"\"))","v":""},{"$f":"IF(L7=\"\",\"\",\"Precio Real\")","v":""},null,"3.1A"]
["Enero",{"$f":"Hoja2!F41+Hoja2!I41","v":244},{"$f":"IF(C7=\"\",\"\",IF('CUADRO RENTING'!$D$6=\"Empresa\",($B$3)*(1+1.05113*4.864%),($B$3+$B$4*$B$5*31/B9)*(1+1.05113*4.864%)*1.21))","v":0.11042719424593919},0,{"$f":"IF(E7=\"\",\"\",IF($C$3=\"\",\"\",IF('CUADRO RENTING'!$D$6=\"Empresa\",$C$3*(1+1.05113*4.864%),$C$3*(1+1.05113*4.864%)*1.21)))","v":""},0,{"$f":"IF(G7=\"\",\"\",IF($D$3=\"\",\"\",IF('CUADRO RENTING'!$D$6=\"Empresa\",$D$3*(1+1.05113*4.864%),$D$3*(1+1.05113*4.864%)*1.21)))","v":""},0,{"$f":"IF(I7=\"\",\"\",IF($E$3=\"\",\"\",IF('CUADRO RENTING'!$D$6=\"Empresa\",$E$3*(1+1.05113*4.864%),$E$3*(1+1.05113*4.864%)*1.21)))","v":""},0,{"$f":"IF(K7=\"\",\"\",IF($F$3=\"\",\"\",IF('CUADRO RENTING'!$D$6=\"Empresa\",$F$3*(1+1.05113*4.864%),$F$3*(1+1.05113*4.864%)*1.21)))","v":""},0,{"$f":"IF(M7=\"\",\"\",IF($G$3=\"\",\"\",IF('CUADRO RENTING'!$D$6=\"Empresa\",$G$3*(1+1.05113*4.864%),$G$3*(1+1.05113*4.864%)*1.21)))","v":""},null,"6.1A"]
["Febrero",{"$f":"Hoja2!F42+Hoja2!I42","v":269},{"$f":"IF(C8=\"\",\"\",IF('CUADRO RENTING'!$D$6=\"Empresa\",($B$3)*(1+1.05113*4.864%),($B$3)*(1+1.05113*4.864%)*1.21))","v":0.11042719424593919},0,{"$f":"IF(E8=\"\",\"\",IF($C$3=\"\",\"\",IF('CUADRO RENTING'!$D$6=\"Empresa\",$C$3*(1+1.05113*4.864%),$C$3*(1+1.05113*4.864%)*1.21)))","v":""},0,{"$f":"IF(G8=\"\",\"\",IF($D$3=\"\",\"\",IF('CUADRO RENTING'!$D$6=\"Empresa\",$D$3*(1+1.05113*4.864%),$D$3*(1+1.05113*4.864%)*1.21)))","v":""},0,{"$f":"IF(I8=\"\",\"\",IF($E$3=\"\",\"\",IF('CUADRO RENTING'!$D$6=\"Empresa\",$E$3*(1+1.05113*4.864%),$E$3*(1+1.05113*4.864%)*1.21)))","v":""},0,{"$f":"IF(K8=\"\",\"\",IF($F$3=\"\",\"\",IF('CUADRO RENTING'!$D$6=\"Empresa\",$F$3*(1+1.05113*4.864%),$F$3*(1+1.05113*4.864%)*1.21)))","v":""},0,{"$f":"IF(M8=\"\",\"\",IF($G$3=\"\",\"\",IF('CUADRO RENTING'!$D$6=\"Empresa\",$G$3*(1+1.05113*4.864%),$G$3*(1+1.05113*4.864%)*1.21)))","v":""}]
["Marzo",{"$f":"Hoja2!F43+Hoja2!I43","v":1877},{"$f":"IF(C9=\"\",\"\",IF('CUADRO RENTING'!$D$6=\"Empresa\",($B$3)*(1+1.05113*4.864%),($B$3)*(1+1.05113*4.864%)*1.21))","v":0.11042719424593919},0,{"$f":"IF(E9=\"\",\"\",IF($C$3=\"\",\"\",IF('CUADRO RENTING'!$D$6=\"Empresa\",$C$3*(1+1.05113*4.864%),$C$3*(1+1.05113*4.864%)*1.21)))","v":""},0,{"$f":"IF(G9=\"\",\"\",IF($D$3=\"\",\"\",IF('CUADRO RENTING'!$D$6=\"Empresa\",$D$3*(1+1.05113*4.864%),$D$3*(1+1.05113*4.864%)*1.21)))","v":""},0,{"$f":"IF(I9=\"\",\"\",IF($E$3=\"\",\"\",IF('CUADRO RENTING'!$D$6=\"Empresa\",$E$3*(1+1.05113*4.864%),$E$3*(1+1.05113*4.864%)*1.21)))","v":""},0,{"$f":"IF(K9=\"\",\"\",IF($F$3=\"\",\"\",IF('CUADRO RENTING'!$D$6=\"Empresa\",$F$3*(1+1.05113*4.864%),$F$3*(1+1.05113*4.864%)*1.21)))","v":""},0,{"$f":"IF(M9=\"\",\"\",IF($G$3=\"\",\"\",IF('CUADRO RENTING'!$D$6=\"Empresa\",$G$3*(1+1.05113*4.864%),$G$3*(1+1.05113*4.864%)*1.21)))","v":""}]
["Abril",{"$f":"Hoja2!F44+Hoja2!I44","v":3602},{"$f":"IF(C10=\"\",\"\",IF('CUADRO RENTING'!$D$6=\"Empresa\",($B$3)*(1+1.05113*4.864%),($B$3)*(1+1.05113*4.864%)*1.21))","v":0.11042719424593919},0,{"$f":"IF(E10=\"\",\"\",IF($C$3=\"\",\"\",IF('CUADRO RENTING'!$D$6=\"Empresa\",$C$3*(1+1.05113*4.864%),$C$3*(1+1.05113*4.864%)*1.21)))","v":""},0,{"$f":"IF(G10=\"\",\"\",IF($D$3=\"\",\"\",IF('CUADRO RENTING'!$D$6=\"Empresa\",$D$3*(1+1.05113*4.864%),$D$3*(1+1.05113*4.864%)*1.21)))","v":""},0,{"$f":"IF(I10=\"\",\"\",IF($E$3=\"\",\"\",IF('CUADRO RENTING'!$D$6=\"Empresa\",$E$3*(1+1.05113*4.864%),$E$3*(1+1.05113*4.864%)*1.21)))","v":""},0,{"$f":"IF(K10=\"\",\"\",IF($F$3=\"\",\"\",IF('CUADRO RENTING'!$D$6=\"Empresa\",$F$3*(1+1.05113*4.864%),$F$3*(1+1.05113*4.864%)*1.21)))","v":""},0,{"$f":"IF(M10=\"\",\"\",IF($G$3=\"\",\"\",IF('CUADRO RENTING'!$D$6=\"Empresa\",$G$3*(1+1.05113*4.864%),$G$3*(1+1.05113*4.864%)*1.21)))","v":""}]
["Mayo",{"$f":"Hoja2!F45+Hoja2!I45","v":4133},{"$f":"IF(C11=\"\",\"\",IF('CUADRO RENTING'!$D$6=\"Empresa\",($B$3)*(1+1.05113*4.864%),($B$3)*(1+1.05113*4.864%)*1.21))","v":0.11042719424593919},0,{"$f":"IF(E11=\"\",\"\",IF($C$3=\"\",\"\",IF('CUADRO RENTING'!$D$6=\"Empresa\",$C$3*(1+1.05113*4.864%),$C$3*(1+1.05113*4.864%)*1.21)))","v":""},0,{"$f":"IF(G11=\"\",\"\",IF($D$3=\"\",\"\",IF('CUADRO RENTING'!$D$6=\"Empresa\",$D$3*(1+1.05113*4.864%),$D$3*(1+1.05113*4.864%)*1.21)))","v":""},0,{"$f":"IF(I11=\"\",\"\",IF($E$3=\"\",\"\",IF('CUADRO RENTING'!$D$6=\"Empresa\",$E$3*(1+1.05113*4.864%),$E$3*(1+1.05113*4.864%)*1.21)))","v":""},0,{"$f":"IF(K11=\"\",\"\",IF($F$3=\"\",\"\",IF('CUADRO RENTING'!$D$6=\"Empresa\",$F$3*(1+1.05113*4.864%),$F$3*(1+1.05113*4.864%)*1.21)))","v":""},0,{"$f":"IF(M11=\"\",\"\",IF($G$3=\"\",\"\",IF('CUADRO RENTING'!$D$6=\"Empresa\",$G$3*(1+1.05113*4.864%),$G$3*(1+1.05113*4.864%)*1.21)))","v":""}]
["Junio",{"$f":"Hoja2!F46+Hoja2!I46","v":5758},{"$f":"IF(C12=\"\",\"\",IF('CUADRO RENTING'!$D$6=\"Empresa\",($B$3)*(1+1.05113*4.864%),($B$3)*(1+1.05113*4.864%)*1.21))","v":0.11042719424593919},0,{"$f":"IF(E12=\"\",\"\",IF($C$3=\"\",\"\",IF('CUADRO RENTING'!$D$6=\"Empresa\",$C$3*(1+1.05113*4.864%),$C$3*(1+1.05113*4.864%)*1.21)))","v":""},0,{"$f":"IF(G12=\"\",\"\",IF($D$3=\"\",\"\",IF('CUADRO RENTING'!$D$6=\"Empresa\",$D$3*(1+1.05113*4.864%),$D$3*(1+1.05113*4.864%)*1.21)))","v":""},0,{"$f":"IF(I12=\"\",\"\",IF($E$3=\"\",\"\",IF('CUADRO RENTING'!$D$6=\"Empresa\",$E$3*(1+1.05113*4.864%),$E$3*(1+1.05113*4.864%)*1.21)))","v":""},0,{"$f":"IF(K12=\"\",\"\",IF($F$3=\"\",\"\",IF('CUADRO RENTING'!$D$6=\"Empresa\",$F$3*(1+1.05113*4.864%),$F$3*(1+1.05113*4.864%)*1.21)))","v":""},0,{"$f":"IF(M12=\"\",\"\",IF($G$3=\"\",\"\",IF('CUADRO RENTING'!$D$6=\"Empresa\",$G$3*(1+1.05113*4.864%),$G$3*(1+1.05113*4.864%)*1.21)))","v":""}]
["Julio",{"$f":"Hoja2!F47+Hoja2!I47","v":5876},{"$f":"IF(C13=\"\",\"\",IF('CUADRO RENTING'!$D$6=\"Empresa\",($B$3)*(1+1.05113*4.864%),($B$3)*(1+1.05113*4.864%)*1.21))","v":0.11042719424593919},0,{"$f":"IF(E13=\"\",\"\",IF($C$3=\"\",\"\",IF('CUADRO RENTING'!$D$6=\"Empresa\",$C$3*(1+1.05113*4.864%),$C$3*(1+1.05113*4.864%)*1.21)))","v":""},0,{"$f":"IF(G13=\"\",\"\",IF($D$3=\"\",\"\",IF('CUADRO RENTING'!$D$6=\"Empresa\",$D$3*(1+1.05113*4.864%),$D$3*(1+1.05113*4.864%)*1.21)))","v":""},0,{"$f":"IF(I13=\"\",\"\",IF($E$3=\"\",\"\",IF('CUADRO RENTING'!$D$6=\"Empresa\",$E$3*(1+1.05113*4.864%),$E$3*(1+1.05113*4.864%)*1.21)))","v":""},0,{"$f":"IF(K13=\"\",\"\",IF($F$3=\"\",\"\",IF('CUADRO RENTING'!$D$6=\"Empresa\",$F$3*(1+1.05113*4.864%),$F$3*(1+1.05113*4.864%)*1.21)))","v":""},0,{"$f":"IF(M13=\"\",\"\",IF($G$3=\"\",\"\",IF('CUADRO RENTING'!$D$6=\"Empresa\",$G$3*(1+1.05113*4.864%),$G$3*(1+1.05113*4.864%)*1.21)))","v":""}]
["Agosto",{"$f":"Hoja2!F48+Hoja2!I48","v":4479},{"$f":"IF(C14=\"\",\"\",IF('CUADRO RENTING'!$D$6=\"Empresa\",($B$3)*(1+1.05113*4.864%),($B$3)*(1+1.05113*4.864%)*1.21))","v":0.11042719424593919},0,{"$f":"IF(E14=\"\",\"\",IF($C$3=\"\",\"\",IF('CUADRO RENTING'!$D$6=\"Empresa\",$C$3*(1+1.05113*4.864%),$C$3*(1+1.05113*4.864%)*1.21)))","v":""},0,{"$f":"IF(G14=\"\",\"\",IF($D$3=\"\",\"\",IF('CUADRO RENTING'!$D$6=\"Empresa\",$D$3*(1+1.05113*4.864%),$D$3*(1+1.05113*4.864%)*1.21)))","v":""},0,{"$f":"IF(I14=\"\",\"\",IF($E$3=\"\",\"\",IF('CUADRO RENTING'!$D$6=\"Empresa\",$E$3*(1+1.05113*4.864%),$E$3*(1+1.05113*4.864%)*1.21)))","v":""},0,{"$f":"IF(K14=\"\",\"\",IF($F$3=\"\",\"\",IF('CUADRO RENTING'!$D$6=\"Empresa\",$F$3*(1+1.05113*4.864%),$F$3*(1+1.05113*4.864%)*1.21)))","v":""},0,{"$f":"IF(M14=\"\",\"\",IF($G$3=\"\",\"\",IF('CUADRO RENTING'!$D$6=\"Empresa\",$G$3*(1+1.05113*4.864%),$G$3*(1+1.05113*4.864%)*1.21)))","v":""}]
["Septiembre",{"$f":"Hoja2!F49+Hoja2!I49","v":3333},{"$f":"IF(C15=\"\",\"\",IF('CUADRO RENTING'!$D$6=\"Empresa\",($B$3)*(1+1.05113*4.864%),($B$3)*(1+1.05113*4.864%)*1.21))","v":0.11042719424593919},0,{"$f":"IF(E15=\"\",\"\",IF($C$3=\"\",\"\",IF('CUADRO RENTING'!$D$6=\"Empresa\",$C$3*(1+1.05113*4.864%),$C$3*(1+1.05113*4.864%)*1.21)))","v":""},0,{"$f":"IF(G15=\"\",\"\",IF($D$3=\"\",\"\",IF('CUADRO RENTING'!$D$6=\"Empresa\",$D$3*(1+1.05113*4.864%),$D$3*(1+1.05113*4.864%)*1.21)))","v":""},0,{"$f":"IF(I15=\"\",\"\",IF($E$3=\"\",\"\",IF('CUADRO RENTING'!$D$6=\"Empresa\",$E$3*(1+1.05113*4.864%),$E$3*(1+1.05113*4.864%)*1.21)))","v":""},0,{"$f":"IF(K15=\"\",\"\",IF($F$3=\"\",\"\",IF('CUADRO RENTING'!$D$6=\"Empresa\",$F$3*(1+1.05113*4.864%),$F$3*(1+1.05113*4.864%)*1.21)))","v":""},0,{"$f":"IF(M15=\"\",\"\",IF($G$3=\"\",\"\",IF('CUADRO RENTING'!$D$6=\"Empresa\",$G$3*(1+1.05113*4.864%),$G$3*(1+1.05113*4.864%)*1.21)))","v":""}]
["Octubre",{"$f":"Hoja2!F50+Hoja2!I50","v":2087},{"$f":"IF(C16=\"\",\"\",IF('CUADRO RENTING'!$D$6=\"Empresa\",($B$3)*(1+1.05113*4.864%),($B$3)*(1+1.05113*4.864%)*1.21))","v":0.11042719424593919},0,{"$f":"IF(E16=\"\",\"\",IF($C$3=\"\",\"\",IF('CUADRO RENTING'!$D$6=\"Empresa\",$C$3*(1+1.05113*4.864%),$C$3*(1+1.05113*4.864%)*1.21)))","v":""},0,{"$f":"IF(G16=\"\",\"\",IF($D$3=\"\",\"\",IF('CUADRO RENTING'!$D$6=\"Empresa\",$D$3*(1+1.05113*4.864%),$D$3*(1+1.05113*4.864%)*1.21)))","v":""},0,{"$f":"IF(I16=\"\",\"\",IF($E$3=\"\",\"\",IF('CUADRO RENTING'!$D$6=\"Empresa\",$E$3*(1+1.05113*4.864%),$E$3*(1+1.05113*4.864%)*1.21)))","v":""},0,{"$f":"IF(K16=\"\",\"\",IF($F$3=\"\",\"\",IF('CUADRO RENTING'!$D$6=\"Empresa\",$F$3*(1+1.05113*4.864%),$F$3*(1+1.05113*4.864%)*1.21)))","v":""},0,{"$f":"IF(M16=\"\",\"\",IF($G$3=\"\",\"\",IF('CUADRO RENTING'!$D$6=\"Empresa\",$G$3*(1+1.05113*4.864%),$G$3*(1+1.05113*4.864%)*1.21)))","v":""}]
["Noviembre",{"$f":"Hoja2!F51+Hoja2!I51","v":219},{"$f":"IF(C17=\"\",\"\",IF('CUADRO RENTING'!$D$6=\"Empresa\",($B$3)*(1+1.05113*4.864%),($B$3)*(1+1.05113*4.864%)*1.21))","v":0.11042719424593919},0,{"$f":"IF(E17=\"\",\"\",IF($C$3=\"\",\"\",IF('CUADRO RENTING'!$D$6=\"Empresa\",$C$3*(1+1.05113*4.864%),$C$3*(1+1.05113*4.864%)*1.21)))","v":""},0,{"$f":"IF(G17=\"\",\"\",IF($D$3=\"\",\"\",IF('CUADRO RENTING'!$D$6=\"Empresa\",$D$3*(1+1.05113*4.864%),$D$3*(1+1.05113*4.864%)*1.21)))","v":""},0,{"$f":"IF(I17=\"\",\"\",IF($E$3=\"\",\"\",IF('CUADRO RENTING'!$D$6=\"Empresa\",$E$3*(1+1.05113*4.864%),$E$3*(1+1.05113*4.864%)*1.21)))","v":""},0,{"$f":"IF(K17=\"\",\"\",IF($F$3=\"\",\"\",IF('CUADRO RENTING'!$D$6=\"Empresa\",$F$3*(1+1.05113*4.864%),$F$3*(1+1.05113*4.864%)*1.21)))","v":""},0,{"$f":"IF(M17=\"\",\"\",IF($G$3=\"\",\"\",IF('CUADRO RENTING'!$D$6=\"Empresa\",$G$3*(1+1.05113*4.864%),$G$3*(1+1.05113*4.864%)*1.21)))","v":""}]
["Diciembre",{"$f":"Hoja2!F52+Hoja2!I52","v":217},{"$f":"IF(C18=\"\",\"\",IF('CUADRO RENTING'!$D$6=\"Empresa\",($B$3)*(1+1.05113*4.864%),($B$3)*(1+1.05113*4.864%)*1.21))","v":0.11042719424593919},0,{"$f":"IF(E18=\"\",\"\",IF($C$3=\"\",\"\",IF('CUADRO RENTING'!$D$6=\"Empresa\",$C$3*(1+1.05113*4.864%),$C$3*(1+1.05113*4.864%)*1.21)))","v":""},0,{"$f":"IF(G18=\"\",\"\",IF($D$3=\"\",\"\",IF('CUADRO RENTING'!$D$6=\"Empresa\",$D$3*(1+1.05113*4.864%),$D$3*(1+1.05113*4.864%)*1.21)))","v":""},0,{"$f":"IF(I18=\"\",\"\",IF($E$3=\"\",\"\",IF('CUADRO RENTING'!$D$6=\"Empresa\",$E$3*(1+1.05113*4.864%),$E$3*(1+1.05113*4.864%)*1.21)))","v":""},0,{"$f":"IF(K18=\"\",\"\",IF($F$3=\"\",\"\",IF('CUADRO RENTING'!$D$6=\"Empresa\",$F$3*(1+1.05113*4.864%),$F$3*(1+1.05113*4.864%)*1.21)))","v":""},0,{"$f":"IF(M18=\"\",\"\",IF($G$3=\"\",\"\",IF('CUADRO RENTING'!$D$6=\"Empresa\",$G$3*(1+1.05113*4.864%),$G$3*(1+1.05113*4.864%)*1.21)))","v":""}]
["TOTAL",{"$f":"SUM(B8:B19)","v":32094},null,{"$f":"SUM(D8:D19)","v":0},null,{"$f":"SUM(F8:F19)","v":0},null,{"$f":"SUM(H8:H19)","v":0},null,{"$f":"SUM(J8:J19)","v":0},null,{"$f":"SUM(L8:L19)","v":0}]
["Producción Fotovoltaica"]
[]
[null,{"$f":"IF($B$2=\"\",\"\",$B$2)","v":"1 (Punta)"},{"$f":"IF(B23=\"\",\"\",\"Precio FV\")","v":"Precio FV"},{"$f":"IF($C$2=\"\",\"\",$C$2)","v":""},{"$f":"IF(D23=\"\",\"\",\"Precio FV\")","v":""},{"$f":"IF($D$2=\"\",\"\",$D$2)","v":""},{"$f":"IF(F23=\"\",\"\",\"Precio FV\")","v":""},{"$f":"IF($E$2=\"\",\"\",$E$2)","v":""},{"$f":"IF(H23=\"\",\"\",\"Precio FV\")","v":""},{"$f":"IF($F$2=\"\",\"\",$F$2)","v":""},{"$f":"IF(J23=\"\",\"\",\"Precio FV\")","v":""},{"$f":"IF($G$2=\"\",\"\",$G$2)","v":""},{"$f":"IF(L23=\"\",\"\",\"Precio FV\")","v":""}]
["Enero",{"$f":"IF($B$1=\"2.0A\",PORCENTAJES!G3*'CUADRO RENTING'!$Q$17,IF($B$1=\"2.1A\",'CUADRO RENTING'!$Q$17*PORCENTAJES!J3,IF($B$1=\"2.0DHA\",'CUADRO RENTING'!$Q$17*PORCENTAJES!H3,IF($B$1=\"2.1DHA\",'CUADRO RENTING'!$Q$17*PORCENTAJES!K3,IF($B$1=\"3.0A\",'CUADRO RENTING'!$Q$17*PORCENTAJES!M3,IF($B$1=\"3.1A\",'CUADRO RENTING'!$Q$17*PORCENTAJES!P3,IF($B$1=\"6.1A\",'CUADRO RENTING'!$Q$17*PORCENTAJES!S3,0)))))))","v":961.64646208470708},{"$f":"IF(C23=\"\",\"\",'CUADRO RENTING'!$P$17)","v":6.5668505384817444E-3},{"$f":"IF($B$1=\"3.0A\",'CUADRO RENTING'!$Q$17*PORCENTAJES!N3,IF($B$1=\"3.1A\",'CUADRO RENTING'!$Q$17*PORCENTAJES!Q3,IF($B$1=\"6.1A\",'CUADRO RENTING'!$Q$17*PORCENTAJES!T3,\"\")))","v":""},{"$f":"IF(E23=\"\",\"\",'CUADRO RENTING'!$P$17)","v":""},{"$f":"IF($B$1=\"2.0DHA\",'CUADRO RENTING'!$Q$17*PORCENTAJES!I3,IF($B$1=\"2.1DHA\",'CUADRO RENTING'!$Q$17*PORCENTAJES!L3,IF($B$1=\"3.0A\",'CUADRO RENTING'!$Q$17*PORCENTAJES!O3,IF($B$1=\"3.1A\",'CUADRO RENTING'!$Q$17*PORCENTAJES!R3,IF($B$1=\"6.1A\",'CUADRO RENTING'!$Q$17*PORCENTAJES!U3,\"\")))))","v":""},{"$f":"IF(G23=\"\",\"\",'CUADRO RENTING'!$P$17)","v":""},{"$f":"IF($B$1=\"6.1A\",'CUADRO RENTING'!$Q$17*PORCENTAJES!V3,\"\")","v":""},{"$f":"IF(I23=\"\",\"\",'CUADRO RENTING'!$P$17)","v":""},{"$f":"IF($B$1=\"6.1A\",'CUADRO RENTING'!$Q$17*PORCENTAJES!W3,\"\")","v":""},{"$f":"IF(K23=\"\",\"\",'CUADRO RENTING'!$P$17)","v":""},{"$f":"IF($B$1=\"6.1A\",'CUADRO RENTING'!$Q$17*PORCENTAJES!X3,\"\")","v":""},{"$f":"IF(M23=\"\",\"\",'CUADRO RENTING'!$P$17)","v":""},{"$f":"B24+F24+D24+H24+J24+L24","v":{"$error":"#VALUE!"}},104.99999999999999]
["Febrero",{"$f":"IF($B$1=\"2.0A\",PORCENTAJES!G4*'CUADRO RENTING'!$Q$17,IF($B$1=\"2.1A\",'CUADRO RENTING'!$Q$17*PORCENTAJES!J4,IF($B$1=\"2.0DHA\",'CUADRO RENTING'!$Q$17*PORCENTAJES!H4,IF($B$1=\"2.1DHA\",'CUADRO RENTING'!$Q$17*PORCENTAJES!K4,IF($B$1=\"3.0A\",'CUADRO RENTING'!$Q$17*PORCENTAJES!M4,IF($B$1=\"3.1A\",'CUADRO RENTING'!$Q$17*PORCENTAJES!P4,IF($B$1=\"6.1A\",'CUADRO RENTING'!$Q$17*PORCENTAJES!S4,0)))))))","v":1042.7491757545019},{"$f":"IF(C24=\"\",\"\",'CUADRO RENTING'!$P$17)","v":6.5668505384817444E-3},{"$f":"IF($B$1=\"3.0A\",'CUADRO RENTING'!$Q$17*PORCENTAJES!N4,IF($B$1=\"3.1A\",'CUADRO RENTING'!$Q$17*PORCENTAJES!Q4,IF($B$1=\"6.1A\",'CUADRO RENTING'!$Q$17*PORCENTAJES!T4,\"\")))","v":""},{"$f":"IF(E24=\"\",\"\",'CUADRO RENTING'!$P$17)","v":""},{"$f":"IF($B$1=\"2.0DHA\",'CUADRO RENTING'!$Q$17*PORCENTAJES!I4,IF($B$1=\"2.1DHA\",'CUADRO RENTING'!$Q$17*PORCENTAJES!L4,IF($B$1=\"3.0A\",'CUADRO RENTING'!$Q$17*PORCENTAJES!O4,IF($B$1=\"3.1A\",'CUADRO RENTING'!$Q$17*PORCENTAJES!R4,IF($B$1=\"6.1A\",'CUADRO RENTING'!$Q$17*PORCENTAJES!U4,\"\")))))","v":""},{"$f":"IF(G24=\"\",\"\",'CUADRO RENTING'!$P$17)","v":""},{"$f":"IF($B$1=\"6.1A\",'CUADRO RENTING'!$Q$17*PORCENTAJES!V4,\"\")","v":""},{"$f":"IF(I24=\"\",\"\",'CUADRO RENTING'!$P$17)","v":""},{"$f":"IF($B$1=\"6.1A\",'CUADRO RENTING'!$Q$17*PORCENTAJES!W4,\"\")","v":""},{"$f":"IF(K24=\"\",\"\",'CUADRO RENTING'!$P$17)","v":""},{"$f":"IF($B$1=\"6.1A\",'CUADRO RENTING'!$Q$17*PORCENTAJES!X4,\"\")","v":""},{"$f":"IF(M24=\"\",\"\",'CUADRO RENTING'!$P$17)","v":""},{"$f":"B25+F25+D25+H25+J25+L25","v":{"$error":"#VALUE!"}},112]
["Marzo",{"$f":"IF($B$1=\"2.0A\",PORCENTAJES!G5*'CUADRO RENTING'!$Q$17,IF($B$1=\"2.1A\",'CUADRO RENTING'!$Q$17*PORCENTAJES!J5,IF($B$1=\"2.0DHA\",'CUADRO RENTING'!$Q$17*PORCENTAJES!H5,IF($B$1=\"2.1DHA\",'CUADRO RENTING'!$Q$17*PORCENTAJES!K5,IF($B$1=\"3.0A\",'CUADRO RENTING'!$Q$17*PORCENTAJES!M5,IF($B$1=\"3.1A\",'CUADRO RENTING'!$Q$17*PORCENTAJES!P5,IF($B$1=\"6.1A\",'CUADRO RENTING'!$Q$17*PORCENTAJES!S5,0)))))))","v":1390.3322343393356},{"$f":"IF(C25=\"\",\"\",'CUADRO RENTING'!$P$17)","v":6.5668505384817444E-3},{"$f":"IF($B$1=\"3.0A\",'CUADRO RENTING'!$Q$17*PORCENTAJES!N5,IF($B$1=\"3.1A\",'CUADRO RENTING'!$Q$17*PORCENTAJES!Q5,IF($B$1=\"6.1A\",'CUADRO RENTING'!$Q$17*PORCENTAJES!T5,\"\")))","v":""},{"$f":"IF(E25=\"\",\"\",'CUADRO RENTING'!$P$17)","v":""},{"$f":"IF($B$1=\"2.0DHA\",'CUADRO RENTING'!$Q$17*PORCENTAJES!I5,IF($B$1=\"2.1DHA\",'CUADRO RENTING'!$Q$17*PORCENTAJES!L5,IF($B$1=\"3.0A\",'CUADRO RENTING'!$Q$17*PORCENTAJES!O5,IF($B$1=\"3.1A\",'CUADRO RENTING'!$Q$17*PORCENTAJES!R5,IF($B$1=\"6.1A\",'CUADRO RENTING'!$Q$17*PORCENTAJES!U5,\"\")))))","v":""},{"$f":"IF(G25=\"\",\"\",'CUADRO RENTING'!$P$17)","v":""},{"$f":"IF($B$1=\"6.1A\",'CUADRO RENTING'!$Q$17*PORCENTAJES!V5,\"\")","v":""},{"$f":"IF(I25=\"\",\"\",'CUADRO RENTING'!$P$17)","v":""},{"$f":"IF($B$1=\"6.1A\",'CUADRO RENTING'!$Q$17*PORCENTAJES!W5,\"\")","v":""},{"$f":"IF(K25=\"\",\"\",'CUADRO RENTING'!$P$17)","v":""},{"$f":"IF($B$1=\"6.1A\",'CUADRO RENTING'!$Q$17*PORCENTAJES!X5,\"\")","v":""},{"$f":"IF(M25=\"\",\"\",'CUADRO RENTING'!$P$17)","v":""},{"$error":"#VALUE!"},151]
["Abril",{"$f":"IF($B$1=\"2.0A\",PORCENTAJES!G6*'CUADRO RENTING'!$Q$17,IF($B$1=\"2.1A\",'CUADRO RENTING'!$Q$17*PORCENTAJES!J6,IF($B$1=\"2.0DHA\",'CUADRO RENTING'!$Q$17*PORCENTAJES!H6,IF($B$1=\"2.1DHA\",'CUADRO RENTING'!$Q$17*PORCENTAJES!K6,IF($B$1=\"3.0A\",'CUADRO RENTING'!$Q$17*PORCENTAJES!M6,IF($B$1=\"3.1A\",'CUADRO RENTING'!$Q$17*PORCENTAJES!P6,IF($B$1=\"6.1A\",'CUADRO RENTING'!$Q$17*PORCENTAJES!S6,0)))))))","v":1371.022064417956},{"$f":"IF(C26=\"\",\"\",'CUADRO RENTING'!$P$17)","v":6.5668505384817444E-3},{"$f":"IF($B$1=\"3.0A\",'CUADRO RENTING'!$Q$17*PORCENTAJES!N6,IF($B$1=\"3.1A\",'CUADRO RENTING'!$Q$17*PORCENTAJES!Q6,IF($B$1=\"6.1A\",'CUADRO RENTING'!$Q$17*PORCENTAJES!T6,\"\")))","v":""},{"$f":"IF(E26=\"\",\"\",'CUADRO RENTING'!$P$17)","v":""},{"$f":"IF($B$1=\"2.0DHA\",'CUADRO RENTING'!$Q$17*PORCENTAJES!I6,IF($B$1=\"2.1DHA\",'CUADRO RENTING'!$Q$17*PORCENTAJES!L6,IF($B$1=\"3.0A\",'CUADRO RENTING'!$Q$17*PORCENTAJES!O6,IF($B$1=\"3.1A\",'CUADRO RENTING'!$Q$17*PORCENTAJES!R6,IF($B$1=\"6.1A\",'CUADRO RENTING'!$Q$17*PORCENTAJES!U6,\"\")))))","v":""},{"$f":"IF(G26=\"\",\"\",'CUADRO RENTING'!$P$17)","v":""},{"$f":"IF($B$1=\"6.1A\",'CUADRO RENTING'!$Q$17*PORCENTAJES!V6,\"\")","v":""},{"$f":"IF(I26=\"\",\"\",'CUADRO RENTING'!$P$17)","v":""},{"$f":"IF($B$1=\"6.1A\",'CUADRO RENTING'!$Q$17*PORCENTAJES!W6,\"\")","v":""},{"$f":"IF(K26=\"\",\"\",'CUADRO RENTING'!$P$17)","v":""},{"$f":"IF($B$1=\"6.1A\",'CUADRO RENTING'!$Q$17*PORCENTAJES!X6,\"\")","v":""},{"$f":"IF(M26=\"\",\"\",'CUADRO RENTING'!$P$17)","v":""},{"$error":"#VALUE!"},149]
["Mayo",{"$f":"IF($B$1=\"2.0A\",PORCENTAJES!G7*'CUADRO RENTING'!$Q$17,IF($B$1=\"2.1A\",'CUADRO RENTING'!$Q$17*PORCENTAJES!J7,IF($B$1=\"2.0DHA\",'CUADRO RENTING'!$Q$17*PORCENTAJES!H7,IF($B$1=\"2.1DHA\",'CUADRO RENTING'!$Q$17*PORCENTAJES!K7,IF($B$1=\"3.0A\",'CUADRO RENTING'!$Q$17*PORCENTAJES!M7,IF($B$1=\"3.1A\",'CUADRO RENTING'!$Q$17*PORCENTAJES!P7,IF($B$1=\"6.1A\",'CUADRO RENTING'!$Q$17*PORCENTAJES!S7,0)))))))","v":1506.1932538676137},{"$f":"IF(C27=\"\",\"\",'CUADRO RENTING'!$P$17)","v":6.5668505384817444E-3},{"$f":"IF($B$1=\"3.0A\",'CUADRO RENTING'!$Q$17*PORCENTAJES!N7,IF($B$1=\"3.1A\",'CUADRO RENTING'!$Q$17*PORCENTAJES!Q7,IF($B$1=\"6.1A\",'CUADRO RENTING'!$Q$17*PORCENTAJES!T7,\"\")))","v":""},{"$f":"IF(E27=\"\",\"\",'CUADRO RENTING'!$P$17)","v":""},{"$f":"IF($B$1=\"2.0DHA\",'CUADRO RENTING'!$Q$17*PORCENTAJES!I7,IF($B$1=\"2.1DHA\",'CUADRO RENTING'!$Q$17*PORCENTAJES!L7,IF($B$1=\"3.0A\",'CUADRO RENTING'!$Q$17*PORCENTAJES!O7,IF($B$1=\"3.1A\",'CUADRO RENTING'!$Q$17*PORCENTAJES!R7,IF($B$1=\"6.1A\",'CUADRO RENTING'!$Q$17*PORCENTAJES!U7,\"\")))))","v":""},{"$f":"IF(G27=\"\",\"\",'CUADRO RENTING'!$P$17)","v":""},{"$f":"IF($B$1=\"6.1A\",'CUADRO RENTING'!$Q$17*PORCENTAJES!V7,\"\")","v":""},{"$f":"IF(I27=\"\",\"\",'CUADRO RENTING'!$P$17)","v":""},{"$f":"IF($B$1=\"6.1A\",'CUADRO RENTING'!$Q$17*PORCENTAJES!W7,\"\")","v":""},{"$f":"IF(K27=\"\",\"\",'CUADRO RENTING'!$P$17)","v":""},{"$f":"IF($B$1=\"6.1A\",'CUADRO RENTING'!$Q$17*PORCENTAJES!X7,\"\")","v":""},{"$f":"IF(M27=\"\",\"\",'CUADRO RENTING'!$P$17)","v":""},{"$error":"#VALUE!"},164]
["Junio",{"$f":"IF($B$1=\"2.0A\",PORCENTAJES!G8*'CUADRO RENTING'!$Q$17,IF($B$1=\"2.1A\",'CUADRO RENTING'!$Q$17*PORCENTAJES!J8,IF($B$1=\"2.0DHA\",'CUADRO RENTING'!$Q$17*PORCENTAJES!H8,IF($B$1=\"2.1DHA\",'CUADRO RENTING'!$Q$17*PORCENTAJES!K8,IF($B$1=\"3.0A\",'CUADRO RENTING'!$Q$17*PORCENTAJES!M8,IF($B$1=\"3.1A\",'CUADRO RENTING'!$Q$17*PORCENTAJES!P8,IF($B$1=\"6.1A\",'CUADRO RENTING'!$Q$17*PORCENTAJES!S8,0)))))))","v":1535.1585087496833},{"$f":"IF(C28=\"\",\"\",'CUADRO RENTING'!$P$17)","v":6.5668505384817444E-3},{"$f":"IF($B$1=\"3.0A\",'CUADRO RENTING'!$Q$17*PORCENTAJES!N8,IF($B$1=\"3.1A\",'CUADRO RENTING'!$Q$17*PORCENTAJES!Q8,IF($B$1=\"6.1A\",'CUADRO RENTING'!$Q$17*PORCENTAJES!T8,\"\")))","v":""},{"$f":"IF(E28=\"\",\"\",'CUADRO RENTING'!$P$17)","v":""},{"$f":"IF($B$1=\"2.0DHA\",'CUADRO RENTING'!$Q$17*PORCENTAJES!I8,IF($B$1=\"2.1DHA\",'CUADRO RENTING'!$Q$17*PORCENTAJES!L8,IF($B$1=\"3.0A\",'CUADRO RENTING'!$Q$17*PORCENTAJES!O8,IF($B$1=\"3.1A\",'CUADRO RENTING'!$Q$17*PORCENTAJES!R8,IF($B$1=\"6.1A\",'CUADRO RENTING'!$Q$17*PORCENTAJES!U8,\"\")))))","v":""},{"$f":"IF(G28=\"\",\"\",'CUADRO RENTING'!$P$17)","v":""},{"$f":"IF($B$1=\"6.1A\",'CUADRO RENTING'!$Q$17*PORCENTAJES!V8,\"\")","v":""},{"$f":"IF(I28=\"\",\"\",'CUADRO RENTING'!$P$17)","v":""},{"$f":"IF($B$1=\"6.1A\",'CUADRO RENTING'!$Q$17*PORCENTAJES!W8,\"\")","v":""},{"$f":"IF(K28=\"\",\"\",'CUADRO RENTING'!$P$17)","v":""},{"$f":"IF($B$1=\"6.1A\",'CUADRO RENTING'!$Q$17*PORCENTAJES!X8,\"\")","v":""},{"$f":"IF(M28=\"\",\"\",'CUADRO RENTING'!$P$17)","v":""},{"$error":"#VALUE!"},167]
["Julio",{"$f":"IF($B$1=\"2.0A\",PORCENTAJES!G9*'CUADRO RENTING'!$Q$17,IF($B$1=\"2.1A\",'CUADRO RENTING'!$Q$17*PORCENTAJES!J9,IF($B$1=\"2.0DHA\",'CUADRO RENTING'!$Q$17*PORCENTAJES!H9,IF($B$1=\"2.1DHA\",'CUADRO RENTING'!$Q$17*PORCENTAJES!K9,IF($B$1=\"3.0A\",'CUADRO RENTING'!$Q$17*PORCENTAJES!M9,IF($B$1=\"3.1A\",'CUADRO RENTING'!$Q$17*PORCENTAJES!P9,IF($B$1=\"6.1A\",'CUADRO RENTING'!$Q$17*PORCENTAJES!S9,0)))))))","v":1583.4339335531324},{"$f":"IF(C29=\"\",\"\",'CUADRO RENTING'!$P$17)","v":6.5668505384817444E-3},{"$f":"IF($B$1=\"3.0A\",'CUADRO RENTING'!$Q$17*PORCENTAJES!N9,IF($B$1=\"3.1A\",'CUADRO RENTING'!$Q$17*PORCENTAJES!Q9,IF($B$1=\"6.1A\",'CUADRO RENTING'!$Q$17*PORCENTAJES!T9,\"\")))","v":""},{"$f":"IF(E29=\"\",\"\",'CUADRO RENTING'!$P$17)","v":""},{"$f":"IF($B$1=\"2.0DHA\",'CUADRO RENTING'!$Q$17*PORCENTAJES!I9,IF($B$1=\"2.1DHA\",'CUADRO RENTING'!$Q$17*PORCENTAJES!L9,IF($B$1=\"3.0A\",'CUADRO RENTING'!$Q$17*PORCENTAJES!O9,IF($B$1=\"3.1A\",'CUADRO RENTING'!$Q$17*PORCENTAJES!R9,IF($B$1=\"6.1A\",'CUADRO RENTING'!$Q$17*PORCENTAJES!U9,\"\")))))","v":""},{"$f":"IF(G29=\"\",\"\",'CUADRO RENTING'!$P$17)","v":""},{"$f":"IF($B$1=\"6.1A\",'CUADRO RENTING'!$Q$17*PORCENTAJES!V9,\"\")","v":""},{"$f":"IF(I29=\"\",\"\",'CUADRO RENTING'!$P$17)","v":""},{"$f":"IF($B$1=\"6.1A\",'CUADRO RENTING'!$Q$17*PORCENTAJES!W9,\"\")","v":""},{"$f":"IF(K29=\"\",\"\",'CUADRO RENTING'!$P$17)","v":""},{"$f":"IF($B$1=\"6.1A\",'CUADRO RENTING'!$Q$17*PORCENTAJES!X9,\"\")","v":""},{"$f":"IF(M29=\"\",\"\",'CUADRO RENTING'!$P$17)","v":""},{"$error":"#VALUE!"},174]
["Agosto",{"$f":"IF($B$1=\"2.0A\",PORCENTAJES!G10*'CUADRO RENTING'!$Q$17,IF($B$1=\"2.1A\",'CUADRO RENTING'!$Q$17*PORCENTAJES!J10,IF($B$1=\"2.0DHA\",'CUADRO RENTING'!$Q$17*PORCENTAJES!H10,IF($B$1=\"2.1DHA\",'CUADRO RENTING'!$Q$17*PORCENTAJES!K10,IF($B$1=\"3.0A\",'CUADRO RENTING'!$Q$17*PORCENTAJES!M10,IF($B$1=\"3.1A\",'CUADRO RENTING'!$Q$17*PORCENTAJES!P10,IF($B$1=\"6.1A\",'CUADRO RENTING'!$Q$17*PORCENTAJES!S10,0)))))))","v":1525.5034237889934},{"$f":"IF(C30=\"\",\"\",'CUADRO RENTING'!$P$17)","v":6.5668505384817444E-3},{"$f":"IF($B$1=\"3.0A\",'CUADRO RENTING'!$Q$17*PORCENTAJES!N10,IF($B$1=\"3.1A\",'CUADRO RENTING'!$Q$17*PORCENTAJES!Q10,IF($B$1=\"6.1A\",'CUADRO RENTING'!$Q$17*PORCENTAJES!T10,\"\")))","v":""},{"$f":"IF(E30=\"\",\"\",'CUADRO RENTING'!$P$17)","v":""},{"$f":"IF($B$1=\"2.0DHA\",'CUADRO RENTING'!$Q$17*PORCENTAJES!I10,IF($B$1=\"2.1DHA\",'CUADRO RENTING'!$Q$17*PORCENTAJES!L10,IF($B$1=\"3.0A\",'CUADRO RENTING'!$Q$17*PORCENTAJES!O10,IF($B$1=\"3.1A\",'CUADRO RENTING'!$Q$17*PORCENTAJES!R10,IF($B$1=\"6.1A\",'CUADRO RENTING'!$Q$17*PORCENTAJES!U10,\"\")))))","v":""},{"$f":"IF(G30=\"\",\"\",'CUADRO RENTING'!$P$17)","v":""},{"$f":"IF($B$1=\"6.1A\",'CUADRO RENTING'!$Q$17*PORCENTAJES!V10,\"\")","v":""},{"$f":"IF(I30=\"\",\"\",'CUADRO RENTING'!$P$17)","v":""},{"$f":"IF($B$1=\"6.1A\",'CUADRO RENTING'!$Q$17*PORCENTAJES!W10,\"\")","v":""},{"$f":"IF(K30=\"\",\"\",'CUADRO RENTING'!$P$17)","v":""},{"$f":"IF($B$1=\"6.1A\",'CUADRO RENTING'!$Q$17*PORCENTAJES!X10,\"\")","v":""},{"$f":"IF(M30=\"\",\"\",'CUADRO RENTING'!$P$17)","v":""},{"$error":"#VALUE!"},167]
["Septiembre",{"$f":"IF($B$1=\"2.0A\",PORCENTAJES!G11*'CUADRO RENTING'!$Q$17,IF($B$1=\"2.1A\",'CUADRO RENTING'!$Q$17*PORCENTAJES!J11,IF($B$1=\"2.0DHA\",'CUADRO RENTING'!$Q$17*PORCENTAJES!H11,IF($B$1=\"2.1DHA\",'CUADRO RENTING'!$Q$17*PORCENTAJES!K11,IF($B$1=\"3.0A\",'CUADRO RENTING'!$Q$17*PORCENTAJES!M11,IF($B$1=\"3.1A\",'CUADRO RENTING'!$Q$17*PORCENTAJES!P11,IF($B$1=\"6.1A\",'CUADRO RENTING'!$Q$17*PORCENTAJES!S11,0)))))))","v":1303.4364696931273},{"$f":"IF(C31=\"\",\"\",'CUADRO RENTING'!$P$17)","v":6.5668505384817444E-3},{"$f":"IF($B$1=\"3.0A\",'CUADRO RENTING'!$Q$17*PORCENTAJES!N11,IF($B$1=\"3.1A\",'CUADRO RENTING'!$Q$17*PORCENTAJES!Q11,IF($B$1=\"6.1A\",'CUADRO RENTING'!$Q$17*PORCENTAJES!T11,\"\")))","v":""},{"$f":"IF(E31=\"\",\"\",'CUADRO RENTING'!$P$17)","v":""},{"$f":"IF($B$1=\"2.0DHA\",'CUADRO RENTING'!$Q$17*PORCENTAJES!I11,IF($B$1=\"2.1DHA\",'CUADRO RENTING'!$Q$17*PORCENTAJES!L11,IF($B$1=\"3.0A\",'CUADRO RENTING'!$Q$17*PORCENTAJES!O11,IF($B$1=\"3.1A\",'CUADRO RENTING'!$Q$17*PORCENTAJES!R11,IF($B$1=\"6.1A\",'CUADRO RENTING'!$Q$17*PORCENTAJES!U11,\"\")))))","v":""},{"$f":"IF(G31=\"\",\"\",'CUADRO RENTING'!$P$17)","v":""},{"$f":"IF($B$1=\"6.1A\",'CUADRO RENTING'!$Q$17*PORCENTAJES!V11,\"\")","v":""},{"$f":"IF(I31=\"\",\"\",'CUADRO RENTING'!$P$17)","v":""},{"$f":"IF($B$1=\"6.1A\",'CUADRO RENTING'!$Q$17*PORCENTAJES!W11,\"\")","v":""},{"$f":"IF(K31=\"\",\"\",'CUADRO RENTING'!$P$17)","v":""},{"$f":"IF($B$1=\"6.1A\",'CUADRO RENTING'!$Q$17*PORCENTAJES!X11,\"\")","v":""},{"$f":"IF(M31=\"\",\"\",'CUADRO RENTING'!$P$17)","v":""},{"$error":"#VALUE!"},143]
["Octubre",{"$f":"IF($B$1=\"2.0A\",PORCENTAJES!G12*'CUADRO RENTING'!$Q$17,IF($B$1=\"2.1A\",'CUADRO RENTING'!$Q$17*PORCENTAJES!J12,IF($B$1=\"2.0DHA\",'CUADRO RENTING'!$Q$17*PORCENTAJES!H12,IF($B$1=\"2.1DHA\",'CUADRO RENTING'!$Q$17*PORCENTAJES!K12,IF($B$1=\"3.0A\",'CUADRO RENTING'!$Q$17*PORCENTAJES!M12,IF($B$1=\"3.1A\",'CUADRO RENTING'!$Q$17*PORCENTAJES!P12,IF($B$1=\"6.1A\",'CUADRO RENTING'!$Q$17*PORCENTAJES!S12,0)))))))","v":1206.8856200862288},{"$f":"IF(C32=\"\",\"\",'CUADRO RENTING'!$P$17)","v":6.5668505384817444E-3},{"$f":"IF($B$1=\"3.0A\",'CUADRO RENTING'!$Q$17*PORCENTAJES!N12,IF($B$1=\"3.1A\",'CUADRO RENTING'!$Q$17*PORCENTAJES!Q12,IF($B$1=\"6.1A\",'CUADRO RENTING'!$Q$17*PORCENTAJES!T12,\"\")))","v":""},{"$f":"IF(E32=\"\",\"\",'CUADRO RENTING'!$P$17)","v":""},{"$f":"IF($B$1=\"2.0DHA\",'CUADRO RENTING'!$Q$17*PORCENTAJES!I12,IF($B$1=\"2.1DHA\",'CUADRO RENTING'!$Q$17*PORCENTAJES!L12,IF($B$1=\"3.0A\",'CUADRO RENTING'!$Q$17*PORCENTAJES!O12,IF($B$1=\"3.1A\",'CUADRO RENTING'!$Q$17*PORCENTAJES!R12,IF($B$1=\"6.1A\",'CUADRO RENTING'!$Q$17*PORCENTAJES!U12,\"\")))))","v":""},{"$f":"IF(G32=\"\",\"\",'CUADRO RENTING'!$P$17)","v":""},{"$f":"IF($B$1=\"6.1A\",'CUADRO RENTING'!$Q$17*PORCENTAJES!V12,\"\")","v":""},{"$f":"IF(I32=\"\",\"\",'CUADRO RENTING'!$P$17)","v":""},{"$f":"IF($B$1=\"6.1A\",'CUADRO RENTING'!$Q$17*PORCENTAJES!W12,\"\")","v":""},{"$f":"IF(K32=\"\",\"\",'CUADRO RENTING'!$P$17)","v":""},{"$f":"IF($B$1=\"6.1A\",'CUADRO RENTING'!$Q$17*PORCENTAJES!X12,\"\")","v":""},{"$f":"IF(M32=\"\",\"\",'CUADRO RENTING'!$P$17)","v":""},{"$error":"#VALUE!"},132]
["Noviembre",{"$f":"IF($B$1=\"2.0A\",PORCENTAJES!G13*'CUADRO RENTING'!$Q$17,IF($B$1=\"2.1A\",'CUADRO RENTING'!$Q$17*PORCENTAJES!J13,IF($B$1=\"2.0DHA\",'CUADRO RENTING'!$Q$17*PORCENTAJES!H13,IF($B$1=\"2.1DHA\",'CUADRO RENTING'!$Q$17*PORCENTAJES!K13,IF($B$1=\"3.0A\",'CUADRO RENTING'!$Q$17*PORCENTAJES!M13,IF($B$1=\"3.1A\",'CUADRO RENTING'!$Q$17*PORCENTAJES!P13,IF($B$1=\"6.1A\",'CUADRO RENTING'!$Q$17*PORCENTAJES!S13,0)))))))","v":939.43976667512061},{"$f":"IF(C33=\"\",\"\",'CUADRO RENTING'!$P$17)","v":6.5668505384817444E-3},{"$f":"IF($B$1=\"3.0A\",'CUADRO RENTING'!$Q$17*PORCENTAJES!N13,IF($B$1=\"3.1A\",'CUADRO RENTING'!$Q$17*PORCENTAJES!Q13,IF($B$1=\"6.1A\",'CUADRO RENTING'!$Q$17*PORCENTAJES!T13,\"\")))","v":""},{"$f":"IF(E33=\"\",\"\",'CUADRO RENTING'!$P$17)","v":""},{"$f":"IF($B$1=\"2.0DHA\",'CUADRO RENTING'!$Q$17*PORCENTAJES!I13,IF($B$1=\"2.1DHA\",'CUADRO RENTING'!$Q$17*PORCENTAJES!L13,IF($B$1=\"3.0A\",'CUADRO RENTING'!$Q$17*PORCENTAJES!O13,IF($B$1=\"3.1A\",'CUADRO RENTING'!$Q$17*PORCENTAJES!R13,IF($B$1=\"6.1A\",'CUADRO RENTING'!$Q$17*PORCENTAJES!U13,\"\")))))","v":""},{"$f":"IF(G33=\"\",\"\",'CUADRO RENTING'!$P$17)","v":""},{"$f":"IF($B$1=\"6.1A\",'CUADRO RENTING'!$Q$17*PORCENTAJES!V13,\"\")","v":""},{"$f":"IF(I33=\"\",\"\",'CUADRO RENTING'!$P$17)","v":""},{"$f":"IF($B$1=\"6.1A\",'CUADRO RENTING'!$Q$17*PORCENTAJES!W13,\"\")","v":""},{"$f":"IF(K33=\"\",\"\",'CUADRO RENTING'!$P$17)","v":""},{"$f":"IF($B$1=\"6.1A\",'CUADRO RENTING'!$Q$17*PORCENTAJES!X13,\"\")","v":""},{"$f":"IF(M33=\"\",\"\",'CUADRO RENTING'!$P$17)","v":""},{"$error":"#VALUE!"},102]
["Diciembre",{"$f":"IF($B$1=\"2.0A\",PORCENTAJES!G14*'CUADRO RENTING'!$Q$17,IF($B$1=\"2.1A\",'CUADRO RENTING'!$Q$17*PORCENTAJES!J14,IF($B$1=\"2.0DHA\",'CUADRO RENTING'!$Q$17*PORCENTAJES!H14,IF($B$1=\"2.1DHA\",'CUADRO RENTING'!$Q$17*PORCENTAJES!K14,IF($B$1=\"3.0A\",'CUADRO RENTING'!$Q$17*PORCENTAJES!M14,IF($B$1=\"3.1A\",'CUADRO RENTING'!$Q$17*PORCENTAJES!P14,IF($B$1=\"6.1A\",'CUADRO RENTING'!$Q$17*PORCENTAJES!S14,0)))))))","v":862.19908698960194},{"$f":"IF(C34=\"\",\"\",'CUADRO RENTING'!$P$17)","v":6.5668505384817444E-3},{"$f":"IF($B$1=\"3.0A\",'CUADRO RENTING'!$Q$17*PORCENTAJES!N14,IF($B$1=\"3.1A\",'CUADRO RENTING'!$Q$17*PORCENTAJES!Q14,IF($B$1=\"6.1A\",'CUADRO RENTING'!$Q$17*PORCENTAJES!T14,\"\")))","v":""},{"$f":"IF(E34=\"\",\"\",'CUADRO RENTING'!$P$17)","v":""},{"$f":"IF($B$1=\"2.0DHA\",'CUADRO RENTING'!$Q$17*PORCENTAJES!I14,IF($B$1=\"2.1DHA\",'CUADRO RENTING'!$Q$17*PORCENTAJES!L14,IF($B$1=\"3.0A\",'CUADRO RENTING'!$Q$17*PORCENTAJES!O14,IF($B$1=\"3.1A\",'CUADRO RENTING'!$Q$17*PORCENTAJES!R14,IF($B$1=\"6.1A\",'CUADRO RENTING'!$Q$17*PORCENTAJES!U14,\"\")))))","v":""},{"$f":"IF(G34=\"\",\"\",'CUADRO RENTING'!$P$17)","v":""},{"$f":"IF($B$1=\"6.1A\",'CUADRO RENTING'!$Q$17*PORCENTAJES!V14,\"\")","v":""},{"$f":"IF(I34=\"\",\"\",'CUADRO RENTING'!$P$17)","v":""},{"$f":"IF($B$1=\"6.1A\",'CUADRO RENTING'!$Q$17*PORCENTAJES!W14,\"\")","v":""},{"$f":"IF(K34=\"\",\"\",'CUADRO RENTING'!$P$17)","v":""},{"$f":"IF($B$1=\"6.1A\",'CUADRO RENTING'!$Q$17*PORCENTAJES!X14,\"\")","v":""},{"$f":"IF(M34=\"\",\"\",'CUADRO RENTING'!$P$17)","v":""},{"$error":"#VALUE!"},93.7]
[]
["TOTAL",{"$f":"SUM(B24:B35)","v":15228.000000000004},null,{"$f":"SUM(D24:D35)","v":0},null,{"$f":"SUM(F24:F35)","v":0},null,{"$f":"SUM(H24:H35)","v":0},null,{"$f":"SUM(J24:J35)","v":0},null,{"$f":"SUM(L24:L35)","v":0}]
[{"$f":"B37+D37+F37+H37+J37+L37","v":15228.000000000004}]

{"sheet":"AHORRO FUTURO","index":2,"n_rows":130,"n_cols":53,"rows_kept":130,"cut":false,"hidden":false,"merged":[]}
["Tipo de tarifa",null,{"$f":"'AHORRO FOTOVOLTAICA'!B1","v":"2.1A"},"ESTUDIO RENTABILIDAD CON PEAJES"]
[null,null,{"$f":"IF($C$1=\"tarifas\",\"\",\"1 (Punta)\")","v":"1 (Punta)"},{"$f":"IF($C$1=\"3.0A\",\"2 (Llano)\",IF($C$1=\"3.1A\",\"2 (Llano)\",IF($C$1=\"6.1A\",\"2 (Llano)\",\"\")))","v":""},{"$f":"IF($C$1=\"3.0A\",\"3 (Valle)\",IF($C$1=\"3.1A\",\"3 (Valle)\",IF($C$1=\"6.1A\",\"3 (Valle)\",IF($C$1=\"2.0DHA\",\"3 (Valle)\",IF($C$1=\"2.1DHA\",\"3 (Valle)\",\"\")))))","v":""},4,5,6]
["Precio peaje (€/kWh)",null,{"$f":"VLOOKUP($C$1,$L$118:$R$130,2,FALSE)","v":5.1847999999999998E-2},{"$f":"VLOOKUP($C$1,$L$118:$R$130,3,FALSE)","v":0},{"$f":"VLOOKUP($C$1,$L$118:$R$130,4,FALSE)","v":0},{"$f":"VLOOKUP($C$1,$L$118:$R$130,5,FALSE)","v":0},{"$f":"VLOOKUP($C$1,$L$118:$R$130,6,FALSE)","v":0},{"$f":"VLOOKUP($C$1,$L$118:$R$130,7,FALSE)","v":0},null,null,null,"consumo"]
[null,null,null,null,null,null,null,null,null,null,null,null,"p1","precio p1","p2","precio p2","p3","precio p3","p4","precio p4","p5","precio p5","p6","precio p6",null,"PRECIO 2","PRECIO 3","PRECIO 4","PRECIO 5","PRECIO 6"]
["Precio peaje (€/kWh) promedio",null,{"$f":"IF(C1=\"2.0A\",C3,IF(C1=\"2.1A\",C3,IF(C1=\"2.0DHA\",C3*0.5833+'AHORRO FUTURO'!E3*(1-0.5833),IF(C1=\"2.1DHA\",C3*0.5833+'AHORRO FUTURO'!E3*(1-0.5833),IF(C1=\"3.0A\",C3*0.1666+D3*0.5+E3*0.3333,IF(C1=\"3.1A\",C3*0.1196+D3*0.4295+E3*0.4509,IF(C1=\"6.1A\",0.0695*C3+0.1009*D3+0.1114*E3+0.0669*G3+0.1284*H3+0.5626*K3,0)))))))","v":5.1847999999999998E-2},null,null,null,null,null,null,null,null,"Enero",{"$f":"'AHORRO FOTOVOLTAICA'!B8","v":244},{"$f":"'AHORRO FOTOVOLTAICA'!C8","v":0.11042719424593919},{"$f":"'AHORRO FOTOVOLTAICA'!D8","v":0},{"$f":"'AHORRO FOTOVOLTAICA'!E8","v":""},{"$f":"'AHORRO FOTOVOLTAICA'!F8","v":0},{"$f":"'AHORRO FOTOVOLTAICA'!G8","v":""},{"$f":"'AHORRO FOTOVOLTAICA'!H8","v":0},{"$f":"'AHORRO FOTOVOLTAICA'!I8","v":""},{"$f":"'AHORRO FOTOVOLTAICA'!J8","v":0},{"$f":"'AHORRO FOTOVOLTAICA'!K8","v":""},{"$f":"'AHORRO FOTOVOLTAICA'!L8","v":0},{"$f":"'AHORRO FOTOVOLTAICA'!M8","v":""},null,{"$f":"IF(P5=\"\",0,P5)","v":0},{"$f":"IF(R5=\"\",0,R5)","v":0},{"$f":"IF(T5=\"\",0,T5)","v":0},{"$f":"IF(V5=\"\",0,V5)","v":0},{"$f":"IF(X5=\"\",0,X5)","v":0}]
[null,null,null,null,null,null,null,null,null,null,null,"Febrero",{"$f":"'AHORRO FOTOVOLTAICA'!B9","v":269},{"$f":"'AHORRO FOTOVOLTAICA'!C9","v":0.11042719424593919},{"$f":"'AHORRO FOTOVOLTAICA'!D9","v":0},{"$f":"'AHORRO FOTOVOLTAICA'!E9","v":""},{"$f":"'AHORRO FOTOVOLTAICA'!F9","v":0},{"$f":"'AHORRO FOTOVOLTAICA'!G9","v":""},{"$f":"'AHORRO FOTOVOLTAICA'!H9","v":0},{"$f":"'AHORRO FOTOVOLTAICA'!I9","v":""},{"$f":"'AHORRO FOTOVOLTAICA'!J9","v":0},{"$f":"'AHORRO FOTOVOLTAICA'!K9","v":""},{"$f":"'AHORRO FOTOVOLTAICA'!L9","v":0},{"$f":"'AHORRO FOTOVOLTAICA'!M9","v":""},null,{"$f":"IF(P6=\"\",0,P6)","v":0},{"$f":"IF(R6=\"\",0,R6)","v":0},{"$f":"IF(T6=\"\",0,T6)","v":0},{"$f":"IF(V6=\"\",0,V6)","v":0},{"$f":"IF(X6=\"\",0,X6)","v":0}]
[null,null,null,null,null,null,null,null,null,null,null,"Marzo",{"$f":"'AHORRO FOTOVOLTAICA'!B10","v":1877},{"$f":"'AHORRO FOTOVOLTAICA'!C10","v":0.11042719424593919},{"$f":"'AHORRO FOTOVOLTAICA'!D10","v":0},{"$f":"'AHORRO FOTOVOLTAICA'!E10","v":""},{"$f":"'AHORRO FOTOVOLTAICA'!F10","v":0},{"$f":"'AHORRO FOTOVOLTAICA'!G10","v":""},{"$f":"'AHORRO FOTOVOLTAICA'!H10","v":0},{"$f":"'AHORRO FOTOVOLTAICA'!I10","v":""},{"$f":"'AHORRO FOTOVOLTAICA'!J10","v":0},{"$f":"'AHORRO FOTOVOLTAICA'!K10","v":""},{"$f":"'AHORRO FOTOVOLTAICA'!L10","v":0},{"$f":"'AHORRO FOTOVOLTAICA'!M10","v":""},null,0,0,0,0,0]
[null,null,null,null,null,null,null,null,null,null,null,"Abril",{"$f":"'AHORRO FOTOVOLTAICA'!B11","v":3602},{"$f":"'AHORRO FOTOVOLTAICA'!C11","v":0.11042719424593919},{"$f":"'AHORRO FOTOVOLTAICA'!D11","v":0},{"$f":"'AHORRO FOTOVOLTAICA'!E11","v":""},{"$f":"'AHORRO FOTOVOLTAICA'!F11","v":0},{"$f":"'AHORRO FOTOVOLTAICA'!G11","v":""},{"$f":"'AHORRO FOTOVOLTAICA'!H11","v":0},{"$f":"'AHORRO FOTOVOLTAICA'!I11","v":""},{"$f":"'AHORRO FOTOVOLTAICA'!J11","v":0},{"$f":"'AHORRO FOTOVOLTAICA'!K11","v":""},{"$f":"'AHORRO FOTOVOLTAICA'!L11","v":0},{"$f":"'AHORRO FOTOVOLTAICA'!M11","v":""},null,0,0,0,0,0]
[null,null,null,null,null,null,null,null,null,null,null,"Mayo",{"$f":"'AHORRO FOTOVOLTAICA'!B12","v":4133},{"$f":"'AHORRO FOTOVOLTAICA'!C12","v":0.11042719424593919},{"$f":"'AHORRO FOTOVOLTAICA'!D12","v":0},{"$f":"'AHORRO FOTOVOLTAICA'!E12","v":""},{"$f":"'AHORRO FOTOVOLTAICA'!F12","v":0},{"$f":"'AHORRO FOTOVOLTAICA'!G12","v":""},{"$f":"'AHORRO FOTOVOLTAICA'!H12","v":0},{"$f":"'AHORRO FOTOVOLTAICA'!I12","v":""},{"$f":"'AHORRO FOTOVOLTAICA'!J12","v":0},{"$f":"'AHORRO FOTOVOLTAICA'!K12","v":""},{"$f":"'AHORRO FOTOVOLTAICA'!L12","v":0},{"$f":"'AHORRO FOTOVOLTAICA'!M12","v":""},null,0,0,0,0,0]
[null,null,null,null,null,null,null,null,null,null,null,"Junio",{"$f":"'AHORRO FOTOVOLTAICA'!B13","v":5758},{"$f":"'AHORRO FOTOVOLTAICA'!C13","v":0.11042719424593919},{"$f":"'AHORRO FOTOVOLTAICA'!D13","v":0},{"$f":"'AHORRO FOTOVOLTAICA'!E13","v":""},{"$f":"'AHORRO FOTOVOLTAICA'!F13","v":0},{"$f":"'AHORRO FOTOVOLTAICA'!G13","v":""},{"$f":"'AHORRO FOTOVOLTAICA'!H13","v":0},{"$f":"'AHORRO FOTOVOLTAICA'!I13","v":""},{"$f":"'AHORRO FOTOVOLTAICA'!J13","v":0},{"$f":"'AHORRO FOTOVOLTAICA'!K13","v":""},{"$f":"'AHORRO FOTOVOLTAICA'!L13","v":0},{"$f":"'AHORRO FOTOVOLTAICA'!M13","v":""},null,0,0,0,0,0]
[null,null,null,null,null,null,null,null,null,null,null,"Julio",{"$f":"'AHORRO FOTOVOLTAICA'!B14","v":5876},{"$f":"'AHORRO FOTOVOLTAICA'!C14","v":0.11042719424593919},{"$f":"'AHORRO FOTOVOLTAICA'!D14","v":0},{"$f":"'AHORRO FOTOVOLTAICA'!E14","v":""},{"$f":"'AHORRO FOTOVOLTAICA'!F14","v":0},{"$f":"'AHORRO FOTOVOLTAICA'!G14","v":""},{"$f":"'AHORRO FOTOVOLTAICA'!H14","v":0},{"$f":"'AHORRO FOTOVOLTAICA'!I14","v":""},{"$f":"'AHORRO FOTOVOLTAICA'!J14","v":0},{"$f":"'AHORRO FOTOVOLTAICA'!K14","v":""},{"$f":"'AHORRO FOTOVOLTAICA'!L14","v":0},{"$f":"'AHORRO FOTOVOLTAICA'!M14","v":""},null,0,0,0,0,0]
[null,null,null,null,null,null,null,null,null,null,null,"Agosto",{"$f":"'AHORRO FOTOVOLTAICA'!B15","v":4479},{"$f":"'AHORRO FOTOVOLTAICA'!C15","v":0.11042719424593919},{"$f":"'AHORRO FOTOVOLTAICA'!D15","v":0},{"$f":"'AHORRO FOTOVOLTAICA'!E15","v":""},{"$f":"'AHORRO FOTOVOLTAICA'!F15","v":0},{"$f":"'AHORRO FOTOVOLTAICA'!G15","v":""},{"$f":"'AHORRO FOTOVOLTAICA'!H15","v":0},{"$f":"'AHORRO FOTOVOLTAICA'!I15","v":""},{"$f":"'AHORRO FOTOVOLTAICA'!J15","v":0},{"$f":"'AHORRO FOTOVOLTAICA'!K15","v":""},{"$f":"'AHORRO FOTOVOLTAICA'!L15","v":0},{"$f":"'AHORRO FOTOVOLTAICA'!M15","v":""},null,0,0,0,0,0]
[null,null,null,null,null,null,null,null,null,null,null,"Septiembre",{"$f":"'AHORRO FOTOVOLTAICA'!B16","v":3333},{"$f":"'AHORRO FOTOVOLTAICA'!C16","v":0.11042719424593919},{"$f":"'AHORRO FOTOVOLTAICA'!D16","v":0},{"$f":"'AHORRO FOTOVOLTAICA'!E16","v":""},{"$f":"'AHORRO FOTOVOLTAICA'!F16","v":0},{"$f":"'AHORRO FOTOVOLTAICA'!G16","v":""},{"$f":"'AHORRO FOTOVOLTAICA'!H16","v":0},{"$f":"'AHORRO FOTOVOLTAICA'!I16","v":""},{"$f":"'AHORRO FOTOVOLTAICA'!J16","v":0},{"$f":"'AHORRO FOTOVOLTAICA'!K16","v":""},{"$f":"'AHORRO FOTOVOLTAICA'!L16","v":0},{"$f":"'AHORRO FOTOVOLTAICA'!M16","v":""},null,0,0,0,0,0]
[null,null,null,null,null,null,null,null,null,null,null,"Octubre",{"$f":"'AHORRO FOTOVOLTAICA'!B17","v":2087},{"$f":"'AHORRO FOTOVOLTAICA'!C17","v":0.11042719424593919},{"$f":"'AHORRO FOTOVOLTAICA'!D17","v":0},{"$f":"'AHORRO FOTOVOLTAICA'!E17","v":""},{"$f":"'AHORRO FOTOVOLTAICA'!F17","v":0},{"$f":"'AHORRO FOTOVOLTAICA'!G17","v":""},{"$f":"'AHORRO FOTOVOLTAICA'!H17","v":0},{"$f":"'AHORRO FOTOVOLTAICA'!I17","v":""},{"$f":"'AHORRO FOTOVOLTAICA'!J17","v":0},{"$f":"'AHORRO FOTOVOLTAICA'!K17","v":""},{"$f":"'AHORRO FOTOVOLTAICA'!L17","v":0},{"$f":"'AHORRO FOTOVOLTAICA'!M17","v":""},null,0,0,0,0,0]
[null,null,null,null,null,null,null,null,null,null,null,"Noviembre",{"$f":"'AHORRO FOTOVOLTAICA'!B18","v":219},{"$f":"'AHORRO FOTOVOLTAICA'!C18","v":0.11042719424593919},{"$f":"'AHORRO FOTOVOLTAICA'!D18","v":0},{"$f":"'AHORRO FOTOVOLTAICA'!E18","v":""},{"$f":"'AHORRO FOTOVOLTAICA'!F18","v":0},{"$f":"'AHORRO FOTOVOLTAICA'!G18","v":""},{"$f":"'AHORRO FOTOVOLTAICA'!H18","v":0},{"$f":"'AHORRO FOTOVOLTAICA'!I18","v":""},{"$f":"'AHORRO FOTOVOLTAICA'!J18","v":0},{"$f":"'AHORRO FOTOVOLTAICA'!K18","v":""},{"$f":"'AHORRO FOTOVOLTAICA'!L18","v":0},{"$f":"'AHORRO FOTOVOLTAICA'!M18","v":""},null,0,0,0,0,0]
[null,null,null,null,null,null,null,null,null,null,null,"Diciembre",{"$f":"'AHORRO FOTOVOLTAICA'!B19","v":217},{"$f":"'AHORRO FOTOVOLTAICA'!C19","v":0.11042719424593919},{"$f":"'AHORRO FOTOVOLTAICA'!D19","v":0},{"$f":"'AHORRO FOTOVOLTAICA'!E19","v":""},{"$f":"'AHORRO FOTOVOLTAICA'!F19","v":0},{"$f":"'AHORRO FOTOVOLTAICA'!G19","v":""},{"$f":"'AHORRO FOTOVOLTAICA'!H19","v":0},{"$f":"'AHORRO FOTOVOLTAICA'!I19","v":""},{"$f":"'AHORRO FOTOVOLTAICA'!J19","v":0},{"$f":"'AHORRO FOTOVOLTAICA'!K19","v":""},{"$f":"'AHORRO FOTOVOLTAICA'!L19","v":0},{"$f":"'AHORRO FOTOVOLTAICA'!M19","v":""},null,0,0,0,0,0]
[null,null,null,null,null,null,null,null,null,null,null,"Total",{"$f":"SUM(M5:M16)","v":32094},null,{"$f":"SUM(O5:O16)","v":0},null,{"$f":"SUM(Q5:Q16)","v":0},null,{"$f":"SUM(S5:S16)","v":0},null,{"$f":"SUM(U5:U16)","v":0},null,{"$f":"SUM(W5:W16)","v":0}]
["no incluido IBIZA Y FORMENTERA"]
[null,null,null,null,null,null,null,null,null,null,null,null,"precio p1","precio p2","precio p3","precio p4","precio p5","precio p6","Total mes"]
["AÑO","PRECIO CONSUMO ANUAL","AHORRO FOTOVOLTAICA","PRECIO COSTE FOTOVOLTAICA","PRECIO PEAJE RESPALDO","VENTA+POTENCIA","AHORRO REAL","%AHORRO FRENTE A CONSUMO","AHORRO ACUMULADO",null,"%RENTABILIDAD","Enero",{"$f":"M5*N5","v":26.944235396009162},{"$f":"O5*Z5","v":0},{"$f":"Q5*AA5","v":0},{"$f":"S5*AB5","v":0},{"$f":"U5*AC5","v":0},{"$f":"W5*AD5","v":0},{"$f":"SUM(M20:R20)","v":26.944235396009162},null,null,null,null,null,null,null,null,null,null,null,null,null,null,null,null,null,null,null,null,null,null,null,null,null,null,null,null,null,null,null,null,"COSTE",{"$f":"'CUADRO RENTING'!D3","v":12500}]
[0,null,{"$f":"S96","v":0},{"$f":"'CUADRO RENTING'!M16","v":12500},{"$f":"AA97","v":0},null,{"$f":"C21-D21-E21","v":-12500},null,{"$f":"G21","v":-12500}]
[1,{"$f":"S33","v":3544.0503721291725},{"$f":"S97","v":1366.0910112165093},{"$f":"'CUADRO RENTING'!M17","v":100},{"$f":"AA98","v":641.4098196845041},{"$f":"Venta!M3","v":328.56655211767691},{"$f":"C22-D22-E22+F22","v":953.24774364968209},{"$f":"G22/B22","v":0.2689712739824846},{"$f":"G22+I21","v":-11546.752256350317},{"$f":"IF(ISERROR(IRR($G$22:$G22)),\"\",IRR($G$22:$G22))","v":""},null,"Febrero",{"$f":"M6*N6","v":29.704915252157644},{"$f":"O6*Z6","v":0},{"$f":"Q6*AA6","v":0},{"$f":"S6*AB6","v":0},{"$f":"U6*AC6","v":0},{"$f":"W6*AD6","v":0},{"$f":"SUM(M22:R22)","v":29.704915252157644},null,null,null,null,null,null,null,null,null,null,null,null,null,null,null,null,null,null,null,null,null,null,null,null,null,null,null,null,null,null,null,null,null,{"$f":"BA20-G22","v":11546.752256350317}]
[2,{"$f":"B22*(1+'CUADRO RENTING'!$F$11)","v":3614.9313795717562},{"$f":"C22*0.998*(1+'CUADRO RENTING'!$F$13)","v":1417.8931823618393},{"$f":"'CUADRO RENTING'!M18","v":202},{"$f":"E22","v":641.4098196845041},{"$f":"F22*0.99*(1+'CUADRO RENTING'!$F$11)","v":331.78650432843011},{"$f":"C23-D23-E23+F23","v":906.26986700576526},0.25070181750258475,{"$f":"G23+I22","v":-10640.482389344552},{"$f":"IF(ISERROR(IRR($G$22:$G23)),\"\",IRR($G$22:$G23))","v":""},null,"Marzo",207.27184359962786,0,0,0,0,0,207.27184359962786,null,null,null,null,null,null,null,null,null,null,null,null,null,null,null,null,null,null,null,null,null,null,null,null,null,null,null,null,null,null,null,null,null,{"$f":"BA22-G23","v":10640.482389344552}]
[3,{"$f":"B23*(1+'CUADRO RENTING'!$F$11)","v":3687.2300071631912},{"$f":"C23*0.998*(1+'CUADRO RENTING'!$F$13)","v":1471.6596918370003},{"$f":"'CUADRO RENTING'!M19","v":206.04000000000002},{"$f":"E23","v":641.4098196845041},{"$f":"F23*0.99*(1+'CUADRO RENTING'!$F$11)","v":335.03801207084871},959.24788422334495,0.26015406751404485,{"$f":"G24+I23","v":-9681.2345051212069},{"$f":"IF(ISERROR(IRR($G$22:$G24)),\"\",IRR($G$22:$G24))","v":""},null,"Abril",397.75875367387295,0,0,0,0,0,397.75875367387295,null,null,null,null,null,null,null,null,null,null,null,null,null,null,null,null,null,null,null,null,null,null,null,null,null,null,null,null,null,null,null,null,null,9681.2345051212069]
[4,{"$f":"B24*(1+'CUADRO RENTING'!$F$11)","v":3760.9746073064553},{"$f":"C24*0.998*(1+'CUADRO RENTING'!$F$13)","v":1527.4650273514594},{"$f":"'CUADRO RENTING'!M20","v":210.16079999999999},641.4098196845041,{"$f":"F24*0.99*(1+'CUADRO RENTING'!$F$11)","v":338.32138458914301},1014.2157922560982,0.2696683434888868,-8667.0187128651087,{"$f":"IF(ISERROR(IRR($G$22:$G25)),\"\",IRR($G$22:$G25))","v":""},null,"Mayo",456.39559381846669,0,0,0,0,0,456.39559381846669,null,null,null,null,null,null,null,null,null,null,null,null,null,null,null,null,null,null,null,null,null,null,null,null,null,null,null,null,null,null,null,null,null,8667.0187128651087]
[5,{"$f":"B25*(1+'CUADRO RENTING'!$F$11)","v":3836.1940994525844},{"$f":"C25*0.998*(1+'CUADRO RENTING'!$F$13)","v":1585.3865011886269},{"$f":"'CUADRO RENTING'!M21","v":214.36401599999999},641.4098196845041,{"$f":"F25*0.99*(1+'CUADRO RENTING'!$F$11)","v":341.63693415811662},1071.2495996622395,0.27924801818946132,-7595.7691132028694,{"$f":"IF(ISERROR(IRR($G$22:$G26)),\"\",IRR($G$22:$G26))","v":""},null,"Junio",635.83978446811784,0,0,0,0,0,635.83978446811784,null,null,null,null,null,null,null,null,null,null,null,null,null,null,null,null,null,null,null,null,null,null,null,null,null,null,null,null,null,null,null,null,null,7595.7691132028694]
[6,{"$f":"B26*(1+'CUADRO RENTING'!$F$11)","v":3912.9179814416361},{"$f":"C26*0.998*(1+'CUADRO RENTING'!$F$13)","v":1645.5043573136998},{"$f":"'CUADRO RENTING'!M22","v":218.65129632000003},641.4098196845041,{"$f":"F26*0.99*(1+'CUADRO RENTING'!$F$11)","v":344.98497611286615},1130.4282174220618,0.2888964764361297,-6465.3408957808078,{"$f":"IF(ISERROR(IRR($G$22:$G27)),\"\",IRR($G$22:$G27))","v":""},null,"Julio",648.87019338913865,0,0,0,0,0,648.87019338913865,null,null,null,null,null,null,null,null,null,null,null,null,null,null,null,null,null,null,null,null,null,null,null,null,null,null,null,null,null,null,null,null,null,6465.3408957808078]
[7,{"$f":"B27*(1+'CUADRO RENTING'!$F$11)","v":3991.1763410704689},{"$f":"C27*0.998*(1+'CUADRO RENTING'!$F$13)","v":1707.9018825430353},{"$f":"'CUADRO RENTING'!M23","v":223.0243222464},641.4098196845041,{"$f":"F27*0.99*(1+'CUADRO RENTING'!$F$11)","v":348.36582887877222},1191.8335694909033,0.29861711626884491,-5273.5073262899041,{"$f":"IF(ISERROR(IRR($G$22:$G28)),\"\",IRR($G$22:$G28))","v":""},null,"Agosto",494.60340302756163,0,0,0,0,0,494.60340302756163,null,null,null,null,null,null,null,null,null,null,null,null,null,null,null,null,null,null,null,null,null,null,null,null,null,null,null,null,null,null,null,null,null,5273.5073262899041]
[8,{"$f":"B28*(1+'CUADRO RENTING'!$F$11)","v":4070.9998678918782},{"$f":"C28*0.998*(1+'CUADRO RENTING'!$F$13)","v":1772.6655219290672},{"$f":"'CUADRO RENTING'!M24","v":227.484808691328},641.4098196845041,{"$f":"F28*0.99*(1+'CUADRO RENTING'!$F$11)","v":351.77981400178419},1255.5507075550192,0.30841335011027454,-4017.9566187348846,{"$f":"IF(ISERROR(IRR($G$22:$G29)),\"\",IRR($G$22:$G29))","v":""},null,"Septiembre",368.05383842171534,0,0,0,0,0,368.05383842171534,null,null,null,null,null,null,null,null,null,null,null,null,null,null,null,null,null,null,null,null,null,null,null,null,null,null,null,null,null,null,null,null,null,4017.9566187348846]
[9,{"$f":"B29*(1+'CUADRO RENTING'!$F$11)","v":4152.4198652497162},{"$f":"C29*0.998*(1+'CUADRO RENTING'!$F$13)","v":1839.8849985206175},{"$f":"'CUADRO RENTING'!M25","v":232.03450486515459},641.4098196845041,{"$f":"F29*0.99*(1+'CUADRO RENTING'!$F$11)","v":355.2272561790017},1321.6679301499605,0.31828860593086455,-2696.2886885849239,{"$f":"IF(ISERROR(IRR($G$22:$G30)),\"\",IRR($G$22:$G30))","v":""},null,"Octubre",230.46155439127509,0,0,0,0,0,230.46155439127509,null,null,null,null,null,null,null,null,null,null,null,null,null,null,null,null,null,null,null,null,null,null,null,null,null,null,null,null,null,null,null,null,null,2696.2886885849239]
[10,{"$f":"B30*(1+'CUADRO RENTING'!$F$11)","v":4235.4682625547102},{"$f":"C30*0.998*(1+'CUADRO RENTING'!$F$13)","v":1909.6534376645195},{"$f":"'CUADRO RENTING'!M26","v":236.67519496245768},641.4098196845041,{"$f":"F30*0.99*(1+'CUADRO RENTING'!$F$11)","v":358.70848328955594},1390.2769063071137,0.32824632841624446,-1306.0117822778102,{"$f":"IF(ISERROR(IRR($G$22:$G31)),\"\",IRR($G$22:$G31))","v":""},null,"Noviembre",24.183555539860684,0,0,0,0,0,24.183555539860684,null,null,null,null,null,null,null,null,null,null,null,null,null,null,null,null,null,null,null,null,null,null,null,null,null,null,null,null,null,null,null,null,null,1306.0117822778102]
[11,{"$f":"B31*(1+'CUADRO RENTING'!$F$11)","v":4320.1776278058041},{"$f":"C31*0.998*(1+'CUADRO RENTING'!$F$13)","v":1982.0674960207582},{"$f":"'CUADRO RENTING'!M27","v":241.40869886170682},641.4098196845041,{"$f":"F31*0.99*(1+'CUADRO RENTING'!$F$11)","v":362.22382642579356},1461.4728039003408,0.33828998013737116,155.46102162253055,{"$f":"IF(ISERROR(IRR($G$22:$G32)),\"\",IRR($G$22:$G32))","v":""},null,"Diciembre",{"$f":"M16*N16","v":23.962701151368805},0,0,0,0,0,23.962701151368805,{"$f":"SUM(S20:S32)","v":3544.0503721291725},null,null,null,null,null,null,null,null,null,null,null,null,null,null,null,null,null,null,null,null,null,null,null,null,null,null,null,null,null,null,null,null,-155.46102162253055]
[12,{"$f":"B32*(1+'CUADRO RENTING'!$F$11)","v":4406.5811803619199},{"$f":"C32*0.998*(1+'CUADRO RENTING'!$F$13)","v":2057.2274954698655},{"$f":"'CUADRO RENTING'!M28","v":246.23687283894097},641.4098196845041,{"$f":"F32*0.99*(1+'CUADRO RENTING'!$F$11)","v":365.77361992476636},1535.3544228711867,0.34842304272381192,1690.8154444937172,{"$f":"IF(ISERROR(IRR($G$22:$G33)),\"\",IRR($G$22:$G33))","v":""},null,"Total periodo",{"$f":"SUM(M20:M32)","v":3544.0503721291725},0,0,0,0,0,{"$f":"SUM(M33:R33)","v":3544.0503721291725},null,null,null,null,null,null,null,null,null,null,null,null,null,null,null,null,null,null,null,null,null,null,null,null,null,null,null,null,null,null,null,null,null,-1690.8154444937172]
[13,{"$f":"B33*(1+'CUADRO RENTING'!$F$11)","v":4494.7128039691588},{"$f":"C33*0.998*(1+'CUADRO RENTING'!$F$13)","v":2135.2375620980829},{"$f":"'CUADRO RENTING'!M29","v":251.16161029571978},641.4098196845041,{"$f":"F33*0.99*(1+'CUADRO RENTING'!$F$11)","v":369.35820140002909},1612.024333517888,0.35864901804056382,3302.8397780116052,{"$f":"IF(ISERROR(IRR($G$22:$G34)),\"\",IRR($G$22:$G34))","v":""},null,null,null,null,null,null,null,null,null,null,null,null,null,null,null,null,null,null,null,null,null,null,null,null,null,null,null,null,null,null,null,null,null,null,null,null,null,null,null,null,null,null,-3302.8397780116052]
[14,{"$f":"B34*(1+'CUADRO RENTING'!$F$11)","v":4584.6070600485418},{"$f":"C34*0.998*(1+'CUADRO RENTING'!$F$13)","v":2216.205770452842},{"$f":"'CUADRO RENTING'!M30","v":256.18484250163419},641.4098196845041,{"$f":"F34*0.99*(1+'CUADRO RENTING'!$F$11)","v":372.97791177374938},1691.5890200404531,0.36897142936881105,4994.4287980520585,{"$f":"IF(ISERROR(IRR($G$22:$G35)),\"\",IRR($G$22:$G35))","v":""},null,"PRODUCCION FOTOVOLTAICA",null,null,null,null,null,null,null,null,null,null,null,null,null,null,null,null,null,null,null,null,null,null,null,null,null,null,null,null,null,null,null,null,null,null,null,null,null,null,null,null,-4994.4287980520585]
[15,{"$f":"B35*(1+'CUADRO RENTING'!$F$11)","v":4676.2992012495124},{"$f":"C35*0.998*(1+'CUADRO RENTING'!$F$13)","v":2300.2442932684135},{"$f":"'CUADRO RENTING'!M31","v":261.30853935166681},641.4098196845041,{"$f":"F35*0.99*(1+'CUADRO RENTING'!$F$11)","v":376.6330953091321},1774.1590295413748,0.37939382259101762,6768.5878275934338,{"$f":"IF(ISERROR(IRR($G$22:$G36)),\"\",IRR($G$22:$G36))","v":""},null,null,null,null,null,null,null,null,null,null,null,null,null,null,null,null,null,null,null,null,null,null,null,null,null,null,null,null,null,null,null,null,null,null,null,null,null,null,null,null,null,null,-6768.5878275934338]
[16,{"$f":"B36*(1+'CUADRO RENTING'!$F$11)","v":4769.8251852745025},{"$f":"C36*0.998*(1+'CUADRO RENTING'!$F$13)","v":2387.4695568691518},{"$f":"'CUADRO RENTING'!M32","v":266.53471013870018},641.4098196845041,{"$f":"F36*0.99*(1+'CUADRO RENTING'!$F$11)","v":380.32409964316162},1859.8491266891092,0.38991976738075679,8628.4369542825425,{"$f":"IF(ISERROR(IRR($G$22:$G37)),\"\",IRR($G$22:$G37))","v":""},null,null,"p1","precio p1","p2","precio p2","p3","precio p3","p4","precio p4","p5","precio p5","p6","precio p6",null,"PRECIO P2","PRECIO P3","PRECIO P4","PRECIO P5","PRECIO P6",null,null,null,null,null,null,null,null,null,null,null,null,null,null,null,null,null,null,null,null,null,null,-8628.4369542825425]
[17,{"$f":"B37*(1+'CUADRO RENTING'!$F$11)","v":4865.2216889799929},{"$f":"C37*0.998*(1+'CUADRO RENTING'!$F$13)","v":2478.0024024656304},{"$f":"'CUADRO RENTING'!M33","v":271.86540434147417},641.4098196845041,{"$f":"F37*0.99*(1+'CUADRO RENTING'!$F$11)","v":384.05127581966462},1948.778454259317,0.4005528583976784,10577.215408541859,{"$f":"IF(ISERROR(IRR($G$22:$G38)),\"\",IRR($G$22:$G38))","v":""},null,"Enero",{"$f":"'AHORRO FOTOVOLTAICA'!B24","v":961.64646208470708},{"$f":"'AHORRO FOTOVOLTAICA'!C24","v":6.5668505384817444E-3},{"$f":"'AHORRO FOTOVOLTAICA'!D24","v":""},{"$f":"'AHORRO FOTOVOLTAICA'!E24","v":""},{"$f":"'AHORRO FOTOVOLTAICA'!F24","v":""},{"$f":"'AHORRO FOTOVOLTAICA'!G24","v":""},{"$f":"'AHORRO FOTOVOLTAICA'!H24","v":""},{"$f":"'AHORRO FOTOVOLTAICA'!I24","v":""},{"$f":"'AHORRO FOTOVOLTAICA'!J24","v":""},{"$f":"'AHORRO FOTOVOLTAICA'!K24","v":""},{"$f":"'AHORRO FOTOVOLTAICA'!L24","v":""},{"$f":"'AHORRO FOTOVOLTAICA'!M24","v":""},"Enero",{"$f":"IF(P38=\"\",0,P38)","v":0},{"$f":"IF(R38=\"\",0,R38)","v":0},{"$f":"IF(T38=\"\",0,T38)","v":0},{"$f":"IF(V38=\"\",0,V38)","v":0},{"$f":"IF(X38=\"\",0,X38)","v":0},null,null,null,null,null,null,null,null,null,null,null,null,null,null,null,null,null,null,null,null,null,null,-10577.215408541859]
[18,{"$f":"B38*(1+'CUADRO RENTING'!$F$11)","v":4962.5261227595929},{"$f":"C38*0.998*(1+'CUADRO RENTING'!$F$13)","v":2571.9682535671272},{"$f":"'CUADRO RENTING'!M34","v":277.30271242830361},641.4098196845041,{"$f":"F38*0.99*(1+'CUADRO RENTING'!$F$11)","v":387.8149783226973},2041.0706997770169,0.41129671648801425,12618.286108318876,{"$f":"IF(ISERROR(IRR($G$22:$G39)),\"\",IRR($G$22:$G39))","v":""},null,"Febrero",{"$f":"'AHORRO FOTOVOLTAICA'!B25","v":1042.7491757545019},{"$f":"'AHORRO FOTOVOLTAICA'!C25","v":6.5668505384817444E-3},{"$f":"'AHORRO FOTOVOLTAICA'!D25","v":""},{"$f":"'AHORRO FOTOVOLTAICA'!E25","v":""},{"$f":"'AHORRO FOTOVOLTAICA'!F25","v":""},{"$f":"'AHORRO FOTOVOLTAICA'!G25","v":""},{"$f":"'AHORRO FOTOVOLTAICA'!H25","v":""},{"$f":"'AHORRO FOTOVOLTAICA'!I25","v":""},{"$f":"'AHORRO FOTOVOLTAICA'!J25","v":""},{"$f":"'AHORRO FOTOVOLTAICA'!K25","v":""},{"$f":"'AHORRO FOTOVOLTAICA'!L25","v":""},{"$f":"'AHORRO FOTOVOLTAICA'!M25","v":""},"Febrero",{"$f":"IF(P39=\"\",0,P39)","v":0},{"$f":"IF(R39=\"\",0,R39)","v":0},{"$f":"IF(T39=\"\",0,T39)","v":0},{"$f":"IF(V39=\"\",0,V39)","v":0},{"$f":"IF(X39=\"\",0,X39)","v":0},null,null,null,null,null,null,null,null,null,null,null,null,null,null,null,null,null,null,null,null,null,null,-12618.286108318876]
[19,{"$f":"B39*(1+'CUADRO RENTING'!$F$11)","v":5061.7766452147853},{"$f":"C39*0.998*(1+'CUADRO RENTING'!$F$13)","v":2669.4972897423927},{"$f":"'CUADRO RENTING'!M35","v":282.84876667686967},641.4098196845041,{"$f":"F39*0.99*(1+'CUADRO RENTING'!$F$11)","v":391.61556511025969},2136.8542684912786,0.4221549898910259,14755.140376810155,{"$f":"IF(ISERROR(IRR($G$22:$G40)),\"\",IRR($G$22:$G40))","v":""},null,"Marzo",{"$f":"'AHORRO FOTOVOLTAICA'!B26","v":1390.3322343393356},{"$f":"'AHORRO FOTOVOLTAICA'!C26","v":6.5668505384817444E-3},{"$f":"'AHORRO FOTOVOLTAICA'!D26","v":""},{"$f":"'AHORRO FOTOVOLTAICA'!E26","v":""},{"$f":"'AHORRO FOTOVOLTAICA'!F26","v":""},{"$f":"'AHORRO FOTOVOLTAICA'!G26","v":""},{"$f":"'AHORRO FOTOVOLTAICA'!H26","v":""},{"$f":"'AHORRO FOTOVOLTAICA'!I26","v":""},{"$f":"'AHORRO FOTOVOLTAICA'!J26","v":""},{"$f":"'AHORRO FOTOVOLTAICA'!K26","v":""},{"$f":"'AHORRO FOTOVOLTAICA'!L26","v":""},{"$f":"'AHORRO FOTOVOLTAICA'!M26","v":""},"Marzo",0,0,0,0,0,null,null,null,null,null,null,null,null,null,null,null,null,null,null,null,null,null,null,null,null,null,null,-14755.140376810155]
[20,{"$f":"B40*(1+'CUADRO RENTING'!$F$11)","v":5163.012178119081},{"$f":"C40*0.998*(1+'CUADRO RENTING'!$F$13)","v":2770.7246269694242},{"$f":"'CUADRO RENTING'!M36","v":288.50574201040706},641.4098196845041,{"$f":"F40*0.99*(1+'CUADRO RENTING'!$F$11)","v":395.45339764834023},2236.262462922853,0.43313135545179715,16991.402839733008,{"$f":"IF(ISERROR(IRR($G$22:$G41)),\"\",IRR($G$22:$G41))","v":""},null,"Abril",{"$f":"'AHORRO FOTOVOLTAICA'!B27","v":1371.022064417956},{"$f":"'AHORRO FOTOVOLTAICA'!C27","v":6.5668505384817444E-3},{"$f":"'AHORRO FOTOVOLTAICA'!D27","v":""},{"$f":"'AHORRO FOTOVOLTAICA'!E27","v":""},{"$f":"'AHORRO FOTOVOLTAICA'!F27","v":""},{"$f":"'AHORRO FOTOVOLTAICA'!G27","v":""},{"$f":"'AHORRO FOTOVOLTAICA'!H27","v":""},{"$f":"'AHORRO FOTOVOLTAICA'!I27","v":""},{"$f":"'AHORRO FOTOVOLTAICA'!J27","v":""},{"$f":"'AHORRO FOTOVOLTAICA'!K27","v":""},{"$f":"'AHORRO FOTOVOLTAICA'!L27","v":""},{"$f":"'AHORRO FOTOVOLTAICA'!M27","v":""},"Abril",0,0,0,0,0,null,null,null,null,null,null,null,null,null,null,null,null,null,null,null,null,null,null,null,null,null,null,-16991.402839733008]
[21,{"$f":"B41*(1+'CUADRO RENTING'!$F$11)","v":5266.2724216814631},{"$f":"C41*0.998*(1+'CUADRO RENTING'!$F$13)","v":2875.7905048241046},{"$f":"'CUADRO RENTING'!M37","v":294.27585685061524},641.4098196845041,{"$f":"F41*0.99*(1+'CUADRO RENTING'!$F$11)","v":399.32884094529396},2339.4336692342795,0.44422951984077647,19330.836508967288,{"$f":"IF(ISERROR(IRR($G$22:$G42)),\"\",IRR($G$22:$G42))","v":""},null,"Mayo",{"$f":"'AHORRO FOTOVOLTAICA'!B28","v":1506.1932538676137},{"$f":"'AHORRO FOTOVOLTAICA'!C28","v":6.5668505384817444E-3},{"$f":"'AHORRO FOTOVOLTAICA'!D28","v":""},{"$f":"'AHORRO FOTOVOLTAICA'!E28","v":""},{"$f":"'AHORRO FOTOVOLTAICA'!F28","v":""},{"$f":"'AHORRO FOTOVOLTAICA'!G28","v":""},{"$f":"'AHORRO FOTOVOLTAICA'!H28","v":""},{"$f":"'AHORRO FOTOVOLTAICA'!I28","v":""},{"$f":"'AHORRO FOTOVOLTAICA'!J28","v":""},{"$f":"'AHORRO FOTOVOLTAICA'!K28","v":""},{"$f":"'AHORRO FOTOVOLTAICA'!L28","v":""},{"$f":"'AHORRO FOTOVOLTAICA'!M28","v":""},"Mayo",0,0,0,0,0,null,null,null,null,null,null,null,null,null,null,null,null,null,null,null,null,null,null,null,null,null,null,-19330.836508967288]
[22,{"$f":"B42*(1+'CUADRO RENTING'!$F$11)","v":5371.5978701150925},{"$f":"C42*0.998*(1+'CUADRO RENTING'!$F$13)","v":2984.8404807670345},{"$f":"'CUADRO RENTING'!M38","v":300.16137398762748},641.4098196845041,{"$f":"F42*0.99*(1+'CUADRO RENTING'!$F$11)","v":403.24226358655784},2446.5115506814609,0.45545322078047545,21777.34805964875,{"$f":"IF(ISERROR(IRR($G$22:$G43)),\"\",IRR($G$22:$G43))","v":""},null,"Junio",{"$f":"'AHORRO FOTOVOLTAICA'!B29","v":1535.1585087496833},{"$f":"'AHORRO FOTOVOLTAICA'!C29","v":6.5668505384817444E-3},{"$f":"'AHORRO FOTOVOLTAICA'!D29","v":""},{"$f":"'AHORRO FOTOVOLTAICA'!E29","v":""},{"$f":"'AHORRO FOTOVOLTAICA'!F29","v":""},{"$f":"'AHORRO FOTOVOLTAICA'!G29","v":""},{"$f":"'AHORRO FOTOVOLTAICA'!H29","v":""},{"$f":"'AHORRO FOTOVOLTAICA'!I29","v":""},{"$f":"'AHORRO FOTOVOLTAICA'!J29","v":""},{"$f":"'AHORRO FOTOVOLTAICA'!K29","v":""},{"$f":"'AHORRO FOTOVOLTAICA'!L29","v":""},{"$f":"'AHORRO FOTOVOLTAICA'!M29","v":""},"Junio",0,0,0,0,0,null,null,null,null,null,null,null,null,null,null,null,null,null,null,null,null,null,null,null,null,null,null,-21777.34805964875]
[23,{"$f":"B43*(1+'CUADRO RENTING'!$F$11)","v":5479.0298275173946},{"$f":"C43*0.998*(1+'CUADRO RENTING'!$F$13)","v":3098.025631797721},{"$f":"'CUADRO RENTING'!M39","v":306.16460146738007},641.4098196845041,{"$f":"F43*0.99*(1+'CUADRO RENTING'!$F$11)","v":407.19403776970609},2557.6452484155429,0.46680622827973151,24334.993308064291,{"$f":"IF(ISERROR(IRR($G$22:$G44)),\"\",IRR($G$22:$G44))","v":""},null,"Julio",{"$f":"'AHORRO FOTOVOLTAICA'!B30","v":1583.4339335531324},{"$f":"'AHORRO FOTOVOLTAICA'!C30","v":6.5668505384817444E-3},{"$f":"'AHORRO FOTOVOLTAICA'!D30","v":""},{"$f":"'AHORRO FOTOVOLTAICA'!E30","v":""},{"$f":"'AHORRO FOTOVOLTAICA'!F30","v":""},{"$f":"'AHORRO FOTOVOLTAICA'!G30","v":""},{"$f":"'AHORRO FOTOVOLTAICA'!H30","v":""},{"$f":"'AHORRO FOTOVOLTAICA'!I30","v":""},{"$f":"'AHORRO FOTOVOLTAICA'!J30","v":""},{"$f":"'AHORRO FOTOVOLTAICA'!K30","v":""},{"$f":"'AHORRO FOTOVOLTAICA'!L30","v":""},{"$f":"'AHORRO FOTOVOLTAICA'!M30","v":""},"Julio",0,0,0,0,0,null,null,null,null,null,null,null,null,null,null,null,null,null,null,null,null,null,null,null,null,null,null,-24334.993308064291]
[24,{"$f":"B44*(1+'CUADRO RENTING'!$F$11)","v":5588.6104240677423},{"$f":"C44*0.998*(1+'CUADRO RENTING'!$F$13)","v":3215.5027637554904},{"$f":"'CUADRO RENTING'!M40","v":312.28789349672763},641.4098196845041,{"$f":"F44*0.99*(1+'CUADRO RENTING'!$F$11)","v":411.18453933984921},2672.9895899141079,0.47829234587594277,27007.9828979784,{"$f":"IF(ISERROR(IRR($G$22:$G45)),\"\",IRR($G$22:$G45))","v":""},"TIR A 25 AÑOS","Agosto",{"$f":"'AHORRO FOTOVOLTAICA'!B31","v":1525.5034237889934},{"$f":"'AHORRO FOTOVOLTAICA'!C31","v":6.5668505384817444E-3},{"$f":"'AHORRO FOTOVOLTAICA'!D31","v":""},{"$f":"'AHORRO FOTOVOLTAICA'!E31","v":""},{"$f":"'AHORRO FOTOVOLTAICA'!F31","v":""},{"$f":"'AHORRO FOTOVOLTAICA'!G31","v":""},{"$f":"'AHORRO FOTOVOLTAICA'!H31","v":""},{"$f":"'AHORRO FOTOVOLTAICA'!I31","v":""},{"$f":"'AHORRO FOTOVOLTAICA'!J31","v":""},{"$f":"'AHORRO FOTOVOLTAICA'!K31","v":""},{"$f":"'AHORRO FOTOVOLTAICA'!L31","v":""},{"$f":"'AHORRO FOTOVOLTAICA'!M31","v":""},"Agosto",0,0,0,0,0,null,null,null,null,null,null,null,null,null,null,null,null,null,null,null,null,null,null,null,null,null,null,-27007.9828979784]
[25,{"$f":"B45*(1+'CUADRO RENTING'!$F$11)","v":5700.3826325490973},{"$f":"C45*0.998*(1+'CUADRO RENTING'!$F$13)","v":3337.4346285570987},{"$f":"'CUADRO RENTING'!M41","v":318.53365136666218},641.4098196845041,{"$f":"F45*0.99*(1+'CUADRO RENTING'!$F$11)","v":415.21414782537977},2792.705305331312,0.48991541188568777,29800.688203309714,{"$f":"IF(ISERROR(IRR($G$22:$G46)),\"\",IRR($G$22:$G46))","v":""},{"$f":"IRR(G21:G46)","v":9.7791689056249353E-2},"Septiembre",{"$f":"'AHORRO FOTOVOLTAICA'!B32","v":1303.4364696931273},{"$f":"'AHORRO FOTOVOLTAICA'!C32","v":6.5668505384817444E-3},{"$f":"'AHORRO FOTOVOLTAICA'!D32","v":""},{"$f":"'AHORRO FOTOVOLTAICA'!E32","v":""},{"$f":"'AHORRO FOTOVOLTAICA'!F32","v":""},{"$f":"'AHORRO FOTOVOLTAICA'!G32","v":""},{"$f":"'AHORRO FOTOVOLTAICA'!H32","v":""},{"$f":"'AHORRO FOTOVOLTAICA'!I32","v":""},{"$f":"'AHORRO FOTOVOLTAICA'!J32","v":""},{"$f":"'AHORRO FOTOVOLTAICA'!K32","v":""},{"$f":"'AHORRO FOTOVOLTAICA'!L32","v":""},{"$f":"'AHORRO FOTOVOLTAICA'!M32","v":""},"Septiembre",0,0,0,0,0,null,null,null,null,null,null,null,null,null,null,null,null,null,null,null,null,null,null,null,null,null,null,-29800.688203309714]
[26,{"$f":"B46*(1+'CUADRO RENTING'!$F$11)","v":5814.3902852000792},{"$f":"C46*0.998*(1+'CUADRO RENTING'!$F$13)","v":3463.990149671984},{"$f":"'CUADRO RENTING'!M42","v":324.90432439399547},641.4098196845041,{"$f":"F46*0.99*(1+'CUADRO RENTING'!$F$11)","v":419.28324647406851},2916.9592520675533,0.50167930066414135,32717.647455377268,{"$f":"IF(ISERROR(IRR($G$22:$G47)),\"\",IRR($G$22:$G47))","v":""},null,"Octubre",{"$f":"'AHORRO FOTOVOLTAICA'!B33","v":1206.8856200862288},{"$f":"'AHORRO FOTOVOLTAICA'!C33","v":6.5668505384817444E-3},{"$f":"'AHORRO FOTOVOLTAICA'!D33","v":""},{"$f":"'AHORRO FOTOVOLTAICA'!E33","v":""},{"$f":"'AHORRO FOTOVOLTAICA'!F33","v":""},{"$f":"'AHORRO FOTOVOLTAICA'!G33","v":""},{"$f":"'AHORRO FOTOVOLTAICA'!H33","v":""},{"$f":"'AHORRO FOTOVOLTAICA'!I33","v":""},{"$f":"'AHORRO FOTOVOLTAICA'!J33","v":""},{"$f":"'AHORRO FOTOVOLTAICA'!K33","v":""},{"$f":"'AHORRO FOTOVOLTAICA'!L33","v":""},{"$f":"'AHORRO FOTOVOLTAICA'!M33","v":""},"Octubre",0,0,0,0,0,null,null,null,null,null,null,null,null,null,null,null,null,null,null,null,null,null,null,null,null,null,null,-32717.647455377268]
[27,{"$f":"B47*(1+'CUADRO RENTING'!$F$11)","v":5930.6780909040808},{"$f":"C47*0.998*(1+'CUADRO RENTING'!$F$13)","v":3595.3446561475457},{"$f":"'CUADRO RENTING'!M43","v":331.40241088187543},641.4098196845041,{"$f":"F47*0.99*(1+'CUADRO RENTING'!$F$11)","v":423.39222228951439},3045.9246478706809,0.51358792387370256,35763.572103247949,{"$f":"IF(ISERROR(IRR($G$22:$G48)),\"\",IRR($G$22:$G48))","v":""},null,"Noviembre",{"$f":"'AHORRO FOTOVOLTAICA'!B34","v":939.43976667512061},{"$f":"'AHORRO FOTOVOLTAICA'!C34","v":6.5668505384817444E-3},{"$f":"'AHORRO FOTOVOLTAICA'!D34","v":""},{"$f":"'AHORRO FOTOVOLTAICA'!E34","v":""},{"$f":"'AHORRO FOTOVOLTAICA'!F34","v":""},{"$f":"'AHORRO FOTOVOLTAICA'!G34","v":""},{"$f":"'AHORRO FOTOVOLTAICA'!H34","v":""},{"$f":"'AHORRO FOTOVOLTAICA'!I34","v":""},{"$f":"'AHORRO FOTOVOLTAICA'!J34","v":""},{"$f":"'AHORRO FOTOVOLTAICA'!K34","v":""},{"$f":"'AHORRO FOTOVOLTAICA'!L34","v":""},{"$f":"'AHORRO FOTOVOLTAICA'!M34","v":""},"Noviembre",0,0,0,0,0,null,null,null,null,null,null,null,null,null,null,null,null,null,null,null,null,null,null,null,null,null,null,-35763.572103247949]
[28,{"$f":"B48*(1+'CUADRO RENTING'!$F$11)","v":6049.2916527221623},{"$f":"C48*0.998*(1+'CUADRO RENTING'!$F$13)","v":3731.6801255086607},{"$f":"'CUADRO RENTING'!M44","v":338.03045909951288},641.4098196845041,{"$f":"F48*0.99*(1+'CUADRO RENTING'!$F$11)","v":427.5414660679516},3179.7813127925956,0.52564523176225164,38943.353416040547,{"$f":"IF(ISERROR(IRR($G$22:$G49)),\"\",IRR($G$22:$G49))","v":""},null,"Diciembre",{"$f":"'AHORRO FOTOVOLTAICA'!B35","v":862.19908698960194},{"$f":"'AHORRO FOTOVOLTAICA'!C35","v":6.5668505384817444E-3},{"$f":"'AHORRO FOTOVOLTAICA'!D35","v":""},{"$f":"'AHORRO FOTOVOLTAICA'!E35","v":""},{"$f":"'AHORRO FOTOVOLTAICA'!F35","v":""},{"$f":"'AHORRO FOTOVOLTAICA'!G35","v":""},{"$f":"'AHORRO FOTOVOLTAICA'!H35","v":""},{"$f":"'AHORRO FOTOVOLTAICA'!I35","v":""},{"$f":"'AHORRO FOTOVOLTAICA'!J35","v":""},{"$f":"'AHORRO FOTOVOLTAICA'!K35","v":""},{"$f":"'AHORRO FOTOVOLTAICA'!L35","v":""},{"$f":"'AHORRO FOTOVOLTAICA'!M35","v":""},"Diciembre",0,0,0,0,0,null,null,null,null,null,null,null,null,null,null,null,null,null,null,null,null,null,null,null,null,null,null,-38943.353416040547]
[29,{"$f":"B49*(1+'CUADRO RENTING'!$F$11)","v":6170.2774857766053},{"$f":"C49*0.998*(1+'CUADRO RENTING'!$F$13)","v":3873.1854358679489},{"$f":"'CUADRO RENTING'!M45","v":344.79106828150316},641.4098196845041,{"$f":"F49*0.99*(1+'CUADRO RENTING'!$F$11)","v":431.73137243541754},3318.715920337359,0.53785521445145468,42262.069336377906,{"$f":"IF(ISERROR(IRR($G$22:$G50)),\"\",IRR($G$22:$G50))","v":""},null,null,null,null,null,null,null,null,null,null,null,null,null,null,null,null,null,null,null,null,null,null,null,null,null,null,null,null,null,null,null,null,null,null,null,null,null,null,null,null,null,null,-42262.069336377906]
[30,{"$f":"B50*(1+'CUADRO RENTING'!$F$11)","v":6293.6830354921376},{"$f":"C50*0.998*(1+'CUADRO RENTING'!$F$13)","v":4020.0566275960614},{"$f":"'CUADRO RENTING'!M46","v":351.68688964713323},641.4098196845041,{"$f":"F50*0.99*(1+'CUADRO RENTING'!$F$11)","v":435.96233988528468},3462.9222581497088,0.5502219032355391,45724.991594527615,{"$f":"IF(ISERROR(IRR($G$22:$G51)),\"\",IRR($G$22:$G51))","v":""},null,null,null,null,null,null,null,null,null,null,null,null,null,null,null,"p2","p3","p4","p5","p6",null,null,null,null,null,null,null,null,null,null,null,null,null,null,null,null,null,null,null,null,null,null,-45724.991594527615]
[31,{"$f":"B51*(1+'CUADRO RENTING'!$F$11)","v":6419.5566962019802},{"$f":"C51*0.998*(1+'CUADRO RENTING'!$F$13)","v":4172.4971749145043},{"$f":"'CUADRO RENTING'!M47","v":358.72062744007587},{"$f":"E51","v":641.4098196845041},{"$f":"F51*0.99*(1+'CUADRO RENTING'!$F$11)","v":440.23477081616045},3612.6014986060845,0.56274937189096219,49337.593093133699,{"$f":"IF(ISERROR(IRR($G$22:$G52)),\"\",IRR($G$22:$G52))","v":""},null,null,"precio p1","precio p2","precio p3","precio p4","precio p5","precio p6","Total mes",null,null,null,null,null,"Enero",{"$f":"IF(O38=\"\",0,O38)","v":0},{"$f":"IF(Q38=\"\",0,Q38)","v":0},{"$f":"IF(S38=\"\",0,S38)","v":0},{"$f":"IF(U38=\"\",0,U38)","v":0},{"$f":"IF(W38=\"\",0,W38)","v":0},null,null,null,null,null,null,null,null,null,null,null,null,null,null,null,null,null,null,null,null,null,null,-49337.593093133699]
[32,{"$f":"B52*(1+'CUADRO RENTING'!$F$11)","v":6547.9478301260197},{"$f":"C52*0.998*(1+'CUADRO RENTING'!$F$13)","v":4330.7182677872624},{"$f":"'CUADRO RENTING'!M48","v":365.89503998887744},641.4098196845041,{"$f":"F52*0.99*(1+'CUADRO RENTING'!$F$11)","v":444.54907157015884},3767.9624796840399,0.57544173799740295,53105.555572817742,{"$f":"IF(ISERROR(IRR($G$22:$G53)),\"\",IRR($G$22:$G53))","v":""},null,"Enero",{"$f":"M38*N38","v":6.3149885873700233},{"$f":"Z52*Z38","v":0},{"$f":"AA52*AA38","v":0},{"$f":"AB52*AB38","v":0},{"$f":"AC52*AC38","v":0},{"$f":"AD52*AD38","v":0},{"$f":"SUM(M53:R53)","v":6.3149885873700233},null,null,null,null,null,"Febrero",{"$f":"IF(O39=\"\",0,O39)","v":0},{"$f":"IF(Q39=\"\",0,Q39)","v":0},{"$f":"IF(S39=\"\",0,S39)","v":0},{"$f":"IF(U39=\"\",0,U39)","v":0},{"$f":"IF(W39=\"\",0,W39)","v":0},null,null,null,null,null,null,null,null,null,null,null,null,null,null,null,null,null,null,null,null,null,null,-53105.555572817742]
[33,{"$f":"B53*(1+'CUADRO RENTING'!$F$11)","v":6678.9067867285403},{"$f":"C53*0.998*(1+'CUADRO RENTING'!$F$13)","v":4494.9391045017555},{"$f":"'CUADRO RENTING'!M49","v":373.21294078865492},641.4098196845041,{"$f":"F53*0.99*(1+'CUADRO RENTING'!$F$11)","v":448.90565247154643},3929.2219965001427,0.58830316427050378,57034.777569317885,{"$f":"IF(ISERROR(IRR($G$22:$G54)),\"\",IRR($G$22:$G54))","v":""},null,"Febrero",{"$f":"M39*N39","v":6.847577986304846},{"$f":"Z53*Z39","v":0},{"$f":"AA53*AA39","v":0},{"$f":"AB53*AB39","v":0},{"$f":"AC53*AC39","v":0},{"$f":"AD53*AD39","v":0},{"$f":"SUM(M54:R54)","v":6.847577986304846},null,null,null,null,null,"Marzo",0,0,0,0,0,null,null,null,null,null,null,null,null,null,null,null,null,null,null,null,null,null,null,null,null,null,null,-57034.777569317885]
[34,{"$f":"B54*(1+'CUADRO RENTING'!$F$11)","v":6812.4849224631116},{"$f":"C54*0.998*(1+'CUADRO RENTING'!$F$13)","v":4665.3871953444623},{"$f":"'CUADRO RENTING'!M50","v":380.67719960442804},641.4098196845041,{"$f":"F54*0.99*(1+'CUADRO RENTING'!$F$11)","v":453.30492786576758},4096.6051039212971,0.60133785990679811,61131.382673239183,{"$f":"IF(ISERROR(IRR($G$22:$G55)),\"\",IRR($G$22:$G55))","v":""},null,"Marzo",9.1301039817397935,0,0,0,0,0,9.1301039817397935,null,null,null,null,null,"Abril",0,0,0,0,0,null,null,null,null,null,null,null,null,null,null,null,null,null,null,null,null,null,null,null,null,null,null,-61131.382673239183]
[35,{"$f":"B55*(1+'CUADRO RENTING'!$F$11)","v":6948.7346209123743},{"$f":"C55*0.998*(1+'CUADRO RENTING'!$F$13)","v":4842.2986777919241},{"$f":"'CUADRO RENTING'!M51","v":388.29074359651662},641.4098196845041,{"$f":"F55*0.99*(1+'CUADRO RENTING'!$F$11)","v":457.74731615885207},4270.3454306697558,0.61455008194125793,65401.728103908936,{"$f":"IF(ISERROR(IRR($G$22:$G56)),\"\",IRR($G$22:$G56))","v":""},null,"Abril",9.0032969819934081,0,0,0,0,0,9.0032969819934081,null,null,null,null,null,"Mayo",0,0,0,0,0,null,null,null,null,null,null,null,null,null,null,null,null,null,null,null,null,null,null,null,null,null,null,-65401.728103908936]
[36,{"$f":"B56*(1+'CUADRO RENTING'!$F$11)","v":7087.7093133306216},{"$f":"C56*0.998*(1+'CUADRO RENTING'!$F$13)","v":5025.9186436537939},{"$f":"'CUADRO RENTING'!M52","v":396.05655846844695},641.4098196845041,{"$f":"F56*0.99*(1+'CUADRO RENTING'!$F$11)","v":462.23323985720884},4450.6855053580512,0.62794413661790072,69852.41360926698,{"$f":"IF(ISERROR(IRR($G$22:$G57)),\"\",IRR($G$22:$G57))","v":""},null,"Mayo",9.8909459802181097,0,0,0,0,0,9.8909459802181097,null,null,null,null,null,"Junio",0,0,0,0,0,null,null,null,null,null,null,null,null,null,null,null,null,null,null,null,null,null,null,null,null,null,null,-69852.41360926698]
[37,{"$f":"B57*(1+'CUADRO RENTING'!$F$11)","v":7229.4634995972337},{"$f":"C57*0.998*(1+'CUADRO RENTING'!$F$13)","v":5216.5014786211459},{"$f":"'CUADRO RENTING'!M53","v":403.97768963781596},641.4098196845041,{"$f":"F57*0.99*(1+'CUADRO RENTING'!$F$11)","v":466.76312560780951},4637.8770949066347,0.64152438077390106,74490.290704173618,{"$f":"IF(ISERROR(IRR($G$22:$G58)),\"\",IRR($G$22:$G58))","v":""},null,"Junio",10.08115647983769,0,0,0,0,0,10.08115647983769,null,null,null,null,null,"Julio",0,0,0,0,0,null,null,null,null,null,null,null,null,null,null,null,null,null,null,null,null,null,null,null,null,null,null,-74490.290704173618]
[38,{"$f":"B58*(1+'CUADRO RENTING'!$F$11)","v":7374.0527695891788},{"$f":"C58*0.998*(1+'CUADRO RENTING'!$F$13)","v":5414.3112146904605},{"$f":"'CUADRO RENTING'!M54","v":412.05724343057227},641.4098196845041,{"$f":"F58*0.99*(1+'CUADRO RENTING'!$F$11)","v":471.33740423876606},4832.1815558141498,0.65529522323764966,79322.472259987771,{"$f":"IF(ISERROR(IRR($G$22:$G59)),\"\",IRR($G$22:$G59))","v":""},null,"Julio",10.398173979203655,0,0,0,0,0,10.398173979203655,null,null,null,null,null,"Agosto",0,0,0,0,0,null,null,null,null,null,null,null,null,null,null,null,null,null,null,null,null,null,null,null,null,null,null,-79322.472259987771]
[39,{"$f":"B59*(1+'CUADRO RENTING'!$F$11)","v":7521.5338249809629},{"$f":"C59*0.998*(1+'CUADRO RENTING'!$F$13)","v":5619.6218959515236},{"$f":"'CUADRO RENTING'!M55","v":420.29838829918367},641.4098196845041,{"$f":"F59*0.99*(1+'CUADRO RENTING'!$F$11)","v":475.95651080030598},5033.8701987681416,0.66926112624121348,84356.342458755913,{"$f":"IF(ISERROR(IRR($G$22:$G60)),\"\",IRR($G$22:$G60))","v":""},"TIR A 40 AÑOS","Agosto",10.017752979964495,0,0,0,0,0,10.017752979964495,null,null,null,null,null,"Septiembre",0,0,0,0,0,null,null,null,null,null,null,null,null,null,null,null,null,null,null,null,null,null,null,null,null,null,null,-84356.342458755913]
[40,{"$f":"B60*(1+'CUADRO RENTING'!$F$11)","v":7671.9645014805819},{"$f":"C60*0.998*(1+'CUADRO RENTING'!$F$13)","v":5832.7179582460049},{"$f":"'CUADRO RENTING'!M56","v":428.70435606516742},641.4098196845041,{"$f":"F60*0.99*(1+'CUADRO RENTING'!$F$11)","v":480.62088460614899},5243.2246671024823,0.68342660684764811,89599.56712585839,{"$f":"IF(ISERROR(IRR($G$22:$G61)),\"\",IRR($G$22:$G61))","v":""},{"$f":"IRR(G21:G61)","v":0.11385480984574814},"Septiembre",8.5594724828810573,0,0,0,0,0,8.5594724828810573,null,null,null,null,null,"Octubre",0,0,0,0,0,null,null,null,null,null,null,null,null,null,null,null,null,null,null,null,null,null,null,null,null,null,null,-89599.56712585839]
[null,null,null,null,null,null,null,null,null,null,null,"Octubre",7.9254374841491249,0,0,0,0,0,7.9254374841491249,null,null,null,null,null,"Noviembre",0,0,0,0,0]
[null,null,null,null,null,null,null,null,null,null,null,"Noviembre",6.1691605376616803,0,0,0,0,0,6.1691605376616803,null,null,null,null,null,"Diciembre",0,0,0,0,0]
[null,null,null,null,null,null,null,null,null,null,null,"Diciembre",5.6619325386761359,0,0,0,0,0,5.6619325386761359]
[null,null,null,null,null,null,null,null,null,null,null,"Total periodo",{"$f":"SUM(M53:M64)","v":100.00000000000003},0,0,0,0,0,{"$f":"SUM(M65:R65)","v":100.00000000000003},{"$f":"SUM(S53:S64)","v":100.00000000000003}]
[]
[]
[null,null,null,null,null,null,null,null,null,null,null,null,"PRODUCCIÓN FOTOVOLTAICA",null,null,null,null,null,null,null,"PRECIO CONSUMO",null,null,null,null,null,null,null,"EXCESOS(NEGATIVO, TE FALTA)",null,null,null,null,null,null,null,"FALTA(NEGATIVO, TE SOBRA)",null,null,null,null,null,null,"PRECIO FALTA ENERGÍA Y QUE CONSUMES DE RED"]
[null,null,null,null,null,null,null,null,null,null,null,null,"P1","p2","p3","p4","p5","p6",null,null,"PRECIO 1","PRECIO 2","PRECIO 3","PRECIO 4","PRECIO 5","PRECIO 6",null,null,"P1","p2","p3","p4","p5","p6",null,null,"P1","p2","p3","p4","p5","p6",null,null,"P1","p2","p3","p4","p5","p6"]
[null,null,null,null,null,null,null,null,null,null,null,"Enero",{"$f":"M38","v":961.64646208470708},{"$f":"Z52","v":0},{"$f":"AA52","v":0},{"$f":"AB52","v":0},{"$f":"AC52","v":0},{"$f":"AD52","v":0},{"$f":"SUM(M70:R70)","v":961.64646208470708},"Enero",{"$f":"N5","v":0.11042719424593919},{"$f":"Z5","v":0},{"$f":"AA5","v":0},{"$f":"AB5","v":0},{"$f":"AC5","v":0},{"$f":"AD5","v":0},null,"Enero",{"$f":"M70-M5","v":717.64646208470708},{"$f":"N70-O5","v":0},{"$f":"O70-Q5","v":0},{"$f":"P70-S5","v":0},{"$f":"Q70-U5","v":0},{"$f":"R70-W5","v":0},null,"Enero",{"$f":"M5-M70","v":-717.64646208470708},{"$f":"O5-N70","v":0},{"$f":"Q5-O70","v":0},{"$f":"S5-P70","v":0},{"$f":"U5-Q70","v":0},{"$f":"W5-R70","v":0},null,"Enero",{"$f":"IF(AK70<0,0,AK70*'AHORRO FOTOVOLTAICA'!$B$3)","v":0},{"$f":"IF(AL70<0,0,AL70*'AHORRO FOTOVOLTAICA'!$C$3)","v":0},{"$f":"IF(AM70<0,0,AM70*'AHORRO FOTOVOLTAICA'!$D$3)","v":0},{"$f":"IF(AN70<0,0,AN70*'AHORRO FOTOVOLTAICA'!$E$3)","v":0},{"$f":"IF(AO70<0,0,AO70*'AHORRO FOTOVOLTAICA'!$F$3)","v":0},{"$f":"IF(AP70<0,0,AP70*'AHORRO FOTOVOLTAICA'!$G$3)","v":0}]
[null,null,null,null,null,null,null,null,null,null,null,"Febrero",1042.7491757545019,0,0,0,0,0,{"$f":"SUM(M71:R71)","v":1042.7491757545019},"Febrero",0.11042719424593919,0,0,0,0,0,null,"Febrero",773.74917575450195,0,0,0,0,0,null,"Febrero",-773.74917575450195,0,0,0,0,0,null,"Febrero",{"$f":"IF(AK71<0,0,AK71*'AHORRO FOTOVOLTAICA'!$B$3)","v":0},{"$f":"IF(AL71<0,0,AL71*'AHORRO FOTOVOLTAICA'!$C$3)","v":0},{"$f":"IF(AM71<0,0,AM71*'AHORRO FOTOVOLTAICA'!$D$3)","v":0},{"$f":"IF(AN71<0,0,AN71*'AHORRO FOTOVOLTAICA'!$E$3)","v":0},{"$f":"IF(AO71<0,0,AO71*'AHORRO FOTOVOLTAICA'!$F$3)","v":0},{"$f":"IF(AP71<0,0,AP71*'AHORRO FOTOVOLTAICA'!$G$3)","v":0}]
[null,null,null,null,null,null,null,null,null,null,null,"Marzo",1390.3322343393356,0,0,0,0,0,1390.3322343393356,"Marzo",0.11042719424593919,0,0,0,0,0,null,"Marzo",-486.66776566066437,0,0,0,0,0,null,"Marzo",486.66776566066437,0,0,0,0,0,null,"Marzo",{"$f":"IF(AK72<0,0,AK72*'AHORRO FOTOVOLTAICA'!$B$3)","v":51.127368789246752},{"$f":"IF(AL72<0,0,AL72*'AHORRO FOTOVOLTAICA'!$C$3)","v":0},{"$f":"IF(AM72<0,0,AM72*'AHORRO FOTOVOLTAICA'!$D$3)","v":0},{"$f":"IF(AN72<0,0,AN72*'AHORRO FOTOVOLTAICA'!$E$3)","v":0},{"$f":"IF(AO72<0,0,AO72*'AHORRO FOTOVOLTAICA'!$F$3)","v":0},{"$f":"IF(AP72<0,0,AP72*'AHORRO FOTOVOLTAICA'!$G$3)","v":0}]
[null,null,null,null,null,null,null,null,null,null,null,"Abril",1371.022064417956,0,0,0,0,0,1371.022064417956,"Abril",0.11042719424593919,0,0,0,0,0,null,"Abril",-2230.9779355820438,0,0,0,0,0,null,"Abril",2230.9779355820438,0,0,0,0,0,null,"Abril",{"$f":"IF(AK73<0,0,AK73*'AHORRO FOTOVOLTAICA'!$B$3)","v":234.37761800050717},{"$f":"IF(AL73<0,0,AL73*'AHORRO FOTOVOLTAICA'!$C$3)","v":0},{"$f":"IF(AM73<0,0,AM73*'AHORRO FOTOVOLTAICA'!$D$3)","v":0},{"$f":"IF(AN73<0,0,AN73*'AHORRO FOTOVOLTAICA'!$E$3)","v":0},{"$f":"IF(AO73<0,0,AO73*'AHORRO FOTOVOLTAICA'!$F$3)","v":0},{"$f":"IF(AP73<0,0,AP73*'AHORRO FOTOVOLTAICA'!$G$3)","v":0}]
[null,null,null,null,null,null,null,null,null,null,null,"Mayo",1506.1932538676137,0,0,0,0,0,1506.1932538676137,"Mayo",0.11042719424593919,0,0,0,0,0,null,"Mayo",-2626.8067461323863,0,0,0,0,0,null,"Mayo",2626.8067461323863,0,0,0,0,0,null,"Mayo",{"$f":"IF(AK74<0,0,AK74*'AHORRO FOTOVOLTAICA'!$B$3)","v":275.96180952168396},{"$f":"IF(AL74<0,0,AL74*'AHORRO FOTOVOLTAICA'!$C$3)","v":0},{"$f":"IF(AM74<0,0,AM74*'AHORRO FOTOVOLTAICA'!$D$3)","v":0},{"$f":"IF(AN74<0,0,AN74*'AHORRO FOTOVOLTAICA'!$E$3)","v":0},{"$f":"IF(AO74<0,0,AO74*'AHORRO FOTOVOLTAICA'!$F$3)","v":0},{"$f":"IF(AP74<0,0,AP74*'AHORRO FOTOVOLTAICA'!$G$3)","v":0}]
[null,null,null,null,null,null,null,null,null,null,null,"Junio",1535.1585087496833,0,0,0,0,0,1535.1585087496833,"Junio",0.11042719424593919,0,0,0,0,0,null,"Junio",-4222.8414912503167,0,0,0,0,0,null,"Junio",4222.8414912503167,0,0,0,0,0,null,"Junio",{"$f":"IF(AK75<0,0,AK75*'AHORRO FOTOVOLTAICA'!$B$3)","v":443.63483570479326},{"$f":"IF(AL75<0,0,AL75*'AHORRO FOTOVOLTAICA'!$C$3)","v":0},{"$f":"IF(AM75<0,0,AM75*'AHORRO FOTOVOLTAICA'!$D$3)","v":0},{"$f":"IF(AN75<0,0,AN75*'AHORRO FOTOVOLTAICA'!$E$3)","v":0},{"$f":"IF(AO75<0,0,AO75*'AHORRO FOTOVOLTAICA'!$F$3)","v":0},{"$f":"IF(AP75<0,0,AP75*'AHORRO FOTOVOLTAICA'!$G$3)","v":0}]
[null,null,null,null,null,null,null,null,null,null,null,"Julio",1583.4339335531324,0,0,0,0,0,1583.4339335531324,"Julio",0.11042719424593919,0,0,0,0,0,null,"Julio",-4292.5660664468678,0,0,0,0,0,null,"Julio",4292.5660664468678,0,0,0,0,0,null,"Julio",{"$f":"IF(AK76<0,0,AK76*'AHORRO FOTOVOLTAICA'!$B$3)","v":450.95982067664215},{"$f":"IF(AL76<0,0,AL76*'AHORRO FOTOVOLTAICA'!$C$3)","v":0},{"$f":"IF(AM76<0,0,AM76*'AHORRO FOTOVOLTAICA'!$D$3)","v":0},{"$f":"IF(AN76<0,0,AN76*'AHORRO FOTOVOLTAICA'!$E$3)","v":0},{"$f":"IF(AO76<0,0,AO76*'AHORRO FOTOVOLTAICA'!$F$3)","v":0},{"$f":"IF(AP76<0,0,AP76*'AHORRO FOTOVOLTAICA'!$G$3)","v":0}]
[null,null,null,null,null,null,null,null,null,null,null,"Agosto",1525.5034237889934,0,0,0,0,0,1525.5034237889934,"Agosto",0.11042719424593919,0,0,0,0,0,null,"Agosto",-2953.4965762110069,0,0,0,0,0,null,"Agosto",2953.4965762110069,0,0,0,0,0,null,"Agosto",{"$f":"IF(AK77<0,0,AK77*'AHORRO FOTOVOLTAICA'!$B$3)","v":310.28253631042355},{"$f":"IF(AL77<0,0,AL77*'AHORRO FOTOVOLTAICA'!$C$3)","v":0},{"$f":"IF(AM77<0,0,AM77*'AHORRO FOTOVOLTAICA'!$D$3)","v":0},{"$f":"IF(AN77<0,0,AN77*'AHORRO FOTOVOLTAICA'!$E$3)","v":0},{"$f":"IF(AO77<0,0,AO77*'AHORRO FOTOVOLTAICA'!$F$3)","v":0},{"$f":"IF(AP77<0,0,AP77*'AHORRO FOTOVOLTAICA'!$G$3)","v":0}]
[null,null,null,null,null,null,null,null,null,null,null,"Septiembre",1303.4364696931273,0,0,0,0,0,1303.4364696931273,"Septiembre",0.11042719424593919,0,0,0,0,0,null,"Septiembre",-2029.5635303068727,0,0,0,0,0,null,"Septiembre",2029.5635303068727,0,0,0,0,0,null,"Septiembre",{"$f":"IF(AK78<0,0,AK78*'AHORRO FOTOVOLTAICA'!$B$3)","v":213.21782623991882},{"$f":"IF(AL78<0,0,AL78*'AHORRO FOTOVOLTAICA'!$C$3)","v":0},{"$f":"IF(AM78<0,0,AM78*'AHORRO FOTOVOLTAICA'!$D$3)","v":0},{"$f":"IF(AN78<0,0,AN78*'AHORRO FOTOVOLTAICA'!$E$3)","v":0},{"$f":"IF(AO78<0,0,AO78*'AHORRO FOTOVOLTAICA'!$F$3)","v":0},{"$f":"IF(AP78<0,0,AP78*'AHORRO FOTOVOLTAICA'!$G$3)","v":0}]
[null,null,null,null,null,null,null,null,null,null,null,"Octubre",1206.8856200862288,0,0,0,0,0,1206.8856200862288,"Octubre",0.11042719424593919,0,0,0,0,0,null,"Octubre",-880.11437991377124,0,0,0,0,0,null,"Octubre",880.11437991377124,0,0,0,0,0,null,"Octubre",{"$f":"IF(AK79<0,0,AK79*'AHORRO FOTOVOLTAICA'!$B$3)","v":92.46129629622115},{"$f":"IF(AL79<0,0,AL79*'AHORRO FOTOVOLTAICA'!$C$3)","v":0},{"$f":"IF(AM79<0,0,AM79*'AHORRO FOTOVOLTAICA'!$D$3)","v":0},{"$f":"IF(AN79<0,0,AN79*'AHORRO FOTOVOLTAICA'!$E$3)","v":0},{"$f":"IF(AO79<0,0,AO79*'AHORRO FOTOVOLTAICA'!$F$3)","v":0},{"$f":"IF(AP79<0,0,AP79*'AHORRO FOTOVOLTAICA'!$G$3)","v":0}]
[null,null,null,null,null,null,null,null,null,null,null,"Noviembre",939.43976667512061,0,0,0,0,0,939.43976667512061,"Noviembre",0.11042719424593919,0,0,0,0,0,null,"Noviembre",720.43976667512061,0,0,0,0,0,null,"Noviembre",-720.43976667512061,0,0,0,0,0,null,"Noviembre",{"$f":"IF(AK80<0,0,AK80*'AHORRO FOTOVOLTAICA'!$B$3)","v":0},{"$f":"IF(AL80<0,0,AL80*'AHORRO FOTOVOLTAICA'!$C$3)","v":0},{"$f":"IF(AM80<0,0,AM80*'AHORRO FOTOVOLTAICA'!$D$3)","v":0},{"$f":"IF(AN80<0,0,AN80*'AHORRO FOTOVOLTAICA'!$E$3)","v":0},{"$f":"IF(AO80<0,0,AO80*'AHORRO FOTOVOLTAICA'!$F$3)","v":0},{"$f":"IF(AP80<0,0,AP80*'AHORRO FOTOVOLTAICA'!$G$3)","v":0}]
[null,null,null,null,null,null,null,null,null,null,null,"Diciembre",862.19908698960194,0,0,0,0,0,862.19908698960194,"Diciembre",0.11042719424593919,0,0,0,0,0,null,"Diciembre",645.19908698960194,0,0,0,0,0,null,"Diciembre",-645.19908698960194,0,0,0,0,0,null,"Diciembre",{"$f":"IF(AK81<0,0,AK81*'AHORRO FOTOVOLTAICA'!$B$3)","v":0},{"$f":"IF(AL81<0,0,AL81*'AHORRO FOTOVOLTAICA'!$C$3)","v":0},{"$f":"IF(AM81<0,0,AM81*'AHORRO FOTOVOLTAICA'!$D$3)","v":0},{"$f":"IF(AN81<0,0,AN81*'AHORRO FOTOVOLTAICA'!$E$3)","v":0},{"$f":"IF(AO81<0,0,AO81*'AHORRO FOTOVOLTAICA'!$F$3)","v":0},{"$f":"IF(AP81<0,0,AP81*'AHORRO FOTOVOLTAICA'!$G$3)","v":0},"PRECIO ENERGÍA NO PRODUCIDA Y QUE CONSUMES DE RED"]
[null,null,null,null,null,null,null,null,null,null,null,null,{"$f":"SUM(M70:M81)","v":15228.000000000004},0,0,0,0,0,15228.000000000004,null,null,null,null,null,null,null,null,null,null,null,null,null,null,null,null,null,null,null,null,null,null,null,null,null,{"$f":"SUM(AS70:AS81)","v":2072.0231115394367},0,0,0,0,0,{"$f":"SUM(AS82:AX82)","v":2072.0231115394367}]
[]
[null,null,null,null,null,null,null,null,null,null,null,null,null,null,null,null,null,null,null,null,"PRECIO PEAJE"]
[null,null,null,null,null,null,null,null,null,null,null,"Enero",{"$f":"IF( M70<M5,M70*U70,M5*U70)","v":26.944235396009162},{"$f":"IF( N70<O5,N70*V70,O5*V70)","v":0},{"$f":"IF(O70<Q5,O70*W70,Q5*W70)","v":0},{"$f":"IF(P70<S5,P70*X70,S5*X70)","v":0},{"$f":"IF(Q70<U5,Q70*Y70,U5*Y70)","v":0},{"$f":"IF(R70<W5,R70*Z70,W5*Z70)","v":0},null,null,"PRECIO 1","PRECIO 2","PRECIO 3","PRECIO 4","PRECIO 5","PRECIO 6"]
[null,null,null,null,null,null,null,null,null,null,null,"Febrero",29.704915252157644,0,0,0,0,0,null,"Enero",{"$f":"IF(M70<M5,M70*$C$3,M5*$C$3)","v":12.650912},{"$f":"IF(N70<O5,N70*$D$3,O5*$D$3)","v":0},{"$f":"IF(O70<Q5,O70*$E$3,Q5*$E$3)","v":0},{"$f":"IF(P70<S5,P70*$G$3,S5*$G$3)","v":0},{"$f":"IF(Q70<U5,Q70*$H$3,U5*$H$3)","v":0},{"$f":"IF(R70<W5,R70*$K$3,W5*$K$3)","v":0}]
[null,null,null,null,null,null,null,null,null,null,null,"Marzo",153.53048770778045,0,0,0,0,0,null,"Febrero",13.947111999999999,0,0,0,0,0]
[null,null,null,null,null,null,null,null,null,null,null,"Abril",151.39811982295018,0,0,0,0,0,null,"Marzo",72.085945686025866,0,0,0,0,0]
[null,null,null,null,null,null,null,null,null,null,null,"Mayo",166.32469501676218,0,0,0,0,0,null,"Abril",71.084751995942185,0,0,0,0,0]
[null,null,null,null,null,null,null,null,null,null,null,"Junio",169.52324684400762,0,0,0,0,0,null,"Mayo",78.093107826528041,0,0,0,0,0]
[null,null,null,null,null,null,null,null,null,null,null,"Julio",174.85416655608333,0,0,0,0,0,null,"Junio",79.594898361653577,0,0,0,0,0]
[null,null,null,null,null,null,null,null,null,null,null,"Agosto",168.45706290159245,0,0,0,0,0,null,"Julio",82.097882586862809,0,0,0,0,0]
[null,null,null,null,null,null,null,null,null,null,null,"Septiembre",143.93483222604419,0,0,0,0,0,null,"Agosto",79.094301516611722,0,0,0,0,0]
[null,null,null,null,null,null,null,null,null,null,null,"Octubre",133.27299280189274,0,0,0,0,0,null,"Septiembre",67.580574080649257,0,0,0,0,0]
[null,null,null,null,null,null,null,null,null,null,null,"Noviembre",24.183555539860684,0,0,0,0,0,null,"Octubre",62.574605630230785,0,0,0,0,0]
[null,null,null,null,null,null,null,null,null,null,null,"Diciembre",23.962701151368805,0,0,0,0,0,null,"Noviembre",11.354711999999999,0,0,0,0,0]
[null,null,null,null,null,null,null,null,null,null,null,null,{"$f":"SUM(M85:M96)","v":1366.0910112165093},0,0,0,0,0,{"$f":"SUM(M97:R97)","v":1366.0910112165093},"Diciembre",11.251016,0,0,0,0,0]
[null,null,null,null,null,null,null,null,null,null,null,null,null,null,null,null,null,null,null,null,{"$f":"SUM(U86:U97)","v":641.4098196845041},0,0,0,0,0,{"$f":"SUM(U98:Z98)","v":641.4098196845041}]
[]
[]
[]
[]
[]
[]
[]
[]
[]
[]
[]
[]
[]
[]
[]
[]
[]
[]
[null,null,null,null,null,null,null,null,null,null,null,null,"P1","P2","P3","P4","P5","P6"]
[null,null,null,null,null,null,null,null,"2.0A",null,null,"2.0A",4.07E-2,0,0,0,0,0]
[null,null,null,null,null,null,null,null,"2.0DHA",null,null,"2.0DHA",5.4169000000000002E-2,null,6.0060000000000001E-3]
[null,null,null,null,null,null,null,null,null,null,null,"2.0DHS",5.4169000000000002E-2,6.2880000000000002E-3,5.9360000000000003E-3]
[null,null,null,null,null,null,null,null,null,null,null,"2.1A",5.1847999999999998E-2]
[null,null,null,null,null,null,null,null,"2.1A",null,null,"2.1DHA",6.4596000000000001E-2,null,1.4449E-2]
[null,null,null,null,null,null,null,null,"2.1DHA",null,null,"2.1DHS",6.4817E-2,1.6985E-2,1.0767000000000001E-2]
[null,null,null,null,null,null,null,null,"3.0A",null,null,"3.0A",1.9893999999999998E-2,1.3147000000000001E-2,8.4589999999999995E-3]
[null,null,null,null,null,null,null,null,"3.1A",null,null,"3.1A",1.478E-2,1.0914E-2,1.1972999999999999E-2]
[null,null,null,null,null,null,null,null,"6.1A",null,null,"6.1A",1.1632999999999999E-2,1.0569E-2,7.1799999999999998E-3,8.8970000000000004E-3,9.8300000000000002E-3,6.4970000000000002E-3]
[null,null,null,null,null,null,null,null,null,null,null,"6.1B",1.1632999999999999E-2,8.1700000000000002E-3,7.1799999999999998E-3,8.005E-3,9.2490000000000003E-3,6.1399999999999996E-3]
[null,null,null,null,null,null,null,null,null,null,null,"6.2",1.2016000000000001E-2,1.1069000000000001E-2,7.541E-3,8.1689999999999992E-3,8.5660000000000007E-3,6.0629999999999998E-3]
[null,null,null,null,null,null,null,null,null,null,null,"6.3",1.4548999999999999E-2,1.2383999999999999E-2,8.2170000000000003E-3,8.5269999999999999E-3,8.5269999999999999E-3,6.1060000000000003E-3]
[null,null,null,null,null,null,null,null,null,null,null,"6.4",1.1632999999999999E-2,8.1700000000000002E-3,7.1799999999999998E-3,7.5960000000000003E-3,8.1110000000000002E-3,5.9430000000000004E-3]

{"sheet":"AHORRO SIN PEAJES","index":3,"n_rows":124,"n_cols":53,"rows_kept":124,"cut":false,"hidden":false,"merged":[]}
["Tipo de tarifa",null,{"$f":"'AHORRO FOTOVOLTAICA'!B1","v":"2.1A"},"ESTUDIO RENTABILIDAD SIN PEAJES"]
[null,null,{"$f":"IF($C$1=\"tarifas\",\"\",\"1 (Punta)\")","v":"1 (Punta)"},{"$f":"IF($C$1=\"3.0A\",\"2 (Llano)\",IF($C$1=\"3.1A\",\"2 (Llano)\",IF($C$1=\"6.1A\",\"2 (Llano)\",\"\")))","v":""},{"$f":"IF($C$1=\"3.0A\",\"3 (Valle)\",IF($C$1=\"3.1A\",\"3 (Valle)\",IF($C$1=\"6.1A\",\"3 (Valle)\",IF($C$1=\"2.0DHA\",\"3 (Valle)\",IF($C$1=\"2.1DHA\",\"3 (Valle)\",\"\")))))","v":""},{"$f":"IF($C$1=\"tarifas\",\"\",IF($C$1=\"6.1A\",4,\"\"))","v":""},{"$f":"IF($C$1=\"tarifas\",\"\",IF($C$1=\"6.1A\",5,\"\"))","v":""},null,null,{"$f":"IF($C$1=\"tarifas\",\"\",IF($C$1=\"6.1A\",6,\"\"))","v":""}]
["Precio peaje (€/kWh)",null,0,0,0,0,0,0,null,0,null,"consumo"]
[null,null,null,null,null,null,null,null,null,null,null,null,"p1","precio p1","p2","precio p2","p3","precio p3","p4","precio p4","p5","precio p5","p6","precio p6",null,"PRECIO 2","PRECIO 3","PRECIO 4","PRECIO 5","PRECIO 6"]
["Precio peaje (€/kWh) promedio",null,{"$f":"IF(C1=\"2.0A\",C3,IF(C1=\"2.1A\",C3,IF(C1=\"2.0DHA\",C3*0.5833+'AHORRO SIN PEAJES'!E3*(1-0.5833),IF(C1=\"2.1DHA\",C3*0.5833+'AHORRO SIN PEAJES'!E3*(1-0.5833),IF(C1=\"3.0A\",C3*0.1666+D3*0.5+E3*0.3333,IF(C1=\"3.1A\",C3*0.1196+D3*0.4295+E3*0.4509,IF(C1=\"6.1A\",0.0695*C3+0.1009*D3+0.1114*E3+0.0669*F3+0.1284*G3+0.5626*J3,0)))))))","v":0},null,null,null,null,null,null,null,null,"Enero",{"$f":"'AHORRO FOTOVOLTAICA'!B8","v":244},{"$f":"'AHORRO FOTOVOLTAICA'!C8","v":0.11042719424593919},{"$f":"'AHORRO FOTOVOLTAICA'!D8","v":0},{"$f":"'AHORRO FOTOVOLTAICA'!E8","v":""},{"$f":"'AHORRO FOTOVOLTAICA'!F8","v":0},{"$f":"'AHORRO FOTOVOLTAICA'!G8","v":""},{"$f":"'AHORRO FOTOVOLTAICA'!H8","v":0},{"$f":"'AHORRO FOTOVOLTAICA'!I8","v":""},{"$f":"'AHORRO FOTOVOLTAICA'!J8","v":0},{"$f":"'AHORRO FOTOVOLTAICA'!K8","v":""},{"$f":"'AHORRO FOTOVOLTAICA'!L8","v":0},{"$f":"'AHORRO FOTOVOLTAICA'!M8","v":""},null,{"$f":"IF(P5=\"\",0,P5)","v":0},{"$f":"IF(R5=\"\",0,R5)","v":0},{"$f":"IF(T5=\"\",0,T5)","v":0},{"$f":"IF(V5=\"\",0,V5)","v":0},{"$f":"IF(X5=\"\",0,X5)","v":0}]
[null,null,null,null,null,null,null,null,null,null,null,"Febrero",{"$f":"'AHORRO FOTOVOLTAICA'!B9","v":269},{"$f":"'AHORRO FOTOVOLTAICA'!C9","v":0.11042719424593919},{"$f":"'AHORRO FOTOVOLTAICA'!D9","v":0},{"$f":"'AHORRO FOTOVOLTAICA'!E9","v":""},{"$f":"'AHORRO FOTOVOLTAICA'!F9","v":0},{"$f":"'AHORRO FOTOVOLTAICA'!G9","v":""},{"$f":"'AHORRO FOTOVOLTAICA'!H9","v":0},{"$f":"'AHORRO FOTOVOLTAICA'!I9","v":""},{"$f":"'AHORRO FOTOVOLTAICA'!J9","v":0},{"$f":"'AHORRO FOTOVOLTAICA'!K9","v":""},{"$f":"'AHORRO FOTOVOLTAICA'!L9","v":0},{"$f":"'AHORRO FOTOVOLTAICA'!M9","v":""},null,{"$f":"IF(P6=\"\",0,P6)","v":0},{"$f":"IF(R6=\"\",0,R6)","v":0},{"$f":"IF(T6=\"\",0,T6)","v":0},{"$f":"IF(V6=\"\",0,V6)","v":0},{"$f":"IF(X6=\"\",0,X6)","v":0}]
[null,null,null,null,null,null,null,null,null,null,null,"Marzo",{"$f":"'AHORRO FOTOVOLTAICA'!B10","v":1877},{"$f":"'AHORRO FOTOVOLTAICA'!C10","v":0.11042719424593919},{"$f":"'AHORRO FOTOVOLTAICA'!D10","v":0},{"$f":"'AHORRO FOTOVOLTAICA'!E10","v":""},{"$f":"'AHORRO FOTOVOLTAICA'!F10","v":0},{"$f":"'AHORRO FOTOVOLTAICA'!G10","v":""},{"$f":"'AHORRO FOTOVOLTAICA'!H10","v":0},{"$f":"'AHORRO FOTOVOLTAICA'!I10","v":""},{"$f":"'AHORRO FOTOVOLTAICA'!J10","v":0},{"$f":"'AHORRO FOTOVOLTAICA'!K10","v":""},{"$f":"'AHORRO FOTOVOLTAICA'!L10","v":0},{"$f":"'AHORRO FOTOVOLTAICA'!M10","v":""},null,0,0,0,0,0]
[null,null,null,null,null,null,null,null,null,null,null,"Abril",{"$f":"'AHORRO FOTOVOLTAICA'!B11","v":3602},{"$f":"'AHORRO FOTOVOLTAICA'!C11","v":0.11042719424593919},{"$f":"'AHORRO FOTOVOLTAICA'!D11","v":0},{"$f":"'AHORRO FOTOVOLTAICA'!E11","v":""},{"$f":"'AHORRO FOTOVOLTAICA'!F11","v":0},{"$f":"'AHORRO FOTOVOLTAICA'!G11","v":""},{"$f":"'AHORRO FOTOVOLTAICA'!H11","v":0},{"$f":"'AHORRO FOTOVOLTAICA'!I11","v":""},{"$f":"'AHORRO FOTOVOLTAICA'!J11","v":0},{"$f":"'AHORRO FOTOVOLTAICA'!K11","v":""},{"$f":"'AHORRO FOTOVOLTAICA'!L11","v":0},{"$f":"'AHORRO FOTOVOLTAICA'!M11","v":""},null,0,0,0,0,0]
[null,null,null,null,null,null,null,null,null,null,null,"Mayo",{"$f":"'AHORRO FOTOVOLTAICA'!B12","v":4133},{"$f":"'AHORRO FOTOVOLTAICA'!C12","v":0.11042719424593919},{"$f":"'AHORRO FOTOVOLTAICA'!D12","v":0},{"$f":"'AHORRO FOTOVOLTAICA'!E12","v":""},{"$f":"'AHORRO FOTOVOLTAICA'!F12","v":0},{"$f":"'AHORRO FOTOVOLTAICA'!G12","v":""},{"$f":"'AHORRO FOTOVOLTAICA'!H12","v":0},{"$f":"'AHORRO FOTOVOLTAICA'!I12","v":""},{"$f":"'AHORRO FOTOVOLTAICA'!J12","v":0},{"$f":"'AHORRO FOTOVOLTAICA'!K12","v":""},{"$f":"'AHORRO FOTOVOLTAICA'!L12","v":0},{"$f":"'AHORRO FOTOVOLTAICA'!M12","v":""},null,0,0,0,0,0]
[null,null,null,null,null,null,null,null,null,null,null,"Junio",{"$f":"'AHORRO FOTOVOLTAICA'!B13","v":5758},{"$f":"'AHORRO FOTOVOLTAICA'!C13","v":0.11042719424593919},{"$f":"'AHORRO FOTOVOLTAICA'!D13","v":0},{"$f":"'AHORRO FOTOVOLTAICA'!E13","v":""},{"$f":"'AHORRO FOTOVOLTAICA'!F13","v":0},{"$f":"'AHORRO FOTOVOLTAICA'!G13","v":""},{"$f":"'AHORRO FOTOVOLTAICA'!H13","v":0},{"$f":"'AHORRO FOTOVOLTAICA'!I13","v":""},{"$f":"'AHORRO FOTOVOLTAICA'!J13","v":0},{"$f":"'AHORRO FOTOVOLTAICA'!K13","v":""},{"$f":"'AHORRO FOTOVOLTAICA'!L13","v":0},{"$f":"'AHORRO FOTOVOLTAICA'!M13","v":""},null,0,0,0,0,0]
[null,null,null,null,null,null,null,null,null,null,null,"Julio",{"$f":"'AHORRO FOTOVOLTAICA'!B14","v":5876},{"$f":"'AHORRO FOTOVOLTAICA'!C14","v":0.11042719424593919},{"$f":"'AHORRO FOTOVOLTAICA'!D14","v":0},{"$f":"'AHORRO FOTOVOLTAICA'!E14","v":""},{"$f":"'AHORRO FOTOVOLTAICA'!F14","v":0},{"$f":"'AHORRO FOTOVOLTAICA'!G14","v":""},{"$f":"'AHORRO FOTOVOLTAICA'!H14","v":0},{"$f":"'AHORRO FOTOVOLTAICA'!I14","v":""},{"$f":"'AHORRO FOTOVOLTAICA'!J14","v":0},{"$f":"'AHORRO FOTOVOLTAICA'!K14","v":""},{"$f":"'AHORRO FOTOVOLTAICA'!L14","v":0},{"$f":"'AHORRO FOTOVOLTAICA'!M14","v":""},null,0,0,0,0,0]
[null,null,null,null,null,null,null,null,null,null,null,"Agosto",{"$f":"'AHORRO FOTOVOLTAICA'!B15","v":4479},{"$f":"'AHORRO FOTOVOLTAICA'!C15","v":0.11042719424593919},{"$f":"'AHORRO FOTOVOLTAICA'!D15","v":0},{"$f":"'AHORRO FOTOVOLTAICA'!E15","v":""},{"$f":"'AHORRO FOTOVOLTAICA'!F15","v":0},{"$f":"'AHORRO FOTOVOLTAICA'!G15","v":""},{"$f":"'AHORRO FOTOVOLTAICA'!H15","v":0},{"$f":"'AHORRO FOTOVOLTAICA'!I15","v":""},{"$f":"'AHORRO FOTOVOLTAICA'!J15","v":0},{"$f":"'AHORRO FOTOVOLTAICA'!K15","v":""},{"$f":"'AHORRO FOTOVOLTAICA'!L15","v":0},{"$f":"'AHORRO FOTOVOLTAICA'!M15","v":""},null,0,0,0,0,0]
[null,null,null,null,null,null,null,null,null,null,null,"Septiembre",{"$f":"'AHORRO FOTOVOLTAICA'!B16","v":3333},{"$f":"'AHORRO FOTOVOLTAICA'!C16","v":0.11042719424593919},{"$f":"'AHORRO FOTOVOLTAICA'!D16","v":0},{"$f":"'AHORRO FOTOVOLTAICA'!E16","v":""},{"$f":"'AHORRO FOTOVOLTAICA'!F16","v":0},{"$f":"'AHORRO FOTOVOLTAICA'!G16","v":""},{"$f":"'AHORRO FOTOVOLTAICA'!H16","v":0},{"$f":"'AHORRO FOTOVOLTAICA'!I16","v":""},{"$f":"'AHORRO FOTOVOLTAICA'!J16","v":0},{"$f":"'AHORRO FOTOVOLTAICA'!K16","v":""},{"$f":"'AHORRO FOTOVOLTAICA'!L16","v":0},{"$f":"'AHORRO FOTOVOLTAICA'!M16","v":""},null,0,0,0,0,0]
[null,null,null,null,null,null,null,null,null,null,null,"Octubre",{"$f":"'AHORRO FOTOVOLTAICA'!B17","v":2087},{"$f":"'AHORRO FOTOVOLTAICA'!C17","v":0.11042719424593919},{"$f":"'AHORRO FOTOVOLTAICA'!D17","v":0},{"$f":"'AHORRO FOTOVOLTAICA'!E17","v":""},{"$f":"'AHORRO FOTOVOLTAICA'!F17","v":0},{"$f":"'AHORRO FOTOVOLTAICA'!G17","v":""},{"$f":"'AHORRO FOTOVOLTAICA'!H17","v":0},{"$f":"'AHORRO FOTOVOLTAICA'!I17","v":""},{"$f":"'AHORRO FOTOVOLTAICA'!J17","v":0},{"$f":"'AHORRO FOTOVOLTAICA'!K17","v":""},{"$f":"'AHORRO FOTOVOLTAICA'!L17","v":0},{"$f":"'AHORRO FOTOVOLTAICA'!M17","v":""},null,0,0,0,0,0]
[null,null,null,null,null,null,null,null,null,null,null,"Noviembre",{"$f":"'AHORRO FOTOVOLTAICA'!B18","v":219},{"$f":"'AHORRO FOTOVOLTAICA'!C18","v":0.11042719424593919},{"$f":"'AHORRO FOTOVOLTAICA'!D18","v":0},{"$f":"'AHORRO FOTOVOLTAICA'!E18","v":""},{"$f":"'AHORRO FOTOVOLTAICA'!F18","v":0},{"$f":"'AHORRO FOTOVOLTAICA'!G18","v":""},{"$f":"'AHORRO FOTOVOLTAICA'!H18","v":0},{"$f":"'AHORRO FOTOVOLTAICA'!I18","v":""},{"$f":"'AHORRO FOTOVOLTAICA'!J18","v":0},{"$f":"'AHORRO FOTOVOLTAICA'!K18","v":""},{"$f":"'AHORRO FOTOVOLTAICA'!L18","v":0},{"$f":"'AHORRO FOTOVOLTAICA'!M18","v":""},null,0,0,0,0,0]
[null,null,null,null,null,null,null,null,null,null,null,"Diciembre",{"$f":"'AHORRO FOTOVOLTAICA'!B19","v":217},{"$f":"'AHORRO FOTOVOLTAICA'!C19","v":0.11042719424593919},{"$f":"'AHORRO FOTOVOLTAICA'!D19","v":0},{"$f":"'AHORRO FOTOVOLTAICA'!E19","v":""},{"$f":"'AHORRO FOTOVOLTAICA'!F19","v":0},{"$f":"'AHORRO FOTOVOLTAICA'!G19","v":""},{"$f":"'AHORRO FOTOVOLTAICA'!H19","v":0},{"$f":"'AHORRO FOTOVOLTAICA'!I19","v":""},{"$f":"'AHORRO FOTOVOLTAICA'!J19","v":0},{"$f":"'AHORRO FOTOVOLTAICA'!K19","v":""},{"$f":"'AHORRO FOTOVOLTAICA'!L19","v":0},{"$f":"'AHORRO FOTOVOLTAICA'!M19","v":""},null,0,0,0,0,0]
[null,null,null,null,null,null,null,null,null,null,null,"Total",{"$f":"SUM(M5:M16)","v":32094},null,{"$f":"SUM(O5:O16)","v":0},null,{"$f":"SUM(Q5:Q16)","v":0},null,{"$f":"SUM(S5:S16)","v":0},null,{"$f":"SUM(U5:U16)","v":0},null,{"$f":"SUM(W5:W16)","v":0}]
[]
[null,null,null,null,null,null,null,null,null,null,null,null,"precio p1","precio p2","precio p3","precio p4","precio p5","precio p6","Total mes"]
["AÑO","PRECIO CONSUMO ANUAL","AHORRO FOTOVOLTAICA","PRECIO COSTE FOTOVOLTAICA","PRECIO PEAJE RESPALDO","VENTA","AHORRO REAL","%AHORRO FRENTE A CONSUMO","AHORRO ACUMULADO",null,"%RENTABILIDAD","Enero",{"$f":"M5*N5","v":26.944235396009162},{"$f":"O5*Z5","v":0},{"$f":"Q5*AA5","v":0},{"$f":"S5*AB5","v":0},{"$f":"U5*AC5","v":0},{"$f":"W5*AD5","v":0},{"$f":"SUM(M20:R20)","v":26.944235396009162},null,null,null,null,null,null,null,null,null,null,null,null,null,null,null,null,null,null,null,null,null,null,null,null,null,null,null,null,null,null,null,null,"COSTE",{"$f":"'CUADRO RENTING'!D3","v":12500}]
[0,null,{"$f":"S96","v":0},{"$f":"'CUADRO RENTING'!M16","v":12500},{"$f":"AA97","v":0},null,{"$f":"C21-D21-E21","v":-12500},null,{"$f":"G21","v":-12500},{"$f":"IF(ISERROR(IRR($G21:$G$22)),\"\",IRR($G21:$G$22))","v":-0.89871271910267925}]
[1,{"$f":"S33","v":3544.0503721291725},{"$f":"S97","v":1366.0910112165093},{"$f":"'CUADRO RENTING'!M17","v":100},{"$f":"AA98","v":0},{"$f":"Venta!M3","v":328.56655211767691},1266.0910112165093,{"$f":"G22/B22","v":0.35724407902697924},{"$f":"G22+I21+F22","v":-10905.342436665815},{"$f":"IF(ISERROR(IRR($G$22:$G22)),\"\",IRR($G$22:$G22))","v":""},null,"Febrero",{"$f":"M6*N6","v":29.704915252157644},{"$f":"O6*Z6","v":0},{"$f":"Q6*AA6","v":0},{"$f":"S6*AB6","v":0},{"$f":"U6*AC6","v":0},{"$f":"W6*AD6","v":0},{"$f":"SUM(M22:R22)","v":29.704915252157644},null,null,null,null,null,null,null,null,null,null,null,null,null,null,null,null,null,null,null,null,null,null,null,null,null,null,null,null,null,null,null,null,null,{"$f":"BA20-G22","v":11233.908988783491}]
[2,{"$f":"B22*(1+'CUADRO RENTING'!$F$13)","v":3685.8123870143395},{"$f":"C22*0.996*(1+'CUADRO RENTING'!$F$13)","v":1415.051713058509},{"$f":"'CUADRO RENTING'!M18","v":202},{"$f":"E22*(1+'CUADRO RENTING'!$F$11)","v":0},{"$f":"F22*0.99*(1+'CUADRO RENTING'!$F$11)","v":331.78650432843011},1213.051713058509,0.32911379790579387,{"$f":"G23+I22+F23","v":-9360.5042192788751},null,null,"Marzo",207.27184359962786,0,0,0,0,0,207.27184359962786,null,null,null,null,null,null,null,null,null,null,null,null,null,null,null,null,null,null,null,null,null,null,null,null,null,null,null,null,null,null,null,null,null,{"$f":"BA22-G23","v":10020.857275724982}]
[3,{"$f":"B23*(1+'CUADRO RENTING'!$F$13)","v":3833.2448824949133},{"$f":"C23*0.996*(1+'CUADRO RENTING'!$F$13)","v":1465.767166454526},{"$f":"'CUADRO RENTING'!M19","v":206.04000000000002},{"$f":"E23*(1+'CUADRO RENTING'!$F$11)","v":0},{"$f":"F23*0.99*(1+'CUADRO RENTING'!$F$11)","v":335.03801207084871},1259.727166454526,0.32863206110500759,-7765.7390407535004,{"$f":"IF(ISERROR(IRR($G$22:$G24)),\"\",IRR($G$22:$G24))","v":""},null,"Abril",397.75875367387295,0,0,0,0,0,397.75875367387295,null,null,null,null,null,null,null,null,null,null,null,null,null,null,null,null,null,null,null,null,null,null,null,null,null,null,null,null,null,null,null,null,null,8761.1301092704562]
[4,{"$f":"B24*(1+'CUADRO RENTING'!$F$13)","v":3986.5746777947102},{"$f":"C24*0.996*(1+'CUADRO RENTING'!$F$13)","v":1518.3002617002562},{"$f":"'CUADRO RENTING'!M20","v":210.16079999999999},{"$f":"E24*(1+'CUADRO RENTING'!$F$11)","v":0},{"$f":"F24*0.99*(1+'CUADRO RENTING'!$F$11)","v":338.32138458914301},1308.1394617002561,0.32813619897467755,-6119.278194464101,{"$f":"IF(ISERROR(IRR($G$22:$G25)),\"\",IRR($G$22:$G25))","v":""},null,"Mayo",456.39559381846669,0,0,0,0,0,456.39559381846669,null,null,null,null,null,null,null,null,null,null,null,null,null,null,null,null,null,null,null,null,null,null,null,null,null,null,null,null,null,null,null,null,null,7452.9906475702001]
[5,{"$f":"B25*(1+'CUADRO RENTING'!$F$13)","v":4146.0376649064983},{"$f":"C25*0.996*(1+'CUADRO RENTING'!$F$13)","v":1572.7161430795936},{"$f":"'CUADRO RENTING'!M21","v":214.36401599999999},{"$f":"E25*(1+'CUADRO RENTING'!$F$11)","v":0},{"$f":"F25*0.99*(1+'CUADRO RENTING'!$F$11)","v":341.63693415811662},1358.3521270795936,0.32762657671375189,-4419.2891332263907,{"$f":"IF(ISERROR(IRR($G$22:$G26)),\"\",IRR($G$22:$G26))","v":""},null,"Junio",635.83978446811784,0,0,0,0,0,635.83978446811784,null,null,null,null,null,null,null,null,null,null,null,null,null,null,null,null,null,null,null,null,null,null,null,null,null,null,null,null,null,null,null,null,null,6094.6385204906064]
[6,{"$f":"B26*(1+'CUADRO RENTING'!$F$13)","v":4311.8791715027583},{"$f":"C26*0.996*(1+'CUADRO RENTING'!$F$13)","v":1629.0822896475663},{"$f":"'CUADRO RENTING'!M22","v":218.65129632000003},{"$f":"E26*(1+'CUADRO RENTING'!$F$11)","v":0},{"$f":"F26*0.99*(1+'CUADRO RENTING'!$F$11)","v":344.98497611286615},1410.4309933275663,0.32710355212388958,-2663.8731637859582,{"$f":"IF(ISERROR(IRR($G$22:$G27)),\"\",IRR($G$22:$G27))","v":""},null,"Julio",648.87019338913865,0,0,0,0,0,648.87019338913865,null,null,null,null,null,null,null,null,null,null,null,null,null,null,null,null,null,null,null,null,null,null,null,null,null,null,null,null,null,null,null,null,null,4684.2075271630401]
[7,{"$f":"B27*(1+'CUADRO RENTING'!$F$13)","v":4484.3543383628685},{"$f":"C27*0.996*(1+'CUADRO RENTING'!$F$13)","v":1687.4685989085351},{"$f":"'CUADRO RENTING'!M23","v":223.0243222464},{"$f":"E27*(1+'CUADRO RENTING'!$F$11)","v":0},{"$f":"F27*0.99*(1+'CUADRO RENTING'!$F$11)","v":348.36582887877222},1464.4442766621351,0.32656747575321377,-851.06305824505102,{"$f":"IF(ISERROR(IRR($G$22:$G28)),\"\",IRR($G$22:$G28))","v":""},null,"Agosto",494.60340302756163,0,0,0,0,0,494.60340302756163,null,null,null,null,null,null,null,null,null,null,null,null,null,null,null,null,null,null,null,null,null,null,null,null,null,null,null,null,null,null,null,null,null,3219.7632505009051]
[8,{"$f":"B28*(1+'CUADRO RENTING'!$F$13)","v":4663.7285118973832},{"$f":"C28*0.996*(1+'CUADRO RENTING'!$F$13)","v":1747.947473493417},{"$f":"'CUADRO RENTING'!M24","v":227.484808691328},{"$f":"E28*(1+'CUADRO RENTING'!$F$11)","v":0},{"$f":"F28*0.99*(1+'CUADRO RENTING'!$F$11)","v":351.77981400178419},1520.462664802089,0.32601869103729336,1021.1794205588221,{"$f":"IF(ISERROR(IRR($G$22:$G29)),\"\",IRR($G$22:$G29))","v":""},null,"Septiembre",368.05383842171534,0,0,0,0,0,368.05383842171534,null,null,null,null,null,null,null,null,null,null,null,null,null,null,null,null,null,null,null,null,null,null,null,null,null,null,null,null,null,null,null,null,null,1699.3005856988161]
[9,{"$f":"B29*(1+'CUADRO RENTING'!$F$13)","v":4850.2776523732791},{"$f":"C29*0.996*(1+'CUADRO RENTING'!$F$13)","v":1810.5939109434212},{"$f":"'CUADRO RENTING'!M25","v":232.03450486515459},{"$f":"E29*(1+'CUADRO RENTING'!$F$11)","v":0},{"$f":"F29*0.99*(1+'CUADRO RENTING'!$F$11)","v":355.2272561790017},1578.5594060782666,0.32545753443740794,2954.9660828160909,{"$f":"IF(ISERROR(IRR($G$22:$G30)),\"\",IRR($G$22:$G30))","v":""},null,"Octubre",230.46155439127509,0,0,0,0,0,230.46155439127509,null,null,null,null,null,null,null,null,null,null,null,null,null,null,null,null,null,null,null,null,null,null,null,null,null,null,null,null,null,null,null,null,null,120.74117962054947]
[10,{"$f":"B30*(1+'CUADRO RENTING'!$F$13)","v":5044.2887584682103},{"$f":"C30*0.996*(1+'CUADRO RENTING'!$F$13)","v":1875.4855967116337},{"$f":"'CUADRO RENTING'!M26","v":236.67519496245768},{"$f":"E30*(1+'CUADRO RENTING'!$F$11)","v":0},{"$f":"F30*0.99*(1+'CUADRO RENTING'!$F$11)","v":358.70848328955594},1638.810401749176,0.32488433557614782,4952.4849678548235,{"$f":"IF(ISERROR(IRR($G$22:$G31)),\"\",IRR($G$22:$G31))","v":""},null,"Noviembre",24.183555539860684,0,0,0,0,0,24.183555539860684,null,null,null,null,null,null,null,null,null,null,null,null,null,null,null,null,null,null,null,null,null,null,null,null,null,null,null,null,null,null,null,null,null,-1518.0692221286265]
[11,{"$f":"B31*(1+'CUADRO RENTING'!$F$13)","v":5246.0603088069392},{"$f":"C31*0.996*(1+'CUADRO RENTING'!$F$13)","v":1942.7030004977785},{"$f":"'CUADRO RENTING'!M27","v":241.40869886170682},{"$f":"E31*(1+'CUADRO RENTING'!$F$11)","v":0},{"$f":"F31*0.99*(1+'CUADRO RENTING'!$F$11)","v":362.22382642579356},1701.2943016360716,0.32429941737040008,7016.0030959166888,{"$f":"IF(ISERROR(IRR($G$22:$G32)),\"\",IRR($G$22:$G32))","v":""},null,"Diciembre",23.962701151368805,0,0,0,0,0,23.962701151368805,{"$f":"SUM(S20:S32)","v":3544.0503721291725},null,null,null,null,null,null,null,null,null,null,null,null,null,null,null,null,null,null,null,null,null,null,null,null,null,null,null,null,null,null,null,null,-3219.3635237646981]
[12,{"$f":"B32*(1+'CUADRO RENTING'!$F$13)","v":5455.9027211592174},{"$f":"C32*0.996*(1+'CUADRO RENTING'!$F$13)","v":2012.3294760356189},{"$f":"'CUADRO RENTING'!M28","v":246.23687283894097},{"$f":"E32*(1+'CUADRO RENTING'!$F$11)","v":0},{"$f":"F32*0.99*(1+'CUADRO RENTING'!$F$11)","v":365.77361992476636},1766.0926031966778,0.3237030961617724,9147.8693190381327,{"$f":"IF(ISERROR(IRR($G$22:$G33)),\"\",IRR($G$22:$G33))","v":""},null,"Total periodo",{"$f":"SUM(M20:M32)","v":3544.0503721291725},0,0,0,0,0,{"$f":"SUM(M33:R33)","v":3544.0503721291725},null,null,null,null,null,null,null,null,null,null,null,null,null,null,null,null,null,null,null,null,null,null,null,null,null,null,null,null,null,null,null,null,null,-4985.456126961376]
[13,{"$f":"B33*(1+'CUADRO RENTING'!$F$13)","v":5674.138830005586},{"$f":"C33*0.996*(1+'CUADRO RENTING'!$F$13)","v":2084.4513644567355},{"$f":"'CUADRO RENTING'!M29","v":251.16161029571978},{"$f":"E33*(1+'CUADRO RENTING'!$F$11)","v":0},{"$f":"F33*0.99*(1+'CUADRO RENTING'!$F$11)","v":369.35820140002909},1833.2897541610157,0.32309568184450133,11350.517274599179,{"$f":"IF(ISERROR(IRR($G$22:$G34)),\"\",IRR($G$22:$G34))","v":""},null,null,null,null,null,null,null,null,null,null,null,null,null,null,null,null,null,null,null,null,null,null,null,null,null,null,null,null,null,null,null,null,null,null,null,null,null,null,null,null,null,null,-6818.7458811223914]
[14,{"$f":"B34*(1+'CUADRO RENTING'!$F$13)","v":5901.1043832058094},{"$f":"C34*0.996*(1+'CUADRO RENTING'!$F$13)","v":2159.1581013588648},{"$f":"'CUADRO RENTING'!M30","v":256.18484250163419},{"$f":"E34*(1+'CUADRO RENTING'!$F$11)","v":0},{"$f":"F34*0.99*(1+'CUADRO RENTING'!$F$11)","v":372.97791177374938},1902.9732588572306,0.32247747799089588,13626.468445230159,{"$f":"IF(ISERROR(IRR($G$22:$G35)),\"\",IRR($G$22:$G35))","v":""},null,"PRODUCCION FOTOVOLTAICA",null,null,null,null,null,null,null,null,null,null,null,null,null,null,null,null,null,null,null,null,null,null,null,null,null,null,null,null,null,null,null,null,null,null,null,null,null,null,null,null,-8721.7191399796211]
[15,{"$f":"B35*(1+'CUADRO RENTING'!$F$13)","v":6137.1485585340424},{"$f":"C35*0.996*(1+'CUADRO RENTING'!$F$13)","v":2236.5423277115665},{"$f":"'CUADRO RENTING'!M31","v":261.30853935166681},{"$f":"E35*(1+'CUADRO RENTING'!$F$11)","v":0},{"$f":"F35*0.99*(1+'CUADRO RENTING'!$F$11)","v":376.6330953091321},1975.2337883598998,0.32184878197436312,15978.335328899191,{"$f":"IF(ISERROR(IRR($G$22:$G36)),\"\",IRR($G$22:$G36))","v":""},null,null,null,null,null,null,null,null,null,null,null,null,null,null,null,null,null,null,null,null,null,null,null,null,null,null,null,null,null,null,null,null,null,null,null,null,null,null,null,null,null,null,-10696.95292833952]
[16,{"$f":"B36*(1+'CUADRO RENTING'!$F$13)","v":6382.6345008754042},{"$f":"C36*0.996*(1+'CUADRO RENTING'!$F$13)","v":2316.7000047367487},{"$f":"'CUADRO RENTING'!M32","v":266.53471013870018},{"$f":"E36*(1+'CUADRO RENTING'!$F$11)","v":0},{"$f":"F36*0.99*(1+'CUADRO RENTING'!$F$11)","v":380.32409964316162},2050.1652945980486,0.32120988509006121,18408.824723140402,{"$f":"IF(ISERROR(IRR($G$22:$G37)),\"\",IRR($G$22:$G37))","v":""},null,null,"p1","precio p1","p2","precio p2","p3","precio p3","p4","precio p4","p5","precio p5","p6","precio p6",null,"PRECIO P2","PRECIO P3","PRECIO P4","PRECIO P5","PRECIO P6",null,null,null,null,null,null,null,null,null,null,null,null,null,null,null,null,null,null,null,null,null,null,-12747.11822293757]
[17,{"$f":"B37*(1+'CUADRO RENTING'!$F$13)","v":6637.9398809104205},{"$f":"C37*0.996*(1+'CUADRO RENTING'!$F$13)","v":2399.7305329065139},{"$f":"'CUADRO RENTING'!M33","v":271.86540434147417},{"$f":"E37*(1+'CUADRO RENTING'!$F$11)","v":0},{"$f":"F37*0.99*(1+'CUADRO RENTING'!$F$11)","v":384.05127581966462},2127.8651285650399,0.32056107267322742,20920.741127525107,{"$f":"IF(ISERROR(IRR($G$22:$G38)),\"\",IRR($G$22:$G38))","v":""},null,"Enero",{"$f":"'AHORRO FOTOVOLTAICA'!B24","v":961.64646208470708},{"$f":"'AHORRO FOTOVOLTAICA'!C24","v":6.5668505384817444E-3},{"$f":"'AHORRO FOTOVOLTAICA'!D24","v":""},{"$f":"'AHORRO FOTOVOLTAICA'!E24","v":""},{"$f":"'AHORRO FOTOVOLTAICA'!F24","v":""},{"$f":"'AHORRO FOTOVOLTAICA'!G24","v":""},{"$f":"'AHORRO FOTOVOLTAICA'!H24","v":""},{"$f":"'AHORRO FOTOVOLTAICA'!I24","v":""},{"$f":"'AHORRO FOTOVOLTAICA'!J24","v":""},{"$f":"'AHORRO FOTOVOLTAICA'!K24","v":""},{"$f":"'AHORRO FOTOVOLTAICA'!L24","v":""},{"$f":"'AHORRO FOTOVOLTAICA'!M24","v":""},"Enero",{"$f":"IF(P38=\"\",0,P38)","v":0},{"$f":"IF(R38=\"\",0,R38)","v":0},{"$f":"IF(T38=\"\",0,T38)","v":0},{"$f":"IF(V38=\"\",0,V38)","v":0},{"$f":"IF(X38=\"\",0,X38)","v":0},null,null,null,null,null,null,null,null,null,null,null,null,null,null,null,null,null,null,null,null,null,null,-14874.983351502609]
[18,{"$f":"B38*(1+'CUADRO RENTING'!$F$13)","v":6903.4574761468375},{"$f":"C38*0.996*(1+'CUADRO RENTING'!$F$13)","v":2485.7368752058837},{"$f":"'CUADRO RENTING'!M34","v":277.30271242830361},{"$f":"E38*(1+'CUADRO RENTING'!$F$11)","v":0},{"$f":"F38*0.99*(1+'CUADRO RENTING'!$F$11)","v":387.8149783226973},2208.4341627775802,0.31990262421522397,23516.990268625384,{"$f":"IF(ISERROR(IRR($G$22:$G39)),\"\",IRR($G$22:$G39))","v":""},null,"Febrero",{"$f":"'AHORRO FOTOVOLTAICA'!B25","v":1042.7491757545019},{"$f":"'AHORRO FOTOVOLTAICA'!C25","v":6.5668505384817444E-3},{"$f":"'AHORRO FOTOVOLTAICA'!D25","v":""},{"$f":"'AHORRO FOTOVOLTAICA'!E25","v":""},{"$f":"'AHORRO FOTOVOLTAICA'!F25","v":""},{"$f":"'AHORRO FOTOVOLTAICA'!G25","v":""},{"$f":"'AHORRO FOTOVOLTAICA'!H25","v":""},{"$f":"'AHORRO FOTOVOLTAICA'!I25","v":""},{"$f":"'AHORRO FOTOVOLTAICA'!J25","v":""},{"$f":"'AHORRO FOTOVOLTAICA'!K25","v":""},{"$f":"'AHORRO FOTOVOLTAICA'!L25","v":""},{"$f":"'AHORRO FOTOVOLTAICA'!M25","v":""},"Febrero",{"$f":"IF(P39=\"\",0,P39)","v":0},{"$f":"IF(R39=\"\",0,R39)","v":0},{"$f":"IF(T39=\"\",0,T39)","v":0},{"$f":"IF(V39=\"\",0,V39)","v":0},{"$f":"IF(X39=\"\",0,X39)","v":0},null,null,null,null,null,null,null,null,null,null,null,null,null,null,null,null,null,null,null,null,null,null,-17083.417514280191]
[19,{"$f":"B39*(1+'CUADRO RENTING'!$F$13)","v":7179.5957751927117},{"$f":"C39*0.996*(1+'CUADRO RENTING'!$F$13)","v":2574.8256848132623},{"$f":"'CUADRO RENTING'!M35","v":282.84876667686967},{"$f":"E39*(1+'CUADRO RENTING'!$F$11)","v":0},{"$f":"F39*0.99*(1+'CUADRO RENTING'!$F$11)","v":391.61556511025969},2291.9769181363927,0.31923481347734683,26200.582751872036,{"$f":"IF(ISERROR(IRR($G$22:$G40)),\"\",IRR($G$22:$G40))","v":""},null,"Marzo",{"$f":"'AHORRO FOTOVOLTAICA'!B26","v":1390.3322343393356},{"$f":"'AHORRO FOTOVOLTAICA'!C26","v":6.5668505384817444E-3},{"$f":"'AHORRO FOTOVOLTAICA'!D26","v":""},{"$f":"'AHORRO FOTOVOLTAICA'!E26","v":""},{"$f":"'AHORRO FOTOVOLTAICA'!F26","v":""},{"$f":"'AHORRO FOTOVOLTAICA'!G26","v":""},{"$f":"'AHORRO FOTOVOLTAICA'!H26","v":""},{"$f":"'AHORRO FOTOVOLTAICA'!I26","v":""},{"$f":"'AHORRO FOTOVOLTAICA'!J26","v":""},{"$f":"'AHORRO FOTOVOLTAICA'!K26","v":""},{"$f":"'AHORRO FOTOVOLTAICA'!L26","v":""},{"$f":"'AHORRO FOTOVOLTAICA'!M26","v":""},"Marzo",0,0,0,0,0,null,null,null,null,null,null,null,null,null,null,null,null,null,null,null,null,null,null,null,null,null,null,-19375.394432416582]
[20,{"$f":"B40*(1+'CUADRO RENTING'!$F$13)","v":7466.7796062004209},{"$f":"C40*0.996*(1+'CUADRO RENTING'!$F$13)","v":2667.1074373569695},{"$f":"'CUADRO RENTING'!M36","v":288.50574201040706},{"$f":"E40*(1+'CUADRO RENTING'!$F$11)","v":0},{"$f":"F40*0.99*(1+'CUADRO RENTING'!$F$11)","v":395.45339764834023},2378.6016953465623,0.31855790860244076,28974.637844866938,{"$f":"IF(ISERROR(IRR($G$22:$G41)),\"\",IRR($G$22:$G41))","v":""},null,"Abril",{"$f":"'AHORRO FOTOVOLTAICA'!B27","v":1371.022064417956},{"$f":"'AHORRO FOTOVOLTAICA'!C27","v":6.5668505384817444E-3},{"$f":"'AHORRO FOTOVOLTAICA'!D27","v":""},{"$f":"'AHORRO FOTOVOLTAICA'!E27","v":""},{"$f":"'AHORRO FOTOVOLTAICA'!F27","v":""},{"$f":"'AHORRO FOTOVOLTAICA'!G27","v":""},{"$f":"'AHORRO FOTOVOLTAICA'!H27","v":""},{"$f":"'AHORRO FOTOVOLTAICA'!I27","v":""},{"$f":"'AHORRO FOTOVOLTAICA'!J27","v":""},{"$f":"'AHORRO FOTOVOLTAICA'!K27","v":""},{"$f":"'AHORRO FOTOVOLTAICA'!L27","v":""},{"$f":"'AHORRO FOTOVOLTAICA'!M27","v":""},"Abril",0,0,0,0,0,null,null,null,null,null,null,null,null,null,null,null,null,null,null,null,null,null,null,null,null,null,null,-21753.996127763145]
[21,{"$f":"B41*(1+'CUADRO RENTING'!$F$13)","v":7765.4507904484381},{"$f":"C41*0.996*(1+'CUADRO RENTING'!$F$13)","v":2762.6965679118434},{"$f":"'CUADRO RENTING'!M37","v":294.27585685061524},{"$f":"E41*(1+'CUADRO RENTING'!$F$11)","v":0},{"$f":"F41*0.99*(1+'CUADRO RENTING'!$F$11)","v":399.32884094529396},2468.4207110612283,0.31787217222436126,31842.387396873462,{"$f":"IF(ISERROR(IRR($G$22:$G42)),\"\",IRR($G$22:$G42))","v":""},null,"Mayo",{"$f":"'AHORRO FOTOVOLTAICA'!B28","v":1506.1932538676137},{"$f":"'AHORRO FOTOVOLTAICA'!C28","v":6.5668505384817444E-3},{"$f":"'AHORRO FOTOVOLTAICA'!D28","v":""},{"$f":"'AHORRO FOTOVOLTAICA'!E28","v":""},{"$f":"'AHORRO FOTOVOLTAICA'!F28","v":""},{"$f":"'AHORRO FOTOVOLTAICA'!G28","v":""},{"$f":"'AHORRO FOTOVOLTAICA'!H28","v":""},{"$f":"'AHORRO FOTOVOLTAICA'!I28","v":""},{"$f":"'AHORRO FOTOVOLTAICA'!J28","v":""},{"$f":"'AHORRO FOTOVOLTAICA'!K28","v":""},{"$f":"'AHORRO FOTOVOLTAICA'!L28","v":""},{"$f":"'AHORRO FOTOVOLTAICA'!M28","v":""},"Mayo",0,0,0,0,0,null,null,null,null,null,null,null,null,null,null,null,null,null,null,null,null,null,null,null,null,null,null,-24222.416838824374]
[22,{"$f":"B42*(1+'CUADRO RENTING'!$F$13)","v":8076.068822066376},{"$f":"C42*0.996*(1+'CUADRO RENTING'!$F$13)","v":2861.711612905804},{"$f":"'CUADRO RENTING'!M38","v":300.16137398762748},{"$f":"E42*(1+'CUADRO RENTING'!$F$11)","v":0},{"$f":"F42*0.99*(1+'CUADRO RENTING'!$F$11)","v":403.24226358655784},2561.5502389181765,0.31717786157532618,34807.179899378199,{"$f":"IF(ISERROR(IRR($G$22:$G43)),\"\",IRR($G$22:$G43))","v":""},null,"Junio",{"$f":"'AHORRO FOTOVOLTAICA'!B29","v":1535.1585087496833},{"$f":"'AHORRO FOTOVOLTAICA'!C29","v":6.5668505384817444E-3},{"$f":"'AHORRO FOTOVOLTAICA'!D29","v":""},{"$f":"'AHORRO FOTOVOLTAICA'!E29","v":""},{"$f":"'AHORRO FOTOVOLTAICA'!F29","v":""},{"$f":"'AHORRO FOTOVOLTAICA'!G29","v":""},{"$f":"'AHORRO FOTOVOLTAICA'!H29","v":""},{"$f":"'AHORRO FOTOVOLTAICA'!I29","v":""},{"$f":"'AHORRO FOTOVOLTAICA'!J29","v":""},{"$f":"'AHORRO FOTOVOLTAICA'!K29","v":""},{"$f":"'AHORRO FOTOVOLTAICA'!L29","v":""},{"$f":"'AHORRO FOTOVOLTAICA'!M29","v":""},"Junio",0,0,0,0,0,null,null,null,null,null,null,null,null,null,null,null,null,null,null,null,null,null,null,null,null,null,null,-26783.967077742549]
[23,{"$f":"B43*(1+'CUADRO RENTING'!$F$13)","v":8399.1115749490309},{"$f":"C43*0.996*(1+'CUADRO RENTING'!$F$13)","v":2964.2753571123485},{"$f":"'CUADRO RENTING'!M39","v":306.16460146738007},{"$f":"E43*(1+'CUADRO RENTING'!$F$11)","v":0},{"$f":"F43*0.99*(1+'CUADRO RENTING'!$F$11)","v":407.19403776970609},2658.1107556449683,0.31647522859119759,37872.484692792874,{"$f":"IF(ISERROR(IRR($G$22:$G44)),\"\",IRR($G$22:$G44))","v":""},null,"Julio",{"$f":"'AHORRO FOTOVOLTAICA'!B30","v":1583.4339335531324},{"$f":"'AHORRO FOTOVOLTAICA'!C30","v":6.5668505384817444E-3},{"$f":"'AHORRO FOTOVOLTAICA'!D30","v":""},{"$f":"'AHORRO FOTOVOLTAICA'!E30","v":""},{"$f":"'AHORRO FOTOVOLTAICA'!F30","v":""},{"$f":"'AHORRO FOTOVOLTAICA'!G30","v":""},{"$f":"'AHORRO FOTOVOLTAICA'!H30","v":""},{"$f":"'AHORRO FOTOVOLTAICA'!I30","v":""},{"$f":"'AHORRO FOTOVOLTAICA'!J30","v":""},{"$f":"'AHORRO FOTOVOLTAICA'!K30","v":""},{"$f":"'AHORRO FOTOVOLTAICA'!L30","v":""},{"$f":"'AHORRO FOTOVOLTAICA'!M30","v":""},"Julio",0,0,0,0,0,null,null,null,null,null,null,null,null,null,null,null,null,null,null,null,null,null,null,null,null,null,null,-29442.077833387517]
[24,{"$f":"B44*(1+'CUADRO RENTING'!$F$13)","v":8735.0760379469921},{"$f":"C44*0.996*(1+'CUADRO RENTING'!$F$13)","v":3070.5149859112553},{"$f":"'CUADRO RENTING'!M40","v":312.28789349672763},{"$f":"E44*(1+'CUADRO RENTING'!$F$11)","v":0},{"$f":"F44*0.99*(1+'CUADRO RENTING'!$F$11)","v":411.18453933984921},2758.2270924145278,0.31576452001473304,41041.896324547248,{"$f":"IF(ISERROR(IRR($G$22:$G45)),\"\",IRR($G$22:$G45))","v":""},"TIR A 25 AÑOS","Agosto",{"$f":"'AHORRO FOTOVOLTAICA'!B31","v":1525.5034237889934},{"$f":"'AHORRO FOTOVOLTAICA'!C31","v":6.5668505384817444E-3},{"$f":"'AHORRO FOTOVOLTAICA'!D31","v":""},{"$f":"'AHORRO FOTOVOLTAICA'!E31","v":""},{"$f":"'AHORRO FOTOVOLTAICA'!F31","v":""},{"$f":"'AHORRO FOTOVOLTAICA'!G31","v":""},{"$f":"'AHORRO FOTOVOLTAICA'!H31","v":""},{"$f":"'AHORRO FOTOVOLTAICA'!I31","v":""},{"$f":"'AHORRO FOTOVOLTAICA'!J31","v":""},{"$f":"'AHORRO FOTOVOLTAICA'!K31","v":""},{"$f":"'AHORRO FOTOVOLTAICA'!L31","v":""},{"$f":"'AHORRO FOTOVOLTAICA'!M31","v":""},"Agosto",0,0,0,0,0,null,null,null,null,null,null,null,null,null,null,null,null,null,null,null,null,null,null,null,null,null,null,-32200.304925802044]
[25,{"$f":"B45*(1+'CUADRO RENTING'!$F$13)","v":9084.4790794648725},{"$f":"C45*0.996*(1+'CUADRO RENTING'!$F$13)","v":3180.5622430063149},{"$f":"'CUADRO RENTING'!M41","v":318.53365136666218},{"$f":"E45*(1+'CUADRO RENTING'!$F$11)","v":0},{"$f":"F45*0.99*(1+'CUADRO RENTING'!$F$11)","v":415.21414782537977},2862.0285916396529,0.31504597749684538,44319.139064012285,{"$f":"IF(ISERROR(IRR($G$22:$G46)),\"\",IRR($G$22:$G46))","v":""},{"$f":"IRR(G21:G46)","v":0.11733944653735495},"Septiembre",{"$f":"'AHORRO FOTOVOLTAICA'!B32","v":1303.4364696931273},{"$f":"'AHORRO FOTOVOLTAICA'!C32","v":6.5668505384817444E-3},{"$f":"'AHORRO FOTOVOLTAICA'!D32","v":""},{"$f":"'AHORRO FOTOVOLTAICA'!E32","v":""},{"$f":"'AHORRO FOTOVOLTAICA'!F32","v":""},{"$f":"'AHORRO FOTOVOLTAICA'!G32","v":""},{"$f":"'AHORRO FOTOVOLTAICA'!H32","v":""},{"$f":"'AHORRO FOTOVOLTAICA'!I32","v":""},{"$f":"'AHORRO FOTOVOLTAICA'!J32","v":""},{"$f":"'AHORRO FOTOVOLTAICA'!K32","v":""},{"$f":"'AHORRO FOTOVOLTAICA'!L32","v":""},{"$f":"'AHORRO FOTOVOLTAICA'!M32","v":""},"Septiembre",0,0,0,0,0,null,null,null,null,null,null,null,null,null,null,null,null,null,null,null,null,null,null,null,null,null,null,-35062.333517441693]
[26,{"$f":"B46*(1+'CUADRO RENTING'!$F$13)","v":9447.8582426434677},{"$f":"C46*0.996*(1+'CUADRO RENTING'!$F$13)","v":3294.5535937956615},{"$f":"'CUADRO RENTING'!M42","v":324.90432439399547},{"$f":"E46*(1+'CUADRO RENTING'!$F$11)","v":0},{"$f":"F46*0.99*(1+'CUADRO RENTING'!$F$11)","v":419.28324647406851},2969.6492694016661,0.3143198376959106,47708.071579888019,{"$f":"IF(ISERROR(IRR($G$22:$G47)),\"\",IRR($G$22:$G47))","v":""},null,"Octubre",{"$f":"'AHORRO FOTOVOLTAICA'!B33","v":1206.8856200862288},{"$f":"'AHORRO FOTOVOLTAICA'!C33","v":6.5668505384817444E-3},{"$f":"'AHORRO FOTOVOLTAICA'!D33","v":""},{"$f":"'AHORRO FOTOVOLTAICA'!E33","v":""},{"$f":"'AHORRO FOTOVOLTAICA'!F33","v":""},{"$f":"'AHORRO FOTOVOLTAICA'!G33","v":""},{"$f":"'AHORRO FOTOVOLTAICA'!H33","v":""},{"$f":"'AHORRO FOTOVOLTAICA'!I33","v":""},{"$f":"'AHORRO FOTOVOLTAICA'!J33","v":""},{"$f":"'AHORRO FOTOVOLTAICA'!K33","v":""},{"$f":"'AHORRO FOTOVOLTAICA'!L33","v":""},{"$f":"'AHORRO FOTOVOLTAICA'!M33","v":""},"Octubre",0,0,0,0,0,null,null,null,null,null,null,null,null,null,null,null,null,null,null,null,null,null,null,null,null,null,null,-38031.982786843357]
[27,{"$f":"B47*(1+'CUADRO RENTING'!$F$13)","v":9825.7725723492076},{"$f":"C47*0.996*(1+'CUADRO RENTING'!$F$13)","v":3412.6303945972982},{"$f":"'CUADRO RENTING'!M43","v":331.40241088187543},{"$f":"E47*(1+'CUADRO RENTING'!$F$11)","v":0},{"$f":"F47*0.99*(1+'CUADRO RENTING'!$F$11)","v":423.39222228951439},3081.2279837154229,0.31358633237515932,51212.691785892952,{"$f":"IF(ISERROR(IRR($G$22:$G48)),\"\",IRR($G$22:$G48))","v":""},null,"Noviembre",{"$f":"'AHORRO FOTOVOLTAICA'!B34","v":939.43976667512061},{"$f":"'AHORRO FOTOVOLTAICA'!C34","v":6.5668505384817444E-3},{"$f":"'AHORRO FOTOVOLTAICA'!D34","v":""},{"$f":"'AHORRO FOTOVOLTAICA'!E34","v":""},{"$f":"'AHORRO FOTOVOLTAICA'!F34","v":""},{"$f":"'AHORRO FOTOVOLTAICA'!G34","v":""},{"$f":"'AHORRO FOTOVOLTAICA'!H34","v":""},{"$f":"'AHORRO FOTOVOLTAICA'!I34","v":""},{"$f":"'AHORRO FOTOVOLTAICA'!J34","v":""},{"$f":"'AHORRO FOTOVOLTAICA'!K34","v":""},{"$f":"'AHORRO FOTOVOLTAICA'!L34","v":""},{"$f":"'AHORRO FOTOVOLTAICA'!M34","v":""},"Noviembre",0,0,0,0,0,null,null,null,null,null,null,null,null,null,null,null,null,null,null,null,null,null,null,null,null,null,null,-41113.210770558777]
[28,{"$f":"B48*(1+'CUADRO RENTING'!$F$13)","v":10218.803475243176},{"$f":"C48*0.996*(1+'CUADRO RENTING'!$F$13)","v":3534.9390679396656},{"$f":"'CUADRO RENTING'!M44","v":338.03045909951288},{"$f":"E48*(1+'CUADRO RENTING'!$F$11)","v":0},{"$f":"F48*0.99*(1+'CUADRO RENTING'!$F$11)","v":427.5414660679516},3196.9086088401527,0.31284568849819044,54837.141860801057,{"$f":"IF(ISERROR(IRR($G$22:$G49)),\"\",IRR($G$22:$G49))","v":""},null,"Diciembre",{"$f":"'AHORRO FOTOVOLTAICA'!B35","v":862.19908698960194},{"$f":"'AHORRO FOTOVOLTAICA'!C35","v":6.5668505384817444E-3},{"$f":"'AHORRO FOTOVOLTAICA'!D35","v":""},{"$f":"'AHORRO FOTOVOLTAICA'!E35","v":""},{"$f":"'AHORRO FOTOVOLTAICA'!F35","v":""},{"$f":"'AHORRO FOTOVOLTAICA'!G35","v":""},{"$f":"'AHORRO FOTOVOLTAICA'!H35","v":""},{"$f":"'AHORRO FOTOVOLTAICA'!I35","v":""},{"$f":"'AHORRO FOTOVOLTAICA'!J35","v":""},{"$f":"'AHORRO FOTOVOLTAICA'!K35","v":""},{"$f":"'AHORRO FOTOVOLTAICA'!L35","v":""},{"$f":"'AHORRO FOTOVOLTAICA'!M35","v":""},"Diciembre",0,0,0,0,0,null,null,null,null,null,null,null,null,null,null,null,null,null,null,null,null,null,null,null,null,null,null,-44310.11937939893]
[29,{"$f":"B49*(1+'CUADRO RENTING'!$F$13)","v":10627.555614252904},{"$f":"C49*0.996*(1+'CUADRO RENTING'!$F$13)","v":3661.631284134623},{"$f":"'CUADRO RENTING'!M45","v":344.79106828150316},{"$f":"E49*(1+'CUADRO RENTING'!$F$11)","v":0},{"$f":"F49*0.99*(1+'CUADRO RENTING'!$F$11)","v":431.73137243541754},3316.8402158531198,0.31209812832264222,58585.713449089591,{"$f":"IF(ISERROR(IRR($G$22:$G50)),\"\",IRR($G$22:$G50))","v":""},null,null,null,null,null,null,null,null,null,null,null,null,null,null,null,null,null,null,null,null,null,null,null,null,null,null,null,null,null,null,null,null,null,null,null,null,null,null,null,null,null,null,-47626.959595252047]
[30,{"$f":"B50*(1+'CUADRO RENTING'!$F$13)","v":11052.657838823021},{"$f":"C50*0.996*(1+'CUADRO RENTING'!$F$13)","v":3792.864149358008},{"$f":"'CUADRO RENTING'!M46","v":351.68688964713323},{"$f":"E50*(1+'CUADRO RENTING'!$F$11)","v":0},{"$f":"F50*0.99*(1+'CUADRO RENTING'!$F$11)","v":435.96233988528468},3441.1772597108748,0.31134386949205695,62462.853048685749,{"$f":"IF(ISERROR(IRR($G$22:$G51)),\"\",IRR($G$22:$G51))","v":""},null,null,null,null,null,null,null,null,null,null,null,null,null,null,null,"p2","p3","p4","p5","p6",null,null,null,null,null,null,null,null,null,null,null,null,null,null,null,null,null,null,null,null,null,null,-51068.136854962919]
[31,{"$f":"B51*(1+'CUADRO RENTING'!$F$13)","v":11494.764152375943},{"$f":"C51*0.996*(1+'CUADRO RENTING'!$F$13)","v":3928.8004004709992},{"$f":"'CUADRO RENTING'!M47","v":358.72062744007587},{"$f":"E51*(1+'CUADRO RENTING'!$F$11)","v":0},{"$f":"F51*0.99*(1+'CUADRO RENTING'!$F$11)","v":440.23477081616045},3570.0797730309232,0.31058312512597269,66473.167592532831,{"$f":"IF(ISERROR(IRR($G$22:$G52)),\"\",IRR($G$22:$G52))","v":""},null,null,"precio p1","precio p2","precio p3","precio p4","precio p5","precio p6","Total mes",null,null,null,null,null,"Enero",{"$f":"IF(O38=\"\",0,O38)","v":0},{"$f":"IF(Q38=\"\",0,Q38)","v":0},{"$f":"IF(S38=\"\",0,S38)","v":0},{"$f":"IF(U38=\"\",0,U38)","v":0},{"$f":"IF(W38=\"\",0,W38)","v":0},null,null,null,null,null,null,null,null,null,null,null,null,null,null,null,null,null,null,null,null,null,null,-54638.216627993839]
[32,{"$f":"B52*(1+'CUADRO RENTING'!$F$13)","v":11954.554718470981},{"$f":"C52*0.996*(1+'CUADRO RENTING'!$F$13)","v":4069.6086068238801},{"$f":"'CUADRO RENTING'!M48","v":365.89503998887744},{"$f":"E52*(1+'CUADRO RENTING'!$F$11)","v":0},{"$f":"F52*0.99*(1+'CUADRO RENTING'!$F$11)","v":444.54907157015884},3703.7135668350029,0.30981610390827818,70621.430230938,{"$f":"IF(ISERROR(IRR($G$22:$G53)),\"\",IRR($G$22:$G53))","v":""},null,"Enero",{"$f":"M38*N38","v":6.3149885873700233},{"$f":"Z52*Z38","v":0},{"$f":"AA52*AA38","v":0},{"$f":"AB52*AB38","v":0},{"$f":"AC52*AC38","v":0},{"$f":"AD52*AD38","v":0},{"$f":"SUM(M53:R53)","v":6.3149885873700233},null,null,null,null,null,"Febrero",{"$f":"IF(O39=\"\",0,O39)","v":0},{"$f":"IF(Q39=\"\",0,Q39)","v":0},{"$f":"IF(S39=\"\",0,S39)","v":0},{"$f":"IF(U39=\"\",0,U39)","v":0},{"$f":"IF(W39=\"\",0,W39)","v":0},null,null,null,null,null,null,null,null,null,null,null,null,null,null,null,null,null,null,null,null,null,null,-58341.930194828841]
[33,{"$f":"B53*(1+'CUADRO RENTING'!$F$13)","v":12432.736907209821},{"$f":"C53*0.996*(1+'CUADRO RENTING'!$F$13)","v":4215.4633792924478},{"$f":"'CUADRO RENTING'!M49","v":373.21294078865492},{"$f":"E53*(1+'CUADRO RENTING'!$F$11)","v":0},{"$f":"F53*0.99*(1+'CUADRO RENTING'!$F$11)","v":448.90565247154643},3842.2504385037928,0.30904301017386188,74912.586321913332,{"$f":"IF(ISERROR(IRR($G$22:$G54)),\"\",IRR($G$22:$G54))","v":""},null,"Febrero",{"$f":"M39*N39","v":6.847577986304846},{"$f":"Z53*Z39","v":0},0,0,0,0,{"$f":"SUM(M54:R54)","v":6.847577986304846},null,null,null,null,null,"Marzo",0,0,0,0,0,null,null,null,null,null,null,null,null,null,null,null,null,null,null,null,null,null,null,null,null,null,null,-62184.180633332631]
[34,{"$f":"B54*(1+'CUADRO RENTING'!$F$13)","v":12930.046383498215},{"$f":"C54*0.996*(1+'CUADRO RENTING'!$F$13)","v":4366.5455868062891},{"$f":"'CUADRO RENTING'!M50","v":380.67719960442804},{"$f":"E54*(1+'CUADRO RENTING'!$F$11)","v":0},{"$f":"F54*0.99*(1+'CUADRO RENTING'!$F$11)","v":453.30492786576758},3985.868387201861,0.30826404399359064,79351.759636980962,{"$f":"IF(ISERROR(IRR($G$22:$G55)),\"\",IRR($G$22:$G55))","v":""},null,"Marzo",9.1301039817397935,0,0,0,0,0,9.1301039817397935,null,null,null,null,null,"Abril",0,0,0,0,0,null,null,null,null,null,null,null,null,null,null,null,null,null,null,null,null,null,null,null,null,null,null,-66170.049020534498]
[35,{"$f":"B55*(1+'CUADRO RENTING'!$F$13)","v":13447.248238838143},{"$f":"C55*0.996*(1+'CUADRO RENTING'!$F$13)","v":4523.0425806374269},{"$f":"'CUADRO RENTING'!M51","v":388.29074359651662},{"$f":"E55*(1+'CUADRO RENTING'!$F$11)","v":0},{"$f":"F55*0.99*(1+'CUADRO RENTING'!$F$11)","v":457.74731615885207},4134.7518370409107,0.30747940125764778,83944.258790180727,{"$f":"IF(ISERROR(IRR($G$22:$G56)),\"\",IRR($G$22:$G56))","v":""},null,"Abril",9.0032969819934081,0,0,0,0,0,9.0032969819934081,null,null,null,null,null,"Mayo",0,0,0,0,0,null,null,null,null,null,null,null,null,null,null,null,null,null,null,null,null,null,null,null,null,null,null,-70304.800857575407]
[36,{"$f":"B56*(1+'CUADRO RENTING'!$F$13)","v":13985.13816839167},{"$f":"C56*0.996*(1+'CUADRO RENTING'!$F$13)","v":4685.1484267274727},{"$f":"'CUADRO RENTING'!M52","v":396.05655846844695},{"$f":"E56*(1+'CUADRO RENTING'!$F$11)","v":0},{"$f":"F56*0.99*(1+'CUADRO RENTING'!$F$11)","v":462.23323985720884},4289.0918682590254,0.30668927375726335,88695.583898296958,{"$f":"IF(ISERROR(IRR($G$22:$G57)),\"\",IRR($G$22:$G57))","v":""},null,"Mayo",9.8909459802181097,0,0,0,0,0,9.8909459802181097,null,null,null,null,null,"Junio",0,0,0,0,0,null,null,null,null,null,null,null,null,null,null,null,null,null,null,null,null,null,null,null,null,null,null,-74593.892725834434]
[37,{"$f":"B57*(1+'CUADRO RENTING'!$F$13)","v":14544.543695127337},{"$f":"C57*0.996*(1+'CUADRO RENTING'!$F$13)","v":4853.0641463413858},{"$f":"'CUADRO RENTING'!M53","v":403.97768963781596},{"$f":"E57*(1+'CUADRO RENTING'!$F$11)","v":0},{"$f":"F57*0.99*(1+'CUADRO RENTING'!$F$11)","v":466.76312560780951},4449.0864567035696,0.30589384926486812,93611.43348060835,{"$f":"IF(ISERROR(IRR($G$22:$G58)),\"\",IRR($G$22:$G58))","v":""},null,"Junio",10.08115647983769,0,0,0,0,0,10.08115647983769,null,null,null,null,null,"Julio",0,0,0,0,0,null,null,null,null,null,null,null,null,null,null,null,null,null,null,null,null,null,null,null,null,null,null,-79042.979182538009]
[38,{"$f":"B58*(1+'CUADRO RENTING'!$F$13)","v":15126.325442932432},{"$f":"C58*0.996*(1+'CUADRO RENTING'!$F$13)","v":5026.9979653462606},{"$f":"'CUADRO RENTING'!M54","v":412.05724343057227},{"$f":"E58*(1+'CUADRO RENTING'!$F$11)","v":0},{"$f":"F58*0.99*(1+'CUADRO RENTING'!$F$11)","v":471.33740423876606},4614.9407219156883,0.30509331161269942,98697.711606762809,{"$f":"IF(ISERROR(IRR($G$22:$G59)),\"\",IRR($G$22:$G59))","v":""},null,"Julio",10.398173979203655,0,0,0,0,0,10.398173979203655,null,null,null,null,null,"Agosto",0,0,0,0,0,null,null,null,null,null,null,null,null,null,null,null,null,null,null,null,null,null,null,null,null,null,null,-83657.919904453694]
[39,{"$f":"B59*(1+'CUADRO RENTING'!$F$13)","v":15731.37846064973},{"$f":"C59*0.996*(1+'CUADRO RENTING'!$F$13)","v":5207.165572424271},{"$f":"'CUADRO RENTING'!M55","v":420.29838829918367},{"$f":"E59*(1+'CUADRO RENTING'!$F$11)","v":0},{"$f":"F59*0.99*(1+'CUADRO RENTING'!$F$11)","v":475.95651080030598},4786.8671841250871,0.30428784076989157,103960.5353016882,{"$f":"IF(ISERROR(IRR($G$22:$G60)),\"\",IRR($G$22:$G60))","v":""},"TIR A 40 AÑOS","Agosto",10.017752979964495,0,0,0,0,0,10.017752979964495,null,null,null,null,null,"Septiembre",0,0,0,0,0,null,null,null,null,null,null,null,null,null,null,null,null,null,null,null,null,null,null,null,null,null,null,-88444.787088578785]
[40,{"$f":"B60*(1+'CUADRO RENTING'!$F$13)","v":16360.63359907572},{"$f":"C60*0.996*(1+'CUADRO RENTING'!$F$13)","v":5393.7903865399576},{"$f":"'CUADRO RENTING'!M56","v":428.70435606516742},{"$f":"E60*(1+'CUADRO RENTING'!$F$11)","v":0},{"$f":"F60*0.99*(1+'CUADRO RENTING'!$F$11)","v":480.62088460614899},4965.0860304747903,0.30347761291807723,109406.24221676914,{"$f":"IF(ISERROR(IRR($G$22:$G61)),\"\",IRR($G$22:$G61))","v":""},{"$f":"IRR(G21:G61)","v":0.12897710441834032},"Septiembre",8.5594724828810573,0,0,0,0,0,8.5594724828810573,null,null,null,null,null,"Octubre",0,0,0,0,0,null,null,null,null,null,null,null,null,null,null,null,null,null,null,null,null,null,null,null,null,null,null,-93409.873119053576]
[null,null,null,null,null,null,null,null,null,null,null,"Octubre",7.9254374841491249,0,0,0,0,0,7.9254374841491249,null,null,null,null,null,"Noviembre",0,0,0,0,0]
[null,null,null,null,null,null,null,null,null,null,null,"Noviembre",6.1691605376616803,0,0,0,0,0,6.1691605376616803,null,null,null,null,null,"Diciembre",0,0,0,0,0]
[null,null,null,null,null,null,null,null,null,null,null,"Diciembre",5.6619325386761359,0,0,0,0,0,5.6619325386761359]
[null,null,null,null,null,null,null,null,null,null,null,"Total periodo",{"$f":"SUM(M53:M64)","v":100.00000000000003},0,0,0,0,0,{"$f":"SUM(M65:R65)","v":100.00000000000003},{"$f":"SUM(S53:S64)","v":100.00000000000003}]
[]
[]
[null,null,null,null,null,null,null,null,null,null,null,null,"PRODUCCIÓN FOTOVOLTAICA",null,null,null,null,null,null,null,"PRECIO CONSUMO",null,null,null,null,null,null,null,"EXCESOS(NEGATIVO, TE FALTA)",null,null,null,null,null,null,null,"FALTA(NEGATIVO, TE SOBRA)",null,null,null,null,null,null,"PRECIO FALTA ENERGÍA Y QUE CONSUMES DE RED"]
[null,null,null,null,null,null,null,null,null,null,null,null,"P1","p2","p3","p4","p5","p6",null,null,"PRECIO 1","PRECIO 2","PRECIO 3","PRECIO 4","PRECIO 5","PRECIO 6",null,null,"P1","p2","p3","p4","p5","p6",null,null,"P1","p2","p3","p4","p5","p6",null,null,"P1","p2","p3","p4","p5","p6"]
[null,null,null,null,null,null,null,null,null,null,null,"Enero",{"$f":"M38","v":961.64646208470708},{"$f":"Z52","v":0},0,0,0,0,{"$f":"SUM(M70:R70)","v":961.64646208470708},"Enero",{"$f":"N5","v":0.11042719424593919},{"$f":"Z5","v":0},{"$f":"AA5","v":0},{"$f":"AB5","v":0},{"$f":"AC5","v":0},{"$f":"AD5","v":0},null,"Enero",{"$f":"M70-M5","v":717.64646208470708},{"$f":"N70-O5","v":0},{"$f":"O70-Q5","v":0},{"$f":"P70-S5","v":0},{"$f":"Q70-U5","v":0},{"$f":"R70-W5","v":0},null,"Enero",{"$f":"M5-M70","v":-717.64646208470708},{"$f":"O5-N70","v":0},{"$f":"Q5-O70","v":0},{"$f":"S5-P70","v":0},{"$f":"U5-Q70","v":0},{"$f":"W5-R70","v":0},null,"Enero",{"$f":"IF(AK70<0,0,AK70*'AHORRO FOTOVOLTAICA'!$B$3)","v":0},{"$f":"IF(AL70<0,0,AL70*'AHORRO FOTOVOLTAICA'!$C$3)","v":0},{"$f":"IF(AM70<0,0,AM70*'AHORRO FOTOVOLTAICA'!$D$3)","v":0},{"$f":"IF(AN70<0,0,AN70*'AHORRO FOTOVOLTAICA'!$E$3)","v":0},{"$f":"IF(AO70<0,0,AO70*'AHORRO FOTOVOLTAICA'!$F$3)","v":0},{"$f":"IF(AP70<0,0,AP70*'AHORRO FOTOVOLTAICA'!$G$3)","v":0}]
[null,null,null,null,null,null,null,null,null,null,null,"Febrero",1042.7491757545019,0,0,0,0,0,{"$f":"SUM(M71:R71)","v":1042.7491757545019},"Febrero",0.11042719424593919,0,0,0,0,0,null,"Febrero",773.74917575450195,0,0,0,0,0,null,"Febrero",-773.74917575450195,0,0,0,0,0,null,"Febrero",{"$f":"IF(AK71<0,0,AK71*'AHORRO FOTOVOLTAICA'!$B$3)","v":0},{"$f":"IF(AL71<0,0,AL71*'AHORRO FOTOVOLTAICA'!$C$3)","v":0},{"$f":"IF(AM71<0,0,AM71*'AHORRO FOTOVOLTAICA'!$D$3)","v":0},{"$f":"IF(AN71<0,0,AN71*'AHORRO FOTOVOLTAICA'!$E$3)","v":0},{"$f":"IF(AO71<0,0,AO71*'AHORRO FOTOVOLTAICA'!$F$3)","v":0},{"$f":"IF(AP71<0,0,AP71*'AHORRO FOTOVOLTAICA'!$G$3)","v":0}]
[null,null,null,null,null,null,null,null,null,null,null,"Marzo",1390.3322343393356,0,0,0,0,0,1390.3322343393356,"Marzo",0.11042719424593919,0,0,0,0,0,null,"Marzo",-486.66776566066437,0,0,0,0,0,null,"Marzo",486.66776566066437,0,0,0,0,0,null,"Marzo",{"$f":"IF(AK72<0,0,AK72*'AHORRO FOTOVOLTAICA'!$B$3)","v":51.127368789246752},{"$f":"IF(AL72<0,0,AL72*'AHORRO FOTOVOLTAICA'!$C$3)","v":0},{"$f":"IF(AM72<0,0,AM72*'AHORRO FOTOVOLTAICA'!$D$3)","v":0},{"$f":"IF(AN72<0,0,AN72*'AHORRO FOTOVOLTAICA'!$E$3)","v":0},{"$f":"IF(AO72<0,0,AO72*'AHORRO FOTOVOLTAICA'!$F$3)","v":0},{"$f":"IF(AP72<0,0,AP72*'AHORRO FOTOVOLTAICA'!$G$3)","v":0}]
[null,null,null,null,null,null,null,null,null,null,null,"Abril",1371.022064417956,0,0,0,0,0,1371.022064417956,"Abril",0.11042719424593919,0,0,0,0,0,null,"Abril",-2230.9779355820438,0,0,0,0,0,null,"Abril",2230.9779355820438,0,0,0,0,0,null,"Abril",{"$f":"IF(AK73<0,0,AK73*'AHORRO FOTOVOLTAICA'!$B$3)","v":234.37761800050717},{"$f":"IF(AL73<0,0,AL73*'AHORRO FOTOVOLTAICA'!$C$3)","v":0},{"$f":"IF(AM73<0,0,AM73*'AHORRO FOTOVOLTAICA'!$D$3)","v":0},{"$f":"IF(AN73<0,0,AN73*'AHORRO FOTOVOLTAICA'!$E$3)","v":0},{"$f":"IF(AO73<0,0,AO73*'AHORRO FOTOVOLTAICA'!$F$3)","v":0},{"$f":"IF(AP73<0,0,AP73*'AHORRO FOTOVOLTAICA'!$G$3)","v":0}]
[null,null,null,null,null,null,null,null,null,null,null,"Mayo",1506.1932538676137,0,0,0,0,0,1506.1932538676137,"Mayo",0.11042719424593919,0,0,0,0,0,null,"Mayo",-2626.8067461323863,0,0,0,0,0,null,"Mayo",2626.8067461323863,0,0,0,0,0,null,"Mayo",{"$f":"IF(AK74<0,0,AK74*'AHORRO FOTOVOLTAICA'!$B$3)","v":275.96180952168396},{"$f":"IF(AL74<0,0,AL74*'AHORRO FOTOVOLTAICA'!$C$3)","v":0},{"$f":"IF(AM74<0,0,AM74*'AHORRO FOTOVOLTAICA'!$D$3)","v":0},{"$f":"IF(AN74<0,0,AN74*'AHORRO FOTOVOLTAICA'!$E$3)","v":0},{"$f":"IF(AO74<0,0,AO74*'AHORRO FOTOVOLTAICA'!$F$3)","v":0},{"$f":"IF(AP74<0,0,AP74*'AHORRO FOTOVOLTAICA'!$G$3)","v":0}]
[null,null,null,null,null,null,null,null,null,null,null,"Junio",1535.1585087496833,0,0,0,0,0,1535.1585087496833,"Junio",0.11042719424593919,0,0,0,0,0,null,"Junio",-4222.8414912503167,0,0,0,0,0,null,"Junio",4222.8414912503167,0,0,0,0,0,null,"Junio",{"$f":"IF(AK75<0,0,AK75*'AHORRO FOTOVOLTAICA'!$B$3)","v":443.63483570479326},{"$f":"IF(AL75<0,0,AL75*'AHORRO FOTOVOLTAICA'!$C$3)","v":0},{"$f":"IF(AM75<0,0,AM75*'AHORRO FOTOVOLTAICA'!$D$3)","v":0},{"$f":"IF(AN75<0,0,AN75*'AHORRO FOTOVOLTAICA'!$E$3)","v":0},{"$f":"IF(AO75<0,0,AO75*'AHORRO FOTOVOLTAICA'!$F$3)","v":0},{"$f":"IF(AP75<0,0,AP75*'AHORRO FOTOVOLTAICA'!$G$3)","v":0}]
[null,null,null,null,null,null,null,null,null,null,null,"Julio",1583.4339335531324,0,0,0,0,0,1583.4339335531324,"Julio",0.11042719424593919,0,0,0,0,0,null,"Julio",-4292.5660664468678,0,0,0,0,0,null,"Julio",4292.5660664468678,0,0,0,0,0,null,"Julio",{"$f":"IF(AK76<0,0,AK76*'AHORRO FOTOVOLTAICA'!$B$3)","v":450.95982067664215},{"$f":"IF(AL76<0,0,AL76*'AHORRO FOTOVOLTAICA'!$C$3)","v":0},{"$f":"IF(AM76<0,0,AM76*'AHORRO FOTOVOLTAICA'!$D$3)","v":0},{"$f":"IF(AN76<0,0,AN76*'AHORRO FOTOVOLTAICA'!$E$3)","v":0},{"$f":"IF(AO76<0,0,AO76*'AHORRO FOTOVOLTAICA'!$F$3)","v":0},{"$f":"IF(AP76<0,0,AP76*'AHORRO FOTOVOLTAICA'!$G$3)","v":0}]
[null,null,null,null,null,null,null,null,null,null,null,"Agosto",1525.5034237889934,0,0,0,0,0,1525.5034237889934,"Agosto",0.11042719424593919,0,0,0,0,0,null,"Agosto",-2953.4965762110069,0,0,0,0,0,null,"Agosto",2953.4965762110069,0,0,0,0,0,null,"Agosto",{"$f":"IF(AK77<0,0,AK77*'AHORRO FOTOVOLTAICA'!$B$3)","v":310.28253631042355},{"$f":"IF(AL77<0,0,AL77*'AHORRO FOTOVOLTAICA'!$C$3)","v":0},{"$f":"IF(AM77<0,0,AM77*'AHORRO FOTOVOLTAICA'!$D$3)","v":0},{"$f":"IF(AN77<0,0,AN77*'AHORRO FOTOVOLTAICA'!$E$3)","v":0},{"$f":"IF(AO77<0,0,AO77*'AHORRO FOTOVOLTAICA'!$F$3)","v":0},{"$f":"IF(AP77<0,0,AP77*'AHORRO FOTOVOLTAICA'!$G$3)","v":0}]
[null,null,null,null,null,null,null,null,null,null,null,"Septiembre",1303.4364696931273,0,0,0,0,0,1303.4364696931273,"Septiembre",0.11042719424593919,0,0,0,0,0,null,"Septiembre",-2029.5635303068727,0,0,0,0,0,null,"Septiembre",2029.5635303068727,0,0,0,0,0,null,"Septiembre",{"$f":"IF(AK78<0,0,AK78*'AHORRO FOTOVOLTAICA'!$B$3)","v":213.21782623991882},{"$f":"IF(AL78<0,0,AL78*'AHORRO FOTOVOLTAICA'!$C$3)","v":0},{"$f":"IF(AM78<0,0,AM78*'AHORRO FOTOVOLTAICA'!$D$3)","v":0},{"$f":"IF(AN78<0,0,AN78*'AHORRO FOTOVOLTAICA'!$E$3)","v":0},{"$f":"IF(AO78<0,0,AO78*'AHORRO FOTOVOLTAICA'!$F$3)","v":0},{"$f":"IF(AP78<0,0,AP78*'AHORRO FOTOVOLTAICA'!$G$3)","v":0}]
[null,null,null,null,null,null,null,null,null,null,null,"Octubre",1206.8856200862288,0,0,0,0,0,1206.8856200862288,"Octubre",0.11042719424593919,0,0,0,0,0,null,"Octubre",-880.11437991377124,0,0,0,0,0,null,"Octubre",880.11437991377124,0,0,0,0,0,null,"Octubre",{"$f":"IF(AK79<0,0,AK79*'AHORRO FOTOVOLTAICA'!$B$3)","v":92.46129629622115},{"$f":"IF(AL79<0,0,AL79*'AHORRO FOTOVOLTAICA'!$C$3)","v":0},{"$f":"IF(AM79<0,0,AM79*'AHORRO FOTOVOLTAICA'!$D$3)","v":0},{"$f":"IF(AN79<0,0,AN79*'AHORRO FOTOVOLTAICA'!$E$3)","v":0},{"$f":"IF(AO79<0,0,AO79*'AHORRO FOTOVOLTAICA'!$F$3)","v":0},{"$f":"IF(AP79<0,0,AP79*'AHORRO FOTOVOLTAICA'!$G$3)","v":0}]
[null,null,null,null,null,null,null,null,null,null,null,"Noviembre",939.43976667512061,0,0,0,0,0,939.43976667512061,"Noviembre",0.11042719424593919,0,0,0,0,0,null,"Noviembre",720.43976667512061,0,0,0,0,0,null,"Noviembre",-720.43976667512061,0,0,0,0,0,null,"Noviembre",{"$f":"IF(AK80<0,0,AK80*'AHORRO FOTOVOLTAICA'!$B$3)","v":0},{"$f":"IF(AL80<0,0,AL80*'AHORRO FOTOVOLTAICA'!$C$3)","v":0},{"$f":"IF(AM80<0,0,AM80*'AHORRO FOTOVOLTAICA'!$D$3)","v":0},{"$f":"IF(AN80<0,0,AN80*'AHORRO FOTOVOLTAICA'!$E$3)","v":0},{"$f":"IF(AO80<0,0,AO80*'AHORRO FOTOVOLTAICA'!$F$3)","v":0},{"$f":"IF(AP80<0,0,AP80*'AHORRO FOTOVOLTAICA'!$G$3)","v":0}]
[null,null,null,null,null,null,null,null,null,null,null,"Diciembre",862.19908698960194,0,0,0,0,0,862.19908698960194,"Diciembre",0.11042719424593919,0,0,0,0,0,null,"Diciembre",645.19908698960194,0,0,0,0,0,null,"Diciembre",-645.19908698960194,0,0,0,0,0,null,"Diciembre",{"$f":"IF(AK81<0,0,AK81*'AHORRO FOTOVOLTAICA'!$B$3)","v":0},{"$f":"IF(AL81<0,0,AL81*'AHORRO FOTOVOLTAICA'!$C$3)","v":0},{"$f":"IF(AM81<0,0,AM81*'AHORRO FOTOVOLTAICA'!$D$3)","v":0},{"$f":"IF(AN81<0,0,AN81*'AHORRO FOTOVOLTAICA'!$E$3)","v":0},{"$f":"IF(AO81<0,0,AO81*'AHORRO FOTOVOLTAICA'!$F$3)","v":0},{"$f":"IF(AP81<0,0,AP81*'AHORRO FOTOVOLTAICA'!$G$3)","v":0},"PRECIO ENERGÍA NO PRODUCIDA Y QUE CONSUMES DE RED"]
[null,null,null,null,null,null,null,null,null,null,null,null,{"$f":"SUM(M70:M81)","v":15228.000000000004},0,0,0,0,0,15228.000000000004,null,null,null,null,null,null,null,null,null,null,null,null,null,null,null,null,null,null,null,null,null,null,null,null,null,{"$f":"SUM(AS70:AS81)","v":2072.0231115394367},0,0,0,0,0,{"$f":"SUM(AS82:AX82)","v":2072.0231115394367}]
[]
[null,null,null,null,null,null,null,null,null,null,null,null,null,null,null,null,null,null,null,null,"PRECIO PEAJE"]
[null,null,null,null,null,null,null,null,null,null,null,"Enero",{"$f":"IF( M70<M5,M70*U70,M5*U70)","v":26.944235396009162},{"$f":"IF( N70<O5,N70*V70,O5*V70)","v":0},{"$f":"IF(O70<Q5,O70*W70,Q5*W70)","v":0},{"$f":"IF(P70<S5,P70*X70,S5*X70)","v":0},{"$f":"IF(Q70<U5,Q70*Y70,U5*Y70)","v":0},{"$f":"IF(R70<W5,R70*Z70,W5*Z70)","v":0},null,null,"PRECIO 1","PRECIO 2","PRECIO 3","PRECIO 4","PRECIO 5","PRECIO 6"]
[null,null,null,null,null,null,null,null,null,null,null,"Febrero",29.704915252157644,0,0,0,0,0,null,"Enero",{"$f":"IF(M70<M5,M70*$C$3,M5*$C$3)","v":0},{"$f":"IF(N70<O5,N70*$D$3,O5*$D$3)","v":0},{"$f":"IF(O70<Q5,O70*$E$3,Q5*$E$3)","v":0},{"$f":"IF(P70<S5,P70*$F$3,S5*$F$3)","v":0},{"$f":"IF(Q70<U5,Q70*$G$3,U5*$G$3)","v":0},{"$f":"IF(R70<W5,R70*$J$3,W5*$J$3)","v":0}]
[null,null,null,null,null,null,null,null,null,null,null,"Marzo",153.53048770778045,0,0,0,0,0,null,"Febrero",0,0,0,0,0,0]
[null,null,null,null,null,null,null,null,null,null,null,"Abril",151.39811982295018,0,0,0,0,0,null,"Marzo",0,0,0,0,0,0]
[null,null,null,null,null,null,null,null,null,null,null,"Mayo",166.32469501676218,0,0,0,0,0,null,"Abril",0,0,0,0,0,0]
[null,null,null,null,null,null,null,null,null,null,null,"Junio",169.52324684400762,0,0,0,0,0,null,"Mayo",0,0,0,0,0,0]
[null,null,null,null,null,null,null,null,null,null,null,"Julio",174.85416655608333,0,0,0,0,0,null,"Junio",0,0,0,0,0,0]
[null,null,null,null,null,null,null,null,null,null,null,"Agosto",168.45706290159245,0,0,0,0,0,null,"Julio",0,0,0,0,0,0]
[null,null,null,null,null,null,null,null,null,null,null,"Septiembre",143.93483222604419,0,0,0,0,0,null,"Agosto",0,0,0,0,0,0]
[null,null,null,null,null,null,null,null,null,null,null,"Octubre",133.27299280189274,0,0,0,0,0,null,"Septiembre",0,0,0,0,0,0]
[null,null,null,null,null,null,null,null,null,null,null,"Noviembre",24.183555539860684,0,0,0,0,0,null,"Octubre",0,0,0,0,0,0]
[null,null,null,null,null,null,null,null,null,null,null,"Diciembre",23.962701151368805,0,0,0,0,0,null,"Noviembre",0,0,0,0,0,0]
[null,null,null,null,null,null,null,null,null,null,null,null,{"$f":"SUM(M85:M96)","v":1366.0910112165093},0,0,0,0,0,{"$f":"SUM(M97:R97)","v":1366.0910112165093},"Diciembre",0,0,0,0,0,0]
[null,null,null,null,null,null,null,null,null,null,null,null,null,null,null,null,null,null,null,null,{"$f":"SUM(U86:U97)","v":0},0,0,0,0,0,{"$f":"SUM(U98:Z98)","v":0}]
[]
[]
[]
[]
[]
[]
[]
[]
[]
[]
[]
[]
[]
[]
[]
[]
[]
[]
[null,null,null,null,null,null,null,null,null,null,null,null,"P1","P2","P3","P4","P5","P6"]
[null,null,null,null,null,null,null,null,null,null,null,"2.0 A",4.9033E-2,0,0,0,0,0]
[null,null,null,null,null,null,null,null,null,null,null,"2.0 DHA",6.3141000000000003E-2,null,8.907E-3]
[null,null,null,null,null,null,null,null,null,null,null,"2.1 A",6.0727999999999997E-2]
[null,null,null,null,null,null,null,null,null,null,null,"2.1 DHA",7.4079000000000006E-2,null,1.8282E-2]
[null,null,null,null,null,null,null,null,null,null,null,"3.0 A",2.9399000000000002E-2,1.9334E-2,1.1155E-2]
[null,null,null,null,null,null,null,null,null,null,null,"3.1 A",2.2655999999999999E-2,1.5100000000000001E-2,1.4197E-2]
[null,null,null,null,null,null,null,null,null,null,null,"6.1 A",1.8849000000000001E-2,1.6195999999999999E-2,1.1534000000000001E-2,1.2518E-2,1.3266999999999999E-2,8.8789999999999997E-3]

{"sheet":"AHORRO FUTURO (2)","index":4,"n_rows":130,"n_cols":53,"rows_kept":130,"cut":false,"hidden":true,"merged":[]}
["Tipo de tarifa",null,{"$f":"'AHORRO FOTOVOLTAICA'!B1","v":"2.1A"}]
[null,null,{"$f":"IF($C$1=\"tarifas\",\"\",\"1 (Punta)\")","v":"1 (Punta)"},{"$f":"IF($C$1=\"3.0A\",\"2 (Llano)\",IF($C$1=\"3.1A\",\"2 (Llano)\",IF($C$1=\"6.1A\",\"2 (Llano)\",\"\")))","v":""},{"$f":"IF($C$1=\"3.0A\",\"3 (Valle)\",IF($C$1=\"3.1A\",\"3 (Valle)\",IF($C$1=\"6.1A\",\"3 (Valle)\",IF($C$1=\"2.0DHA\",\"3 (Valle)\",IF($C$1=\"2.1DHA\",\"3 (Valle)\",\"\")))))","v":""},4,5,6]
["Precio peaje (€/kWh)",null,{"$f":"VLOOKUP($C$1,$L$118:$R$130,2,FALSE)","v":5.4883000000000001E-2},{"$f":"VLOOKUP($C$1,$L$118:$R$130,3,FALSE)","v":0},{"$f":"VLOOKUP($C$1,$L$118:$R$130,4,FALSE)","v":0},{"$f":"VLOOKUP($C$1,$L$118:$R$130,5,FALSE)","v":0},{"$f":"VLOOKUP($C$1,$L$118:$R$130,6,FALSE)","v":0},{"$f":"VLOOKUP($C$1,$L$118:$R$130,7,FALSE)","v":0},null,null,null,"consumo"]
[null,null,null,null,null,null,null,null,null,null,null,null,"p1","precio p1","p2","precio p2","p3","precio p3","p4","precio p4","p5","precio p5","p6","precio p6",null,"PRECIO 2","PRECIO 3","PRECIO 4","PRECIO 5","PRECIO 6"]
["Precio peaje (€/kWh) promedio",null,{"$f":"IF(C1=\"2.0A\",C3,IF(C1=\"2.1A\",C3,IF(C1=\"2.0DHA\",C3*0.5833+'AHORRO FUTURO (2)'!E3*(1-0.5833),IF(C1=\"2.1DHA\",C3*0.5833+'AHORRO FUTURO (2)'!E3*(1-0.5833),IF(C1=\"3.0A\",C3*0.1666+D3*0.5+E3*0.3333,IF(C1=\"3.1A\",C3*0.1196+D3*0.4295+E3*0.4509,IF(C1=\"6.1A\",0.0695*C3+0.1009*D3+0.1114*E3+0.0669*G3+0.1284*H3+0.5626*K3,0)))))))","v":5.4883000000000001E-2},null,null,null,null,null,null,null,null,"Enero",{"$f":"'AHORRO FOTOVOLTAICA'!B8","v":244},{"$f":"'AHORRO FOTOVOLTAICA'!C8","v":0.11042719424593919},{"$f":"'AHORRO FOTOVOLTAICA'!D8","v":0},{"$f":"'AHORRO FOTOVOLTAICA'!E8","v":""},{"$f":"'AHORRO FOTOVOLTAICA'!F8","v":0},{"$f":"'AHORRO FOTOVOLTAICA'!G8","v":""},{"$f":"'AHORRO FOTOVOLTAICA'!H8","v":0},{"$f":"'AHORRO FOTOVOLTAICA'!I8","v":""},{"$f":"'AHORRO FOTOVOLTAICA'!J8","v":0},{"$f":"'AHORRO FOTOVOLTAICA'!K8","v":""},{"$f":"'AHORRO FOTOVOLTAICA'!L8","v":0},{"$f":"'AHORRO FOTOVOLTAICA'!M8","v":""},null,{"$f":"IF(P5=\"\",0,P5)","v":0},{"$f":"IF(R5=\"\",0,R5)","v":0},{"$f":"IF(T5=\"\",0,T5)","v":0},{"$f":"IF(V5=\"\",0,V5)","v":0},{"$f":"IF(X5=\"\",0,X5)","v":0}]
[null,null,null,null,null,null,null,null,null,null,null,"Febrero",{"$f":"'AHORRO FOTOVOLTAICA'!B9","v":269},{"$f":"'AHORRO FOTOVOLTAICA'!C9","v":0.11042719424593919},{"$f":"'AHORRO FOTOVOLTAICA'!D9","v":0},{"$f":"'AHORRO FOTOVOLTAICA'!E9","v":""},{"$f":"'AHORRO FOTOVOLTAICA'!F9","v":0},{"$f":"'AHORRO FOTOVOLTAICA'!G9","v":""},{"$f":"'AHORRO FOTOVOLTAICA'!H9","v":0},{"$f":"'AHORRO FOTOVOLTAICA'!I9","v":""},{"$f":"'AHORRO FOTOVOLTAICA'!J9","v":0},{"$f":"'AHORRO FOTOVOLTAICA'!K9","v":""},{"$f":"'AHORRO FOTOVOLTAICA'!L9","v":0},{"$f":"'AHORRO FOTOVOLTAICA'!M9","v":""},null,{"$f":"IF(P6=\"\",0,P6)","v":0},{"$f":"IF(R6=\"\",0,R6)","v":0},{"$f":"IF(T6=\"\",0,T6)","v":0},{"$f":"IF(V6=\"\",0,V6)","v":0},{"$f":"IF(X6=\"\",0,X6)","v":0}]
[null,null,null,null,null,null,null,null,null,null,null,"Marzo",{"$f":"'AHORRO FOTOVOLTAICA'!B10","v":1877},{"$f":"'AHORRO FOTOVOLTAICA'!C10","v":0.11042719424593919},{"$f":"'AHORRO FOTOVOLTAICA'!D10","v":0},{"$f":"'AHORRO FOTOVOLTAICA'!E10","v":""},{"$f":"'AHORRO FOTOVOLTAICA'!F10","v":0},{"$f":"'AHORRO FOTOVOLTAICA'!G10","v":""},{"$f":"'AHORRO FOTOVOLTAICA'!H10","v":0},{"$f":"'AHORRO FOTOVOLTAICA'!I10","v":""},{"$f":"'AHORRO FOTOVOLTAICA'!J10","v":0},{"$f":"'AHORRO FOTOVOLTAICA'!K10","v":""},{"$f":"'AHORRO FOTOVOLTAICA'!L10","v":0},{"$f":"'AHORRO FOTOVOLTAICA'!M10","v":""},null,0,0,0,0,0]
[null,null,null,null,null,null,null,null,null,null,null,"Abril",{"$f":"'AHORRO FOTOVOLTAICA'!B11","v":3602},{"$f":"'AHORRO FOTOVOLTAICA'!C11","v":0.11042719424593919},{"$f":"'AHORRO FOTOVOLTAICA'!D11","v":0},{"$f":"'AHORRO FOTOVOLTAICA'!E11","v":""},{"$f":"'AHORRO FOTOVOLTAICA'!F11","v":0},{"$f":"'AHORRO FOTOVOLTAICA'!G11","v":""},{"$f":"'AHORRO FOTOVOLTAICA'!H11","v":0},{"$f":"'AHORRO FOTOVOLTAICA'!I11","v":""},{"$f":"'AHORRO FOTOVOLTAICA'!J11","v":0},{"$f":"'AHORRO FOTOVOLTAICA'!K11","v":""},{"$f":"'AHORRO FOTOVOLTAICA'!L11","v":0},{"$f":"'AHORRO FOTOVOLTAICA'!M11","v":""},null,0,0,0,0,0]
[null,null,null,null,null,null,null,null,null,null,null,"Mayo",{"$f":"'AHORRO FOTOVOLTAICA'!B12","v":4133},{"$f":"'AHORRO FOTOVOLTAICA'!C12","v":0.11042719424593919},{"$f":"'AHORRO FOTOVOLTAICA'!D12","v":0},{"$f":"'AHORRO FOTOVOLTAICA'!E12","v":""},{"$f":"'AHORRO FOTOVOLTAICA'!F12","v":0},{"$f":"'AHORRO FOTOVOLTAICA'!G12","v":""},{"$f":"'AHORRO FOTOVOLTAICA'!H12","v":0},{"$f":"'AHORRO FOTOVOLTAICA'!I12","v":""},{"$f":"'AHORRO FOTOVOLTAICA'!J12","v":0},{"$f":"'AHORRO FOTOVOLTAICA'!K12","v":""},{"$f":"'AHORRO FOTOVOLTAICA'!L12","v":0},{"$f":"'AHORRO FOTOVOLTAICA'!M12","v":""},null,0,0,0,0,0]
[null,null,null,null,null,null,null,null,null,null,null,"Junio",{"$f":"'AHORRO FOTOVOLTAICA'!B13","v":5758},{"$f":"'AHORRO FOTOVOLTAICA'!C13","v":0.11042719424593919},{"$f":"'AHORRO FOTOVOLTAICA'!D13","v":0},{"$f":"'AHORRO FOTOVOLTAICA'!E13","v":""},{"$f":"'AHORRO FOTOVOLTAICA'!F13","v":0},{"$f":"'AHORRO FOTOVOLTAICA'!G13","v":""},{"$f":"'AHORRO FOTOVOLTAICA'!H13","v":0},{"$f":"'AHORRO FOTOVOLTAICA'!I13","v":""},{"$f":"'AHORRO FOTOVOLTAICA'!J13","v":0},{"$f":"'AHORRO FOTOVOLTAICA'!K13","v":""},{"$f":"'AHORRO FOTOVOLTAICA'!L13","v":0},{"$f":"'AHORRO FOTOVOLTAICA'!M13","v":""},null,0,0,0,0,0]
[null,null,null,null,null,null,null,null,null,null,null,"Julio",{"$f":"'AHORRO FOTOVOLTAICA'!B14","v":5876},{"$f":"'AHORRO FOTOVOLTAICA'!C14","v":0.11042719424593919},{"$f":"'AHORRO FOTOVOLTAICA'!D14","v":0},{"$f":"'AHORRO FOTOVOLTAICA'!E14","v":""},{"$f":"'AHORRO FOTOVOLTAICA'!F14","v":0},{"$f":"'AHORRO FOTOVOLTAICA'!G14","v":""},{"$f":"'AHORRO FOTOVOLTAICA'!H14","v":0},{"$f":"'AHORRO FOTOVOLTAICA'!I14","v":""},{"$f":"'AHORRO FOTOVOLTAICA'!J14","v":0},{"$f":"'AHORRO FOTOVOLTAICA'!K14","v":""},{"$f":"'AHORRO FOTOVOLTAICA'!L14","v":0},{"$f":"'AHORRO FOTOVOLTAICA'!M14","v":""},null,0,0,0,0,0]
[null,null,null,null,null,null,null,null,null,null,null,"Agosto",{"$f":"'AHORRO FOTOVOLTAICA'!B15","v":4479},{"$f":"'AHORRO FOTOVOLTAICA'!C15","v":0.11042719424593919},{"$f":"'AHORRO FOTOVOLTAICA'!D15","v":0},{"$f":"'AHORRO FOTOVOLTAICA'!E15","v":""},{"$f":"'AHORRO FOTOVOLTAICA'!F15","v":0},{"$f":"'AHORRO FOTOVOLTAICA'!G15","v":""},{"$f":"'AHORRO FOTOVOLTAICA'!H15","v":0},{"$f":"'AHORRO FOTOVOLTAICA'!I15","v":""},{"$f":"'AHORRO FOTOVOLTAICA'!J15","v":0},{"$f":"'AHORRO FOTOVOLTAICA'!K15","v":""},{"$f":"'AHORRO FOTOVOLTAICA'!L15","v":0},{"$f":"'AHORRO FOTOVOLTAICA'!M15","v":""},null,0,0,0,0,0]
[null,null,null,null,null,null,null,null,null,null,null,"Septiembre",{"$f":"'AHORRO FOTOVOLTAICA'!B16","v":3333},{"$f":"'AHORRO FOTOVOLTAICA'!C16","v":0.11042719424593919},{"$f":"'AHORRO FOTOVOLTAICA'!D16","v":0},{"$f":"'AHORRO FOTOVOLTAICA'!E16","v":""},{"$f":"'AHORRO FOTOVOLTAICA'!F16","v":0},{"$f":"'AHORRO FOTOVOLTAICA'!G16","v":""},{"$f":"'AHORRO FOTOVOLTAICA'!H16","v":0},{"$f":"'AHORRO FOTOVOLTAICA'!I16","v":""},{"$f":"'AHORRO FOTOVOLTAICA'!J16","v":0},{"$f":"'AHORRO FOTOVOLTAICA'!K16","v":""},{"$f":"'AHORRO FOTOVOLTAICA'!L16","v":0},{"$f":"'AHORRO FOTOVOLTAICA'!M16","v":""},null,0,0,0,0,0]
[null,null,null,null,null,null,null,null,null,null,null,"Octubre",{"$f":"'AHORRO FOTOVOLTAICA'!B17","v":2087},{"$f":"'AHORRO FOTOVOLTAICA'!C17","v":0.11042719424593919},{"$f":"'AHORRO FOTOVOLTAICA'!D17","v":0},{"$f":"'AHORRO FOTOVOLTAICA'!E17","v":""},{"$f":"'AHORRO FOTOVOLTAICA'!F17","v":0},{"$f":"'AHORRO FOTOVOLTAICA'!G17","v":""},{"$f":"'AHORRO FOTOVOLTAICA'!H17","v":0},{"$f":"'AHORRO FOTOVOLTAICA'!I17","v":""},{"$f":"'AHORRO FOTOVOLTAICA'!J17","v":0},{"$f":"'AHORRO FOTOVOLTAICA'!K17","v":""},{"$f":"'AHORRO FOTOVOLTAICA'!L17","v":0},{"$f":"'AHORRO FOTOVOLTAICA'!M17","v":""},null,0,0,0,0,0]
[null,null,null,null,null,null,null,null,null,null,null,"Noviembre",{"$f":"'AHORRO FOTOVOLTAICA'!B18","v":219},{"$f":"'AHORRO FOTOVOLTAICA'!C18","v":0.11042719424593919},{"$f":"'AHORRO FOTOVOLTAICA'!D18","v":0},{"$f":"'AHORRO FOTOVOLTAICA'!E18","v":""},{"$f":"'AHORRO FOTOVOLTAICA'!F18","v":0},{"$f":"'AHORRO FOTOVOLTAICA'!G18","v":""},{"$f":"'AHORRO FOTOVOLTAICA'!H18","v":0},{"$f":"'AHORRO FOTOVOLTAICA'!I18","v":""},{"$f":"'AHORRO FOTOVOLTAICA'!J18","v":0},{"$f":"'AHORRO FOTOVOLTAICA'!K18","v":""},{"$f":"'AHORRO FOTOVOLTAICA'!L18","v":0},{"$f":"'AHORRO FOTOVOLTAICA'!M18","v":""},null,0,0,0,0,0]
[null,null,null,null,null,null,null,null,null,null,null,"Diciembre",{"$f":"'AHORRO FOTOVOLTAICA'!B19","v":217},{"$f":"'AHORRO FOTOVOLTAICA'!C19","v":0.11042719424593919},{"$f":"'AHORRO FOTOVOLTAICA'!D19","v":0},{"$f":"'AHORRO FOTOVOLTAICA'!E19","v":""},{"$f":"'AHORRO FOTOVOLTAICA'!F19","v":0},{"$f":"'AHORRO FOTOVOLTAICA'!G19","v":""},{"$f":"'AHORRO FOTOVOLTAICA'!H19","v":0},{"$f":"'AHORRO FOTOVOLTAICA'!I19","v":""},{"$f":"'AHORRO FOTOVOLTAICA'!J19","v":0},{"$f":"'AHORRO FOTOVOLTAICA'!K19","v":""},{"$f":"'AHORRO FOTOVOLTAICA'!L19","v":0},{"$f":"'AHORRO FOTOVOLTAICA'!M19","v":""},null,0,0,0,0,0]
[null,null,null,null,null,null,null,null,null,null,null,"Total",{"$f":"SUM(M5:M16)","v":32094},null,{"$f":"SUM(O5:O16)","v":0},null,{"$f":"SUM(Q5:Q16)","v":0},null,{"$f":"SUM(S5:S16)","v":0},null,{"$f":"SUM(U5:U16)","v":0},null,{"$f":"SUM(W5:W16)","v":0}]
["no incluido IBIZA Y FORMENTERA"]
[null,null,null,null,null,null,null,null,null,null,null,null,"precio p1","precio p2","precio p3","precio p4","precio p5","precio p6","Total mes"]
["AÑO","PRECIO CONSUMO ANUAL","AHORRO FOTOVOLTAICA","PRECIO COSTE FOTOVOLTAICA","PRECIO PEAJE RESPALDO","REDUCCIÓN EXCESOS POTENCIA","AHORRO REAL","%AHORRO FRENTE A CONSUMO","AHORRO ACUMULADO",null,"%RENTABILIDAD","Enero",{"$f":"M5*N5","v":26.944235396009162},{"$f":"O5*Z5","v":0},{"$f":"Q5*AA5","v":0},{"$f":"S5*AB5","v":0},{"$f":"U5*AC5","v":0},{"$f":"W5*AD5","v":0},{"$f":"SUM(M20:R20)","v":26.944235396009162},null,null,null,null,null,null,null,null,null,null,null,null,null,null,null,null,null,null,null,null,null,null,null,null,null,null,null,null,null,null,null,null,"COSTE",{"$f":"'CUADRO RENTING'!D3","v":12500}]
[0,null,{"$f":"S96","v":0},{"$f":"'CUADRO RENTING'!M16","v":12500},{"$f":"AA97","v":0},null,{"$f":"C21-D21-E21","v":-12500},null,{"$f":"G21","v":-12500}]
[1,{"$f":"S33","v":3544.0503721291725},{"$f":"S97","v":1366.0910112165093},{"$f":"'CUADRO RENTING'!M17","v":100},{"$f":"AA98","v":678.95570000278997},1769,{"$f":"C22-D22-E22+F22","v":2356.1353112137194},{"$f":"G22/B22","v":0.66481428417119681},{"$f":"G22+I21","v":-10143.864688786281},{"$f":"IF(ISERROR(IRR($G$22:$G22)),\"\",IRR($G$22:$G22))","v":""},null,"Febrero",{"$f":"M6*N6","v":29.704915252157644},{"$f":"O6*Z6","v":0},{"$f":"Q6*AA6","v":0},{"$f":"S6*AB6","v":0},{"$f":"U6*AC6","v":0},{"$f":"W6*AD6","v":0},{"$f":"SUM(M22:R22)","v":29.704915252157644},null,null,null,null,null,null,null,null,null,null,null,null,null,null,null,null,null,null,null,null,null,null,null,null,null,null,null,null,null,null,null,null,null,{"$f":"BA20-G22","v":10143.864688786281}]
[2,{"$f":"B22*(1+'CUADRO RENTING'!$F$11)","v":3614.9313795717562},{"$f":"C22*0.996*(1+'CUADRO RENTING'!$F$13)","v":1415.051713058509},{"$f":"'CUADRO RENTING'!M18","v":202},{"$f":"E22*(1+'CUADRO RENTING'!$F$11)","v":692.53481400284579},{"$f":"F22*0.99*(1+'CUADRO RENTING'!$F$11)","v":1786.3362},{"$f":"C23-D23-E23+F23","v":2306.8530990556633},0.63814575073039015,{"$f":"G23+I22","v":-7837.0115897306187},{"$f":"IF(ISERROR(IRR($G$22:$G23)),\"\",IRR($G$22:$G23))","v":""},null,"Marzo",207.27184359962786,0,0,0,0,0,207.27184359962786,null,null,null,null,null,null,null,null,null,null,null,null,null,null,null,null,null,null,null,null,null,null,null,null,null,null,null,null,null,null,null,null,null,{"$f":"BA22-G23","v":7837.0115897306187}]
[3,{"$f":"B23*(1+'CUADRO RENTING'!$F$11)","v":3687.2300071631912},{"$f":"C23*0.996*(1+'CUADRO RENTING'!$F$13)","v":1465.767166454526},{"$f":"'CUADRO RENTING'!M19","v":206.04000000000002},{"$f":"E23*(1+'CUADRO RENTING'!$F$11)","v":706.38551028290271},{"$f":"F23*0.99*(1+'CUADRO RENTING'!$F$11)","v":1803.84229476},2357.1839509316233,0.63928313296222805,{"$f":"G24+I23","v":-5479.8276387989954},{"$f":"IF(ISERROR(IRR($G$22:$G24)),\"\",IRR($G$22:$G24))","v":""},null,"Abril",397.75875367387295,0,0,0,0,0,397.75875367387295,null,null,null,null,null,null,null,null,null,null,null,null,null,null,null,null,null,null,null,null,null,null,null,null,null,null,null,null,null,null,null,null,null,5479.8276387989954]
[4,{"$f":"B24*(1+'CUADRO RENTING'!$F$11)","v":3760.9746073064553},{"$f":"C24*0.996*(1+'CUADRO RENTING'!$F$13)","v":1518.3002617002562},{"$f":"'CUADRO RENTING'!M20","v":210.16079999999999},{"$f":"E24*(1+'CUADRO RENTING'!$F$11)","v":720.51322048856082},{"$f":"F24*0.99*(1+'CUADRO RENTING'!$F$11)","v":1821.5199492486479},2409.146190460343,0.64056433292053827,-3070.6814483386524,{"$f":"IF(ISERROR(IRR($G$22:$G25)),\"\",IRR($G$22:$G25))","v":""},null,"Mayo",456.39559381846669,0,0,0,0,0,456.39559381846669,null,null,null,null,null,null,null,null,null,null,null,null,null,null,null,null,null,null,null,null,null,null,null,null,null,null,null,null,null,null,null,null,null,3070.6814483386524]
[5,{"$f":"B25*(1+'CUADRO RENTING'!$F$11)","v":3836.1940994525844},{"$f":"C25*0.996*(1+'CUADRO RENTING'!$F$13)","v":1572.7161430795936},{"$f":"'CUADRO RENTING'!M21","v":214.36401599999999},{"$f":"E25*(1+'CUADRO RENTING'!$F$11)","v":734.92348489833205},{"$f":"F25*0.99*(1+'CUADRO RENTING'!$F$11)","v":1839.3708447512845},2462.7994869325462,0.64199032246152032,-607.88196140610626,{"$f":"IF(ISERROR(IRR($G$22:$G26)),\"\",IRR($G$22:$G26))","v":""},null,"Junio",635.83978446811784,0,0,0,0,0,635.83978446811784,null,null,null,null,null,null,null,null,null,null,null,null,null,null,null,null,null,null,null,null,null,null,null,null,null,null,null,null,null,null,null,null,null,607.88196140610626]
[6,{"$f":"B26*(1+'CUADRO RENTING'!$F$11)","v":3912.9179814416361},{"$f":"C26*0.996*(1+'CUADRO RENTING'!$F$13)","v":1629.0822896475663},{"$f":"'CUADRO RENTING'!M22","v":218.65129632000003},{"$f":"E26*(1+'CUADRO RENTING'!$F$11)","v":749.62195459629868},{"$f":"F26*0.99*(1+'CUADRO RENTING'!$F$11)","v":1857.3966790298471},2518.2057177611146,0.64356210114921253,1910.3237563550083,{"$f":"IF(ISERROR(IRR($G$22:$G27)),\"\",IRR($G$22:$G27))","v":""},null,"Julio",648.87019338913865,0,0,0,0,0,648.87019338913865,null,null,null,null,null,null,null,null,null,null,null,null,null,null,null,null,null,null,null,null,null,null,null,null,null,null,null,null,null,null,null,null,null,-1910.3237563550083]
[7,{"$f":"B27*(1+'CUADRO RENTING'!$F$11)","v":3991.1763410704689},{"$f":"C27*0.996*(1+'CUADRO RENTING'!$F$13)","v":1687.4685989085351},{"$f":"'CUADRO RENTING'!M23","v":223.0243222464},{"$f":"E27*(1+'CUADRO RENTING'!$F$11)","v":764.61439368822471},{"$f":"F27*0.99*(1+'CUADRO RENTING'!$F$11)","v":1875.5991664843395},2575.4290494582501,0.64528069655962561,4485.7528058132584,{"$f":"IF(ISERROR(IRR($G$22:$G28)),\"\",IRR($G$22:$G28))","v":""},null,"Agosto",494.60340302756163,0,0,0,0,0,494.60340302756163,null,null,null,null,null,null,null,null,null,null,null,null,null,null,null,null,null,null,null,null,null,null,null,null,null,null,null,null,null,null,null,null,null,-4485.7528058132584]
[8,{"$f":"B28*(1+'CUADRO RENTING'!$F$11)","v":4070.9998678918782},{"$f":"C28*0.996*(1+'CUADRO RENTING'!$F$13)","v":1747.947473493417},{"$f":"'CUADRO RENTING'!M24","v":227.484808691328},{"$f":"E28*(1+'CUADRO RENTING'!$F$11)","v":779.90668156198922},{"$f":"F28*0.99*(1+'CUADRO RENTING'!$F$11)","v":1893.9800383158861},2634.5360215559858,0.64714716459085786,7120.2888273692442,{"$f":"IF(ISERROR(IRR($G$22:$G29)),\"\",IRR($G$22:$G29))","v":""},null,"Septiembre",368.05383842171534,0,0,0,0,0,368.05383842171534,null,null,null,null,null,null,null,null,null,null,null,null,null,null,null,null,null,null,null,null,null,null,null,null,null,null,null,null,null,null,null,null,null,-7120.2888273692442]
[9,{"$f":"B29*(1+'CUADRO RENTING'!$F$11)","v":4152.4198652497162},{"$f":"C29*0.996*(1+'CUADRO RENTING'!$F$13)","v":1810.5939109434212},{"$f":"'CUADRO RENTING'!M25","v":232.03450486515459},{"$f":"E29*(1+'CUADRO RENTING'!$F$11)","v":795.50481519322898},{"$f":"F29*0.99*(1+'CUADRO RENTING'!$F$11)","v":1912.5410426913818},2695.5956335764195,0.64916258977927632,9815.8844609456646,{"$f":"IF(ISERROR(IRR($G$22:$G30)),\"\",IRR($G$22:$G30))","v":""},null,"Octubre",230.46155439127509,0,0,0,0,0,230.46155439127509,null,null,null,null,null,null,null,null,null,null,null,null,null,null,null,null,null,null,null,null,null,null,null,null,null,null,null,null,null,null,null,null,null,-9815.8844609456646]
[10,{"$f":"B30*(1+'CUADRO RENTING'!$F$11)","v":4235.4682625547102},{"$f":"C30*0.996*(1+'CUADRO RENTING'!$F$13)","v":1875.4855967116337},{"$f":"'CUADRO RENTING'!M26","v":236.67519496245768},{"$f":"E30*(1+'CUADRO RENTING'!$F$11)","v":811.41491149709361},{"$f":"F30*0.99*(1+'CUADRO RENTING'!$F$11)","v":1931.2839449097576},2758.67943516184,0.65132808562184463,12574.563896107506,{"$f":"IF(ISERROR(IRR($G$22:$G31)),\"\",IRR($G$22:$G31))","v":""},null,"Noviembre",24.183555539860684,0,0,0,0,0,24.183555539860684,null,null,null,null,null,null,null,null,null,null,null,null,null,null,null,null,null,null,null,null,null,null,null,null,null,null,null,null,null,null,null,null,null,-12574.563896107506]
[11,{"$f":"B31*(1+'CUADRO RENTING'!$F$11)","v":4320.1776278058041},{"$f":"C31*0.996*(1+'CUADRO RENTING'!$F$13)","v":1942.7030004977785},{"$f":"'CUADRO RENTING'!M27","v":241.40869886170682},{"$f":"E31*(1+'CUADRO RENTING'!$F$11)","v":827.64320972703547},{"$f":"F31*0.99*(1+'CUADRO RENTING'!$F$11)","v":1950.2105275698732},2823.8616194789092,0.65364479490467942,15398.425515586416,{"$f":"IF(ISERROR(IRR($G$22:$G32)),\"\",IRR($G$22:$G32))","v":""},null,"Diciembre",{"$f":"M16*N16","v":23.962701151368805},0,0,0,0,0,23.962701151368805,{"$f":"SUM(S20:S32)","v":3544.0503721291725},null,null,null,null,null,null,null,null,null,null,null,null,null,null,null,null,null,null,null,null,null,null,null,null,null,null,null,null,null,null,null,null,-15398.425515586416]
[12,{"$f":"B32*(1+'CUADRO RENTING'!$F$11)","v":4406.5811803619199},{"$f":"C32*0.996*(1+'CUADRO RENTING'!$F$13)","v":2012.3294760356189},{"$f":"'CUADRO RENTING'!M28","v":246.23687283894097},{"$f":"E32*(1+'CUADRO RENTING'!$F$11)","v":844.19607392157616},{"$f":"F32*0.99*(1+'CUADRO RENTING'!$F$11)","v":1969.3225907400579},2891.2191200151597,0.65611389003792253,18289.644635601577,{"$f":"IF(ISERROR(IRR($G$22:$G33)),\"\",IRR($G$22:$G33))","v":""},null,"Total periodo",{"$f":"SUM(M20:M32)","v":3544.0503721291725},0,0,0,0,0,{"$f":"SUM(M33:R33)","v":3544.0503721291725},null,null,null,null,null,null,null,null,null,null,null,null,null,null,null,null,null,null,null,null,null,null,null,null,null,null,null,null,null,null,null,null,null,-18289.644635601577]
[13,{"$f":"B33*(1+'CUADRO RENTING'!$F$11)","v":4494.7128039691588},{"$f":"C33*0.996*(1+'CUADRO RENTING'!$F$13)","v":2084.4513644567355},{"$f":"'CUADRO RENTING'!M29","v":251.16161029571978},{"$f":"E33*(1+'CUADRO RENTING'!$F$11)","v":861.07999540000765},{"$f":"F33*0.99*(1+'CUADRO RENTING'!$F$11)","v":1988.6219521293106},2960.8317108903184,0.65873657339701175,21250.476346491894,{"$f":"IF(ISERROR(IRR($G$22:$G34)),\"\",IRR($G$22:$G34))","v":""},null,null,null,null,null,null,null,null,null,null,null,null,null,null,null,null,null,null,null,null,null,null,null,null,null,null,null,null,null,null,null,null,null,null,null,null,null,null,null,null,null,null,-21250.476346491894]
[14,{"$f":"B34*(1+'CUADRO RENTING'!$F$11)","v":4584.6070600485418},{"$f":"C34*0.996*(1+'CUADRO RENTING'!$F$13)","v":2159.1581013588648},{"$f":"'CUADRO RENTING'!M30","v":256.18484250163419},{"$f":"E34*(1+'CUADRO RENTING'!$F$11)","v":878.30159530800779},{"$f":"F34*0.99*(1+'CUADRO RENTING'!$F$11)","v":2008.110447260178},3032.7821108094008,0.66151407767044046,24283.258457301294,{"$f":"IF(ISERROR(IRR($G$22:$G35)),\"\",IRR($G$22:$G35))","v":""},null,"PRODUCCION FOTOVOLTAICA",null,null,null,null,null,null,null,null,null,null,null,null,null,null,null,null,null,null,null,null,null,null,null,null,null,null,null,null,null,null,null,null,null,null,null,null,null,null,null,null,-24283.258457301294]
[15,{"$f":"B35*(1+'CUADRO RENTING'!$F$11)","v":4676.2992012495124},{"$f":"C35*0.996*(1+'CUADRO RENTING'!$F$13)","v":2236.5423277115665},{"$f":"'CUADRO RENTING'!M31","v":261.30853935166681},{"$f":"E35*(1+'CUADRO RENTING'!$F$11)","v":895.86762721416801},{"$f":"F35*0.99*(1+'CUADRO RENTING'!$F$11)","v":2027.7899296433279},3107.1560907890598,0.66444766621409168,27390.414548090353,{"$f":"IF(ISERROR(IRR($G$22:$G36)),\"\",IRR($G$22:$G36))","v":""},null,null,null,null,null,null,null,null,null,null,null,null,null,null,null,null,null,null,null,null,null,null,null,null,null,null,null,null,null,null,null,null,null,null,null,null,null,null,null,null,null,null,-27390.414548090353]
[16,{"$f":"B36*(1+'CUADRO RENTING'!$F$11)","v":4769.8251852745025},{"$f":"C36*0.996*(1+'CUADRO RENTING'!$F$13)","v":2316.7000047367487},{"$f":"'CUADRO RENTING'!M32","v":266.53471013870018},{"$f":"E36*(1+'CUADRO RENTING'!$F$11)","v":913.78497975845141},{"$f":"F36*0.99*(1+'CUADRO RENTING'!$F$11)","v":2047.6622709538324},3184.0425857934297,0.66753863341224084,30574.457133883785,{"$f":"IF(ISERROR(IRR($G$22:$G37)),\"\",IRR($G$22:$G37))","v":""},null,null,"p1","precio p1","p2","precio p2","p3","precio p3","p4","precio p4","p5","precio p5","p6","precio p6",null,"PRECIO P2","PRECIO P3","PRECIO P4","PRECIO P5","PRECIO P6",null,null,null,null,null,null,null,null,null,null,null,null,null,null,null,null,null,null,null,null,null,null,-30574.457133883785]
[17,{"$f":"B37*(1+'CUADRO RENTING'!$F$11)","v":4865.2216889799929},{"$f":"C37*0.996*(1+'CUADRO RENTING'!$F$13)","v":2399.7305329065139},{"$f":"'CUADRO RENTING'!M33","v":271.86540434147417},{"$f":"E37*(1+'CUADRO RENTING'!$F$11)","v":932.06067935362046},{"$f":"F37*0.99*(1+'CUADRO RENTING'!$F$11)","v":2067.7293612091798},3263.5338104205994,0.67078830504531606,33837.990944304387,{"$f":"IF(ISERROR(IRR($G$22:$G38)),\"\",IRR($G$22:$G38))","v":""},null,"Enero",{"$f":"'AHORRO FOTOVOLTAICA'!B24","v":961.64646208470708},{"$f":"'AHORRO FOTOVOLTAICA'!C24","v":6.5668505384817444E-3},{"$f":"'AHORRO FOTOVOLTAICA'!D24","v":""},{"$f":"'AHORRO FOTOVOLTAICA'!E24","v":""},{"$f":"'AHORRO FOTOVOLTAICA'!F24","v":""},{"$f":"'AHORRO FOTOVOLTAICA'!G24","v":""},{"$f":"'AHORRO FOTOVOLTAICA'!H24","v":""},{"$f":"'AHORRO FOTOVOLTAICA'!I24","v":""},{"$f":"'AHORRO FOTOVOLTAICA'!J24","v":""},{"$f":"'AHORRO FOTOVOLTAICA'!K24","v":""},{"$f":"'AHORRO FOTOVOLTAICA'!L24","v":""},{"$f":"'AHORRO FOTOVOLTAICA'!M24","v":""},"Enero",{"$f":"IF(P38=\"\",0,P38)","v":0},{"$f":"IF(R38=\"\",0,R38)","v":0},{"$f":"IF(T38=\"\",0,T38)","v":0},{"$f":"IF(V38=\"\",0,V38)","v":0},{"$f":"IF(X38=\"\",0,X38)","v":0},null,null,null,null,null,null,null,null,null,null,null,null,null,null,null,null,null,null,null,null,null,null,-33837.990944304387]
[18,{"$f":"B38*(1+'CUADRO RENTING'!$F$11)","v":4962.5261227595929},{"$f":"C38*0.996*(1+'CUADRO RENTING'!$F$13)","v":2485.7368752058837},{"$f":"'CUADRO RENTING'!M34","v":277.30271242830361},{"$f":"E38*(1+'CUADRO RENTING'!$F$11)","v":950.70189294069291},{"$f":"F38*0.99*(1+'CUADRO RENTING'!$F$11)","v":2087.9931089490301},3345.7253787859172,0.67419803866451089,37183.716323090302,{"$f":"IF(ISERROR(IRR($G$22:$G39)),\"\",IRR($G$22:$G39))","v":""},null,"Febrero",{"$f":"'AHORRO FOTOVOLTAICA'!B25","v":1042.7491757545019},{"$f":"'AHORRO FOTOVOLTAICA'!C25","v":6.5668505384817444E-3},{"$f":"'AHORRO FOTOVOLTAICA'!D25","v":""},{"$f":"'AHORRO FOTOVOLTAICA'!E25","v":""},{"$f":"'AHORRO FOTOVOLTAICA'!F25","v":""},{"$f":"'AHORRO FOTOVOLTAICA'!G25","v":""},{"$f":"'AHORRO FOTOVOLTAICA'!H25","v":""},{"$f":"'AHORRO FOTOVOLTAICA'!I25","v":""},{"$f":"'AHORRO FOTOVOLTAICA'!J25","v":""},{"$f":"'AHORRO FOTOVOLTAICA'!K25","v":""},{"$f":"'AHORRO FOTOVOLTAICA'!L25","v":""},{"$f":"'AHORRO FOTOVOLTAICA'!M25","v":""},"Febrero",{"$f":"IF(P39=\"\",0,P39)","v":0},{"$f":"IF(R39=\"\",0,R39)","v":0},{"$f":"IF(T39=\"\",0,T39)","v":0},{"$f":"IF(V39=\"\",0,V39)","v":0},{"$f":"IF(X39=\"\",0,X39)","v":0},null,null,null,null,null,null,null,null,null,null,null,null,null,null,null,null,null,null,null,null,null,null,-37183.716323090302]
[19,{"$f":"B39*(1+'CUADRO RENTING'!$F$11)","v":5061.7766452147853},{"$f":"C39*0.996*(1+'CUADRO RENTING'!$F$13)","v":2574.8256848132623},{"$f":"'CUADRO RENTING'!M35","v":282.84876667686967},{"$f":"E39*(1+'CUADRO RENTING'!$F$11)","v":969.71593079950674},{"$f":"F39*0.99*(1+'CUADRO RENTING'!$F$11)","v":2108.455441416731},3430.716428753617,0.67776922397334305,40614.432751843917,{"$f":"IF(ISERROR(IRR($G$22:$G40)),\"\",IRR($G$22:$G40))","v":""},null,"Marzo",{"$f":"'AHORRO FOTOVOLTAICA'!B26","v":1390.3322343393356},{"$f":"'AHORRO FOTOVOLTAICA'!C26","v":6.5668505384817444E-3},{"$f":"'AHORRO FOTOVOLTAICA'!D26","v":""},{"$f":"'AHORRO FOTOVOLTAICA'!E26","v":""},{"$f":"'AHORRO FOTOVOLTAICA'!F26","v":""},{"$f":"'AHORRO FOTOVOLTAICA'!G26","v":""},{"$f":"'AHORRO FOTOVOLTAICA'!H26","v":""},{"$f":"'AHORRO FOTOVOLTAICA'!I26","v":""},{"$f":"'AHORRO FOTOVOLTAICA'!J26","v":""},{"$f":"'AHORRO FOTOVOLTAICA'!K26","v":""},{"$f":"'AHORRO FOTOVOLTAICA'!L26","v":""},{"$f":"'AHORRO FOTOVOLTAICA'!M26","v":""},"Marzo",0,0,0,0,0,null,null,null,null,null,null,null,null,null,null,null,null,null,null,null,null,null,null,null,null,null,null,-40614.432751843917]
[20,{"$f":"B40*(1+'CUADRO RENTING'!$F$11)","v":5163.012178119081},{"$f":"C40*0.996*(1+'CUADRO RENTING'!$F$13)","v":2667.1074373569695},{"$f":"'CUADRO RENTING'!M36","v":288.50574201040706},{"$f":"E40*(1+'CUADRO RENTING'!$F$11)","v":989.11024941549692},{"$f":"F40*0.99*(1+'CUADRO RENTING'!$F$11)","v":2129.1183047426148},3518.6097506736801,0.68150328321625853,44133.042502517594,{"$f":"IF(ISERROR(IRR($G$22:$G41)),\"\",IRR($G$22:$G41))","v":""},null,"Abril",{"$f":"'AHORRO FOTOVOLTAICA'!B27","v":1371.022064417956},{"$f":"'AHORRO FOTOVOLTAICA'!C27","v":6.5668505384817444E-3},{"$f":"'AHORRO FOTOVOLTAICA'!D27","v":""},{"$f":"'AHORRO FOTOVOLTAICA'!E27","v":""},{"$f":"'AHORRO FOTOVOLTAICA'!F27","v":""},{"$f":"'AHORRO FOTOVOLTAICA'!G27","v":""},{"$f":"'AHORRO FOTOVOLTAICA'!H27","v":""},{"$f":"'AHORRO FOTOVOLTAICA'!I27","v":""},{"$f":"'AHORRO FOTOVOLTAICA'!J27","v":""},{"$f":"'AHORRO FOTOVOLTAICA'!K27","v":""},{"$f":"'AHORRO FOTOVOLTAICA'!L27","v":""},{"$f":"'AHORRO FOTOVOLTAICA'!M27","v":""},"Abril",0,0,0,0,0,null,null,null,null,null,null,null,null,null,null,null,null,null,null,null,null,null,null,null,null,null,null,-44133.042502517594]
[21,{"$f":"B41*(1+'CUADRO RENTING'!$F$11)","v":5266.2724216814631},{"$f":"C41*0.996*(1+'CUADRO RENTING'!$F$13)","v":2762.6965679118434},{"$f":"'CUADRO RENTING'!M37","v":294.27585685061524},{"$f":"E41*(1+'CUADRO RENTING'!$F$11)","v":1008.8924544038068},{"$f":"F41*0.99*(1+'CUADRO RENTING'!$F$11)","v":2149.9836641290922},3609.5119207865137,0.68540167157437637,47742.554423304107,{"$f":"IF(ISERROR(IRR($G$22:$G42)),\"\",IRR($G$22:$G42))","v":""},null,"Mayo",{"$f":"'AHORRO FOTOVOLTAICA'!B28","v":1506.1932538676137},{"$f":"'AHORRO FOTOVOLTAICA'!C28","v":6.5668505384817444E-3},{"$f":"'AHORRO FOTOVOLTAICA'!D28","v":""},{"$f":"'AHORRO FOTOVOLTAICA'!E28","v":""},{"$f":"'AHORRO FOTOVOLTAICA'!F28","v":""},{"$f":"'AHORRO FOTOVOLTAICA'!G28","v":""},{"$f":"'AHORRO FOTOVOLTAICA'!H28","v":""},{"$f":"'AHORRO FOTOVOLTAICA'!I28","v":""},{"$f":"'AHORRO FOTOVOLTAICA'!J28","v":""},{"$f":"'AHORRO FOTOVOLTAICA'!K28","v":""},{"$f":"'AHORRO FOTOVOLTAICA'!L28","v":""},{"$f":"'AHORRO FOTOVOLTAICA'!M28","v":""},"Mayo",0,0,0,0,0,null,null,null,null,null,null,null,null,null,null,null,null,null,null,null,null,null,null,null,null,null,null,-47742.554423304107]
[22,{"$f":"B42*(1+'CUADRO RENTING'!$F$11)","v":5371.5978701150925},{"$f":"C42*0.996*(1+'CUADRO RENTING'!$F$13)","v":2861.711612905804},{"$f":"'CUADRO RENTING'!M38","v":300.16137398762748},{"$f":"E42*(1+'CUADRO RENTING'!$F$11)","v":1029.0703034918829},{"$f":"F42*0.99*(1+'CUADRO RENTING'!$F$11)","v":2171.0535040375571},3703.5334394638508,0.68946587756847455,51446.087862767956,{"$f":"IF(ISERROR(IRR($G$22:$G43)),\"\",IRR($G$22:$G43))","v":""},null,"Junio",{"$f":"'AHORRO FOTOVOLTAICA'!B29","v":1535.1585087496833},{"$f":"'AHORRO FOTOVOLTAICA'!C29","v":6.5668505384817444E-3},{"$f":"'AHORRO FOTOVOLTAICA'!D29","v":""},{"$f":"'AHORRO FOTOVOLTAICA'!E29","v":""},{"$f":"'AHORRO FOTOVOLTAICA'!F29","v":""},{"$f":"'AHORRO FOTOVOLTAICA'!G29","v":""},{"$f":"'AHORRO FOTOVOLTAICA'!H29","v":""},{"$f":"'AHORRO FOTOVOLTAICA'!I29","v":""},{"$f":"'AHORRO FOTOVOLTAICA'!J29","v":""},{"$f":"'AHORRO FOTOVOLTAICA'!K29","v":""},{"$f":"'AHORRO FOTOVOLTAICA'!L29","v":""},{"$f":"'AHORRO FOTOVOLTAICA'!M29","v":""},"Junio",0,0,0,0,0,null,null,null,null,null,null,null,null,null,null,null,null,null,null,null,null,null,null,null,null,null,null,-51446.087862767956]
[23,{"$f":"B43*(1+'CUADRO RENTING'!$F$11)","v":5479.0298275173946},{"$f":"C43*0.996*(1+'CUADRO RENTING'!$F$13)","v":2964.2753571123485},{"$f":"'CUADRO RENTING'!M39","v":306.16460146738007},{"$f":"E43*(1+'CUADRO RENTING'!$F$11)","v":1049.6517095617205},{"$f":"F43*0.99*(1+'CUADRO RENTING'!$F$11)","v":2192.3298283771251},3800.7888744603729,0.69369742346932062,55246.876737228326,{"$f":"IF(ISERROR(IRR($G$22:$G44)),\"\",IRR($G$22:$G44))","v":""},null,"Julio",{"$f":"'AHORRO FOTOVOLTAICA'!B30","v":1583.4339335531324},{"$f":"'AHORRO FOTOVOLTAICA'!C30","v":6.5668505384817444E-3},{"$f":"'AHORRO FOTOVOLTAICA'!D30","v":""},{"$f":"'AHORRO FOTOVOLTAICA'!E30","v":""},{"$f":"'AHORRO FOTOVOLTAICA'!F30","v":""},{"$f":"'AHORRO FOTOVOLTAICA'!G30","v":""},{"$f":"'AHORRO FOTOVOLTAICA'!H30","v":""},{"$f":"'AHORRO FOTOVOLTAICA'!I30","v":""},{"$f":"'AHORRO FOTOVOLTAICA'!J30","v":""},{"$f":"'AHORRO FOTOVOLTAICA'!K30","v":""},{"$f":"'AHORRO FOTOVOLTAICA'!L30","v":""},{"$f":"'AHORRO FOTOVOLTAICA'!M30","v":""},"Julio",0,0,0,0,0,null,null,null,null,null,null,null,null,null,null,null,null,null,null,null,null,null,null,null,null,null,null,-55246.876737228326]
[24,{"$f":"B44*(1+'CUADRO RENTING'!$F$11)","v":5588.6104240677423},{"$f":"C44*0.996*(1+'CUADRO RENTING'!$F$13)","v":3070.5149859112553},{"$f":"'CUADRO RENTING'!M40","v":312.28789349672763},{"$f":"E44*(1+'CUADRO RENTING'!$F$11)","v":1070.644743752955},{"$f":"F44*0.99*(1+'CUADRO RENTING'!$F$11)","v":2213.8146606952209},3901.3970093567937,0.69809786571544763,59148.273746585117,{"$f":"IF(ISERROR(IRR($G$22:$G45)),\"\",IRR($G$22:$G45))","v":""},"TIR A 25 AÑOS","Agosto",{"$f":"'AHORRO FOTOVOLTAICA'!B31","v":1525.5034237889934},{"$f":"'AHORRO FOTOVOLTAICA'!C31","v":6.5668505384817444E-3},{"$f":"'AHORRO FOTOVOLTAICA'!D31","v":""},{"$f":"'AHORRO FOTOVOLTAICA'!E31","v":""},{"$f":"'AHORRO FOTOVOLTAICA'!F31","v":""},{"$f":"'AHORRO FOTOVOLTAICA'!G31","v":""},{"$f":"'AHORRO FOTOVOLTAICA'!H31","v":""},{"$f":"'AHORRO FOTOVOLTAICA'!I31","v":""},{"$f":"'AHORRO FOTOVOLTAICA'!J31","v":""},{"$f":"'AHORRO FOTOVOLTAICA'!K31","v":""},{"$f":"'AHORRO FOTOVOLTAICA'!L31","v":""},{"$f":"'AHORRO FOTOVOLTAICA'!M31","v":""},"Agosto",0,0,0,0,0,null,null,null,null,null,null,null,null,null,null,null,null,null,null,null,null,null,null,null,null,null,null,-59148.273746585117]
[25,{"$f":"B45*(1+'CUADRO RENTING'!$F$11)","v":5700.3826325490973},{"$f":"C45*0.996*(1+'CUADRO RENTING'!$F$13)","v":3180.5622430063149},{"$f":"'CUADRO RENTING'!M41","v":318.53365136666218},{"$f":"E45*(1+'CUADRO RENTING'!$F$11)","v":1092.057638628014},{"$f":"F45*0.99*(1+'CUADRO RENTING'!$F$11)","v":2235.5100443700339},4005.4809973816728,0.70266879533848092,63153.754743966791,{"$f":"IF(ISERROR(IRR($G$22:$G46)),\"\",IRR($G$22:$G46))","v":""},{"$f":"IRR(G21:G46)","v":0.20123580296268218},"Septiembre",{"$f":"'AHORRO FOTOVOLTAICA'!B32","v":1303.4364696931273},{"$f":"'AHORRO FOTOVOLTAICA'!C32","v":6.5668505384817444E-3},{"$f":"'AHORRO FOTOVOLTAICA'!D32","v":""},{"$f":"'AHORRO FOTOVOLTAICA'!E32","v":""},{"$f":"'AHORRO FOTOVOLTAICA'!F32","v":""},{"$f":"'AHORRO FOTOVOLTAICA'!G32","v":""},{"$f":"'AHORRO FOTOVOLTAICA'!H32","v":""},{"$f":"'AHORRO FOTOVOLTAICA'!I32","v":""},{"$f":"'AHORRO FOTOVOLTAICA'!J32","v":""},{"$f":"'AHORRO FOTOVOLTAICA'!K32","v":""},{"$f":"'AHORRO FOTOVOLTAICA'!L32","v":""},{"$f":"'AHORRO FOTOVOLTAICA'!M32","v":""},"Septiembre",0,0,0,0,0,null,null,null,null,null,null,null,null,null,null,null,null,null,null,null,null,null,null,null,null,null,null,-63153.754743966791]
[26,{"$f":"B46*(1+'CUADRO RENTING'!$F$11)","v":5814.3902852000792},{"$f":"C46*0.996*(1+'CUADRO RENTING'!$F$13)","v":3294.5535937956615},{"$f":"'CUADRO RENTING'!M42","v":324.90432439399547},{"$f":"E46*(1+'CUADRO RENTING'!$F$11)","v":1113.8987914005743},{"$f":"F46*0.99*(1+'CUADRO RENTING'!$F$11)","v":2257.4180428048603},4113.1685208059516,0.70741183839612398,67266.923264772748,{"$f":"IF(ISERROR(IRR($G$22:$G47)),\"\",IRR($G$22:$G47))","v":""},null,"Octubre",{"$f":"'AHORRO FOTOVOLTAICA'!B33","v":1206.8856200862288},{"$f":"'AHORRO FOTOVOLTAICA'!C33","v":6.5668505384817444E-3},{"$f":"'AHORRO FOTOVOLTAICA'!D33","v":""},{"$f":"'AHORRO FOTOVOLTAICA'!E33","v":""},{"$f":"'AHORRO FOTOVOLTAICA'!F33","v":""},{"$f":"'AHORRO FOTOVOLTAICA'!G33","v":""},{"$f":"'AHORRO FOTOVOLTAICA'!H33","v":""},{"$f":"'AHORRO FOTOVOLTAICA'!I33","v":""},{"$f":"'AHORRO FOTOVOLTAICA'!J33","v":""},{"$f":"'AHORRO FOTOVOLTAICA'!K33","v":""},{"$f":"'AHORRO FOTOVOLTAICA'!L33","v":""},{"$f":"'AHORRO FOTOVOLTAICA'!M33","v":""},"Octubre",0,0,0,0,0,null,null,null,null,null,null,null,null,null,null,null,null,null,null,null,null,null,null,null,null,null,null,-67266.923264772748]
[27,{"$f":"B47*(1+'CUADRO RENTING'!$F$11)","v":5930.6780909040808},{"$f":"C47*0.996*(1+'CUADRO RENTING'!$F$13)","v":3412.6303945972982},{"$f":"'CUADRO RENTING'!M43","v":331.40241088187543},{"$f":"E47*(1+'CUADRO RENTING'!$F$11)","v":1136.1767672285857},{"$f":"F47*0.99*(1+'CUADRO RENTING'!$F$11)","v":2279.5407396243477},4224.591956111185,0.71232865641290988,71491.515220883928,{"$f":"IF(ISERROR(IRR($G$22:$G48)),\"\",IRR($G$22:$G48))","v":""},null,"Noviembre",{"$f":"'AHORRO FOTOVOLTAICA'!B34","v":939.43976667512061},{"$f":"'AHORRO FOTOVOLTAICA'!C34","v":6.5668505384817444E-3},{"$f":"'AHORRO FOTOVOLTAICA'!D34","v":""},{"$f":"'AHORRO FOTOVOLTAICA'!E34","v":""},{"$f":"'AHORRO FOTOVOLTAICA'!F34","v":""},{"$f":"'AHORRO FOTOVOLTAICA'!G34","v":""},{"$f":"'AHORRO FOTOVOLTAICA'!H34","v":""},{"$f":"'AHORRO FOTOVOLTAICA'!I34","v":""},{"$f":"'AHORRO FOTOVOLTAICA'!J34","v":""},{"$f":"'AHORRO FOTOVOLTAICA'!K34","v":""},{"$f":"'AHORRO FOTOVOLTAICA'!L34","v":""},{"$f":"'AHORRO FOTOVOLTAICA'!M34","v":""},"Noviembre",0,0,0,0,0,null,null,null,null,null,null,null,null,null,null,null,null,null,null,null,null,null,null,null,null,null,null,-71491.515220883928]
[28,{"$f":"B48*(1+'CUADRO RENTING'!$F$11)","v":6049.2916527221623},{"$f":"C48*0.996*(1+'CUADRO RENTING'!$F$13)","v":3534.9390679396656},{"$f":"'CUADRO RENTING'!M44","v":338.03045909951288},{"$f":"E48*(1+'CUADRO RENTING'!$F$11)","v":1158.9003025731574},{"$f":"F48*0.99*(1+'CUADRO RENTING'!$F$11)","v":2301.8802388726663},4339.8885451396618,0.7174209468288284,75831.403766023592,{"$f":"IF(ISERROR(IRR($G$22:$G49)),\"\",IRR($G$22:$G49))","v":""},null,"Diciembre",{"$f":"'AHORRO FOTOVOLTAICA'!B35","v":862.19908698960194},{"$f":"'AHORRO FOTOVOLTAICA'!C35","v":6.5668505384817444E-3},{"$f":"'AHORRO FOTOVOLTAICA'!D35","v":""},{"$f":"'AHORRO FOTOVOLTAICA'!E35","v":""},{"$f":"'AHORRO FOTOVOLTAICA'!F35","v":""},{"$f":"'AHORRO FOTOVOLTAICA'!G35","v":""},{"$f":"'AHORRO FOTOVOLTAICA'!H35","v":""},{"$f":"'AHORRO FOTOVOLTAICA'!I35","v":""},{"$f":"'AHORRO FOTOVOLTAICA'!J35","v":""},{"$f":"'AHORRO FOTOVOLTAICA'!K35","v":""},{"$f":"'AHORRO FOTOVOLTAICA'!L35","v":""},{"$f":"'AHORRO FOTOVOLTAICA'!M35","v":""},"Diciembre",0,0,0,0,0,null,null,null,null,null,null,null,null,null,null,null,null,null,null,null,null,null,null,null,null,null,null,-75831.403766023592]
[29,{"$f":"B49*(1+'CUADRO RENTING'!$F$11)","v":6170.2774857766053},{"$f":"C49*0.996*(1+'CUADRO RENTING'!$F$13)","v":3661.631284134623},{"$f":"'CUADRO RENTING'!M45","v":344.79106828150316},{"$f":"E49*(1+'CUADRO RENTING'!$F$11)","v":1182.0783086246206},{"$f":"F49*0.99*(1+'CUADRO RENTING'!$F$11)","v":2324.4386652136182},4459.2005724421178,0.72269044345594335,80290.60433846571,{"$f":"IF(ISERROR(IRR($G$22:$G50)),\"\",IRR($G$22:$G50))","v":""},null,null,null,null,null,null,null,null,null,null,null,null,null,null,null,null,null,null,null,null,null,null,null,null,null,null,null,null,null,null,null,null,null,null,null,null,null,null,null,null,null,null,-80290.60433846571]
[30,{"$f":"B50*(1+'CUADRO RENTING'!$F$11)","v":6293.6830354921376},{"$f":"C50*0.996*(1+'CUADRO RENTING'!$F$13)","v":3792.864149358008},{"$f":"'CUADRO RENTING'!M46","v":351.68688964713323},{"$f":"E50*(1+'CUADRO RENTING'!$F$11)","v":1205.7198747971131},{"$f":"F50*0.99*(1+'CUADRO RENTING'!$F$11)","v":2347.2181641327115},4582.675549046473,0.7281389169431105,84873.279887512181,{"$f":"IF(ISERROR(IRR($G$22:$G51)),\"\",IRR($G$22:$G51))","v":""},null,null,null,null,null,null,null,null,null,null,null,null,null,null,null,"p2","p3","p4","p5","p6",null,null,null,null,null,null,null,null,null,null,null,null,null,null,null,null,null,null,null,null,null,null,-84873.279887512181]
[31,{"$f":"B51*(1+'CUADRO RENTING'!$F$11)","v":6419.5566962019802},{"$f":"C51*0.996*(1+'CUADRO RENTING'!$F$13)","v":3928.8004004709992},{"$f":"'CUADRO RENTING'!M47","v":358.72062744007587},{"$f":"E51*(1+'CUADRO RENTING'!$F$11)","v":1229.8342722930554},{"$f":"F51*0.99*(1+'CUADRO RENTING'!$F$11)","v":2370.2209021412123},4710.4664028790794,0.7337681752489148,89583.746290391253,{"$f":"IF(ISERROR(IRR($G$22:$G52)),\"\",IRR($G$22:$G52))","v":""},null,null,"precio p1","precio p2","precio p3","precio p4","precio p5","precio p6","Total mes",null,null,null,null,null,"Enero",{"$f":"IF(O38=\"\",0,O38)","v":0},{"$f":"IF(Q38=\"\",0,Q38)","v":0},{"$f":"IF(S38=\"\",0,S38)","v":0},{"$f":"IF(U38=\"\",0,U38)","v":0},{"$f":"IF(W38=\"\",0,W38)","v":0},null,null,null,null,null,null,null,null,null,null,null,null,null,null,null,null,null,null,null,null,null,null,-89583.746290391253]
[32,{"$f":"B52*(1+'CUADRO RENTING'!$F$11)","v":6547.9478301260197},{"$f":"C52*0.996*(1+'CUADRO RENTING'!$F$13)","v":4069.6086068238801},{"$f":"'CUADRO RENTING'!M48","v":365.89503998887744},{"$f":"E52*(1+'CUADRO RENTING'!$F$11)","v":1254.4309577389165},{"$f":"F52*0.99*(1+'CUADRO RENTING'!$F$11)","v":2393.4490669821962},4842.7316760782824,0.7395800641229423,94426.477966469538,{"$f":"IF(ISERROR(IRR($G$22:$G53)),\"\",IRR($G$22:$G53))","v":""},null,"Enero",{"$f":"M38*N38","v":6.3149885873700233},{"$f":"Z52*Z38","v":0},{"$f":"AA52*AA38","v":0},{"$f":"AB52*AB38","v":0},{"$f":"AC52*AC38","v":0},{"$f":"AD52*AD38","v":0},{"$f":"SUM(M53:R53)","v":6.3149885873700233},null,null,null,null,null,"Febrero",{"$f":"IF(O39=\"\",0,O39)","v":0},{"$f":"IF(Q39=\"\",0,Q39)","v":0},{"$f":"IF(S39=\"\",0,S39)","v":0},{"$f":"IF(U39=\"\",0,U39)","v":0},{"$f":"IF(W39=\"\",0,W39)","v":0},null,null,null,null,null,null,null,null,null,null,null,null,null,null,null,null,null,null,null,null,null,null,-94426.477966469538]
[33,{"$f":"B53*(1+'CUADRO RENTING'!$F$11)","v":6678.9067867285403},{"$f":"C53*0.996*(1+'CUADRO RENTING'!$F$13)","v":4215.4633792924478},{"$f":"'CUADRO RENTING'!M49","v":373.21294078865492},{"$f":"E53*(1+'CUADRO RENTING'!$F$11)","v":1279.5195768936949},{"$f":"F53*0.99*(1+'CUADRO RENTING'!$F$11)","v":2416.9048678386216},4979.6357294487198,0.74557646759550644,99406.113695918262,{"$f":"IF(ISERROR(IRR($G$22:$G54)),\"\",IRR($G$22:$G54))","v":""},null,"Febrero",{"$f":"M39*N39","v":6.847577986304846},{"$f":"Z53*Z39","v":0},0,0,0,0,{"$f":"SUM(M54:R54)","v":6.847577986304846},null,null,null,null,null,"Marzo",0,0,0,0,0,null,null,null,null,null,null,null,null,null,null,null,null,null,null,null,null,null,null,null,null,null,null,-99406.113695918262]
[34,{"$f":"B54*(1+'CUADRO RENTING'!$F$11)","v":6812.4849224631116},{"$f":"C54*0.996*(1+'CUADRO RENTING'!$F$13)","v":4366.5455868062891},{"$f":"'CUADRO RENTING'!M50","v":380.67719960442804},{"$f":"E54*(1+'CUADRO RENTING'!$F$11)","v":1305.1099684315689},{"$f":"F54*0.99*(1+'CUADRO RENTING'!$F$11)","v":2440.5905355434402},5121.348954313733,0.75175930847595418,104527.46265023199,{"$f":"IF(ISERROR(IRR($G$22:$G55)),\"\",IRR($G$22:$G55))","v":""},null,"Marzo",9.1301039817397935,0,0,0,0,0,9.1301039817397935,null,null,null,null,null,"Abril",0,0,0,0,0,null,null,null,null,null,null,null,null,null,null,null,null,null,null,null,null,null,null,null,null,null,null,-104527.46265023199]
[35,{"$f":"B55*(1+'CUADRO RENTING'!$F$11)","v":6948.7346209123743},{"$f":"C55*0.996*(1+'CUADRO RENTING'!$F$13)","v":4523.0425806374269},{"$f":"'CUADRO RENTING'!M51","v":388.29074359651662},{"$f":"E55*(1+'CUADRO RENTING'!$F$11)","v":1331.2121678002002},{"$f":"F55*0.99*(1+'CUADRO RENTING'!$F$11)","v":2464.5083227917662},5268.047992032476,0.75813054885966813,109795.51064226446,{"$f":"IF(ISERROR(IRR($G$22:$G56)),\"\",IRR($G$22:$G56))","v":""},null,"Abril",9.0032969819934081,0,0,0,0,0,9.0032969819934081,null,null,null,null,null,"Mayo",0,0,0,0,0,null,null,null,null,null,null,null,null,null,null,null,null,null,null,null,null,null,null,null,null,null,null,-109795.51064226446]
[36,{"$f":"B56*(1+'CUADRO RENTING'!$F$11)","v":7087.7093133306216},{"$f":"C56*0.996*(1+'CUADRO RENTING'!$F$13)","v":4685.1484267274727},{"$f":"'CUADRO RENTING'!M52","v":396.05655846844695},{"$f":"E56*(1+'CUADRO RENTING'!$F$11)","v":1357.8364111562041},{"$f":"F56*0.99*(1+'CUADRO RENTING'!$F$11)","v":2488.6605043551253},5419.9159614579467,0.76469219064389737,115215.4266037224,{"$f":"IF(ISERROR(IRR($G$22:$G57)),\"\",IRR($G$22:$G57))","v":""},null,"Mayo",9.8909459802181097,0,0,0,0,0,9.8909459802181097,null,null,null,null,null,"Junio",0,0,0,0,0,null,null,null,null,null,null,null,null,null,null,null,null,null,null,null,null,null,null,null,null,null,null,-115215.4266037224]
[37,{"$f":"B57*(1+'CUADRO RENTING'!$F$11)","v":7229.4634995972337},{"$f":"C57*0.996*(1+'CUADRO RENTING'!$F$13)","v":4853.0641463413858},{"$f":"'CUADRO RENTING'!M53","v":403.97768963781596},{"$f":"E57*(1+'CUADRO RENTING'!$F$11)","v":1384.9931393793283},{"$f":"F57*0.99*(1+'CUADRO RENTING'!$F$11)","v":2513.0493772978057},5577.1426946220472,0.77144627605253968,120792.56929834445,{"$f":"IF(ISERROR(IRR($G$22:$G58)),\"\",IRR($G$22:$G58))","v":""},null,"Junio",10.08115647983769,0,0,0,0,0,10.08115647983769,null,null,null,null,null,"Julio",0,0,0,0,0,null,null,null,null,null,null,null,null,null,null,null,null,null,null,null,null,null,null,null,null,null,null,-120792.56929834445]
[38,{"$f":"B58*(1+'CUADRO RENTING'!$F$11)","v":7374.0527695891788},{"$f":"C58*0.996*(1+'CUADRO RENTING'!$F$13)","v":5026.9979653462606},{"$f":"'CUADRO RENTING'!M54","v":412.05724343057227},{"$f":"E58*(1+'CUADRO RENTING'!$F$11)","v":1412.693002166915},{"$f":"F58*0.99*(1+'CUADRO RENTING'!$F$11)","v":2537.6772611953238},5739.9249809440971,0.77839488817000668,126532.49427928854,{"$f":"IF(ISERROR(IRR($G$22:$G59)),\"\",IRR($G$22:$G59))","v":""},null,"Julio",10.398173979203655,0,0,0,0,0,10.398173979203655,null,null,null,null,null,"Agosto",0,0,0,0,0,null,null,null,null,null,null,null,null,null,null,null,null,null,null,null,null,null,null,null,null,null,null,-126532.49427928854]
[39,{"$f":"B59*(1+'CUADRO RENTING'!$F$11)","v":7521.5338249809629},{"$f":"C59*0.996*(1+'CUADRO RENTING'!$F$13)","v":5207.165572424271},{"$f":"'CUADRO RENTING'!M55","v":420.29838829918367},{"$f":"E59*(1+'CUADRO RENTING'!$F$11)","v":1440.9468622102534},{"$f":"F59*0.99*(1+'CUADRO RENTING'!$F$11)","v":2562.5464983550382},5908.4668202698722,0.78554015148430534,132440.96109955842,{"$f":"IF(ISERROR(IRR($G$22:$G60)),\"\",IRR($G$22:$G60))","v":""},"TIR A 40 AÑOS","Agosto",10.017752979964495,0,0,0,0,0,10.017752979964495,null,null,null,null,null,"Septiembre",0,0,0,0,0,null,null,null,null,null,null,null,null,null,null,null,null,null,null,null,null,null,null,null,null,null,null,-132440.96109955842]
[40,{"$f":"B60*(1+'CUADRO RENTING'!$F$11)","v":7671.9645014805819},{"$f":"C60*0.996*(1+'CUADRO RENTING'!$F$13)","v":5393.7903865399576},{"$f":"'CUADRO RENTING'!M56","v":428.70435606516742},{"$f":"E60*(1+'CUADRO RENTING'!$F$11)","v":1469.7657994544584},{"$f":"F60*0.99*(1+'CUADRO RENTING'!$F$11)","v":2587.6594540389174},6082.9796850592493,0.79288423243946438,138523.94078461768,{"$f":"IF(ISERROR(IRR($G$22:$G61)),\"\",IRR($G$22:$G61))","v":""},{"$f":"IRR(G21:G61)","v":0.20438804072942385},"Septiembre",8.5594724828810573,0,0,0,0,0,8.5594724828810573,null,null,null,null,null,"Octubre",0,0,0,0,0,null,null,null,null,null,null,null,null,null,null,null,null,null,null,null,null,null,null,null,null,null,null,-138523.94078461768]
[null,null,null,null,null,null,null,null,null,null,null,"Octubre",7.9254374841491249,0,0,0,0,0,7.9254374841491249,null,null,null,null,null,"Noviembre",0,0,0,0,0]
[null,null,null,null,null,null,null,null,null,null,null,"Noviembre",6.1691605376616803,0,0,0,0,0,6.1691605376616803,null,null,null,null,null,"Diciembre",0,0,0,0,0]
[null,null,null,null,null,null,null,null,null,null,null,"Diciembre",5.6619325386761359,0,0,0,0,0,5.6619325386761359]
[null,null,null,null,null,null,null,null,null,null,null,"Total periodo",{"$f":"SUM(M53:M64)","v":100.00000000000003},0,0,0,0,0,{"$f":"SUM(M65:R65)","v":100.00000000000003},{"$f":"SUM(S53:S64)","v":100.00000000000003}]
[]
[]
[null,null,null,null,null,null,null,null,null,null,null,null,"PRODUCCIÓN FOTOVOLTAICA",null,null,null,null,null,null,null,"PRECIO CONSUMO",null,null,null,null,null,null,null,"EXCESOS(NEGATIVO, TE FALTA)",null,null,null,null,null,null,null,"FALTA(NEGATIVO, TE SOBRA)",null,null,null,null,null,null,"PRECIO FALTA ENERGÍA Y QUE CONSUMES DE RED"]
[null,null,null,null,null,null,null,null,null,null,null,null,"P1","p2","p3","p4","p5","p6",null,null,"PRECIO 1","PRECIO 2","PRECIO 3","PRECIO 4","PRECIO 5","PRECIO 6",null,null,"P1","p2","p3","p4","p5","p6",null,null,"P1","p2","p3","p4","p5","p6",null,null,"P1","p2","p3","p4","p5","p6"]
[null,null,null,null,null,null,null,null,null,null,null,"Enero",{"$f":"M38","v":961.64646208470708},{"$f":"Z52","v":0},0,0,0,0,{"$f":"SUM(M70:R70)","v":961.64646208470708},"Enero",{"$f":"N5","v":0.11042719424593919},{"$f":"Z5","v":0},0,0,0,0,null,"Enero",{"$f":"M70-M5","v":717.64646208470708},{"$f":"N70-O5","v":0},{"$f":"O70-Q5","v":0},{"$f":"P70-S5","v":0},{"$f":"Q70-U5","v":0},{"$f":"R70-W5","v":0},null,"Enero",{"$f":"M5-M70","v":-717.64646208470708},{"$f":"O5-N70","v":0},{"$f":"Q5-O70","v":0},{"$f":"S5-P70","v":0},{"$f":"U5-Q70","v":0},{"$f":"W5-R70","v":0},null,"Enero",{"$f":"IF(AK70<0,0,AK70*'AHORRO FOTOVOLTAICA'!$B$3)","v":0},{"$f":"IF(AL70<0,0,AL70*'AHORRO FOTOVOLTAICA'!$C$3)","v":0},{"$f":"IF(AM70<0,0,AM70*'AHORRO FOTOVOLTAICA'!$D$3)","v":0},{"$f":"IF(AN70<0,0,AN70*'AHORRO FOTOVOLTAICA'!$E$3)","v":0},{"$f":"IF(AO70<0,0,AO70*'AHORRO FOTOVOLTAICA'!$F$3)","v":0},{"$f":"IF(AP70<0,0,AP70*'AHORRO FOTOVOLTAICA'!$G$3)","v":0}]
[null,null,null,null,null,null,null,null,null,null,null,"Febrero",1042.7491757545019,0,0,0,0,0,{"$f":"SUM(M71:R71)","v":1042.7491757545019},"Febrero",0.11042719424593919,0,0,0,0,0,null,"Febrero",773.74917575450195,0,0,0,0,0,null,"Febrero",-773.74917575450195,0,0,0,0,0,null,"Febrero",{"$f":"IF(AK71<0,0,AK71*'AHORRO FOTOVOLTAICA'!$B$3)","v":0},{"$f":"IF(AL71<0,0,AL71*'AHORRO FOTOVOLTAICA'!$C$3)","v":0},{"$f":"IF(AM71<0,0,AM71*'AHORRO FOTOVOLTAICA'!$D$3)","v":0},{"$f":"IF(AN71<0,0,AN71*'AHORRO FOTOVOLTAICA'!$E$3)","v":0},{"$f":"IF(AO71<0,0,AO71*'AHORRO FOTOVOLTAICA'!$F$3)","v":0},{"$f":"IF(AP71<0,0,AP71*'AHORRO FOTOVOLTAICA'!$G$3)","v":0}]
[null,null,null,null,null,null,null,null,null,null,null,"Marzo",1390.3322343393356,0,0,0,0,0,1390.3322343393356,"Marzo",0.11042719424593919,0,0,0,0,0,null,"Marzo",-486.66776566066437,0,0,0,0,0,null,"Marzo",486.66776566066437,0,0,0,0,0,null,"Marzo",{"$f":"IF(AK72<0,0,AK72*'AHORRO FOTOVOLTAICA'!$B$3)","v":51.127368789246752},{"$f":"IF(AL72<0,0,AL72*'AHORRO FOTOVOLTAICA'!$C$3)","v":0},{"$f":"IF(AM72<0,0,AM72*'AHORRO FOTOVOLTAICA'!$D$3)","v":0},{"$f":"IF(AN72<0,0,AN72*'AHORRO FOTOVOLTAICA'!$E$3)","v":0},{"$f":"IF(AO72<0,0,AO72*'AHORRO FOTOVOLTAICA'!$F$3)","v":0},{"$f":"IF(AP72<0,0,AP72*'AHORRO FOTOVOLTAICA'!$G$3)","v":0}]
[null,null,null,null,null,null,null,null,null,null,null,"Abril",1371.022064417956,0,0,0,0,0,1371.022064417956,"Abril",0.11042719424593919,0,0,0,0,0,null,"Abril",-2230.9779355820438,0,0,0,0,0,null,"Abril",2230.9779355820438,0,0,0,0,0,null,"Abril",{"$f":"IF(AK73<0,0,AK73*'AHORRO FOTOVOLTAICA'!$B$3)","v":234.37761800050717},{"$f":"IF(AL73<0,0,AL73*'AHORRO FOTOVOLTAICA'!$C$3)","v":0},{"$f":"IF(AM73<0,0,AM73*'AHORRO FOTOVOLTAICA'!$D$3)","v":0},{"$f":"IF(AN73<0,0,AN73*'AHORRO FOTOVOLTAICA'!$E$3)","v":0},{"$f":"IF(AO73<0,0,AO73*'AHORRO FOTOVOLTAICA'!$F$3)","v":0},{"$f":"IF(AP73<0,0,AP73*'AHORRO FOTOVOLTAICA'!$G$3)","v":0}]
[null,null,null,null,null,null,null,null,null,null,null,"Mayo",1506.1932538676137,0,0,0,0,0,1506.1932538676137,"Mayo",0.11042719424593919,0,0,0,0,0,null,"Mayo",-2626.8067461323863,0,0,0,0,0,null,"Mayo",2626.8067461323863,0,0,0,0,0,null,"Mayo",{"$f":"IF(AK74<0,0,AK74*'AHORRO FOTOVOLTAICA'!$B$3)","v":275.96180952168396},{"$f":"IF(AL74<0,0,AL74*'AHORRO FOTOVOLTAICA'!$C$3)","v":0},{"$f":"IF(AM74<0,0,AM74*'AHORRO FOTOVOLTAICA'!$D$3)","v":0},{"$f":"IF(AN74<0,0,AN74*'AHORRO FOTOVOLTAICA'!$E$3)","v":0},{"$f":"IF(AO74<0,0,AO74*'AHORRO FOTOVOLTAICA'!$F$3)","v":0},{"$f":"IF(AP74<0,0,AP74*'AHORRO FOTOVOLTAICA'!$G$3)","v":0}]
[null,null,null,null,null,null,null,null,null,null,null,"Junio",1535.1585087496833,0,0,0,0,0,1535.1585087496833,"Junio",0.11042719424593919,0,0,0,0,0,null,"Junio",-4222.8414912503167,0,0,0,0,0,null,"Junio",4222.8414912503167,0,0,0,0,0,null,"Junio",{"$f":"IF(AK75<0,0,AK75*'AHORRO FOTOVOLTAICA'!$B$3)","v":443.63483570479326},{"$f":"IF(AL75<0,0,AL75*'AHORRO FOTOVOLTAICA'!$C$3)","v":0},{"$f":"IF(AM75<0,0,AM75*'AHORRO FOTOVOLTAICA'!$D$3)","v":0},{"$f":"IF(AN75<0,0,AN75*'AHORRO FOTOVOLTAICA'!$E$3)","v":0},{"$f":"IF(AO75<0,0,AO75*'AHORRO FOTOVOLTAICA'!$F$3)","v":0},{"$f":"IF(AP75<0,0,AP75*'AHORRO FOTOVOLTAICA'!$G$3)","v":0}]
[null,null,null,null,null,null,null,null,null,null,null,"Julio",1583.4339335531324,0,0,0,0,0,1583.4339335531324,"Julio",0.11042719424593919,0,0,0,0,0,null,"Julio",-4292.5660664468678,0,0,0,0,0,null,"Julio",4292.5660664468678,0,0,0,0,0,null,"Julio",{"$f":"IF(AK76<0,0,AK76*'AHORRO FOTOVOLTAICA'!$B$3)","v":450.95982067664215},{"$f":"IF(AL76<0,0,AL76*'AHORRO FOTOVOLTAICA'!$C$3)","v":0},{"$f":"IF(AM76<0,0,AM76*'AHORRO FOTOVOLTAICA'!$D$3)","v":0},{"$f":"IF(AN76<0,0,AN76*'AHORRO FOTOVOLTAICA'!$E$3)","v":0},{"$f":"IF(AO76<0,0,AO76*'AHORRO FOTOVOLTAICA'!$F$3)","v":0},{"$f":"IF(AP76<0,0,AP76*'AHORRO FOTOVOLTAICA'!$G$3)","v":0}]
[null,null,null,null,null,null,null,null,null,null,null,"Agosto",1525.5034237889934,0,0,0,0,0,1525.5034237889934,"Agosto",0.11042719424593919,0,0,0,0,0,null,"Agosto",-2953.4965762110069,0,0,0,0,0,null,"Agosto",2953.4965762110069,0,0,0,0,0,null,"Agosto",{"$f":"IF(AK77<0,0,AK77*'AHORRO FOTOVOLTAICA'!$B$3)","v":310.28253631042355},{"$f":"IF(AL77<0,0,AL77*'AHORRO FOTOVOLTAICA'!$C$3)","v":0},{"$f":"IF(AM77<0,0,AM77*'AHORRO FOTOVOLTAICA'!$D$3)","v":0},{"$f":"IF(AN77<0,0,AN77*'AHORRO FOTOVOLTAICA'!$E$3)","v":0},{"$f":"IF(AO77<0,0,AO77*'AHORRO FOTOVOLTAICA'!$F$3)","v":0},{"$f":"IF(AP77<0,0,AP77*'AHORRO FOTOVOLTAICA'!$G$3)","v":0}]
[null,null,null,null,null,null,null,null,null,null,null,"Septiembre",1303.4364696931273,0,0,0,0,0,1303.4364696931273,"Septiembre",0.11042719424593919,0,0,0,0,0,null,"Septiembre",-2029.5635303068727,0,0,0,0,0,null,"Septiembre",2029.5635303068727,0,0,0,0,0,null,"Septiembre",{"$f":"IF(AK78<0,0,AK78*'AHORRO FOTOVOLTAICA'!$B$3)","v":213.21782623991882},{"$f":"IF(AL78<0,0,AL78*'AHORRO FOTOVOLTAICA'!$C$3)","v":0},{"$f":"IF(AM78<0,0,AM78*'AHORRO FOTOVOLTAICA'!$D$3)","v":0},{"$f":"IF(AN78<0,0,AN78*'AHORRO FOTOVOLTAICA'!$E$3)","v":0},{"$f":"IF(AO78<0,0,AO78*'AHORRO FOTOVOLTAICA'!$F$3)","v":0},{"$f":"IF(AP78<0,0,AP78*'AHORRO FOTOVOLTAICA'!$G$3)","v":0}]
[null,null,null,null,null,null,null,null,null,null,null,"Octubre",1206.8856200862288,0,0,0,0,0,1206.8856200862288,"Octubre",0.11042719424593919,0,0,0,0,0,null,"Octubre",-880.11437991377124,0,0,0,0,0,null,"Octubre",880.11437991377124,0,0,0,0,0,null,"Octubre",{"$f":"IF(AK79<0,0,AK79*'AHORRO FOTOVOLTAICA'!$B$3)","v":92.46129629622115},{"$f":"IF(AL79<0,0,AL79*'AHORRO FOTOVOLTAICA'!$C$3)","v":0},{"$f":"IF(AM79<0,0,AM79*'AHORRO FOTOVOLTAICA'!$D$3)","v":0},{"$f":"IF(AN79<0,0,AN79*'AHORRO FOTOVOLTAICA'!$E$3)","v":0},{"$f":"IF(AO79<0,0,AO79*'AHORRO FOTOVOLTAICA'!$F$3)","v":0},{"$f":"IF(AP79<0,0,AP79*'AHORRO FOTOVOLTAICA'!$G$3)","v":0}]
[null,null,null,null,null,null,null,null,null,null,null,"Noviembre",939.43976667512061,0,0,0,0,0,939.43976667512061,"Noviembre",0.11042719424593919,0,0,0,0,0,null,"Noviembre",720.43976667512061,0,0,0,0,0,null,"Noviembre",-720.43976667512061,0,0,0,0,0,null,"Noviembre",{"$f":"IF(AK80<0,0,AK80*'AHORRO FOTOVOLTAICA'!$B$3)","v":0},{"$f":"IF(AL80<0,0,AL80*'AHORRO FOTOVOLTAICA'!$C$3)","v":0},{"$f":"IF(AM80<0,0,AM80*'AHORRO FOTOVOLTAICA'!$D$3)","v":0},{"$f":"IF(AN80<0,0,AN80*'AHORRO FOTOVOLTAICA'!$E$3)","v":0},{"$f":"IF(AO80<0,0,AO80*'AHORRO FOTOVOLTAICA'!$F$3)","v":0},{"$f":"IF(AP80<0,0,AP80*'AHORRO FOTOVOLTAICA'!$G$3)","v":0}]
[null,null,null,null,null,null,null,null,null,null,null,"Diciembre",862.19908698960194,0,0,0,0,0,862.19908698960194,"Diciembre",0.11042719424593919,0,0,0,0,0,null,"Diciembre",645.19908698960194,0,0,0,0,0,null,"Diciembre",-645.19908698960194,0,0,0,0,0,null,"Diciembre",{"$f":"IF(AK81<0,0,AK81*'AHORRO FOTOVOLTAICA'!$B$3)","v":0},{"$f":"IF(AL81<0,0,AL81*'AHORRO FOTOVOLTAICA'!$C$3)","v":0},{"$f":"IF(AM81<0,0,AM81*'AHORRO FOTOVOLTAICA'!$D$3)","v":0},{"$f":"IF(AN81<0,0,AN81*'AHORRO FOTOVOLTAICA'!$E$3)","v":0},{"$f":"IF(AO81<0,0,AO81*'AHORRO FOTOVOLTAICA'!$F$3)","v":0},{"$f":"IF(AP81<0,0,AP81*'AHORRO FOTOVOLTAICA'!$G$3)","v":0},"PRECIO ENERGÍA NO PRODUCIDA Y QUE CONSUMES DE RED"]
[null,null,null,null,null,null,null,null,null,null,null,null,{"$f":"SUM(M70:M81)","v":15228.000000000004},0,0,0,0,0,15228.000000000004,null,null,null,null,null,null,null,null,null,null,null,null,null,null,null,null,null,null,null,null,null,null,null,null,null,{"$f":"SUM(AS70:AS81)","v":2072.0231115394367},0,0,0,0,0,{"$f":"SUM(AS82:AX82)","v":2072.0231115394367}]
[]
[null,null,null,null,null,null,null,null,null,null,null,null,null,null,null,null,null,null,null,null,"PRECIO PEAJE"]
[null,null,null,null,null,null,null,null,null,null,null,"Enero",{"$f":"IF( M70<M5,M70*U70,M5*U70)","v":26.944235396009162},{"$f":"IF( N70<O5,N70*V70,O5*V70)","v":0},{"$f":"IF(O70<Q5,O70*W70,Q5*W70)","v":0},{"$f":"IF(P70<S5,P70*X70,S5*X70)","v":0},{"$f":"IF(Q70<U5,Q70*Y70,U5*Y70)","v":0},{"$f":"IF(R70<W5,R70*Z70,W5*Z70)","v":0},null,null,"PRECIO 1","PRECIO 2","PRECIO 3","PRECIO 4","PRECIO 5","PRECIO 6"]
[null,null,null,null,null,null,null,null,null,null,null,"Febrero",29.704915252157644,0,0,0,0,0,null,"Enero",{"$f":"IF(M70<M5,M70*$C$3,M5*$C$3)","v":13.391452000000001},{"$f":"IF(N70<O5,N70*$D$3,O5*$D$3)","v":0},{"$f":"IF(O70<Q5,O70*$E$3,Q5*$E$3)","v":0},{"$f":"IF(P70<S5,P70*$G$3,S5*$G$3)","v":0},{"$f":"IF(Q70<U5,Q70*$H$3,U5*$H$3)","v":0},{"$f":"IF(R70<W5,R70*$K$3,W5*$K$3)","v":0}]
[null,null,null,null,null,null,null,null,null,null,null,"Marzo",153.53048770778045,0,0,0,0,0,null,"Febrero",14.763527,0,0,0,0,0]
[null,null,null,null,null,null,null,null,null,null,null,"Abril",151.39811982295018,0,0,0,0,0,null,"Marzo",76.305604017245756,0,0,0,0,0]
[null,null,null,null,null,null,null,null,null,null,null,"Mayo",166.32469501676218,0,0,0,0,0,null,"Abril",75.245803961450676,0,0,0,0,0]
[null,null,null,null,null,null,null,null,null,null,null,"Junio",169.52324684400762,0,0,0,0,0,null,"Mayo",82.664404352016248,0,0,0,0,0]
[null,null,null,null,null,null,null,null,null,null,null,"Julio",174.85416655608333,0,0,0,0,0,null,"Junio",84.254104435708868,0,0,0,0,0]
[null,null,null,null,null,null,null,null,null,null,null,"Agosto",168.45706290159245,0,0,0,0,0,null,"Julio",86.903604575196567,0,0,0,0,0]
[null,null,null,null,null,null,null,null,null,null,null,"Septiembre",143.93483222604419,0,0,0,0,0,null,"Agosto",83.724204407811328,0,0,0,0,0]
[null,null,null,null,null,null,null,null,null,null,null,"Octubre",133.27299280189274,0,0,0,0,0,null,"Septiembre",71.536503766167911,0,0,0,0,0]
[null,null,null,null,null,null,null,null,null,null,null,"Noviembre",24.183555539860684,0,0,0,0,0,null,"Octubre",66.237503487192498,0,0,0,0,0]
[null,null,null,null,null,null,null,null,null,null,null,"Diciembre",23.962701151368805,0,0,0,0,0,null,"Noviembre",12.019377,0,0,0,0,0]
[null,null,null,null,null,null,null,null,null,null,null,null,{"$f":"SUM(M85:M96)","v":1366.0910112165093},0,0,0,0,0,{"$f":"SUM(M97:R97)","v":1366.0910112165093},"Diciembre",11.909611,0,0,0,0,0]
[null,null,null,null,null,null,null,null,null,null,null,null,null,null,null,null,null,null,null,null,{"$f":"SUM(U86:U97)","v":678.95570000278997},0,0,0,0,0,{"$f":"SUM(U98:Z98)","v":678.95570000278997}]
[]
[]
[]
[]
[]
[]
[]
[]
[]
[]
[]
[]
[]
[]
[]
[]
[]
[]
[null,null,null,null,null,null,null,null,null,null,null,null,"P1","P2","P3","P4","P5","P6"]
[null,null,null,null,null,null,null,null,"2.0A",null,null,"2.0A",4.3187000000000003E-2,0,0,0,0,0]
[null,null,null,null,null,null,null,null,"2.0DHA",null,null,"2.0DHA",5.7144E-2,null,6.148E-2]
[null,null,null,null,null,null,null,null,null,null,null,"2.0DHS",5.7938000000000003E-2,6.43E-3,6.1120000000000002E-3]
[null,null,null,null,null,null,null,null,null,null,null,"2.1A",5.4883000000000001E-2]
[null,null,null,null,null,null,null,null,"2.1A",null,null,"2.1DHA",6.8081000000000003E-2,null,1.545E-2]
[null,null,null,null,null,null,null,null,"2.1DHA",null,null,"2.1DHS",6.8875000000000006E-2,1.822E-2,1.137E-2]
[null,null,null,null,null,null,null,null,"3.0A",null,null,"3.0A",2.0567999999999999E-2,1.3696E-2,8.9510000000000006E-3]
[null,null,null,null,null,null,null,null,"3.1A",null,null,"3.1A",1.5301E-2,9.9979999999999999E-3,1.2035000000000001E-2]
[null,null,null,null,null,null,null,null,"6.1A",null,null,"6.1A",1.1775000000000001E-2,1.1336000000000001E-2,7.6020000000000003E-3,9.1640000000000003E-3,9.9860000000000001E-3,6.7200000000000003E-3]
[null,null,null,null,null,null,null,null,null,null,null,"6.1B",1.1775000000000001E-2,8.3119999999999999E-3,7.8810000000000009E-3,8.3770000000000008E-3,8.7159999999999998E-3,6.2449999999999997E-3]
[null,null,null,null,null,null,null,null,null,null,null,"6.2",1.2669E-2,1.1554E-2,7.8810000000000009E-3,8.3770000000000008E-3,8.7159999999999998E-3,6.2449999999999997E-3]
[null,null,null,null,null,null,null,null,null,null,null,"6.3",1.5106E-2,1.2815999999999999E-2,8.5299999999999994E-3,8.5100000000000002E-3,8.6730000000000002E-3,6.2779999999999997E-3]
[null,null,null,null,null,null,null,null,null,null,null,"6.4",1.1775000000000001E-2,8.5310000000000004E-3,7.3220000000000004E-3,7.7879999999999998E-3,8.2570000000000005E-3,6.1040000000000001E-3]

{"sheet":"PORCENTAJES","index":5,"n_rows":130,"n_cols":55,"rows_kept":130,"cut":false,"hidden":true,"merged":[[114,1,114,2],[114,4,114,5],[114,6,114,8],[99,6,99,8],[34,17,34,21],[36,18,36,19],[36,20,36,21],[99,1,99,2],[99,4,99,5],[0,10,0,11],[0,12,0,14],[83,4,83,5],[83,6,83,8],[0,0,0,4],[14,0,14,4],[16,1,16,2],[16,3,16,4],[83,1,83,2],[0,7,0,8]]}
[null,null,null,null,null,null,"2.0 A","2.0 DHA",null,"2.1 A","2.1 DHA",null,"3.0 ",null,null,null,"3.1",null,null,"6.1",null,null,null,null,null,"CITY","ZONA"]
["Month","Ed","Em","Hd","Hm",null,"P","P1(punta)","P3 (valle)","P","P1","P2","P1","P2 ","P3","P1","P2 ","P3","P1","P2","P3","P4 ","P5","P6",null,"Alicante",5,"0:00-1:00","1:00-2:00","2:00-3:00","3:00-4:00","4:00-5:00","5:00-6:00","6:00-7:00","7:00-8:00","8:00-9:00","9:00-10:00","10:00-11:00","11:00-12:00","12:00-13:00","13:00-14:00","14:00-15:00","15:00-16:00","16:00-17:00","17:00-18:00","18:00-19:00","19:00-20:00","20:00-21:00","21:00-22:00","22:00-23:00","23:00-24:00",null,"PRUEBA"]
["Jan",{"$f":"'IMPORTACIÓN DATOS ANUALES PVGIS'!C6","v":"3,21"},{"$f":"'IMPORTACIÓN DATOS ANUALES PVGIS'!D6","v":"99,6"},{"$f":"'IMPORTACIÓN DATOS ANUALES PVGIS'!E6","v":"4,10"},{"$f":"'IMPORTACIÓN DATOS ANUALES PVGIS'!F6","v":127},{"$f":"C3/$B$17","v":6.3149885873700226E-2},{"$f":"F3","v":6.3149885873700226E-2},{"$f":"F3*SUM(AN3:AW3)","v":4.1582828847122486E-2},{"$f":"G3-H3","v":2.1567057026577741E-2},{"$f":"F3","v":6.3149885873700226E-2},{"$f":"H3","v":4.1582828847122486E-2},{"$f":"I3","v":2.1567057026577741E-2},{"$f":"F3*SUM(AT3:AW3)","v":0},{"$f":"F3-M3-O3","v":6.3149885873700226E-2},{"$f":"F3*SUM(AB3:AI3)","v":0},{"$f":"F3*((X40-Y40-Z40)*SUM(AS3:AX3))/X40","v":9.1075454031614973E-4},{"$f":"F3-P3-R3","v":4.1868200406384004E-2},{"$f":"F3*((X40-Y40-Z40)*SUM(AB3:AI3)+(Y40+PORCENTAJES!Z40)*SUM(AB3:AS3))/X40","v":2.0370930927000073E-2},{"$f":"F3*((X40-Y40-Z40)*(SUM(AL3:AN3)+SUM(AT3:AV3)))/X40","v":1.7525871154191859E-2},{"$f":"F3*((X40-Y40-Z40)*(SUM(AJ3:AK3)+SUM(AO3:AS3)+SUM(AW3:AY3)))/X40","v":2.5253083792508298E-2},null,null,null,{"$f":"F3*((X40-Y40-Z40)*SUM(AB3:AI3)+(Y40+Z40)*SUM(AB3:AY3))/X40","v":2.0370930927000073E-2},{"$f":"SUM(S3:X3)","v":6.3149885873700226E-2},"ENERO","ENERO",{"$f":"AD25/$BB25","v":0},{"$f":"AE25/$BB25","v":0},0,0,0,0,0,0,1.7261983800292126E-2,7.103970256274067E-2,0.11198158721727969,0.14123843668392866,0.15646439162572479,0.15646439162572479,0.14123843668392866,0.11198158721727969,7.103970256274067E-2,2.1289780020360288E-2,0,0,0,0,0,0,null,{"$f":"SUM(AB3:AY3)","v":1},"enero",{"$f":"IF(F3=Y3,\"si\",\"no\")","v":"si"}]
["Feb",{"$f":"'IMPORTACIÓN DATOS ANUALES PVGIS'!C7","v":"3,84"},{"$f":"'IMPORTACIÓN DATOS ANUALES PVGIS'!D7","v":108},{"$f":"'IMPORTACIÓN DATOS ANUALES PVGIS'!E7","v":"4,93"},{"$f":"'IMPORTACIÓN DATOS ANUALES PVGIS'!F7","v":138},{"$f":"C4/$B$17","v":6.8475779863048453E-2},{"$f":"F4","v":6.8475779863048453E-2},{"$f":"F4*SUM(AN4:AW4)","v":4.4461483111077046E-2},{"$f":"G4-H4","v":2.4014296751971406E-2},{"$f":"F4","v":6.8475779863048453E-2},{"$f":"H4","v":4.4461483111077046E-2},2.4014296751971406E-2,{"$f":"F4*SUM(AT4:AW4)","v":1.4862959970274081E-4},{"$f":"F4-M4-O4","v":6.832715026334571E-2},{"$f":"F4*SUM(AB4:AI4)","v":0},{"$f":"F4*((X41-Y41-Z41)*SUM(AS4:AX4))/X41","v":1.7062071394447289E-3},{"$f":"F4-P4-R4","v":4.7247529791219225E-2},{"$f":"F4*((X41-Y41-Z41)*SUM(AB4:AI4)+(Y41+PORCENTAJES!Z41)*SUM(AB4:AS4))/X41","v":1.9522042932384492E-2},{"$f":"F4*((X41-Y41-Z41)*(SUM(AL4:AN4)+SUM(AT4:AV4)))/X41","v":1.9300994318540873E-2},{"$f":"F4*((X41-Y41-Z41)*(SUM(AJ4:AK4)+SUM(AO4:AS4)+SUM(AW4:AY4)))/X41","v":2.9610277012208024E-2},null,null,null,{"$f":"F4*((X41-Y41-Z41)*SUM(AB4:AI4)+(Y41+Z41)*SUM(AB4:AY4))/X41","v":1.9564508532299563E-2},{"$f":"SUM(S4:X4)","v":6.8475779863048453E-2},"FEBRERO","FEBRERO",{"$f":"AD26/$BB26","v":0},0,0,0,0,0,0,0,3.2713178294573646E-2,7.3759689922480623E-2,0.10930232558139535,0.13492248062015505,0.14821705426356588,0.14821705426356588,0.13492248062015505,0.10930232558139535,7.3759689922480623E-2,3.2713178294573646E-2,2.1705426356589145E-3,0,0,0,0,0,null,{"$f":"SUM(AB4:AY4)","v":1.0000000000000002},"febrero",{"$f":"IF(F4=Y4,\"si\",\"no\")","v":"si"}]
["Mar",{"$f":"'IMPORTACIÓN DATOS ANUALES PVGIS'!C8","v":"4,66"},{"$f":"'IMPORTACIÓN DATOS ANUALES PVGIS'!D8","v":144},{"$f":"'IMPORTACIÓN DATOS ANUALES PVGIS'!E8","v":"6,11"},{"$f":"'IMPORTACIÓN DATOS ANUALES PVGIS'!F8","v":189},{"$f":"C5/$B$17","v":9.1301039817397928E-2},9.1301039817397928E-2,{"$f":"F5*SUM(AN5:AW5)","v":5.8345906664039972E-2},3.2955133153357956E-2,9.1301039817397928E-2,5.8345906664039972E-2,3.2955133153357956E-2,{"$f":"F5*SUM(AT5:AW5)","v":9.1024661307816438E-4},8.9516595962056578E-2,8.7419724226318754E-4,{"$f":"F5*((X42-Y42-Z42)*SUM(AS5:AX5))/X42","v":3.4859353950439397E-3},6.3839850157624584E-2,{"$f":"F5*((X42-Y42-Z42)*SUM(AB5:AI5)+(Y42+PORCENTAJES!Z42)*SUM(AB5:AS5))/X42","v":2.39752542647294E-2},null,null,{"$f":"F5*(SUM(AR5:AW5))*(X42-Y42-Z42)/X42","v":8.6479727191627175E-3},{"$f":"F5*(SUM(AJ5:AQ5)+SUM(AX5:AY5))*(X42-Y42-Z42)/X42","v":5.8442910481743708E-2},null,{"$f":"F5*((X42-Y42-Z42)*SUM(AB5:AI5)+(Y42+Z42)*SUM(AB5:AY5))/X42","v":2.4210156616491504E-2},9.1301039817397928E-2,"MARZO","MARZO",0,0,0,0,0,0,0,9.5748881284548563E-3,4.1491181889971043E-2,7.6204264280073708E-2,0.10617925769939458,0.12750065806791261,0.13885232956041063,0.13885232956041063,0.12750065806791261,0.10617925769939458,7.6204264280073708E-2,4.1491181889971043E-2,9.9697288760200054E-3,0,0,0,0,0,null,0.99999999999999989,"marzo","si"]
["Apr",{"$f":"'IMPORTACIÓN DATOS ANUALES PVGIS'!C9","v":"4,74"},{"$f":"'IMPORTACIÓN DATOS ANUALES PVGIS'!D9","v":142},{"$f":"'IMPORTACIÓN DATOS ANUALES PVGIS'!E9","v":"6,27"},{"$f":"'IMPORTACIÓN DATOS ANUALES PVGIS'!F9","v":188},9.0032969819934069E-2,9.0032969819934069E-2,{"$f":"F6*SUM(AO6:AX6)","v":5.7021936901086805E-2},3.3011032918847265E-2,9.0032969819934069E-2,5.7021936901086805E-2,3.3011032918847265E-2,{"$f":"F6*SUM(AM6:AP6)","v":4.4421756389835997E-2},4.553057227482607E-2,8.0641155272005176E-5,{"$f":"F6*((X43-Y43-Z43)*SUM(AL6:AQ6))/X43","v":3.9554006654041921E-2},1.9498263333768265E-2,{"$f":"F6*((X43-Y43-Z43)*SUM(AB6:AI6)+(Y43+PORCENTAJES!Z43)*SUM(AB6:AS6))/X43","v":3.0980699832123884E-2},null,null,null,null,{"$f":"F6*SUM(AJ6:AY6)*(X43-Y43-Z43)/X43","v":5.696980815428597E-2},{"$f":"F6*((X43-Y43-Z43)*SUM(AB6:AI6)+(Y43+Z43)*SUM(AB6:AY6))/X43","v":3.3063161665648093E-2},9.0032969819934056E-2,"ABRIL","ABRIL",0,0,0,0,0,0,0,8.9568471897891937E-4,1.6090336201657018E-2,4.5551965708070762E-2,7.6868942132369403E-2,0.10383544992162759,0.12341255877930968,0.1330731582482966,0.1330731582482966,0.12341255877930968,0.10383544992162759,7.6868942132369403E-2,4.5551965708070762E-2,1.6090336201657018E-2,1.4394932983589777E-3,0,0,0,null,1,"abril","si"]
["May",{"$f":"'IMPORTACIÓN DATOS ANUALES PVGIS'!C10","v":"5,05"},{"$f":"'IMPORTACIÓN DATOS ANUALES PVGIS'!D10","v":156},{"$f":"'IMPORTACIÓN DATOS ANUALES PVGIS'!E10","v":"6,76"},{"$f":"'IMPORTACIÓN DATOS ANUALES PVGIS'!F10","v":210},9.8909459802181091E-2,9.8909459802181091E-2,{"$f":"F7*SUM(AO7:AX7)","v":6.2237566864372457E-2},3.6671892937808634E-2,9.8909459802181091E-2,6.2237566864372457E-2,3.6671892937808634E-2,{"$f":"F7*SUM(AM7:AP7)","v":4.7438702879100299E-2},{"$f":"F7-M7-O7","v":5.1112491793685801E-2},{"$f":"F7*SUM(AB7:AI7)","v":3.5826512939499393E-4},{"$f":"F7*((X44-Y44-Z44)*SUM(AL7:AQ7))/X44","v":4.7489492587596868E-2},{"$f":"F7-P7-R7","v":2.4531226450517828E-2},{"$f":"F7*((X44-Y44-Z44)*SUM(AB7:AI7)+(Y44+PORCENTAJES!Z44)*SUM(AB7:AS7))/X44","v":2.6888740764066395E-2},null,null,null,null,{"$f":"F7*SUM(AJ7:AY7)*(X44-Y44-Z44)/X44","v":6.9939557509719155E-2},{"$f":"F7*((X44-Y44-Z44)*SUM(AB7:AI7)+(Y44+Z44)*SUM(AB7:AY7))/X44","v":2.8969902292461925E-2},9.8909459802181077E-2,"MAYO","MAYO",0,0,0,0,0,0,0,3.6221523210370793E-3,2.0080704095573984E-2,4.8231817748546374E-2,7.7145489784894994E-2,0.10189686397864836,0.1197852127220157,0.12896768658850444,0.12896768658850444,0.1197852127220157,0.10189686397864836,7.7145489784894994E-2,4.8231817748546374E-2,2.0080704095573984E-2,4.1622978425952407E-3,0,0,0,null,1,"mayo","si"]
["Jun",{"$f":"'IMPORTACIÓN DATOS ANUALES PVGIS'!C11","v":"5,29"},{"$f":"'IMPORTACIÓN DATOS ANUALES PVGIS'!D11","v":159},{"$f":"'IMPORTACIÓN DATOS ANUALES PVGIS'!E11","v":"7,18"},{"$f":"'IMPORTACIÓN DATOS ANUALES PVGIS'!F11","v":215},0.10081156479837688,0.10081156479837688,6.323188910368209E-2,3.7579675694694795E-2,0.10081156479837688,6.323188910368209E-2,3.7579675694694795E-2,4.7647760982986488E-2,5.2572332397934768E-2,5.9147141745563103E-4,4.9353551479736989E-2,2.6228217249780198E-2,{"$f":"F8*((X45-Y45-Z45)*SUM(AB8:AI8)+(Y45+PORCENTAJES!Z45)*SUM(AB8:AS8))/X45","v":2.5229796068859698E-2},{"$f":"G8*SUM(AL8:AT8)*(X45-Y45-Z45)/(X45*2)","v":3.3064123648539508E-2},{"$f":"F8*(SUM(AJ8:AK8)+SUM(AU8:AY8))*(X45-Y45-Z45)/(X45*2)","v":3.6832439244649556E-3},{"$f":"F8*SUM(AK8:AQ8)*(X45-Y45-Z45)/(X45*2)","v":2.6494433850933342E-2},{"$f":"F8*(SUM(AJ8)+SUM(AR8:AY8))*(X45-Y45-Z45)/(X45*2)","v":1.025293372207112E-2},null,{"$f":"F8*((X45-Y45-Z45)*SUM(AB8:AI8)+(Y45+Z45)*SUM(AB8:AY8))/X45","v":2.7316829652367966E-2},0.1008115647983769,"JUNIO","JUNIO",0,0,0,0,0,0,0,5.86709886547812E-3,2.2009724473257698E-2,4.9173419773095625E-2,7.6952998379254456E-2,0.10077795786061589,0.11799027552674231,0.12693679092382495,0.12693679092382495,0.11799027552674231,0.10077795786061589,7.6952998379254456E-2,4.9173419773095625E-2,2.2009724473257698E-2,5.86709886547812E-3,5.8346839546191253E-4,0,0,null,0.99999999999999989,"junio","si"]
["Jul",{"$f":"'IMPORTACIÓN DATOS ANUALES PVGIS'!C12","v":"5,30"},{"$f":"'IMPORTACIÓN DATOS ANUALES PVGIS'!D12","v":164},{"$f":"'IMPORTACIÓN DATOS ANUALES PVGIS'!E12","v":"7,30"},{"$f":"'IMPORTACIÓN DATOS ANUALES PVGIS'!F12","v":226},0.10398173979203654,0.10398173979203654,6.5304736611483769E-2,3.8677003180552769E-2,0.10398173979203654,6.5304736611483769E-2,3.8677003180552769E-2,4.9448114602766643E-2,5.3980999705536541E-2,5.5262548373335356E-4,4.7272609729933905E-2,2.5328467500443742E-2,{"$f":"F9*((X46-Y46-Z46)*SUM(AB9:AI9)+(Y46+PORCENTAJES!Z46)*SUM(AB9:AS9))/X46","v":3.138066256165889E-2},{"$f":"G9*SUM(AL9:AT9)*(X46-Y46-Z46)/X46","v":6.3241441069011306E-2},{"$f":"F9*(SUM(AJ9:AK9)+SUM(AU9:AY9))*(X46-Y46-Z46)/X46","v":6.8234428172585905E-3},null,null,null,3.3916855905766631E-2,0.10398173979203654,"JULIO","JULIO",0,0,0,0,0,0,0,5.3146397130746656E-3,2.1258558852298663E-2,4.8646886208020865E-2,7.6882947505705901E-2,0.10117378545810238,0.11868275187479622,0.12784479947831756,0.12784479947831756,0.11868275187479622,0.10117378545810238,7.6882947505705901E-2,4.8646886208020865E-2,2.1258558852298663E-2,5.3146397130746656E-3,3.9126181936746006E-4,0,0,null,1,"julio","si"]
["Aug",{"$f":"'IMPORTACIÓN DATOS ANUALES PVGIS'!C13","v":"5,09"},{"$f":"'IMPORTACIÓN DATOS ANUALES PVGIS'!D13","v":158},{"$f":"'IMPORTACIÓN DATOS ANUALES PVGIS'!E13","v":"7,03"},{"$f":"'IMPORTACIÓN DATOS ANUALES PVGIS'!F13","v":218},0.10017752979964495,0.10017752979964495,6.3302631148044741E-2,3.6874898651600208E-2,0.10017752979964495,6.3302631148044741E-2,3.6874898651600208E-2,4.8897801283601758E-2,5.1063189676730333E-2,2.1653883931285693E-4,4.8815914139405031E-2,2.4076862199269317E-2,{"$f":"F10*((X47-Y47-Z47)*SUM(AB10:AI10)+(Y47+PORCENTAJES!Z47)*SUM(AB10:AS10))/X47","v":2.72847534609706E-2},null,null,null,null,null,{"$f":"F10","v":0.10017752979964495},0.10017752979964495,"AGOSTO","AGOSTO",0,0,0,0,0,0,0,2.1615509959761895E-3,1.802400984337069E-2,4.6456719098134418E-2,7.6651923780386419E-2,0.10292308203917395,0.12187822154234977,0.13165508297030362,0.13165508297030362,0.12187822154234977,0.10292308203917395,7.6651923780386419E-2,4.6456719098134418E-2,1.802400984337069E-2,2.6603704565860797E-3,0,0,0,null,1,"agosto","si"]
["Sep",{"$f":"'IMPORTACIÓN DATOS ANUALES PVGIS'!C14","v":"4,52"},{"$f":"'IMPORTACIÓN DATOS ANUALES PVGIS'!D14","v":135},{"$f":"'IMPORTACIÓN DATOS ANUALES PVGIS'!E14","v":"6,17"},{"$f":"'IMPORTACIÓN DATOS ANUALES PVGIS'!F14","v":185},8.5594724828810559E-2,8.5594724828810559E-2,5.4614991451040068E-2,3.0979733377770491E-2,8.5594724828810559E-2,5.4614991451040068E-2,3.0979733377770491E-2,4.3468036066345028E-2,4.2126688762465531E-2,0,4.2560530781064046E-2,1.8754310808125924E-2,{"$f":"F11*((X48-Y48-Z48)*SUM(AB11:AI11)+(Y48+PORCENTAJES!Z48)*SUM(AB11:AS11))/X48","v":2.4279883239620589E-2},null,null,{"$f":"F11*SUM(AK11:AQ11)*(X48-Y48-Z48)/X48","v":4.5077652831000424E-2},{"$f":"F11*(SUM(AJ11)+SUM(AR11:AY11))*(X48-Y48-Z48)/X48","v":1.4838654549166963E-2},null,2.567841744864317E-2,8.5594724828810559E-2,"SEPTIEMBRE","SEPTIEMBRE",0,0,0,0,0,0,0,0,1.2102980271442564E-2,4.2010633832377221E-2,7.5766055687701131E-2,0.10532391213096404,0.12673149573247516,0.13789002378620399,0.13789002378620399,0.12673149573247516,0.10532391213096404,7.5766055687701131E-2,4.2010633832377221E-2,1.2102980271442564E-2,3.4979711767175038E-4,0,0,0,null,1,"septiembre","si"]
["Oct",{"$f":"'IMPORTACIÓN DATOS ANUALES PVGIS'!C15","v":"4,04"},{"$f":"'IMPORTACIÓN DATOS ANUALES PVGIS'!D15","v":125},{"$f":"'IMPORTACIÓN DATOS ANUALES PVGIS'!E15","v":"5,43"},{"$f":"'IMPORTACIÓN DATOS ANUALES PVGIS'!F15","v":168},7.9254374841491254E-2,7.9254374841491254E-2,5.1155817169758908E-2,2.8098557671732347E-2,7.9254374841491254E-2,5.1155817169758908E-2,2.8098557671732347E-2,4.1974606110249287E-2,3.7279768731241968E-2,0,3.954085636159646E-2,1.5198907355836129E-2,{"$f":"F12*((X49-Y49-Z49)*SUM(AB12:AI12)+(Y49+PORCENTAJES!Z49)*SUM(AB12:AS12))/X49","v":2.4514611124058665E-2},null,null,null,null,{"$f":"F12*SUM(AJ12:AY12)*(X49-Y49-Z49)/X49","v":5.3688447473268265E-2},2.5565927368222982E-2,7.9254374841491254E-2,"OCTUBRE","OCTUBRE",0,0,0,0,0,0,0,0,3.1860111880857999E-3,3.6416848812655132E-2,7.4723076353128595E-2,0.10806505390286371,0.13214537102211685,0.14470418256585041,0.14470418256585041,0.13214537102211685,0.10806505390286371,7.4723076353128595E-2,3.6416848812655132E-2,4.704923498684844E-3,0,0,0,0,null,1,"octubre","si"]
["Nov",{"$f":"'IMPORTACIÓN DATOS ANUALES PVGIS'!C16","v":"3,24"},{"$f":"'IMPORTACIÓN DATOS ANUALES PVGIS'!D16","v":"97,3"},{"$f":"'IMPORTACIÓN DATOS ANUALES PVGIS'!E16","v":"4,22"},{"$f":"'IMPORTACIÓN DATOS ANUALES PVGIS'!F16","v":127},6.1691605376616797E-2,6.1691605376616797E-2,{"$f":"F13*SUM(AN13:AW13)","v":4.0429486829284003E-2},2.1262118547332794E-2,6.1691605376616797E-2,4.0429486829284003E-2,2.1262118547332794E-2,{"$f":"F13*SUM(AT13:AW13)","v":0},6.1691605376616797E-2,0,{"$f":"F13*((X50-Y50-Z50)*SUM(AS13:AX13))/X50","v":1.1030379446207049E-3},4.2081085819011058E-2,{"$f":"F13*((X50-Y50-Z50)*SUM(AB13:AI13)+(Y50+PORCENTAJES!Z50)*SUM(AB13:AS13))/X50","v":1.850748161298504E-2},null,null,{"$f":"F13*(SUM(AR13:AW13))*(X50-Y50-Z50)/X50","v":4.178744431839531E-3},{"$f":"F13*(SUM(AJ13:AQ13)+SUM(AX13:AY13))*(X50-Y50-Z50)/X50","v":3.9005379331792232E-2},null,1.850748161298504E-2,6.1691605376616804E-2,"NOVIEMBRE","NOVIEMBRE",0,0,0,0,0,0,0,0,2.318891116729143E-2,7.122308429953797E-2,0.11084473890680847,0.1393949960770639,0.1541713887193793,0.1541713887193793,0.1393949960770639,0.11084473890680847,7.122308429953797E-2,2.5542672827129284E-2,0,0,0,0,0,0,null,1,"noviembre","si"]
["Dec",{"$f":"'IMPORTACIÓN DATOS ANUALES PVGIS'!C17","v":"2,88"},{"$f":"'IMPORTACIÓN DATOS ANUALES PVGIS'!D17","v":"89,3"},{"$f":"'IMPORTACIÓN DATOS ANUALES PVGIS'!E17","v":"3,68"},{"$f":"'IMPORTACIÓN DATOS ANUALES PVGIS'!F17","v":114},{"$f":"C14/$B$17","v":5.6619325386761357E-2},5.6619325386761357E-2,{"$f":"F14*SUM(AN14:AW14)","v":3.7369433487550785E-2},1.9249891899210572E-2,5.6619325386761357E-2,3.7369433487550785E-2,1.9249891899210572E-2,{"$f":"F14*SUM(AT14:AW14)","v":0},5.6619325386761357E-2,0,{"$f":"F14*((X51-Y51-Z51)*SUM(AS14:AX14))/X51","v":6.047959422387744E-4},3.2270941379106535E-2,{"$f":"F14*((X51-Y51-Z51)*SUM(AB14:AI14)+(Y51+PORCENTAJES!Z51)*SUM(AB14:AS14))/X51","v":2.3743588065416054E-2},{"$f":"F14*((X51-Y51-Z51)*(SUM(AL14:AN14)+SUM(AT14:AV14)))/X51","v":1.3596540355593496E-2},{"$f":"F14*((X51-Y51-Z51)*(SUM(AJ14:AK14)+SUM(AO14:AS14)+SUM(AW14:AY14)))/X51","v":1.9279196965751807E-2},null,null,null,2.3743588065416054E-2,5.6619325386761357E-2,"DICIEMBRE","DICIEMBRE",0,0,0,{"$f":"AG36/$BB36","v":0},0,0,0,0,1.5215085988288994E-2,6.9620544976716311E-2,0.11240721102863202,0.14274517036285675,0.15842131956291208,0.15842131956291208,0.14274517036285675,0.11240721102863202,6.9620544976716311E-2,1.8396422149476694E-2,0,0,0,0,0,0,null,1,"diciembre","si"]
[null,null,null,null,null,null,"ESTOS SON LOS DATOS DE PRODUCCIÓN EN UN DÍA PROMEDIO MULTIPLICANDO POR NUMERO DE DÍAS TIENES LA DEL MES HACER A LA DERECHA DE ESTA O ABAJO",null,null,null,null,null,null,null,null,null,null,null,null,null,null,null,null,null,{"$f":"SUM(Y3:Y14)","v":1}]
["Yearly average ",{"$f":"'IMPORTACIÓN DATOS ANUALES PVGIS'!C19","v":"4,33"},{"$f":"'IMPORTACIÓN DATOS ANUALES PVGIS'!D19","v":132},{"$f":"'IMPORTACIÓN DATOS ANUALES PVGIS'!E19","v":"5,77"},{"$f":"'IMPORTACIÓN DATOS ANUALES PVGIS'!F19","v":176},{"$f":"'IMPORTACIÓN DATOS ANUALES PVGIS'!H4","v":"INVIERNO"},{"$f":"SUM(A86:A97)","v":333322},null,null,"http://www.tarifa-electrica.es/at_uno.php"]
["Total for year",{"$f":"'IMPORTACIÓN DATOS ANUALES PVGIS'!H20","v":1577.1999999999998},null,2110,null,null,{"$f":"A86/G16","v":6.7781304564355188E-2},null,null,"PARA VER LOS PERIODOS"]
[]
["SI SE CAMBIAN DATOS DE DISCRIMINACIÓN HORARIA, MIRAR LAS SUMAS DE LO PRODUCIDO YA QUE CAMBIARÁN",null,null,null,null,null,null,null,null,null,null,null,null,null,null,null,null,null,null,null,null,null,null,null,null,null,null,null,null,null,null,{"$f":"AR3","v":7.103970256274067E-2},2.1289780020360288E-2,0,0,0,0,0,0]
[null,"RADIACIÓN"]
[null,"ENERO","FEBRERO","MARZO","ABRIL","MAYO","JUNIO","JULIO","AGOSTO","SEPTIEMBRE","OCTUBRE","NOVIEMBRE","DICIEMBRE"]
["0 a 1",{"$f":"'ORDENA HORAS'!T35","v":0},{"$f":"'ORDENA HORAS'!U35","v":0},{"$f":"'ORDENA HORAS'!V35","v":0},{"$f":"'ORDENA HORAS'!W35","v":0},{"$f":"'ORDENA HORAS'!X35","v":0},{"$f":"'ORDENA HORAS'!Y35","v":0},{"$f":"'ORDENA HORAS'!Z35","v":0},{"$f":"'ORDENA HORAS'!AA35","v":0},{"$f":"'ORDENA HORAS'!AB35","v":0},{"$f":"'ORDENA HORAS'!AC35","v":0},{"$f":"'ORDENA HORAS'!AD35","v":0},{"$f":"'ORDENA HORAS'!AE35","v":0},null,null,null,null,"Mes","Ed","Em","Hd","Hm"]
["1 a 2",{"$f":"'ORDENA HORAS'!T36","v":0},{"$f":"'ORDENA HORAS'!U36","v":0},{"$f":"'ORDENA HORAS'!V36","v":0},{"$f":"'ORDENA HORAS'!W36","v":0},{"$f":"'ORDENA HORAS'!X36","v":0},{"$f":"'ORDENA HORAS'!Y36","v":0},{"$f":"'ORDENA HORAS'!Z36","v":0},{"$f":"'ORDENA HORAS'!AA36","v":0},{"$f":"'ORDENA HORAS'!AB36","v":0},{"$f":"'ORDENA HORAS'!AC36","v":0},{"$f":"'ORDENA HORAS'!AD36","v":0},{"$f":"'ORDENA HORAS'!AE36","v":0},null,null,null,null,"Ene","4.17",129,"5.58",173,{"$f":"T23/$S$37","v":6.6839378238341962E-2},6.3253012048192767E-2]
["2 a 3",{"$f":"'ORDENA HORAS'!T37","v":0},{"$f":"'ORDENA HORAS'!U37","v":0},{"$f":"'ORDENA HORAS'!V37","v":0},{"$f":"'ORDENA HORAS'!W37","v":0},{"$f":"'ORDENA HORAS'!X37","v":0},{"$f":"'ORDENA HORAS'!Y37","v":0},{"$f":"'ORDENA HORAS'!Z37","v":0},{"$f":"'ORDENA HORAS'!AA37","v":0},{"$f":"'ORDENA HORAS'!AB37","v":0},{"$f":"'ORDENA HORAS'!AC37","v":0},{"$f":"'ORDENA HORAS'!AD37","v":0},{"$f":"'ORDENA HORAS'!AE37","v":0},null,null,null,null,"Feb","5.35",150,"7.04",197,{"$f":"T24/$S$37","v":7.7720207253886009E-2},6.746987951807229E-2,null,null,null,null,{"$f":"TRANSPOSE(A21:M46)","v":0},"0 a 1","1 a 2","2 a 3","3 a 4","4 a 5","5 a 6","6 a 7 ","7 a 8 ","8 a 9","9 a 10","10 a 11","11 a 12","12  a 13","13 a 14","14 a 15","15 a 16","16 a 17","17 a 18","18 a 19","19 a 20","20 a 21","21 a 22","22 a 23","23 a 24","TOTAL"]
["3 a 4",{"$f":"'ORDENA HORAS'!T38","v":0},{"$f":"'ORDENA HORAS'!U38","v":0},{"$f":"'ORDENA HORAS'!V38","v":0},{"$f":"'ORDENA HORAS'!W38","v":0},{"$f":"'ORDENA HORAS'!X38","v":0},{"$f":"'ORDENA HORAS'!Y38","v":0},{"$f":"'ORDENA HORAS'!Z38","v":0},{"$f":"'ORDENA HORAS'!AA38","v":0},{"$f":"'ORDENA HORAS'!AB38","v":0},{"$f":"'ORDENA HORAS'!AC38","v":0},{"$f":"'ORDENA HORAS'!AD38","v":0},{"$f":"'ORDENA HORAS'!AE38","v":0},null,null,null,null,"Mar","6.05",187,"7.87",244,9.689119170984456E-2,9.0963855421686751E-2,null,null,null,null,"ENERO",0,0,0,0,0,0,0,0,390,1605,2530,3191,3535,3535,3191,2530,1605,481,0,0,0,0,0,0,22593]
["4 a 5",{"$f":"'ORDENA HORAS'!T39","v":0},{"$f":"'ORDENA HORAS'!U39","v":0},{"$f":"'ORDENA HORAS'!V39","v":0},{"$f":"'ORDENA HORAS'!W39","v":0},{"$f":"'ORDENA HORAS'!X39","v":0},{"$f":"'ORDENA HORAS'!Y39","v":0},{"$f":"'ORDENA HORAS'!Z39","v":0},{"$f":"'ORDENA HORAS'!AA39","v":0},{"$f":"'ORDENA HORAS'!AB39","v":0},{"$f":"'ORDENA HORAS'!AC39","v":0},{"$f":"'ORDENA HORAS'!AD39","v":0},{"$f":"'ORDENA HORAS'!AE39","v":0},null,null,null,null,"Abr","5.94",178,"7.70",231,9.2227979274611405E-2,8.9759036144578308E-2,null,null,null,null,"FEBRERO",0,0,0,0,0,0,0,0,844,1903,2820,3481,3824,3824,3481,2820,1903,844,56,0,0,0,0,0,25800]
["5 a 6",{"$f":"'ORDENA HORAS'!T40","v":0},{"$f":"'ORDENA HORAS'!U40","v":0},{"$f":"'ORDENA HORAS'!V40","v":0},{"$f":"'ORDENA HORAS'!W40","v":0},{"$f":"'ORDENA HORAS'!X40","v":0},{"$f":"'ORDENA HORAS'!Y40","v":0},{"$f":"'ORDENA HORAS'!Z40","v":0},{"$f":"'ORDENA HORAS'!AA40","v":0},{"$f":"'ORDENA HORAS'!AB40","v":0},{"$f":"'ORDENA HORAS'!AC40","v":0},{"$f":"'ORDENA HORAS'!AD40","v":0},{"$f":"'ORDENA HORAS'!AE40","v":0},null,null,null,null,"Mayo","5.79",180,"7.51",233,9.3264248704663211E-2,9.8795180722891562E-2,null,null,null,null,"MARZO",0,0,0,0,0,0,0,291,1261,2316,3227,3875,4220,4220,3875,3227,2316,1261,303,0,0,0,0,0,30392]
["6 a 7 ",{"$f":"'ORDENA HORAS'!T41","v":0},{"$f":"'ORDENA HORAS'!U41","v":0},{"$f":"'ORDENA HORAS'!V41","v":0},{"$f":"'ORDENA HORAS'!W41","v":0},{"$f":"'ORDENA HORAS'!X41","v":0},{"$f":"'ORDENA HORAS'!Y41","v":0},{"$f":"'ORDENA HORAS'!Z41","v":0},{"$f":"'ORDENA HORAS'!AA41","v":0},{"$f":"'ORDENA HORAS'!AB41","v":0},{"$f":"'ORDENA HORAS'!AC41","v":0},{"$f":"'ORDENA HORAS'!AD41","v":0},{"$f":"'ORDENA HORAS'!AE41","v":0},null,null,null,null,"Jun","5.62",169,"7.34",220,8.7564766839378236E-2,0.10060240963855421,null,null,null,null,"ABRIL",0,0,0,0,0,0,0,28,503,1424,2403,3246,3858,4160,4160,3858,3246,2403,1424,503,45,0,0,0,31261]
["7 a 8 ",{"$f":"'ORDENA HORAS'!T42","v":0},{"$f":"'ORDENA HORAS'!U42","v":0},{"$f":"'ORDENA HORAS'!V42","v":291},{"$f":"'ORDENA HORAS'!W42","v":28},{"$f":"'ORDENA HORAS'!X42","v":114},{"$f":"'ORDENA HORAS'!Y42","v":181},{"$f":"'ORDENA HORAS'!Z42","v":163},{"$f":"'ORDENA HORAS'!AA42","v":65},{"$f":"'ORDENA HORAS'!AB42","v":0},{"$f":"'ORDENA HORAS'!AC42","v":0},{"$f":"'ORDENA HORAS'!AD42","v":0},{"$f":"'ORDENA HORAS'!AE42","v":0},null,null,null,null,"Jul","5.59",173,"7.35",228,8.9637305699481862E-2,0.10481927710843374,null,null,null,null,"MAYO",0,0,0,0,0,0,0,114,632,1518,2428,3207,3770,4059,4059,3770,3207,2428,1518,632,131,0,0,0,31473]
["8 a 9",{"$f":"'ORDENA HORAS'!T43","v":390},{"$f":"'ORDENA HORAS'!U43","v":844},{"$f":"'ORDENA HORAS'!V43","v":1261},{"$f":"'ORDENA HORAS'!W43","v":503},{"$f":"'ORDENA HORAS'!X43","v":632},{"$f":"'ORDENA HORAS'!Y43","v":679},{"$f":"'ORDENA HORAS'!Z43","v":652},{"$f":"'ORDENA HORAS'!AA43","v":542},{"$f":"'ORDENA HORAS'!AB43","v":346},{"$f":"'ORDENA HORAS'!AC43","v":86},{"$f":"'ORDENA HORAS'!AD43","v":532},{"$f":"'ORDENA HORAS'!AE43","v":330},null,null,null,null,"Ago","5.87",182,"7.77",241,9.4300518134715031E-2,0.10060240963855421,null,null,null,null,"JUNIO",0,0,0,0,0,0,0,181,679,1517,2374,3109,3640,3916,3916,3640,3109,2374,1517,679,181,18,0,0,30850]
["9 a 10",{"$f":"'ORDENA HORAS'!T44","v":1605},{"$f":"'ORDENA HORAS'!U44","v":1903},{"$f":"'ORDENA HORAS'!V44","v":2316},{"$f":"'ORDENA HORAS'!W44","v":1424},{"$f":"'ORDENA HORAS'!X44","v":1518},{"$f":"'ORDENA HORAS'!Y44","v":1517},{"$f":"'ORDENA HORAS'!Z44","v":1492},{"$f":"'ORDENA HORAS'!AA44","v":1397},{"$f":"'ORDENA HORAS'!AB44","v":1201},{"$f":"'ORDENA HORAS'!AC44","v":983},{"$f":"'ORDENA HORAS'!AD44","v":1634},{"$f":"'ORDENA HORAS'!AE44","v":1510},null,null,null,null,"Sep","6.02",181,"7.97",239,9.3782383419689114E-2,8.6144578313253006E-2,null,null,null,null,"JULIO",0,0,0,0,0,0,0,163,652,1492,2358,3103,3640,3921,3921,3640,3103,2358,1492,652,163,12,0,0,30670]
["10 a 11",{"$f":"'ORDENA HORAS'!T45","v":2530},{"$f":"'ORDENA HORAS'!U45","v":2820},{"$f":"'ORDENA HORAS'!V45","v":3227},{"$f":"'ORDENA HORAS'!W45","v":2403},{"$f":"'ORDENA HORAS'!X45","v":2428},{"$f":"'ORDENA HORAS'!Y45","v":2374},{"$f":"'ORDENA HORAS'!Z45","v":2358},{"$f":"'ORDENA HORAS'!AA45","v":2305},{"$f":"'ORDENA HORAS'!AB45","v":2166},{"$f":"'ORDENA HORAS'!AC45","v":2017},{"$f":"'ORDENA HORAS'!AD45","v":2543},{"$f":"'ORDENA HORAS'!AE45","v":2438},null,null,null,null,"Oct","5.36",166,"7.14",221,8.6010362694300513E-2,7.9518072289156624E-2,null,null,null,null,"AGOSTO",0,0,0,0,0,0,0,65,542,1397,2305,3095,3665,3959,3959,3665,3095,2305,1397,542,80,0,0,0,30071]
["11 a 12",{"$f":"'ORDENA HORAS'!T46","v":3191},{"$f":"'ORDENA HORAS'!U46","v":3481},{"$f":"'ORDENA HORAS'!V46","v":3875},{"$f":"'ORDENA HORAS'!W46","v":3246},{"$f":"'ORDENA HORAS'!X46","v":3207},{"$f":"'ORDENA HORAS'!Y46","v":3109},{"$f":"'ORDENA HORAS'!Z46","v":3103},{"$f":"'ORDENA HORAS'!AA46","v":3095},{"$f":"'ORDENA HORAS'!AB46","v":3011},{"$f":"'ORDENA HORAS'!AC46","v":2917},{"$f":"'ORDENA HORAS'!AD46","v":3198},{"$f":"'ORDENA HORAS'!AE46","v":3096},null,null,null,null,"Nov","4.41",132,"5.86",176,6.8393782383419685E-2,6.1445783132530123E-2,null,null,null,null,"SEPTIEMBRE",0,0,0,0,0,0,0,0,346,1201,2166,3011,3623,3942,3942,3623,3011,2166,1201,346,10,0,0,0,28588]
["12  a 13",{"$f":"'ORDENA HORAS'!T47","v":3535},{"$f":"'ORDENA HORAS'!U47","v":3824},{"$f":"'ORDENA HORAS'!V47","v":4220},{"$f":"'ORDENA HORAS'!W47","v":3858},{"$f":"'ORDENA HORAS'!X47","v":3770},{"$f":"'ORDENA HORAS'!Y47","v":3640},{"$f":"'ORDENA HORAS'!Z47","v":3640},{"$f":"'ORDENA HORAS'!AA47","v":3665},{"$f":"'ORDENA HORAS'!AB47","v":3623},{"$f":"'ORDENA HORAS'!AC47","v":3567},{"$f":"'ORDENA HORAS'!AD47","v":3537},{"$f":"'ORDENA HORAS'!AE47","v":3436},null,null,null,null,"Dic","3.41",106,"4.54",141,5.4922279792746116E-2,5.6445783132530125E-2,null,null,null,null,"OCTUBRE",0,0,0,0,0,0,0,0,86,983,2017,2917,3567,3906,3906,3567,2917,2017,983,127,0,0,0,0,26993]
["13 a 14",{"$f":"'ORDENA HORAS'!T48","v":3535},{"$f":"'ORDENA HORAS'!U48","v":3824},{"$f":"'ORDENA HORAS'!V48","v":4220},{"$f":"'ORDENA HORAS'!W48","v":4160},{"$f":"'ORDENA HORAS'!X48","v":4059},{"$f":"'ORDENA HORAS'!Y48","v":3916},{"$f":"'ORDENA HORAS'!Z48","v":3921},{"$f":"'ORDENA HORAS'!AA48","v":3959},{"$f":"'ORDENA HORAS'!AB48","v":3942},{"$f":"'ORDENA HORAS'!AC48","v":3906},{"$f":"'ORDENA HORAS'!AD48","v":3537},{"$f":"'ORDENA HORAS'!AE48","v":3436},null,null,null,null,null,null,null,null,null,null,null,null,null,null,null,"NOVIEMBRE",0,0,0,0,0,0,0,0,532,1634,2543,3198,3537,3537,3198,2543,1634,586,0,0,0,0,0,0,22942]
["14 a 15",{"$f":"'ORDENA HORAS'!T49","v":3191},{"$f":"'ORDENA HORAS'!U49","v":3481},{"$f":"'ORDENA HORAS'!V49","v":3875},{"$f":"'ORDENA HORAS'!W49","v":4160},{"$f":"'ORDENA HORAS'!X49","v":4059},{"$f":"'ORDENA HORAS'!Y49","v":3916},{"$f":"'ORDENA HORAS'!Z49","v":3921},{"$f":"'ORDENA HORAS'!AA49","v":3959},{"$f":"'ORDENA HORAS'!AB49","v":3942},{"$f":"'ORDENA HORAS'!AC49","v":3906},{"$f":"'ORDENA HORAS'!AD49","v":3198},{"$f":"'ORDENA HORAS'!AE49","v":3096},null,null,null,null,"Media anual","5.30",161,"6.97",212,null,null,null,null,null,null,"DICIEMBRE",0,0,0,0,0,0,0,0,330,1510,2438,3096,3436,3436,3096,2438,1510,399,0,0,0,0,0,0,21689]
["15 a 16",{"$f":"'ORDENA HORAS'!T50","v":2530},{"$f":"'ORDENA HORAS'!U50","v":2820},{"$f":"'ORDENA HORAS'!V50","v":3227},{"$f":"'ORDENA HORAS'!W50","v":3858},{"$f":"'ORDENA HORAS'!X50","v":3770},{"$f":"'ORDENA HORAS'!Y50","v":3640},{"$f":"'ORDENA HORAS'!Z50","v":3640},{"$f":"'ORDENA HORAS'!AA50","v":3665},{"$f":"'ORDENA HORAS'!AB50","v":3623},{"$f":"'ORDENA HORAS'!AC50","v":3567},{"$f":"'ORDENA HORAS'!AD50","v":2543},{"$f":"'ORDENA HORAS'!AE50","v":2438},null,null,null,null,"Total para el año",1930,null,2540]
["16 a 17",{"$f":"'ORDENA HORAS'!T51","v":1605},{"$f":"'ORDENA HORAS'!U51","v":1903},{"$f":"'ORDENA HORAS'!V51","v":2316},{"$f":"'ORDENA HORAS'!W51","v":3246},{"$f":"'ORDENA HORAS'!X51","v":3207},{"$f":"'ORDENA HORAS'!Y51","v":3109},{"$f":"'ORDENA HORAS'!Z51","v":3103},{"$f":"'ORDENA HORAS'!AA51","v":3095},{"$f":"'ORDENA HORAS'!AB51","v":3011},{"$f":"'ORDENA HORAS'!AC51","v":2917},{"$f":"'ORDENA HORAS'!AD51","v":1634},{"$f":"'ORDENA HORAS'!AE51","v":1510}]
["17 a 18",{"$f":"'ORDENA HORAS'!T52","v":481},{"$f":"'ORDENA HORAS'!U52","v":844},{"$f":"'ORDENA HORAS'!V52","v":1261},{"$f":"'ORDENA HORAS'!W52","v":2403},{"$f":"'ORDENA HORAS'!X52","v":2428},{"$f":"'ORDENA HORAS'!Y52","v":2374},{"$f":"'ORDENA HORAS'!Z52","v":2358},{"$f":"'ORDENA HORAS'!AA52","v":2305},{"$f":"'ORDENA HORAS'!AB52","v":2166},{"$f":"'ORDENA HORAS'!AC52","v":2017},{"$f":"'ORDENA HORAS'!AD52","v":586},{"$f":"'ORDENA HORAS'!AE52","v":399},null,null,null,null,null,null,null,null,null,{"$f":"'IMPORTACIÓN DATOS ANUALES PVGIS'!K8","v":"MESES"},{"$f":"'IMPORTACIÓN DATOS ANUALES PVGIS'!L8","v":"DÍAS "},{"$f":"'IMPORTACIÓN DATOS ANUALES PVGIS'!M8","v":"DÍAS FINDE"},{"$f":"'IMPORTACIÓN DATOS ANUALES PVGIS'!N8","v":"FESTIVOS"}]
["18 a 19",{"$f":"'ORDENA HORAS'!T53","v":0},{"$f":"'ORDENA HORAS'!U53","v":56},{"$f":"'ORDENA HORAS'!V53","v":303},{"$f":"'ORDENA HORAS'!W53","v":1424},{"$f":"'ORDENA HORAS'!X53","v":1518},{"$f":"'ORDENA HORAS'!Y53","v":1517},{"$f":"'ORDENA HORAS'!Z53","v":1492},{"$f":"'ORDENA HORAS'!AA53","v":1397},{"$f":"'ORDENA HORAS'!AB53","v":1201},{"$f":"'ORDENA HORAS'!AC53","v":983},{"$f":"'ORDENA HORAS'!AD53","v":0},{"$f":"'ORDENA HORAS'!AE53","v":0},null,null,null,null,null,null,null,null,null,{"$f":"'IMPORTACIÓN DATOS ANUALES PVGIS'!K9","v":"Enero"},{"$f":"'IMPORTACIÓN DATOS ANUALES PVGIS'!L9","v":31},{"$f":"'IMPORTACIÓN DATOS ANUALES PVGIS'!M9","v":8},{"$f":"'IMPORTACIÓN DATOS ANUALES PVGIS'!N9","v":2}]
["19 a 20",{"$f":"'ORDENA HORAS'!T54","v":0},{"$f":"'ORDENA HORAS'!U54","v":0},{"$f":"'ORDENA HORAS'!V54","v":0},{"$f":"'ORDENA HORAS'!W54","v":503},{"$f":"'ORDENA HORAS'!X54","v":632},{"$f":"'ORDENA HORAS'!Y54","v":679},{"$f":"'ORDENA HORAS'!Z54","v":652},{"$f":"'ORDENA HORAS'!AA54","v":542},{"$f":"'ORDENA HORAS'!AB54","v":346},{"$f":"'ORDENA HORAS'!AC54","v":127},{"$f":"'ORDENA HORAS'!AD54","v":0},{"$f":"'ORDENA HORAS'!AE54","v":0},null,null,null,null,null,null,null,null,null,{"$f":"'IMPORTACIÓN DATOS ANUALES PVGIS'!K10","v":"Febrero"},{"$f":"'IMPORTACIÓN DATOS ANUALES PVGIS'!L10","v":28},{"$f":"'IMPORTACIÓN DATOS ANUALES PVGIS'!M10","v":8},{"$f":"'IMPORTACIÓN DATOS ANUALES PVGIS'!N10","v":0}]
["20 a 21",{"$f":"'ORDENA HORAS'!T55","v":0},{"$f":"'ORDENA HORAS'!U55","v":0},{"$f":"'ORDENA HORAS'!V55","v":0},{"$f":"'ORDENA HORAS'!W55","v":45},{"$f":"'ORDENA HORAS'!X55","v":131},{"$f":"'ORDENA HORAS'!Y55","v":181},{"$f":"'ORDENA HORAS'!Z55","v":163},{"$f":"'ORDENA HORAS'!AA55","v":80},{"$f":"'ORDENA HORAS'!AB55","v":10},{"$f":"'ORDENA HORAS'!AC55","v":0},{"$f":"'ORDENA HORAS'!AD55","v":0},{"$f":"'ORDENA HORAS'!AE55","v":0},null,null,null,null,null,null,null,null,null,{"$f":"'IMPORTACIÓN DATOS ANUALES PVGIS'!K11","v":"Marzo"},{"$f":"'IMPORTACIÓN DATOS ANUALES PVGIS'!L11","v":31},{"$f":"'IMPORTACIÓN DATOS ANUALES PVGIS'!M11","v":8},{"$f":"'IMPORTACIÓN DATOS ANUALES PVGIS'!N11","v":0}]
["21 a 22",{"$f":"'ORDENA HORAS'!T56","v":0},{"$f":"'ORDENA HORAS'!U56","v":0},{"$f":"'ORDENA HORAS'!V56","v":0},{"$f":"'ORDENA HORAS'!W56","v":0},{"$f":"'ORDENA HORAS'!X56","v":0},{"$f":"'ORDENA HORAS'!Y56","v":18},{"$f":"'ORDENA HORAS'!Z56","v":12},{"$f":"'ORDENA HORAS'!AA56","v":0},{"$f":"'ORDENA HORAS'!AB56","v":0},{"$f":"'ORDENA HORAS'!AC56","v":0},{"$f":"'ORDENA HORAS'!AD56","v":0},{"$f":"'ORDENA HORAS'!AE56","v":0},null,null,null,null,null,null,null,null,null,{"$f":"'IMPORTACIÓN DATOS ANUALES PVGIS'!K12","v":"Abril"},{"$f":"'IMPORTACIÓN DATOS ANUALES PVGIS'!L12","v":30},{"$f":"'IMPORTACIÓN DATOS ANUALES PVGIS'!M12","v":10},{"$f":"'IMPORTACIÓN DATOS ANUALES PVGIS'!N12","v":1}]
["22 a 23",{"$f":"'ORDENA HORAS'!T57","v":0},{"$f":"'ORDENA HORAS'!U57","v":0},{"$f":"'ORDENA HORAS'!V57","v":0},{"$f":"'ORDENA HORAS'!W57","v":0},{"$f":"'ORDENA HORAS'!X57","v":0},{"$f":"'ORDENA HORAS'!Y57","v":0},{"$f":"'ORDENA HORAS'!Z57","v":0},{"$f":"'ORDENA HORAS'!AA57","v":0},{"$f":"'ORDENA HORAS'!AB57","v":0},{"$f":"'ORDENA HORAS'!AC57","v":0},{"$f":"'ORDENA HORAS'!AD57","v":0},{"$f":"'ORDENA HORAS'!AE57","v":0},null,null,null,null,null,null,null,null,null,{"$f":"'IMPORTACIÓN DATOS ANUALES PVGIS'!K13","v":"Mayo"},{"$f":"'IMPORTACIÓN DATOS ANUALES PVGIS'!L13","v":31},{"$f":"'IMPORTACIÓN DATOS ANUALES PVGIS'!M13","v":8},{"$f":"'IMPORTACIÓN DATOS ANUALES PVGIS'!N13","v":1}]
["23 a 24",{"$f":"'ORDENA HORAS'!T58","v":0},{"$f":"'ORDENA HORAS'!U58","v":0},{"$f":"'ORDENA HORAS'!V58","v":0},{"$f":"'ORDENA HORAS'!W58","v":0},{"$f":"'ORDENA HORAS'!X58","v":0},{"$f":"'ORDENA HORAS'!Y58","v":0},{"$f":"'ORDENA HORAS'!Z58","v":0},{"$f":"'ORDENA HORAS'!AA58","v":0},{"$f":"'ORDENA HORAS'!AB58","v":0},{"$f":"'ORDENA HORAS'!AC58","v":0},{"$f":"'ORDENA HORAS'!AD58","v":0},{"$f":"'ORDENA HORAS'!AE58","v":0},null,null,null,null,null,null,null,null,null,{"$f":"'IMPORTACIÓN DATOS ANUALES PVGIS'!K14","v":"Junio"},{"$f":"'IMPORTACIÓN DATOS ANUALES PVGIS'!L14","v":30},{"$f":"'IMPORTACIÓN DATOS ANUALES PVGIS'!M14","v":8},{"$f":"'IMPORTACIÓN DATOS ANUALES PVGIS'!N14","v":0}]
["TOTAL",{"$f":"SUM(B22:B45)","v":22593},25800,30392,31261,31473,30850,30670,30071,28588,26993,22942,21689,null,null,null,null,null,null,null,null,null,{"$f":"'IMPORTACIÓN DATOS ANUALES PVGIS'!K15","v":"Julio"},{"$f":"'IMPORTACIÓN DATOS ANUALES PVGIS'!L15","v":31},{"$f":"'IMPORTACIÓN DATOS ANUALES PVGIS'!M15","v":10},{"$f":"'IMPORTACIÓN DATOS ANUALES PVGIS'!N15","v":0}]
[null,null,null,null,null,null,null,null,null,null,null,null,null,null,null,null,null,null,null,null,null,null,{"$f":"'IMPORTACIÓN DATOS ANUALES PVGIS'!K16","v":"Agosto"},{"$f":"'IMPORTACIÓN DATOS ANUALES PVGIS'!L16","v":31},{"$f":"'IMPORTACIÓN DATOS ANUALES PVGIS'!M16","v":8},{"$f":"'IMPORTACIÓN DATOS ANUALES PVGIS'!N16","v":1}]
[null,null,null,null,null,null,null,null,null,null,null,null,null,null,null,null,null,null,null,null,null,null,{"$f":"'IMPORTACIÓN DATOS ANUALES PVGIS'!K17","v":"Septiembre"},{"$f":"'IMPORTACIÓN DATOS ANUALES PVGIS'!L17","v":30},{"$f":"'IMPORTACIÓN DATOS ANUALES PVGIS'!M17","v":9},{"$f":"'IMPORTACIÓN DATOS ANUALES PVGIS'!N17","v":0}]
["FESTIVOS NACIONALES 2015 EN FINDE NO SE TIENEN EN CUENTA","1 ENERO (JUEVES)","6 ENERO (MARTES)","3 ABRIL (VIERNES)","1 MAYO (VIERNES)","15 (AGOSTO)( SABADO)","12 OCTUBRE(LUNES)","8 DICIEMBRE (MARTES)","25 DICIEMBRE(VIERNES)",null,null,null,null,null,null,null,null,null,null,null,null,null,{"$f":"'IMPORTACIÓN DATOS ANUALES PVGIS'!K18","v":"Octubre"},{"$f":"'IMPORTACIÓN DATOS ANUALES PVGIS'!L18","v":31},{"$f":"'IMPORTACIÓN DATOS ANUALES PVGIS'!M18","v":9},{"$f":"'IMPORTACIÓN DATOS ANUALES PVGIS'!N18","v":1}]
[null,null,null,null,null,null,null,null,null,null,null,null,null,null,null,null,null,null,null,null,null,null,{"$f":"'IMPORTACIÓN DATOS ANUALES PVGIS'!K19","v":"Noviembre"},{"$f":"'IMPORTACIÓN DATOS ANUALES PVGIS'!L19","v":30},{"$f":"'IMPORTACIÓN DATOS ANUALES PVGIS'!M19","v":8},{"$f":"'IMPORTACIÓN DATOS ANUALES PVGIS'!N19","v":1}]
["NºDIAS MES PERIODO",null,null,null,null,null,null,null,null,null,null,"COMO HAY FINES DE SEMANA SE HACE DIRECTAMENTE ARRIBA EL CÁLCULO",null,null,null,null,null,null,null,null,null,null,{"$f":"'IMPORTACIÓN DATOS ANUALES PVGIS'!K20","v":"Diciembre"},{"$f":"'IMPORTACIÓN DATOS ANUALES PVGIS'!L20","v":31},{"$f":"'IMPORTACIÓN DATOS ANUALES PVGIS'!M20","v":10},{"$f":"'IMPORTACIÓN DATOS ANUALES PVGIS'!N20","v":3}]
[null,null,null,"2.0 A","2.0 DHA",null,"2.1 A","2.1 DHA",null,"3.0 ",null,null,null,"3.1",null,null,"6.1"]
["FESTIVOS",null,"Nº DÍAS","P","P1","P2","P","P1","P2","P1","P2 ","P3","P1","P2 ","P3","P1","P2","P3","P4 ","P5","P6"]
[2,"Jan",31,{"$f":"C54","v":31},31,31,31,31,31,31,31,31,{"$f":"C54-8-A54","v":21},21,{"$f":"C54","v":31},21,21,21,21,21,{"$f":"I54","v":31}]
[null,"Feb",28,28,28,28,28,28,28,28,28,28,{"$f":"C55-8-A55","v":20},20,{"$f":"C55","v":28},20,20,20,20,20,{"$f":"I55","v":28}]
[null,"Mar",31,31,31,31,31,31,31,31,31,31,23,23,31,23,23,23,23,23,31]
[1,"Apr",30,30,30,30,30,30,30,30,30,30,21,21,30,21,21,21,21,21,30]
[1,"May",31,31,31,31,31,31,31,31,31,31,22,22,31,22,22,22,22,22,31]
[null,"Jun",30,30,30,30,30,30,30,30,30,30,22,22,30,22,22,22,22,22,30]
[null,"Jul",31,31,31,31,31,31,31,31,31,31,23,23,31,23,23,23,23,23,31]
[null,"Aug",31,31,31,31,31,31,31,31,31,31,23,23,31,23,23,23,23,23,31]
[null,"Sep",30,30,30,30,30,30,30,30,30,30,22,22,30,22,22,22,22,22,30]
[1,"Oct",31,31,31,31,31,31,31,31,31,31,22,22,31,22,22,22,22,22,31]
[null,"Nov",30,30,30,30,30,30,30,30,30,30,22,22,30,22,22,22,22,22,30]
[2,"Dec",31,31,31,31,31,31,31,31,31,31,21,21,31,21,21,21,21,21,31]
[null,"TABLA DE VALORES POR Nº DIAS",null,"2.0 A","2.0 DHA",null,"2.1 A","2.1 DHA",null,"3.0 ",null,null,null,"3.1",null,null,"6.1"]
[null,null,null,"P","P1","P2","P","P1","P2","P1","P2 ","P3","P1","P2 ","P3","P1","P2","P3","P4 ","P5","P6"]
[null,"Jan",null,{"$f":"D54*A86","v":700383},239196,461187,700383,239196,461187,0,700383,0,{"$f":"J86","v":0},{"$f":"K86","v":474453},{"$f":"L86","v":225930}]
[null,"Feb",null,722400,253344,469056,722400,253344,469056,1568,720832,0]
[null,"Mar",null,942152,340070,602082,942152,340070,602082,9393,923738,9021]
[null,"Apr",null,937830,343860,593970,937830,343860,593970,462720,474270,840]
[null,"May",null,975663,361739,613924,975663,361739,613924,467945,504184,3534]
[null,"Jun",null,925500,345000,580500,925500,345000,580500,437430,482640,5430]
[null,"Jul",null,950770,353648,597122,950770,353648,597122,452135,493582,5053]
[null,"Aug",null,932201,343139,589062,932201,343139,589062,455018,475168,2015]
[null,"Sep",null,857640,310410,547230,857640,310410,547230,435540,422100,0]
[null,"Oct",null,836783,296670,540113,836783,296670,540113,443176,393607,0]
[null,"Nov",null,688260,237210,451050,688260,237210,451050,0,688260,0]
[null,"Dec",null,672359,228594,443765,672359,228594,443765,0,672359,0]
[]
[]
[]
[]
["2.0 A","2.0 DHA",null,"2.1 A","2.1 DHA",null,"3.0 ",null,null,null,"3.1",null,null,"6.1"]
["P","P1","P2","P","P1","P2","P1","P2 ","P3","P1","P2 ","P3","P1","P2","P3","P4 ","P5","P6"]
[{"$f":"B46","v":22593},{"$f":"B46-C86","v":7716},{"$f":"SUM(B34:B43)","v":14877},{"$f":"B46","v":22593},{"$f":"B46-F86","v":7716},{"$f":"SUM(B34:B43)","v":14877},{"$f":"SUM(B40:B43)","v":0},{"$f":"B46-G86-I86","v":22593},{"$f":"SUM(B22:B29)","v":0},{"$f":"M54*SUM(B40:B43)","v":0},{"$f":"21*(SUM(B30:B39)+B44+B45)+10*SUM(B40:B45)","v":474453},{"$f":"21*SUM(B22:B29)+10*SUM(B22:B39)","v":225930}]
[{"$f":"C46","v":25800},{"$f":"C46-C87","v":9048},{"$f":"SUM(C34:C43)","v":16752},{"$f":"C46","v":25800},{"$f":"C46-F87","v":9048},{"$f":"SUM(C34:C43)","v":16752},{"$f":"SUM(C40:C43)","v":56},{"$f":"C46-G87-I87","v":25744},{"$f":"SUM(C22:C29)","v":0},{"$f":"M55*SUM(C40:C43)","v":1120}]
[{"$f":"D46","v":30392},{"$f":"D46-C88","v":10970},{"$f":"SUM(D34:D43)","v":19422},{"$f":"D46","v":30392},{"$f":"D46-F88","v":10970},{"$f":"SUM(D34:D43)","v":19422},{"$f":"SUM(D40:D43)","v":303},{"$f":"D46-G88-I88","v":29798},{"$f":"SUM(D22:D29)","v":291},{"$f":"M56*SUM(D40:D43)","v":6969}]
[{"$f":"E46","v":31261},{"$f":"E46-C89","v":11462},{"$f":"SUM(E35:E44)","v":19799},{"$f":"E46","v":31261},{"$f":"E46-F89","v":11462},{"$f":"SUM(E35:E44)","v":19799},{"$f":"SUM(E33:E36)","v":15424},{"$f":"E46-G89-I89","v":15809},{"$f":"SUM(E22:E29)","v":28},{"$f":"M57*SUM(E33:E36)","v":323904}]
[{"$f":"F46","v":31473},{"$f":"F46-C90","v":11669},{"$f":"SUM(F35:F44)","v":19804},{"$f":"F46","v":31473},{"$f":"F46-F90","v":11669},{"$f":"SUM(F35:F44)","v":19804},{"$f":"SUM(F33:F36)","v":15095},{"$f":"F46-G90-I90","v":16264},{"$f":"SUM(F22:F29)","v":114},{"$f":"SUM(F33:F36)","v":15095}]
[{"$f":"G46","v":30850},{"$f":"G46-C91","v":11500},{"$f":"SUM(G35:G44)","v":19350},{"$f":"G46","v":30850},{"$f":"G46-F91","v":11500},{"$f":"SUM(G35:G44)","v":19350},{"$f":"SUM(G33:G36)","v":14581},{"$f":"G46-G91-I91","v":16088},{"$f":"SUM(G22:G29)","v":181},{"$f":"SUM(G33:G36)","v":14581}]
[{"$f":"H46","v":30670},{"$f":"H46-C92","v":11408},{"$f":"SUM(H35:H44)","v":19262},{"$f":"H46","v":30670},{"$f":"H46-F92","v":11408},{"$f":"SUM(H35:H44)","v":19262},{"$f":"SUM(H33:H36)","v":14585},{"$f":"H46-G92-I92","v":15922},{"$f":"SUM(H22:H29)","v":163},{"$f":"SUM(H33:H36)","v":14585}]
[{"$f":"I46","v":30071},{"$f":"I46-C93","v":11069},{"$f":"SUM(I35:I44)","v":19002},{"$f":"I46","v":30071},{"$f":"I46-F93","v":11069},{"$f":"SUM(I35:I44)","v":19002},{"$f":"SUM(I33:I36)","v":14678},{"$f":"I46-G93-I93","v":15328},{"$f":"SUM(I22:I29)","v":65},{"$f":"SUM(I33:I36)","v":14678}]
[{"$f":"J46","v":28588},{"$f":"J46-C94","v":10347},{"$f":"SUM(J35:J44)","v":18241},{"$f":"J46","v":28588},{"$f":"J46-F94","v":10347},{"$f":"SUM(J35:J44)","v":18241},{"$f":"SUM(J33:J36)","v":14518},{"$f":"J46-G94-I94","v":14070},{"$f":"SUM(J22:J29)","v":0},{"$f":"SUM(J33:J36)","v":14518}]
[{"$f":"K46","v":26993},{"$f":"K46-C95","v":9570},{"$f":"SUM(K35:K44)","v":17423},{"$f":"K46","v":26993},{"$f":"K46-F95","v":9570},{"$f":"SUM(K35:K44)","v":17423},{"$f":"SUM(K33:K36)","v":14296},{"$f":"K46-G95-I95","v":12697},{"$f":"SUM(K22:K29)","v":0},{"$f":"SUM(K33:K36)","v":14296}]
[{"$f":"L46","v":22942},{"$f":"L46-C96","v":7907},{"$f":"SUM(L34:L43)","v":15035},{"$f":"L46","v":22942},{"$f":"L46-F96","v":7907},{"$f":"SUM(L34:L43)","v":15035},{"$f":"SUM(L40:L43)","v":0},{"$f":"L46-G96-I96","v":22942},{"$f":"SUM(L22:L29)","v":0},{"$f":"SUM(L40:L43)","v":0}]
[{"$f":"M46","v":21689},{"$f":"M46-C97","v":7374},{"$f":"SUM(M34:M43)","v":14315},{"$f":"M46","v":21689},{"$f":"M46-F97","v":7374},{"$f":"SUM(M34:M43)","v":14315},{"$f":"SUM(M40:M43)","v":0},{"$f":"M46-G97-I97","v":21689},{"$f":"SUM(M22:M29)","v":0},{"$f":"SUM(M40:M43)","v":0}]
[]
[]
["2.0 A","2.0 DHA",null,"2.1 A","2.1 DHA",null,"3.0 ",null,null,null,"3.1",null,null,"6.1"]
["P","P1","P2","P","P1","P2","P1","P2 ","P3","P1","P2 ","P3","P1","P2","P3","P4 ","P5","P6"]
[{"$f":"F3","v":6.3149885873700226E-2},{"$f":"F3*(14/24)","v":3.6837433426325138E-2},{"$f":"F3-B102","v":2.6312452447375088E-2},{"$f":"F3","v":6.3149885873700226E-2},{"$f":"F3*(14/24)","v":3.6837433426325138E-2},{"$f":"F3-E102","v":2.6312452447375088E-2},{"$f":"F3*(4/24)*(J54/C54)","v":1.0524980978950037E-2},{"$f":"F3-G102-I102","v":3.157494293685012E-2},{"$f":"F3*(8/24)*(L54/C54)","v":2.1049961957900074E-2},{"$f":"F3*(4/24)*(M54/C54)","v":7.129825824450025E-3},{"$f":"A102*((12/24)*N54+(6/24)*(C54-N54))/C54","v":2.6482210205100096E-2},{"$f":"A102-J102-K102","v":2.9537849844150102E-2},{"$f":"$A102*6/9*P54/$C$54","v":2.85193032978001E-2},{"$f":"$A102*3/9*Q54/$C$54","v":1.425965164890005E-2},{"$f":"$A102*O117","v":0},0,0,{"$f":"A102-M102-N102-O102-P102-Q102","v":2.0370930927000076E-2}]
[6.8475779863048453E-2,3.9944204920111602E-2,2.8531574942936851E-2,6.8475779863048453E-2,3.9944204920111602E-2,2.8531574942936851E-2,1.1412629977174741E-2,3.4237889931524233E-2,2.2825259954349482E-2,8.1518785551248155E-3,{"$f":"A103*((12/24)*N55+(6/24)*(C55-N55))/C55","v":2.9346762798449336E-2},{"$f":"A103-J103-K103","v":3.0977138509474301E-2},{"$f":"$A103*6/9*P55/$C$54","v":2.9451948328192885E-2},{"$f":"$A103*3/9*Q55/$C$54","v":1.4725974164096442E-2},0,0,0,{"$f":"A103-M103-N103-O103-P103-Q103","v":2.4297857370759131E-2}]
[9.1301039817397928E-2,5.3258939893482127E-2,3.8042099923915801E-2,9.1301039817397928E-2,5.3258939893482127E-2,3.8042099923915801E-2,1.5216839969566321E-2,4.5650519908698964E-2,3.0433679939132641E-2,1.128991352580727E-2,{"$f":"A104*((12/24)*N56+(6/24)*(C56-N56))/C56","v":3.9760130243060389E-2},4.0250996048530267E-2,{"$f":"$A104*M119","v":0},0,{"$f":"$A104*3/11*R56/$C$54","v":1.8474403951320988E-2},{"$f":"$A104*8/11*S56/$C$54","v":4.9265077203522634E-2},0,{"$f":"A104-M104-N104-O104-P104-Q104","v":2.3561558662554299E-2}]
[9.0032969819934069E-2,5.2519232394961542E-2,3.7513737424972528E-2,9.0032969819934069E-2,5.2519232394961542E-2,3.7513737424972528E-2,1.500549496998901E-2,4.5016484909967035E-2,3.0010989939978021E-2,1.0503846478992307E-2,3.826401217347198E-2,4.1265111167469788E-2,0,0,0,0,{"$f":"$A105*T57/C57","v":6.302307887395385E-2},{"$f":"A105-M105-N105-O105-P105-Q105","v":2.7009890945980219E-2}]
[9.8909459802181091E-2,5.7697184884605637E-2,4.1212274917575453E-2,9.8909459802181091E-2,5.7697184884605637E-2,4.1212274917575453E-2,1.6484909967030181E-2,4.9454729901090545E-2,3.2969819934060361E-2,1.1698968363698839E-2,4.2275817496093535E-2,4.4934673942388717E-2,0,0,0,0,{"$f":"$A106*T58/C58","v":7.0193810182193034E-2},2.8715649619988057E-2]
[0.10081156479837688,5.8806746132386518E-2,4.2004818665990366E-2,0.10081156479837688,5.8806746132386518E-2,4.2004818665990366E-2,1.6801927466396145E-2,5.0405782399188456E-2,3.360385493279229E-2,1.2321413475357172E-2,4.3685011412629988E-2,4.4805139910389723E-2,0,0,{"$f":"$A107*6/13*R59/C59","v":3.412083731637372E-2},{"$f":"$A107*7/13*S59/D59","v":3.9807643535769335E-2},0,2.6883083946233829E-2]
[0.10398173979203654,6.0656014878687985E-2,4.3325724913348553E-2,0.10398173979203654,6.0656014878687985E-2,4.3325724913348553E-2,1.7330289965339422E-2,5.1990869896018276E-2,3.4660579930678843E-2,1.2857957071058281E-2,4.5282370554596559E-2,4.5841412166381705E-2,{"$f":"$A108*8/12*0.5*P60/31","v":2.5715914142116561E-2},{"$f":"$A108*4/12*0.5*Q60/31","v":1.2857957071058281E-2},0,0,0,6.5407868578861689E-2]
[0.10017752979964495,5.8436892383126222E-2,4.1740637416518726E-2,0.10017752979964495,5.8436892383126222E-2,4.1740637416518726E-2,1.6696254966607489E-2,5.0088764899822488E-2,3.3392509933214978E-2,1.2387544007482976E-2,4.3625698461135703E-2,4.4164287331026272E-2,0,0,0,0,0,0.10017752979964495]
[8.5594724828810559E-2,4.9930256150139497E-2,3.5664468678671062E-2,8.5594724828810559E-2,4.9930256150139497E-2,3.5664468678671062E-2,1.4265787471468425E-2,4.2797362414405286E-2,2.8531574942936851E-2,{"$f":"F11*(4/24)*(C62/C62)","v":1.4265787471468425E-2},3.7091047425817911E-2,3.4237889931524226E-2,0,0,{"$f":"$A110*6/11*R62/C62","v":3.4237889931524219E-2},{"$f":"$A110*5/11*S62/D62","v":2.8531574942936854E-2},0,2.2825259954349485E-2]
[7.9254374841491254E-2,4.6231718657536565E-2,3.3022656183954689E-2,7.9254374841491254E-2,4.6231718657536565E-2,3.3022656183954689E-2,1.3209062473581876E-2,3.9627187420745627E-2,2.6418124947163751E-2,{"$f":"F12*(4/24)*(C63/C63)","v":1.3209062473581876E-2},3.3874853762895459E-2,3.217045860501392E-2,0,0,0,0,{"$f":"$A111*T63/C63","v":5.6245040210090566E-2},2.3009334631400688E-2]
[6.1691605376616797E-2,3.5986769803026467E-2,2.570483557359033E-2,6.1691605376616797E-2,3.5986769803026467E-2,2.570483557359033E-2,1.0281934229436133E-2,3.0845802688308395E-2,2.0563868458872266E-2,{"$f":"F13*(4/24)*(C64/C64)","v":1.0281934229436133E-2},2.6733028996533945E-2,2.4676642150646716E-2,0,0,{"$f":"$A112*3/11*R64/C64","v":1.2338321075323361E-2},{"$f":"$A112*8/11*S64/D64","v":3.2902189534195631E-2},0,1.6451094767097801E-2]
[5.6619325386761357E-2,3.3027939808944126E-2,2.3591385577817231E-2,5.6619325386761357E-2,3.3027939808944126E-2,2.3591385577817231E-2,9.4365542311268917E-3,2.8309662693380679E-2,1.8873108462253783E-2,{"$f":"F14*(4/24)*(C65/C65)","v":9.4365542311268917E-3},2.3743588065416054E-2,2.3439183090218408E-2,{"$f":"$A113*6/9*P65/$C$54","v":2.5570017916601902E-2},{"$f":"$A113*3/9*Q65/$C$54","v":1.2785008958300951E-2},0,0,0,1.8264298511858505E-2]
[]
["2.0 A","2.0 DHA",null,"2.1 A","2.1 DHA",null,"3.0 ",null,null,null,"3.1",null,null,"6.1"]
["P","P1","P2","P","P1","P2","P1","P2 ","P3","P1","P2 ","P3","P1","P2","P3","P4 ","P5","P6"]
[1,{"$f":"A117*(14/24)","v":0.58333333333333337},{"$f":"A117-B117","v":0.41666666666666663},{"$f":"A117","v":1},{"$f":"A117*(14/24)","v":0.58333333333333337},{"$f":"A117-E117","v":0.41666666666666663},{"$f":"A117*(4/24)*(J54/C54)","v":0.16666666666666666},{"$f":"A117-G117-I117","v":0.5},{"$f":"A117*(8/24)*(L54/C54)","v":0.33333333333333331},{"$f":"A117*(4/24)*(M54/C54)","v":0.1129032258064516},{"$f":"A117*((12/24)*N54+(6/24)*(C54-N54))/C54","v":0.41935483870967744},{"$f":"A117*((8/24)*N54+(C54-N54)*(18/24))/C54","v":0.46774193548387094},{"$f":"A117*(6/24)*P54/C54","v":0.16935483870967741},{"$f":"A117*(10/24)*Q54/C54","v":0.28225806451612906},0,0,0,{"$f":"A117*((8/24)*P54+24/24*(C54-P54))/C54","v":0.54838709677419351},{"$f":"SUM(M117:R117)","v":1}]
[1,{"$f":"A118*(14/24)","v":0.58333333333333337},{"$f":"A118-B118","v":0.41666666666666663},{"$f":"A118","v":1},{"$f":"A118*(14/24)","v":0.58333333333333337},{"$f":"A118-E118","v":0.41666666666666663},{"$f":"A118*(4/24)*(J55/C55)","v":0.16666666666666666},{"$f":"A118-G118-I118","v":0.5},{"$f":"A118*(8/24)*(L55/C55)","v":0.33333333333333331},{"$f":"A118*(4/24)*(M55/C55)","v":0.11904761904761904},{"$f":"A118*((12/24)*N55+(6/24)*(C55-N55))/C55","v":0.42857142857142855},{"$f":"A118*((8/24)*N55+(C55-N55)*(18/24))/C55","v":0.45238095238095238},{"$f":"A118*(6/24)*P55/C55","v":0.17857142857142858},{"$f":"A118*(10/24)*Q55/C55","v":0.29761904761904762},0,0,0,{"$f":"A118*((8/24)*P55+24/24*(C55-P55))/C55","v":0.52380952380952384},1]
[1,0.58333333333333337,0.41666666666666663,1,0.58333333333333337,0.41666666666666663,0.16666666666666666,0.5,0.33333333333333331,0.12365591397849462,0.43548387096774194,0.44086021505376344,0,0,{"$f":"A119*(10/24)*R56/C56","v":0.30913978494623656},{"$f":"A119*(6/24)*S56/C56","v":0.18548387096774194},0,{"$f":"A119*((8/24)*P56+24/24*(C56-P56))/C56","v":0.5053763440860215},1]
[1,0.58333333333333337,0.41666666666666663,1,0.58333333333333337,0.41666666666666663,0.16666666666666666,0.5,0.33333333333333331,0.11666666666666665,0.42499999999999999,0.45833333333333331,0,0,0,0,{"$f":"A120*(16/24)*P57/C57","v":0.46666666666666667},{"$f":"A120*(8/24*P57+24/24*(C57-P57))/C57","v":0.53333333333333333},1]
[1,0.58333333333333337,0.41666666666666663,1,0.58333333333333337,0.41666666666666663,0.16666666666666666,0.5,0.33333333333333331,0.11827956989247312,0.42741935483870969,0.45430107526881719,0,0,0,0,{"$f":"A121*(16/24)*P58/C58","v":0.47311827956989244},{"$f":"A121*(8/24*P58+24/24*(C58-P58))/C58","v":0.5268817204301075},1]
[1,0.58333333333333337,0.41666666666666663,1,0.58333333333333337,0.41666666666666663,0.16666666666666666,0.5,0.33333333333333331,0.1222222222222222,0.43333333333333335,0.44444444444444442,0,0,{"$f":"A122*(10/24)*R59/C59","v":0.30555555555555558},{"$f":"A122*(6/24)*S59/C59","v":0.18333333333333332},0,{"$f":"A122*((8/24)*P59+24/24*(C59-P59))/C59","v":0.51111111111111107},1]
[1,0.58333333333333337,0.41666666666666663,1,0.58333333333333337,0.41666666666666663,0.16666666666666666,0.5,0.33333333333333331,0.12365591397849462,0.43548387096774194,0.44086021505376344,{"$f":"A122*(8/24*P60)/C60","v":0.24731182795698922},{"$f":"A122*(8/24*Q60)/C60","v":0.24731182795698922},0,0,0,{"$f":"A122*(8/24*P60+24/24*(C60-P60))/C60","v":0.5053763440860215},1]
[1,0.58333333333333337,0.41666666666666663,1,0.58333333333333337,0.41666666666666663,0.16666666666666666,0.5,0.33333333333333331,0.12365591397849462,0.43548387096774194,0.44086021505376344,null,null,null,null,null,1,1]
[1,0.58333333333333337,0.41666666666666663,{"$f":"A125","v":1},0.58333333333333337,0.41666666666666663,0.16666666666666666,0.5,0.33333333333333331,0.1222222222222222,0.43333333333333335,0.44444444444444442,0,0,{"$f":"A125*(10/24)*R62/C62","v":0.30555555555555558},{"$f":"A125*(6/24)*S62/C62","v":0.18333333333333332},0,{"$f":"A125*((8/24)*P62+24/24*(C62-P62))/C62","v":0.51111111111111107},1]
[1,0.58333333333333337,0.41666666666666663,1,0.58333333333333337,0.41666666666666663,0.16666666666666666,0.5,0.33333333333333331,0.11827956989247312,0.42741935483870969,0.45430107526881719,0,0,0,0,{"$f":"A126*(16/24)*P63/C63","v":0.47311827956989244},{"$f":"A126*(8/24*P63+24/24*(C63-P63))/C63","v":0.5268817204301075},1]
[1,0.58333333333333337,0.41666666666666663,1,0.58333333333333337,0.41666666666666663,0.16666666666666666,0.5,0.33333333333333331,0.1222222222222222,0.43333333333333335,0.44444444444444442,0,0,{"$f":"A127*(10/24)*R64/C64","v":0.30555555555555558},{"$f":"A127*(6/24)*S64/C64","v":0.18333333333333332},0,{"$f":"A127*((8/24)*P64+24/24*(C64-P64))/C64","v":0.51111111111111107},1]
[1,0.58333333333333337,0.41666666666666663,1,0.58333333333333337,0.41666666666666663,0.16666666666666666,0.5,0.33333333333333331,0.1129032258064516,0.41935483870967744,0.46774193548387094,{"$f":"A128*(6/24)*P65/C65","v":0.16935483870967741},{"$f":"A128*(10/24)*Q65/C65","v":0.28225806451612906},0,0,0,{"$f":"A128*((8/24)*P65+24/24*(C65-P65))/C65","v":0.54838709677419351},1]
[]
[null,null,null,null,null,null,null,null,null,{"$f":"AVERAGE(J117:J128)","v":0.11964285714285712},{"$f":"AVERAGE(K117:K128)","v":0.4294642857142858},0.45089285714285715,6.9508448540706605E-2,0.10085881860075409,0.11143695014662756,6.6862170087976541E-2,0.12844574780058651,0.56264720942140301]

{"sheet":"ORDENA HORAS","index":6,"n_rows":319,"n_cols":31,"rows_kept":319,"cut":false,"hidden":true,"merged":[]}
[null,null,null,null,null,null,null,null,null,null,null,null,null,null,{"$f":"'IMPORTACIÓN DATOS ANUALES PVGIS'!M4","v":"INVIERNO"},null,null,null,null,"MESES"]
[null,null,null,null,null,null,null,null,null,null,null,null,null,null,null,null,null,null,"HORAS","ENERO","FEBRERO","MARZO","ABRIL","MAYO","JUNIO","JULIO","AGOSTO","SEPTIEMBRE","OCTUBRE","NOVIEMBRE","DICIEMBRE"]
[null,"MESES",null,null,null,null,null,null,null,null,null,null,null,null,null,null,null,null,"0:00-1:00",{"$f":"SUM(B5:B8)","v":0},0,0,0,0,0,0,0,0,0,0,0]
["HORAS","ENERO","FEBRERO","MARZO","ABRIL","MAYO","JUNIO","JULIO","AGOSTO","SEPTIEMBRE","OCTUBRE","NOVIEMBRE","DICIEMBRE",null,null,null,null,null,"1:00-2:00",{"$f":"SUM(B9:B12)","v":0},0,0,0,0,0,0,0,0,0,0,0]
[{"$f":"Q5","v":"00:07:00"},0,0,0,0,0,0,0,0,0,0,0,0,null,null,null,"00:07:00",null,"2:00-3:00",{"$f":"SUM(B13:B16)","v":0},0,0,0,0,0,0,0,0,0,0,0]
[{"$f":"Q6","v":"00:22:00"},0,0,0,0,0,0,0,0,0,0,0,0,null,null,null,"00:22:00",null,"3:00-4:00",{"$f":"SUM(B17:B20)","v":0},0,0,0,0,0,0,0,0,0,0,0]
["00:37:00",0,0,0,0,0,0,0,0,0,0,0,0,null,null,null,"00:37:00",null,"4:00-5:00",{"$f":"SUM(B21:B24)","v":0},0,0,0,0,0,0,0,0,0,0,0]
["00:52:00",0,0,0,0,0,0,0,0,0,0,0,0,null,null,null,"00:52:00",null,"5:00-6:00",{"$f":"SUM(B25:B28)","v":0},0,0,28,114,181,163,65,0,0,0,0]
["01:07:00",0,0,0,0,0,0,0,0,0,0,0,0,null,null,null,"01:07:00",null,"6:00-7:00",{"$f":"SUM(B29:B32)","v":0},0,291,503,632,679,652,542,346,86,0,0]
["01:22:00",0,0,0,0,0,0,0,0,0,0,0,0,null,null,null,"01:22:00",null,"7:00-8:00",{"$f":"SUM(B33:B36)","v":390},844,1261,1424,1518,1517,1492,1397,1201,983,532,330]
["01:37:00",0,0,0,0,0,0,0,0,0,0,0,0,null,null,null,"01:37:00",null,"8:00-9:00",{"$f":"SUM(B37:B40)","v":1605},1903,2316,2403,2428,2374,2358,2305,2166,2017,1634,1510]
["01:52:00",0,0,0,0,0,0,0,0,0,0,0,0,null,null,null,"01:52:00",null,"9:00-10:00",{"$f":"SUM(B41:B44)","v":2530},2820,3227,3246,3207,3109,3103,3095,3011,2917,2543,2438]
["02:07:00",0,0,0,0,0,0,0,0,0,0,0,0,null,null,null,"02:07:00",null,"10:00-11:00",{"$f":"SUM(B45:B48)","v":3191},3481,3875,3858,3770,3640,3640,3665,3623,3567,3198,3096]
["02:22:00",0,0,0,0,0,0,0,0,0,0,0,0,null,null,null,"02:22:00",null,"11:00-12:00",{"$f":"SUM(B49:B52)","v":3535},3824,4220,4160,4059,3916,3921,3959,3942,3906,3537,3436]
["02:37:00",0,0,0,0,0,0,0,0,0,0,0,0,null,null,null,"02:37:00",null,"12:00-13:00",{"$f":"SUM(B53:B56)","v":3535},3824,4220,4160,4059,3916,3921,3959,3942,3906,3537,3436]
["02:52:00",0,0,0,0,0,0,0,0,0,0,0,0,null,null,null,"02:52:00",null,"13:00-14:00",{"$f":"SUM(B57:B60)","v":3191},3481,3875,3858,3770,3640,3640,3665,3623,3567,3198,3096]
["03:07:00",0,0,0,0,0,0,0,0,0,0,0,0,null,null,null,"03:07:00",null,"14:00-15:00",{"$f":"SUM(B61:B64)","v":2530},2820,3227,3246,3207,3109,3103,3095,3011,2917,2543,2438]
["03:22:00",0,0,0,0,0,0,0,0,0,0,0,0,null,null,null,"03:22:00",null,"15:00-16:00",{"$f":"SUM(B65:B68)","v":1605},1903,2316,2403,2428,2374,2358,2305,2166,2017,1634,1510]
["03:37:00",0,0,0,0,0,0,0,0,0,0,0,0,null,null,null,"03:37:00",null,"16:00-17:00",{"$f":"SUM(B69:B72)","v":481},844,1261,1424,1518,1517,1492,1397,1201,983,586,399]
["03:52:00",0,0,0,0,0,0,0,0,0,0,0,0,null,null,null,"03:52:00",null,"17:00-18:00",{"$f":"SUM(B73:B76)","v":0},56,303,503,632,679,652,542,346,127,0,0]
["04:07:00",0,0,0,0,0,0,0,0,0,0,0,0,null,null,null,"04:07:00",null,"18:00-19:00",{"$f":"SUM(B77:B80)","v":0},0,0,45,131,181,163,80,10,0,0,0]
["04:22:00",0,0,0,0,0,0,0,0,0,0,0,0,null,null,null,"04:22:00",null,"19:00-20:00",{"$f":"SUM(B81:B84)","v":0},0,0,0,0,18,12,0,0,0,0,0]
["04:37:00",0,0,0,0,0,0,0,0,0,0,0,0,null,null,null,"04:37:00",null,"20:00-21:00",{"$f":"SUM(B85:B88)","v":0},0,0,0,0,0,0,0,0,0,0,0]
["04:52:00",0,0,0,0,0,0,0,0,0,0,0,0,null,null,null,"04:52:00",null,"21:00-22:00",{"$f":"SUM(B89:B92)","v":0},0,0,0,0,0,0,0,0,0,0,0]
["05:07:00",0,0,0,0,0,29,24,0,0,0,0,0,null,null,null,"05:07:00",null,"22:00-23:00",{"$f":"SUM(B93:B96)","v":0},0,0,0,0,0,0,0,0,0,0,0]
["05:22:00",0,0,0,0,28,40,36,0,0,0,0,0,null,null,null,"05:22:00",null,"23:00-24:00",{"$f":"SUM(B97:B100)","v":0},0,0,0,0,0,0,0,0,0,0,0]
["05:37:00",0,0,0,0,39,51,47,28,0,0,0,0,null,null,null,"05:37:00"]
["05:52:00",0,0,0,28,47,61,56,37,0,0,0,0,null,null,null,"05:52:00"]
["06:07:00",0,0,0,55,85,100,94,69,27,0,0,0,null,null,null,"06:07:00"]
["06:22:00",0,0,44,97,131,144,137,109,61,0,0,0,null,null,null,"06:22:00"]
["06:37:00",0,0,95,148,181,192,185,156,104,0,0,0,null,null,null,"06:37:00"]
["06:52:00",0,0,152,203,235,243,236,208,154,86,0,0,null,null,null,"06:52:00"]
["07:07:00",0,109,215,263,292,297,290,263,210,149,0,0,null,null,null,"07:07:00",null,null,"MESES"]
["07:22:00",0,178,281,324,350,351,345,320,269,212,107,0,null,null,null,"07:22:00",null,"HORAS","ENERO","FEBRERO","MARZO","ABRIL","MAYO","JUNIO","JULIO","AGOSTO","SEPTIEMBRE","OCTUBRE","NOVIEMBRE","DICIEMBRE"]
["07:37:00",156,245,349,387,409,407,401,378,330,278,179,129,null,null,null,"07:37:00",null,"0:00-1:00"]
["07:52:00",234,312,416,450,467,462,456,436,392,344,246,201,null,null,null,"07:52:00",null,"1:00-2:00",{"$f":"T3","v":0},{"$f":"U3","v":0},{"$f":"V3","v":0},null,null,null,null,null,null,null,{"$f":"AD3","v":0},{"$f":"AE3","v":0}]
["08:07:00",303,379,483,512,525,516,511,493,453,410,313,278,null,null,null,"08:07:00",null,"2:00-3:00",{"$f":"T4","v":0},0,0,{"$f":"W3","v":0},{"$f":"X3","v":0},0,0,0,0,0,{"$f":"AD4","v":0},0]
["08:22:00",370,445,549,573,581,569,565,550,513,474,378,346,null,null,null,"08:22:00",null,"3:00-4:00",0,0,0,{"$f":"W4","v":0},0,0,0,0,0,0,0,0]
["08:37:00",435,509,612,631,635,620,616,605,572,537,441,412,null,null,null,"08:37:00",null,"4:00-5:00",0,0,0,0,0,0,0,0,0,0,0,0]
["08:52:00",497,570,672,687,687,669,666,657,628,596,502,474,null,null,null,"08:52:00",null,"5:00-6:00",0,0,0,0,0,0,0,0,0,0,0,0]
["09:07:00",555,628,730,740,736,715,713,707,681,653,559,532,null,null,null,"09:07:00",null,"6:00-7:00",0,0,0,0,0,0,0,0,0,0,0,0]
["09:22:00",609,682,784,790,782,759,757,754,731,707,613,586,null,null,null,"09:22:00",null,"7:00-8:00",0,0,291,28,114,181,163,65,0,0,0,0]
["09:37:00",660,732,834,837,825,799,798,797,778,756,663,637,null,null,null,"09:37:00",null,"8:00-9:00",390,844,1261,503,632,679,652,542,346,86,532,330]
["09:52:00",706,778,879,879,864,836,835,837,821,801,708,683,null,null,null,"09:52:00",null,"9:00-10:00",1605,1903,2316,1424,1518,1517,1492,1397,1201,983,1634,1510]
["10:07:00",748,820,920,917,900,870,869,873,859,842,750,724,null,null,null,"10:07:00",null,"10:00-11:00",2530,2820,3227,2403,2428,2374,2358,2305,2166,2017,2543,2438]
["10:22:00",784,857,957,951,931,899,899,905,893,879,786,761,null,null,null,"10:22:00",null,"11:00-12:00",3191,3481,3875,3246,3207,3109,3103,3095,3011,2917,3198,3096]
["10:37:00",816,889,988,980,958,925,925,932,923,910,818,792,null,null,null,"10:37:00",null,"12:00-13:00",3535,3824,4220,3858,3770,3640,3640,3665,3623,3567,3537,3436]
["10:52:00",843,915,1010,1010,981,946,947,955,948,936,844,819,null,null,null,"10:52:00",null,"13:00-14:00",3535,3824,4220,4160,4059,3916,3921,3959,3942,3906,3537,3436]
["11:07:00",865,937,1040,1020,999,964,965,974,968,958,865,840,null,null,null,"11:07:00",null,"14:00-15:00",3191,3481,3875,4160,4059,3916,3921,3959,3942,3906,3198,3096]
["11:22:00",881,953,1050,1040,1010,977,978,988,983,974,882,856,null,null,null,"11:22:00",null,"15:00-16:00",2530,2820,3227,3858,3770,3640,3640,3665,3623,3567,2543,2438]
["11:37:00",892,964,1060,1050,1020,985,987,997,993,984,892,867,null,null,null,"11:37:00",null,"16:00-17:00",1605,1903,2316,3246,3207,3109,3103,3095,3011,2917,1634,1510]
["11:52:00",897,970,1070,1050,1030,990,991,1000,998,990,898,873,null,null,null,"11:52:00",null,"17:00-18:00",481,844,1261,2403,2428,2374,2358,2305,2166,2017,586,399]
["12:07:00",897,970,1070,1050,1030,990,991,1000,998,990,898,873,null,null,null,"12:07:00",null,"18:00-19:00",0,56,303,1424,1518,1517,1492,1397,1201,983,0,0]
["12:22:00",892,964,1060,1050,1020,985,987,997,993,984,892,867,null,null,null,"12:22:00",null,"19:00-20:00",0,0,0,503,632,679,652,542,346,127,0,0]
["12:37:00",881,953,1050,1040,1010,977,978,988,983,974,882,856,null,null,null,"12:37:00",null,"20:00-21:00",0,0,0,45,131,181,163,80,10,0,0,0]
["12:52:00",865,937,1040,1020,999,964,965,974,968,958,865,840,null,null,null,"12:52:00",null,"21:00-22:00",0,0,0,0,0,18,12,0,0,0,0,0]
["13:07:00",843,915,1010,1010,981,946,947,955,948,936,844,819,null,null,null,"13:07:00",null,"22:00-23:00",0,0,0,0,0,0,0,0,0,0,0,0]
["13:22:00",816,889,988,980,958,925,925,932,923,910,818,792,null,null,null,"13:22:00",null,"23:00-24:00",0,0,0,0,0,0,0,0,0,0,0,0]
["13:37:00",784,857,957,951,931,899,899,905,893,879,786,761,null,null,null,"13:37:00",null,null,0,{"$f":"U26","v":0},{"$f":"V26","v":0},0,0,0,0,0,0,0,0,0]
["13:52:00",748,820,920,917,900,870,869,873,859,842,750,724,null,null,null,"13:52:00",null,null,null,null,null,0,0,0,0,0,0,0]
["14:07:00",706,778,879,879,864,836,835,837,821,801,708,683,null,null,null,"14:07:00"]
["14:22:00",660,732,834,837,825,799,798,797,778,756,663,637,null,null,null,"14:22:00"]
["14:37:00",609,682,784,790,782,759,757,754,731,707,613,586,null,null,null,"14:37:00"]
["14:52:00",555,628,730,740,736,715,713,707,681,653,559,532,null,null,null,"14:52:00"]
["15:07:00",497,570,672,687,687,669,666,657,628,596,502,474,null,null,null,"15:07:00"]
["15:22:00",435,509,612,631,635,620,616,605,572,537,441,412,null,null,null,"15:22:00"]
["15:37:00",370,445,549,573,581,569,565,550,513,474,378,346,null,null,null,"15:37:00"]
["15:52:00",303,379,483,512,525,516,511,493,453,410,313,278,null,null,null,"15:52:00"]
["16:07:00",234,312,416,450,467,462,456,436,392,344,246,201,null,null,null,"16:07:00"]
[{"$f":"Q70","v":"16:22:00"},156,245,349,387,409,407,401,378,330,278,179,129,null,null,null,"16:22:00"]
["16:37:00",91,178,281,324,350,351,345,320,269,212,107,69,null,null,null,"16:37:00"]
["16:52:00",null,109,215,263,292,297,290,263,210,149,54,null,null,null,null,"16:52:00"]
["17:07:00",null,56,152,203,235,243,236,208,154,86,null,null,null,null,null,"17:07:00"]
["17:22:00",null,null,95,148,181,192,185,156,104,41,null,null,null,null,null,"17:22:00"]
["17:37:00",null,null,44,97,131,144,137,109,61,null,null,null,null,null,null,"17:37:00"]
["17:52:00",null,null,12,55,85,100,94,69,27,null,null,null,null,null,null,"17:52:00"]
["18:07:00",null,null,null,28,47,61,56,37,10,null,null,null,null,null,null,"18:07:00"]
["18:22:00",null,null,null,17,39,51,47,28,null,null,null,null,null,null,null,"18:22:00"]
["18:37:00",null,null,null,null,28,40,36,15,null,null,null,null,null,null,null,"18:37:00"]
["18:52:00",null,null,null,null,17,29,24,null,null,null,null,null,null,null,null,"18:52:00"]
["19:07:00",null,null,null,null,null,18,12,null,null,null,null,null,null,null,null,"19:07:00"]
["19:22:00",null,null,null,null,null,null,null,null,null,null,null,null,null,null,null,"19:22:00"]
["19:37:00",null,null,null,null,null,null,null,null,null,null,null,null,null,null,null,"19:37:00"]
["19:52:00",null,null,null,null,null,null,null,null,null,null,null,null,null,null,null,"19:52:00"]
["20:07:00",null,null,null,null,null,null,null,null,null,null,null,null,null,null,null,"20:07:00"]
["20:22:00",null,null,null,null,null,null,null,null,null,null,null,null,null,null,null,"20:22:00"]
["20:37:00",null,null,null,null,null,null,null,null,null,null,null,null,null,null,null,"20:37:00"]
["20:52:00",null,null,null,null,null,null,null,null,null,null,null,null,null,null,null,"20:52:00"]
["21:07:00",null,null,null,null,null,null,null,null,null,null,null,null,null,null,null,"21:07:00"]
["21:22:00",null,null,null,null,null,null,null,null,null,null,null,null,null,null,null,"21:22:00"]
["21:37:00",null,null,null,null,null,null,null,null,null,null,null,null,null,null,null,"21:37:00"]
["21:52:00",null,null,null,null,null,null,null,null,null,null,null,null,null,null,null,"21:52:00"]
["22:07:00",null,null,null,null,null,null,null,null,null,null,null,null,null,null,null,"22:07:00"]
["22:22:00",null,null,null,null,null,null,null,null,null,null,null,null,null,null,null,"22:22:00"]
["22:37:00",null,null,null,null,null,null,null,null,null,null,null,null,null,null,null,"22:37:00"]
["22:52:00",null,null,null,null,null,null,null,null,null,null,null,null,null,null,null,"22:52:00"]
["23:07:00",null,null,null,null,null,null,null,null,null,null,null,null,null,null,null,"23:07:00"]
["23:22:00",null,null,null,null,null,null,null,null,null,null,null,null,null,null,null,"23:22:00"]
["23:37:00",null,null,null,null,null,null,null,null,null,null,null,null,null,null,null,"23:37:00"]
["23:52:00",null,null,null,null,null,null,null,null,null,null,null,null,null,null,null,"23:52:00"]
[]
[]
[null,"MESES"]
[null,"ENERO",null,"FEBRERO",null,"MARZO",null,"ABRIL",null,"MAYO",null,"JUNIO",null,"JULIO",null,"AGOSTO",null,"SEPTIEMBRE",null,"OCTUBRE",null,"NOVIEMBRE",null,"DICIEMBRE"]
["HORAS","GC","HORAS","GC","HORAS","GC","HORAS","GC","HORAS","GC","HORAS","GC","HORAS","GC","HORAS","GC","HORAS","GC","HORAS","GC","HORAS","GC","HORAS","GC"]
[{"$f":"'IMPORTACIÓN DATOS ANUALES PVGIS'!B33","v":"07:37:00"},{"$f":"'IMPORTACIÓN DATOS ANUALES PVGIS'!C33","v":156},{"$f":"'IMPORTACIÓN DATOS ANUALES PVGIS'!E33","v":"07:07:00"},{"$f":"'IMPORTACIÓN DATOS ANUALES PVGIS'!F33","v":109},{"$f":"'IMPORTACIÓN DATOS ANUALES PVGIS'!H33","v":"06:22:00"},{"$f":"'IMPORTACIÓN DATOS ANUALES PVGIS'!I33","v":44},{"$f":"'IMPORTACIÓN DATOS ANUALES PVGIS'!K33","v":"05:52:00"},{"$f":"'IMPORTACIÓN DATOS ANUALES PVGIS'!L33","v":28},{"$f":"'IMPORTACIÓN DATOS ANUALES PVGIS'!N33","v":"05:22:00"},{"$f":"'IMPORTACIÓN DATOS ANUALES PVGIS'!O33","v":28},{"$f":"'IMPORTACIÓN DATOS ANUALES PVGIS'!Q33","v":"05:07:00"},{"$f":"'IMPORTACIÓN DATOS ANUALES PVGIS'!R33","v":29},{"$f":"'IMPORTACIÓN DATOS ANUALES PVGIS'!T33","v":"05:07:00"},{"$f":"'IMPORTACIÓN DATOS ANUALES PVGIS'!U33","v":24},{"$f":"'IMPORTACIÓN DATOS ANUALES PVGIS'!W33","v":"05:37:00"},{"$f":"'IMPORTACIÓN DATOS ANUALES PVGIS'!X33","v":28},{"$f":"'IMPORTACIÓN DATOS ANUALES PVGIS'!Z33","v":"06:07:00"},{"$f":"'IMPORTACIÓN DATOS ANUALES PVGIS'!AA33","v":27},{"$f":"'IMPORTACIÓN DATOS ANUALES PVGIS'!AC33","v":"06:52:00"},{"$f":"'IMPORTACIÓN DATOS ANUALES PVGIS'!AD33","v":86},{"$f":"'IMPORTACIÓN DATOS ANUALES PVGIS'!AF33","v":"07:22:00"},{"$f":"'IMPORTACIÓN DATOS ANUALES PVGIS'!AG33","v":107},{"$f":"'IMPORTACIÓN DATOS ANUALES PVGIS'!AI33","v":"07:37:00"},{"$f":"'IMPORTACIÓN DATOS ANUALES PVGIS'!AJ33","v":129}]
[{"$f":"'IMPORTACIÓN DATOS ANUALES PVGIS'!B34","v":"07:52:00"},{"$f":"'IMPORTACIÓN DATOS ANUALES PVGIS'!C34","v":234},{"$f":"'IMPORTACIÓN DATOS ANUALES PVGIS'!E34","v":"07:22:00"},{"$f":"'IMPORTACIÓN DATOS ANUALES PVGIS'!F34","v":178},{"$f":"'IMPORTACIÓN DATOS ANUALES PVGIS'!H34","v":"06:37:00"},{"$f":"'IMPORTACIÓN DATOS ANUALES PVGIS'!I34","v":95},{"$f":"'IMPORTACIÓN DATOS ANUALES PVGIS'!K34","v":"06:07:00"},{"$f":"'IMPORTACIÓN DATOS ANUALES PVGIS'!L34","v":55},{"$f":"'IMPORTACIÓN DATOS ANUALES PVGIS'!N34","v":"05:37:00"},{"$f":"'IMPORTACIÓN DATOS ANUALES PVGIS'!O34","v":39},{"$f":"'IMPORTACIÓN DATOS ANUALES PVGIS'!Q34","v":"05:22:00"},{"$f":"'IMPORTACIÓN DATOS ANUALES PVGIS'!R34","v":40},{"$f":"'IMPORTACIÓN DATOS ANUALES PVGIS'!T34","v":"05:22:00"},{"$f":"'IMPORTACIÓN DATOS ANUALES PVGIS'!U34","v":36},{"$f":"'IMPORTACIÓN DATOS ANUALES PVGIS'!W34","v":"05:52:00"},{"$f":"'IMPORTACIÓN DATOS ANUALES PVGIS'!X34","v":37},{"$f":"'IMPORTACIÓN DATOS ANUALES PVGIS'!Z34","v":"06:22:00"},{"$f":"'IMPORTACIÓN DATOS ANUALES PVGIS'!AA34","v":61},{"$f":"'IMPORTACIÓN DATOS ANUALES PVGIS'!AC34","v":"07:07:00"},{"$f":"'IMPORTACIÓN DATOS ANUALES PVGIS'!AD34","v":149},{"$f":"'IMPORTACIÓN DATOS ANUALES PVGIS'!AF34","v":"07:37:00"},{"$f":"'IMPORTACIÓN DATOS ANUALES PVGIS'!AG34","v":179},{"$f":"'IMPORTACIÓN DATOS ANUALES PVGIS'!AI34","v":"07:52:00"},{"$f":"'IMPORTACIÓN DATOS ANUALES PVGIS'!AJ34","v":201}]
[{"$f":"'IMPORTACIÓN DATOS ANUALES PVGIS'!B35","v":"08:07:00"},{"$f":"'IMPORTACIÓN DATOS ANUALES PVGIS'!C35","v":303},{"$f":"'IMPORTACIÓN DATOS ANUALES PVGIS'!E35","v":"07:37:00"},{"$f":"'IMPORTACIÓN DATOS ANUALES PVGIS'!F35","v":245},{"$f":"'IMPORTACIÓN DATOS ANUALES PVGIS'!H35","v":"06:52:00"},{"$f":"'IMPORTACIÓN DATOS ANUALES PVGIS'!I35","v":152},{"$f":"'IMPORTACIÓN DATOS ANUALES PVGIS'!K35","v":"06:22:00"},{"$f":"'IMPORTACIÓN DATOS ANUALES PVGIS'!L35","v":97},{"$f":"'IMPORTACIÓN DATOS ANUALES PVGIS'!N35","v":"05:52:00"},{"$f":"'IMPORTACIÓN DATOS ANUALES PVGIS'!O35","v":47},{"$f":"'IMPORTACIÓN DATOS ANUALES PVGIS'!Q35","v":"05:37:00"},{"$f":"'IMPORTACIÓN DATOS ANUALES PVGIS'!R35","v":51},{"$f":"'IMPORTACIÓN DATOS ANUALES PVGIS'!T35","v":"05:37:00"},{"$f":"'IMPORTACIÓN DATOS ANUALES PVGIS'!U35","v":47},{"$f":"'IMPORTACIÓN DATOS ANUALES PVGIS'!W35","v":"06:07:00"},{"$f":"'IMPORTACIÓN DATOS ANUALES PVGIS'!X35","v":69},{"$f":"'IMPORTACIÓN DATOS ANUALES PVGIS'!Z35","v":"06:37:00"},{"$f":"'IMPORTACIÓN DATOS ANUALES PVGIS'!AA35","v":104},{"$f":"'IMPORTACIÓN DATOS ANUALES PVGIS'!AC35","v":"07:22:00"},{"$f":"'IMPORTACIÓN DATOS ANUALES PVGIS'!AD35","v":212},{"$f":"'IMPORTACIÓN DATOS ANUALES PVGIS'!AF35","v":"07:52:00"},{"$f":"'IMPORTACIÓN DATOS ANUALES PVGIS'!AG35","v":246},{"$f":"'IMPORTACIÓN DATOS ANUALES PVGIS'!AI35","v":"08:07:00"},{"$f":"'IMPORTACIÓN DATOS ANUALES PVGIS'!AJ35","v":278}]
[{"$f":"'IMPORTACIÓN DATOS ANUALES PVGIS'!B36","v":"08:22:00"},{"$f":"'IMPORTACIÓN DATOS ANUALES PVGIS'!C36","v":370},{"$f":"'IMPORTACIÓN DATOS ANUALES PVGIS'!E36","v":"07:52:00"},{"$f":"'IMPORTACIÓN DATOS ANUALES PVGIS'!F36","v":312},{"$f":"'IMPORTACIÓN DATOS ANUALES PVGIS'!H36","v":"07:07:00"},{"$f":"'IMPORTACIÓN DATOS ANUALES PVGIS'!I36","v":215},{"$f":"'IMPORTACIÓN DATOS ANUALES PVGIS'!K36","v":"06:37:00"},{"$f":"'IMPORTACIÓN DATOS ANUALES PVGIS'!L36","v":148},{"$f":"'IMPORTACIÓN DATOS ANUALES PVGIS'!N36","v":"06:07:00"},{"$f":"'IMPORTACIÓN DATOS ANUALES PVGIS'!O36","v":85},{"$f":"'IMPORTACIÓN DATOS ANUALES PVGIS'!Q36","v":"05:52:00"},{"$f":"'IMPORTACIÓN DATOS ANUALES PVGIS'!R36","v":61},{"$f":"'IMPORTACIÓN DATOS ANUALES PVGIS'!T36","v":"05:52:00"},{"$f":"'IMPORTACIÓN DATOS ANUALES PVGIS'!U36","v":56},{"$f":"'IMPORTACIÓN DATOS ANUALES PVGIS'!W36","v":"06:22:00"},{"$f":"'IMPORTACIÓN DATOS ANUALES PVGIS'!X36","v":109},{"$f":"'IMPORTACIÓN DATOS ANUALES PVGIS'!Z36","v":"06:52:00"},{"$f":"'IMPORTACIÓN DATOS ANUALES PVGIS'!AA36","v":154},{"$f":"'IMPORTACIÓN DATOS ANUALES PVGIS'!AC36","v":"07:37:00"},{"$f":"'IMPORTACIÓN DATOS ANUALES PVGIS'!AD36","v":278},{"$f":"'IMPORTACIÓN DATOS ANUALES PVGIS'!AF36","v":"08:07:00"},{"$f":"'IMPORTACIÓN DATOS ANUALES PVGIS'!AG36","v":313},{"$f":"'IMPORTACIÓN DATOS ANUALES PVGIS'!AI36","v":"08:22:00"},{"$f":"'IMPORTACIÓN DATOS ANUALES PVGIS'!AJ36","v":346}]
[{"$f":"'IMPORTACIÓN DATOS ANUALES PVGIS'!B37","v":"08:37:00"},{"$f":"'IMPORTACIÓN DATOS ANUALES PVGIS'!C37","v":435},{"$f":"'IMPORTACIÓN DATOS ANUALES PVGIS'!E37","v":"08:07:00"},{"$f":"'IMPORTACIÓN DATOS ANUALES PVGIS'!F37","v":379},{"$f":"'IMPORTACIÓN DATOS ANUALES PVGIS'!H37","v":"07:22:00"},{"$f":"'IMPORTACIÓN DATOS ANUALES PVGIS'!I37","v":281},{"$f":"'IMPORTACIÓN DATOS ANUALES PVGIS'!K37","v":"06:52:00"},{"$f":"'IMPORTACIÓN DATOS ANUALES PVGIS'!L37","v":203},{"$f":"'IMPORTACIÓN DATOS ANUALES PVGIS'!N37","v":"06:22:00"},{"$f":"'IMPORTACIÓN DATOS ANUALES PVGIS'!O37","v":131},{"$f":"'IMPORTACIÓN DATOS ANUALES PVGIS'!Q37","v":"06:07:00"},{"$f":"'IMPORTACIÓN DATOS ANUALES PVGIS'!R37","v":100},{"$f":"'IMPORTACIÓN DATOS ANUALES PVGIS'!T37","v":"06:07:00"},{"$f":"'IMPORTACIÓN DATOS ANUALES PVGIS'!U37","v":94},{"$f":"'IMPORTACIÓN DATOS ANUALES PVGIS'!W37","v":"06:37:00"},{"$f":"'IMPORTACIÓN DATOS ANUALES PVGIS'!X37","v":156},{"$f":"'IMPORTACIÓN DATOS ANUALES PVGIS'!Z37","v":"07:07:00"},{"$f":"'IMPORTACIÓN DATOS ANUALES PVGIS'!AA37","v":210},{"$f":"'IMPORTACIÓN DATOS ANUALES PVGIS'!AC37","v":"07:52:00"},{"$f":"'IMPORTACIÓN DATOS ANUALES PVGIS'!AD37","v":344},{"$f":"'IMPORTACIÓN DATOS ANUALES PVGIS'!AF37","v":"08:22:00"},{"$f":"'IMPORTACIÓN DATOS ANUALES PVGIS'!AG37","v":378},{"$f":"'IMPORTACIÓN DATOS ANUALES PVGIS'!AI37","v":"08:37:00"},{"$f":"'IMPORTACIÓN DATOS ANUALES PVGIS'!AJ37","v":412}]
[{"$f":"'IMPORTACIÓN DATOS ANUALES PVGIS'!B38","v":"08:52:00"},{"$f":"'IMPORTACIÓN DATOS ANUALES PVGIS'!C38","v":497},{"$f":"'IMPORTACIÓN DATOS ANUALES PVGIS'!E38","v":"08:22:00"},{"$f":"'IMPORTACIÓN DATOS ANUALES PVGIS'!F38","v":445},{"$f":"'IMPORTACIÓN DATOS ANUALES PVGIS'!H38","v":"07:37:00"},{"$f":"'IMPORTACIÓN DATOS ANUALES PVGIS'!I38","v":349},{"$f":"'IMPORTACIÓN DATOS ANUALES PVGIS'!K38","v":"07:07:00"},{"$f":"'IMPORTACIÓN DATOS ANUALES PVGIS'!L38","v":263},{"$f":"'IMPORTACIÓN DATOS ANUALES PVGIS'!N38","v":"06:37:00"},{"$f":"'IMPORTACIÓN DATOS ANUALES PVGIS'!O38","v":181},{"$f":"'IMPORTACIÓN DATOS ANUALES PVGIS'!Q38","v":"06:22:00"},{"$f":"'IMPORTACIÓN DATOS ANUALES PVGIS'!R38","v":144},{"$f":"'IMPORTACIÓN DATOS ANUALES PVGIS'!T38","v":"06:22:00"},{"$f":"'IMPORTACIÓN DATOS ANUALES PVGIS'!U38","v":137},{"$f":"'IMPORTACIÓN DATOS ANUALES PVGIS'!W38","v":"06:52:00"},{"$f":"'IMPORTACIÓN DATOS ANUALES PVGIS'!X38","v":208},{"$f":"'IMPORTACIÓN DATOS ANUALES PVGIS'!Z38","v":"07:22:00"},{"$f":"'IMPORTACIÓN DATOS ANUALES PVGIS'!AA38","v":269},{"$f":"'IMPORTACIÓN DATOS ANUALES PVGIS'!AC38","v":"08:07:00"},{"$f":"'IMPORTACIÓN DATOS ANUALES PVGIS'!AD38","v":410},{"$f":"'IMPORTACIÓN DATOS ANUALES PVGIS'!AF38","v":"08:37:00"},{"$f":"'IMPORTACIÓN DATOS ANUALES PVGIS'!AG38","v":441},{"$f":"'IMPORTACIÓN DATOS ANUALES PVGIS'!AI38","v":"08:52:00"},{"$f":"'IMPORTACIÓN DATOS ANUALES PVGIS'!AJ38","v":474}]
[{"$f":"'IMPORTACIÓN DATOS ANUALES PVGIS'!B39","v":"09:07:00"},{"$f":"'IMPORTACIÓN DATOS ANUALES PVGIS'!C39","v":555},{"$f":"'IMPORTACIÓN DATOS ANUALES PVGIS'!E39","v":"08:37:00"},{"$f":"'IMPORTACIÓN DATOS ANUALES PVGIS'!F39","v":509},{"$f":"'IMPORTACIÓN DATOS ANUALES PVGIS'!H39","v":"07:52:00"},{"$f":"'IMPORTACIÓN DATOS ANUALES PVGIS'!I39","v":416},{"$f":"'IMPORTACIÓN DATOS ANUALES PVGIS'!K39","v":"07:22:00"},{"$f":"'IMPORTACIÓN DATOS ANUALES PVGIS'!L39","v":324},{"$f":"'IMPORTACIÓN DATOS ANUALES PVGIS'!N39","v":"06:52:00"},{"$f":"'IMPORTACIÓN DATOS ANUALES PVGIS'!O39","v":235},{"$f":"'IMPORTACIÓN DATOS ANUALES PVGIS'!Q39","v":"06:37:00"},{"$f":"'IMPORTACIÓN DATOS ANUALES PVGIS'!R39","v":192},{"$f":"'IMPORTACIÓN DATOS ANUALES PVGIS'!T39","v":"06:37:00"},{"$f":"'IMPORTACIÓN DATOS ANUALES PVGIS'!U39","v":185},{"$f":"'IMPORTACIÓN DATOS ANUALES PVGIS'!W39","v":"07:07:00"},{"$f":"'IMPORTACIÓN DATOS ANUALES PVGIS'!X39","v":263},{"$f":"'IMPORTACIÓN DATOS ANUALES PVGIS'!Z39","v":"07:37:00"},{"$f":"'IMPORTACIÓN DATOS ANUALES PVGIS'!AA39","v":330},{"$f":"'IMPORTACIÓN DATOS ANUALES PVGIS'!AC39","v":"08:22:00"},{"$f":"'IMPORTACIÓN DATOS ANUALES PVGIS'!AD39","v":474},{"$f":"'IMPORTACIÓN DATOS ANUALES PVGIS'!AF39","v":"08:52:00"},{"$f":"'IMPORTACIÓN DATOS ANUALES PVGIS'!AG39","v":502},{"$f":"'IMPORTACIÓN DATOS ANUALES PVGIS'!AI39","v":"09:07:00"},{"$f":"'IMPORTACIÓN DATOS ANUALES PVGIS'!AJ39","v":532}]
[{"$f":"'IMPORTACIÓN DATOS ANUALES PVGIS'!B40","v":"09:22:00"},{"$f":"'IMPORTACIÓN DATOS ANUALES PVGIS'!C40","v":609},{"$f":"'IMPORTACIÓN DATOS ANUALES PVGIS'!E40","v":"08:52:00"},{"$f":"'IMPORTACIÓN DATOS ANUALES PVGIS'!F40","v":570},{"$f":"'IMPORTACIÓN DATOS ANUALES PVGIS'!H40","v":"08:07:00"},{"$f":"'IMPORTACIÓN DATOS ANUALES PVGIS'!I40","v":483},{"$f":"'IMPORTACIÓN DATOS ANUALES PVGIS'!K40","v":"07:37:00"},{"$f":"'IMPORTACIÓN DATOS ANUALES PVGIS'!L40","v":387},{"$f":"'IMPORTACIÓN DATOS ANUALES PVGIS'!N40","v":"07:07:00"},{"$f":"'IMPORTACIÓN DATOS ANUALES PVGIS'!O40","v":292},{"$f":"'IMPORTACIÓN DATOS ANUALES PVGIS'!Q40","v":"06:52:00"},{"$f":"'IMPORTACIÓN DATOS ANUALES PVGIS'!R40","v":243},{"$f":"'IMPORTACIÓN DATOS ANUALES PVGIS'!T40","v":"06:52:00"},{"$f":"'IMPORTACIÓN DATOS ANUALES PVGIS'!U40","v":236},{"$f":"'IMPORTACIÓN DATOS ANUALES PVGIS'!W40","v":"07:22:00"},{"$f":"'IMPORTACIÓN DATOS ANUALES PVGIS'!X40","v":320},{"$f":"'IMPORTACIÓN DATOS ANUALES PVGIS'!Z40","v":"07:52:00"},{"$f":"'IMPORTACIÓN DATOS ANUALES PVGIS'!AA40","v":392},{"$f":"'IMPORTACIÓN DATOS ANUALES PVGIS'!AC40","v":"08:37:00"},{"$f":"'IMPORTACIÓN DATOS ANUALES PVGIS'!AD40","v":537},{"$f":"'IMPORTACIÓN DATOS ANUALES PVGIS'!AF40","v":"09:07:00"},{"$f":"'IMPORTACIÓN DATOS ANUALES PVGIS'!AG40","v":559},{"$f":"'IMPORTACIÓN DATOS ANUALES PVGIS'!AI40","v":"09:22:00"},{"$f":"'IMPORTACIÓN DATOS ANUALES PVGIS'!AJ40","v":586}]
[{"$f":"'IMPORTACIÓN DATOS ANUALES PVGIS'!B41","v":"09:37:00"},{"$f":"'IMPORTACIÓN DATOS ANUALES PVGIS'!C41","v":660},{"$f":"'IMPORTACIÓN DATOS ANUALES PVGIS'!E41","v":"09:07:00"},{"$f":"'IMPORTACIÓN DATOS ANUALES PVGIS'!F41","v":628},{"$f":"'IMPORTACIÓN DATOS ANUALES PVGIS'!H41","v":"08:22:00"},{"$f":"'IMPORTACIÓN DATOS ANUALES PVGIS'!I41","v":549},{"$f":"'IMPORTACIÓN DATOS ANUALES PVGIS'!K41","v":"07:52:00"},{"$f":"'IMPORTACIÓN DATOS ANUALES PVGIS'!L41","v":450},{"$f":"'IMPORTACIÓN DATOS ANUALES PVGIS'!N41","v":"07:22:00"},{"$f":"'IMPORTACIÓN DATOS ANUALES PVGIS'!O41","v":350},{"$f":"'IMPORTACIÓN DATOS ANUALES PVGIS'!Q41","v":"07:07:00"},{"$f":"'IMPORTACIÓN DATOS ANUALES PVGIS'!R41","v":297},{"$f":"'IMPORTACIÓN DATOS ANUALES PVGIS'!T41","v":"07:07:00"},{"$f":"'IMPORTACIÓN DATOS ANUALES PVGIS'!U41","v":290},{"$f":"'IMPORTACIÓN DATOS ANUALES PVGIS'!W41","v":"07:37:00"},{"$f":"'IMPORTACIÓN DATOS ANUALES PVGIS'!X41","v":378},{"$f":"'IMPORTACIÓN DATOS ANUALES PVGIS'!Z41","v":"08:07:00"},{"$f":"'IMPORTACIÓN DATOS ANUALES PVGIS'!AA41","v":453},{"$f":"'IMPORTACIÓN DATOS ANUALES PVGIS'!AC41","v":"08:52:00"},{"$f":"'IMPORTACIÓN DATOS ANUALES PVGIS'!AD41","v":596},{"$f":"'IMPORTACIÓN DATOS ANUALES PVGIS'!AF41","v":"09:22:00"},{"$f":"'IMPORTACIÓN DATOS ANUALES PVGIS'!AG41","v":613},{"$f":"'IMPORTACIÓN DATOS ANUALES PVGIS'!AI41","v":"09:37:00"},{"$f":"'IMPORTACIÓN DATOS ANUALES PVGIS'!AJ41","v":637}]
[{"$f":"'IMPORTACIÓN DATOS ANUALES PVGIS'!B42","v":"09:52:00"},{"$f":"'IMPORTACIÓN DATOS ANUALES PVGIS'!C42","v":706},{"$f":"'IMPORTACIÓN DATOS ANUALES PVGIS'!E42","v":"09:22:00"},{"$f":"'IMPORTACIÓN DATOS ANUALES PVGIS'!F42","v":682},{"$f":"'IMPORTACIÓN DATOS ANUALES PVGIS'!H42","v":"08:37:00"},{"$f":"'IMPORTACIÓN DATOS ANUALES PVGIS'!I42","v":612},{"$f":"'IMPORTACIÓN DATOS ANUALES PVGIS'!K42","v":"08:07:00"},{"$f":"'IMPORTACIÓN DATOS ANUALES PVGIS'!L42","v":512},{"$f":"'IMPORTACIÓN DATOS ANUALES PVGIS'!N42","v":"07:37:00"},{"$f":"'IMPORTACIÓN DATOS ANUALES PVGIS'!O42","v":409},{"$f":"'IMPORTACIÓN DATOS ANUALES PVGIS'!Q42","v":"07:22:00"},{"$f":"'IMPORTACIÓN DATOS ANUALES PVGIS'!R42","v":351},{"$f":"'IMPORTACIÓN DATOS ANUALES PVGIS'!T42","v":"07:22:00"},{"$f":"'IMPORTACIÓN DATOS ANUALES PVGIS'!U42","v":345},{"$f":"'IMPORTACIÓN DATOS ANUALES PVGIS'!W42","v":"07:52:00"},{"$f":"'IMPORTACIÓN DATOS ANUALES PVGIS'!X42","v":436},{"$f":"'IMPORTACIÓN DATOS ANUALES PVGIS'!Z42","v":"08:22:00"},{"$f":"'IMPORTACIÓN DATOS ANUALES PVGIS'!AA42","v":513},{"$f":"'IMPORTACIÓN DATOS ANUALES PVGIS'!AC42","v":"09:07:00"},{"$f":"'IMPORTACIÓN DATOS ANUALES PVGIS'!AD42","v":653},{"$f":"'IMPORTACIÓN DATOS ANUALES PVGIS'!AF42","v":"09:37:00"},{"$f":"'IMPORTACIÓN DATOS ANUALES PVGIS'!AG42","v":663},{"$f":"'IMPORTACIÓN DATOS ANUALES PVGIS'!AI42","v":"09:52:00"},{"$f":"'IMPORTACIÓN DATOS ANUALES PVGIS'!AJ42","v":683}]
[{"$f":"'IMPORTACIÓN DATOS ANUALES PVGIS'!B43","v":"10:07:00"},{"$f":"'IMPORTACIÓN DATOS ANUALES PVGIS'!C43","v":748},{"$f":"'IMPORTACIÓN DATOS ANUALES PVGIS'!E43","v":"09:37:00"},{"$f":"'IMPORTACIÓN DATOS ANUALES PVGIS'!F43","v":732},{"$f":"'IMPORTACIÓN DATOS ANUALES PVGIS'!H43","v":"08:52:00"},{"$f":"'IMPORTACIÓN DATOS ANUALES PVGIS'!I43","v":672},{"$f":"'IMPORTACIÓN DATOS ANUALES PVGIS'!K43","v":"08:22:00"},{"$f":"'IMPORTACIÓN DATOS ANUALES PVGIS'!L43","v":573},{"$f":"'IMPORTACIÓN DATOS ANUALES PVGIS'!N43","v":"07:52:00"},{"$f":"'IMPORTACIÓN DATOS ANUALES PVGIS'!O43","v":467},{"$f":"'IMPORTACIÓN DATOS ANUALES PVGIS'!Q43","v":"07:37:00"},{"$f":"'IMPORTACIÓN DATOS ANUALES PVGIS'!R43","v":407},{"$f":"'IMPORTACIÓN DATOS ANUALES PVGIS'!T43","v":"07:37:00"},{"$f":"'IMPORTACIÓN DATOS ANUALES PVGIS'!U43","v":401},{"$f":"'IMPORTACIÓN DATOS ANUALES PVGIS'!W43","v":"08:07:00"},{"$f":"'IMPORTACIÓN DATOS ANUALES PVGIS'!X43","v":493},{"$f":"'IMPORTACIÓN DATOS ANUALES PVGIS'!Z43","v":"08:37:00"},{"$f":"'IMPORTACIÓN DATOS ANUALES PVGIS'!AA43","v":572},{"$f":"'IMPORTACIÓN DATOS ANUALES PVGIS'!AC43","v":"09:22:00"},{"$f":"'IMPORTACIÓN DATOS ANUALES PVGIS'!AD43","v":707},{"$f":"'IMPORTACIÓN DATOS ANUALES PVGIS'!AF43","v":"09:52:00"},{"$f":"'IMPORTACIÓN DATOS ANUALES PVGIS'!AG43","v":708},{"$f":"'IMPORTACIÓN DATOS ANUALES PVGIS'!AI43","v":"10:07:00"},{"$f":"'IMPORTACIÓN DATOS ANUALES PVGIS'!AJ43","v":724}]
[{"$f":"'IMPORTACIÓN DATOS ANUALES PVGIS'!B44","v":"10:22:00"},{"$f":"'IMPORTACIÓN DATOS ANUALES PVGIS'!C44","v":784},{"$f":"'IMPORTACIÓN DATOS ANUALES PVGIS'!E44","v":"09:52:00"},{"$f":"'IMPORTACIÓN DATOS ANUALES PVGIS'!F44","v":778},{"$f":"'IMPORTACIÓN DATOS ANUALES PVGIS'!H44","v":"09:07:00"},{"$f":"'IMPORTACIÓN DATOS ANUALES PVGIS'!I44","v":730},{"$f":"'IMPORTACIÓN DATOS ANUALES PVGIS'!K44","v":"08:37:00"},{"$f":"'IMPORTACIÓN DATOS ANUALES PVGIS'!L44","v":631},{"$f":"'IMPORTACIÓN DATOS ANUALES PVGIS'!N44","v":"08:07:00"},{"$f":"'IMPORTACIÓN DATOS ANUALES PVGIS'!O44","v":525},{"$f":"'IMPORTACIÓN DATOS ANUALES PVGIS'!Q44","v":"07:52:00"},{"$f":"'IMPORTACIÓN DATOS ANUALES PVGIS'!R44","v":462},{"$f":"'IMPORTACIÓN DATOS ANUALES PVGIS'!T44","v":"07:52:00"},{"$f":"'IMPORTACIÓN DATOS ANUALES PVGIS'!U44","v":456},{"$f":"'IMPORTACIÓN DATOS ANUALES PVGIS'!W44","v":"08:22:00"},{"$f":"'IMPORTACIÓN DATOS ANUALES PVGIS'!X44","v":550},{"$f":"'IMPORTACIÓN DATOS ANUALES PVGIS'!Z44","v":"08:52:00"},{"$f":"'IMPORTACIÓN DATOS ANUALES PVGIS'!AA44","v":628},{"$f":"'IMPORTACIÓN DATOS ANUALES PVGIS'!AC44","v":"09:37:00"},{"$f":"'IMPORTACIÓN DATOS ANUALES PVGIS'!AD44","v":756},{"$f":"'IMPORTACIÓN DATOS ANUALES PVGIS'!AF44","v":"10:07:00"},{"$f":"'IMPORTACIÓN DATOS ANUALES PVGIS'!AG44","v":750},{"$f":"'IMPORTACIÓN DATOS ANUALES PVGIS'!AI44","v":"10:22:00"},{"$f":"'IMPORTACIÓN DATOS ANUALES PVGIS'!AJ44","v":761}]
[{"$f":"'IMPORTACIÓN DATOS ANUALES PVGIS'!B45","v":"10:37:00"},{"$f":"'IMPORTACIÓN DATOS ANUALES PVGIS'!C45","v":816},{"$f":"'IMPORTACIÓN DATOS ANUALES PVGIS'!E45","v":"10:07:00"},{"$f":"'IMPORTACIÓN DATOS ANUALES PVGIS'!F45","v":820},{"$f":"'IMPORTACIÓN DATOS ANUALES PVGIS'!H45","v":"09:22:00"},{"$f":"'IMPORTACIÓN DATOS ANUALES PVGIS'!I45","v":784},{"$f":"'IMPORTACIÓN DATOS ANUALES PVGIS'!K45","v":"08:52:00"},{"$f":"'IMPORTACIÓN DATOS ANUALES PVGIS'!L45","v":687},{"$f":"'IMPORTACIÓN DATOS ANUALES PVGIS'!N45","v":"08:22:00"},{"$f":"'IMPORTACIÓN DATOS ANUALES PVGIS'!O45","v":581},{"$f":"'IMPORTACIÓN DATOS ANUALES PVGIS'!Q45","v":"08:07:00"},{"$f":"'IMPORTACIÓN DATOS ANUALES PVGIS'!R45","v":516},{"$f":"'IMPORTACIÓN DATOS ANUALES PVGIS'!T45","v":"08:07:00"},{"$f":"'IMPORTACIÓN DATOS ANUALES PVGIS'!U45","v":511},{"$f":"'IMPORTACIÓN DATOS ANUALES PVGIS'!W45","v":"08:37:00"},{"$f":"'IMPORTACIÓN DATOS ANUALES PVGIS'!X45","v":605},{"$f":"'IMPORTACIÓN DATOS ANUALES PVGIS'!Z45","v":"09:07:00"},{"$f":"'IMPORTACIÓN DATOS ANUALES PVGIS'!AA45","v":681},{"$f":"'IMPORTACIÓN DATOS ANUALES PVGIS'!AC45","v":"09:52:00"},{"$f":"'IMPORTACIÓN DATOS ANUALES PVGIS'!AD45","v":801},{"$f":"'IMPORTACIÓN DATOS ANUALES PVGIS'!AF45","v":"10:22:00"},{"$f":"'IMPORTACIÓN DATOS ANUALES PVGIS'!AG45","v":786},{"$f":"'IMPORTACIÓN DATOS ANUALES PVGIS'!AI45","v":"10:37:00"},{"$f":"'IMPORTACIÓN DATOS ANUALES PVGIS'!AJ45","v":792}]
[{"$f":"'IMPORTACIÓN DATOS ANUALES PVGIS'!B46","v":"10:52:00"},{"$f":"'IMPORTACIÓN DATOS ANUALES PVGIS'!C46","v":843},{"$f":"'IMPORTACIÓN DATOS ANUALES PVGIS'!E46","v":"10:22:00"},{"$f":"'IMPORTACIÓN DATOS ANUALES PVGIS'!F46","v":857},{"$f":"'IMPORTACIÓN DATOS ANUALES PVGIS'!H46","v":"09:37:00"},{"$f":"'IMPORTACIÓN DATOS ANUALES PVGIS'!I46","v":834},{"$f":"'IMPORTACIÓN DATOS ANUALES PVGIS'!K46","v":"09:07:00"},{"$f":"'IMPORTACIÓN DATOS ANUALES PVGIS'!L46","v":740},{"$f":"'IMPORTACIÓN DATOS ANUALES PVGIS'!N46","v":"08:37:00"},{"$f":"'IMPORTACIÓN DATOS ANUALES PVGIS'!O46","v":635},{"$f":"'IMPORTACIÓN DATOS ANUALES PVGIS'!Q46","v":"08:22:00"},{"$f":"'IMPORTACIÓN DATOS ANUALES PVGIS'!R46","v":569},{"$f":"'IMPORTACIÓN DATOS ANUALES PVGIS'!T46","v":"08:22:00"},{"$f":"'IMPORTACIÓN DATOS ANUALES PVGIS'!U46","v":565},{"$f":"'IMPORTACIÓN DATOS ANUALES PVGIS'!W46","v":"08:52:00"},{"$f":"'IMPORTACIÓN DATOS ANUALES PVGIS'!X46","v":657},{"$f":"'IMPORTACIÓN DATOS ANUALES PVGIS'!Z46","v":"09:22:00"},{"$f":"'IMPORTACIÓN DATOS ANUALES PVGIS'!AA46","v":731},{"$f":"'IMPORTACIÓN DATOS ANUALES PVGIS'!AC46","v":"10:07:00"},{"$f":"'IMPORTACIÓN DATOS ANUALES PVGIS'!AD46","v":842},{"$f":"'IMPORTACIÓN DATOS ANUALES PVGIS'!AF46","v":"10:37:00"},{"$f":"'IMPORTACIÓN DATOS ANUALES PVGIS'!AG46","v":818},{"$f":"'IMPORTACIÓN DATOS ANUALES PVGIS'!AI46","v":"10:52:00"},{"$f":"'IMPORTACIÓN DATOS ANUALES PVGIS'!AJ46","v":819}]
[{"$f":"'IMPORTACIÓN DATOS ANUALES PVGIS'!B47","v":"11:07:00"},{"$f":"'IMPORTACIÓN DATOS ANUALES PVGIS'!C47","v":865},{"$f":"'IMPORTACIÓN DATOS ANUALES PVGIS'!E47","v":"10:37:00"},{"$f":"'IMPORTACIÓN DATOS ANUALES PVGIS'!F47","v":889},{"$f":"'IMPORTACIÓN DATOS ANUALES PVGIS'!H47","v":"09:52:00"},{"$f":"'IMPORTACIÓN DATOS ANUALES PVGIS'!I47","v":879},{"$f":"'IMPORTACIÓN DATOS ANUALES PVGIS'!K47","v":"09:22:00"},{"$f":"'IMPORTACIÓN DATOS ANUALES PVGIS'!L47","v":790},{"$f":"'IMPORTACIÓN DATOS ANUALES PVGIS'!N47","v":"08:52:00"},{"$f":"'IMPORTACIÓN DATOS ANUALES PVGIS'!O47","v":687},{"$f":"'IMPORTACIÓN DATOS ANUALES PVGIS'!Q47","v":"08:37:00"},{"$f":"'IMPORTACIÓN DATOS ANUALES PVGIS'!R47","v":620},{"$f":"'IMPORTACIÓN DATOS ANUALES PVGIS'!T47","v":"08:37:00"},{"$f":"'IMPORTACIÓN DATOS ANUALES PVGIS'!U47","v":616},{"$f":"'IMPORTACIÓN DATOS ANUALES PVGIS'!W47","v":"09:07:00"},{"$f":"'IMPORTACIÓN DATOS ANUALES PVGIS'!X47","v":707},{"$f":"'IMPORTACIÓN DATOS ANUALES PVGIS'!Z47","v":"09:37:00"},{"$f":"'IMPORTACIÓN DATOS ANUALES PVGIS'!AA47","v":778},{"$f":"'IMPORTACIÓN DATOS ANUALES PVGIS'!AC47","v":"10:22:00"},{"$f":"'IMPORTACIÓN DATOS ANUALES PVGIS'!AD47","v":879},{"$f":"'IMPORTACIÓN DATOS ANUALES PVGIS'!AF47","v":"10:52:00"},{"$f":"'IMPORTACIÓN DATOS ANUALES PVGIS'!AG47","v":844},{"$f":"'IMPORTACIÓN DATOS ANUALES PVGIS'!AI47","v":"11:07:00"},{"$f":"'IMPORTACIÓN DATOS ANUALES PVGIS'!AJ47","v":840}]
[{"$f":"'IMPORTACIÓN DATOS ANUALES PVGIS'!B48","v":"11:22:00"},{"$f":"'IMPORTACIÓN DATOS ANUALES PVGIS'!C48","v":881},{"$f":"'IMPORTACIÓN DATOS ANUALES PVGIS'!E48","v":"10:52:00"},{"$f":"'IMPORTACIÓN DATOS ANUALES PVGIS'!F48","v":915},{"$f":"'IMPORTACIÓN DATOS ANUALES PVGIS'!H48","v":"10:07:00"},{"$f":"'IMPORTACIÓN DATOS ANUALES PVGIS'!I48","v":920},{"$f":"'IMPORTACIÓN DATOS ANUALES PVGIS'!K48","v":"09:37:00"},{"$f":"'IMPORTACIÓN DATOS ANUALES PVGIS'!L48","v":837},{"$f":"'IMPORTACIÓN DATOS ANUALES PVGIS'!N48","v":"09:07:00"},{"$f":"'IMPORTACIÓN DATOS ANUALES PVGIS'!O48","v":736},{"$f":"'IMPORTACIÓN DATOS ANUALES PVGIS'!Q48","v":"08:52:00"},{"$f":"'IMPORTACIÓN DATOS ANUALES PVGIS'!R48","v":669},{"$f":"'IMPORTACIÓN DATOS ANUALES PVGIS'!T48","v":"08:52:00"},{"$f":"'IMPORTACIÓN DATOS ANUALES PVGIS'!U48","v":666},{"$f":"'IMPORTACIÓN DATOS ANUALES PVGIS'!W48","v":"09:22:00"},{"$f":"'IMPORTACIÓN DATOS ANUALES PVGIS'!X48","v":754},{"$f":"'IMPORTACIÓN DATOS ANUALES PVGIS'!Z48","v":"09:52:00"},{"$f":"'IMPORTACIÓN DATOS ANUALES PVGIS'!AA48","v":821},{"$f":"'IMPORTACIÓN DATOS ANUALES PVGIS'!AC48","v":"10:37:00"},{"$f":"'IMPORTACIÓN DATOS ANUALES PVGIS'!AD48","v":910},{"$f":"'IMPORTACIÓN DATOS ANUALES PVGIS'!AF48","v":"11:07:00"},{"$f":"'IMPORTACIÓN DATOS ANUALES PVGIS'!AG48","v":865},{"$f":"'IMPORTACIÓN DATOS ANUALES PVGIS'!AI48","v":"11:22:00"},{"$f":"'IMPORTACIÓN DATOS ANUALES PVGIS'!AJ48","v":856}]
[{"$f":"'IMPORTACIÓN DATOS ANUALES PVGIS'!B49","v":"11:37:00"},{"$f":"'IMPORTACIÓN DATOS ANUALES PVGIS'!C49","v":892},{"$f":"'IMPORTACIÓN DATOS ANUALES PVGIS'!E49","v":"11:07:00"},{"$f":"'IMPORTACIÓN DATOS ANUALES PVGIS'!F49","v":937},{"$f":"'IMPORTACIÓN DATOS ANUALES PVGIS'!H49","v":"10:22:00"},{"$f":"'IMPORTACIÓN DATOS ANUALES PVGIS'!I49","v":957},{"$f":"'IMPORTACIÓN DATOS ANUALES PVGIS'!K49","v":"09:52:00"},{"$f":"'IMPORTACIÓN DATOS ANUALES PVGIS'!L49","v":879},{"$f":"'IMPORTACIÓN DATOS ANUALES PVGIS'!N49","v":"09:22:00"},{"$f":"'IMPORTACIÓN DATOS ANUALES PVGIS'!O49","v":782},{"$f":"'IMPORTACIÓN DATOS ANUALES PVGIS'!Q49","v":"09:07:00"},{"$f":"'IMPORTACIÓN DATOS ANUALES PVGIS'!R49","v":715},{"$f":"'IMPORTACIÓN DATOS ANUALES PVGIS'!T49","v":"09:07:00"},{"$f":"'IMPORTACIÓN DATOS ANUALES PVGIS'!U49","v":713},{"$f":"'IMPORTACIÓN DATOS ANUALES PVGIS'!W49","v":"09:37:00"},{"$f":"'IMPORTACIÓN DATOS ANUALES PVGIS'!X49","v":797},{"$f":"'IMPORTACIÓN DATOS ANUALES PVGIS'!Z49","v":"10:07:00"},{"$f":"'IMPORTACIÓN DATOS ANUALES PVGIS'!AA49","v":859},{"$f":"'IMPORTACIÓN DATOS ANUALES PVGIS'!AC49","v":"10:52:00"},{"$f":"'IMPORTACIÓN DATOS ANUALES PVGIS'!AD49","v":936},{"$f":"'IMPORTACIÓN DATOS ANUALES PVGIS'!AF49","v":"11:22:00"},{"$f":"'IMPORTACIÓN DATOS ANUALES PVGIS'!AG49","v":882},{"$f":"'IMPORTACIÓN DATOS ANUALES PVGIS'!AI49","v":"11:37:00"},{"$f":"'IMPORTACIÓN DATOS ANUALES PVGIS'!AJ49","v":867}]
[{"$f":"'IMPORTACIÓN DATOS ANUALES PVGIS'!B50","v":"11:52:00"},{"$f":"'IMPORTACIÓN DATOS ANUALES PVGIS'!C50","v":897},{"$f":"'IMPORTACIÓN DATOS ANUALES PVGIS'!E50","v":"11:22:00"},{"$f":"'IMPORTACIÓN DATOS ANUALES PVGIS'!F50","v":953},{"$f":"'IMPORTACIÓN DATOS ANUALES PVGIS'!H50","v":"10:37:00"},{"$f":"'IMPORTACIÓN DATOS ANUALES PVGIS'!I50","v":988},{"$f":"'IMPORTACIÓN DATOS ANUALES PVGIS'!K50","v":"10:07:00"},{"$f":"'IMPORTACIÓN DATOS ANUALES PVGIS'!L50","v":917},{"$f":"'IMPORTACIÓN DATOS ANUALES PVGIS'!N50","v":"09:37:00"},{"$f":"'IMPORTACIÓN DATOS ANUALES PVGIS'!O50","v":825},{"$f":"'IMPORTACIÓN DATOS ANUALES PVGIS'!Q50","v":"09:22:00"},{"$f":"'IMPORTACIÓN DATOS ANUALES PVGIS'!R50","v":759},{"$f":"'IMPORTACIÓN DATOS ANUALES PVGIS'!T50","v":"09:22:00"},{"$f":"'IMPORTACIÓN DATOS ANUALES PVGIS'!U50","v":757},{"$f":"'IMPORTACIÓN DATOS ANUALES PVGIS'!W50","v":"09:52:00"},{"$f":"'IMPORTACIÓN DATOS ANUALES PVGIS'!X50","v":837},{"$f":"'IMPORTACIÓN DATOS ANUALES PVGIS'!Z50","v":"10:22:00"},{"$f":"'IMPORTACIÓN DATOS ANUALES PVGIS'!AA50","v":893},{"$f":"'IMPORTACIÓN DATOS ANUALES PVGIS'!AC50","v":"11:07:00"},{"$f":"'IMPORTACIÓN DATOS ANUALES PVGIS'!AD50","v":958},{"$f":"'IMPORTACIÓN DATOS ANUALES PVGIS'!AF50","v":"11:37:00"},{"$f":"'IMPORTACIÓN DATOS ANUALES PVGIS'!AG50","v":892},{"$f":"'IMPORTACIÓN DATOS ANUALES PVGIS'!AI50","v":"11:52:00"},{"$f":"'IMPORTACIÓN DATOS ANUALES PVGIS'!AJ50","v":873}]
[{"$f":"'IMPORTACIÓN DATOS ANUALES PVGIS'!B51","v":"12:07:00"},{"$f":"'IMPORTACIÓN DATOS ANUALES PVGIS'!C51","v":897},{"$f":"'IMPORTACIÓN DATOS ANUALES PVGIS'!E51","v":"11:37:00"},{"$f":"'IMPORTACIÓN DATOS ANUALES PVGIS'!F51","v":964},{"$f":"'IMPORTACIÓN DATOS ANUALES PVGIS'!H51","v":"10:52:00"},{"$f":"'IMPORTACIÓN DATOS ANUALES PVGIS'!I51","v":1010},{"$f":"'IMPORTACIÓN DATOS ANUALES PVGIS'!K51","v":"10:22:00"},{"$f":"'IMPORTACIÓN DATOS ANUALES PVGIS'!L51","v":951},{"$f":"'IMPORTACIÓN DATOS ANUALES PVGIS'!N51","v":"09:52:00"},{"$f":"'IMPORTACIÓN DATOS ANUALES PVGIS'!O51","v":864},{"$f":"'IMPORTACIÓN DATOS ANUALES PVGIS'!Q51","v":"09:37:00"},{"$f":"'IMPORTACIÓN DATOS ANUALES PVGIS'!R51","v":799},{"$f":"'IMPORTACIÓN DATOS ANUALES PVGIS'!T51","v":"09:37:00"},{"$f":"'IMPORTACIÓN DATOS ANUALES PVGIS'!U51","v":798},{"$f":"'IMPORTACIÓN DATOS ANUALES PVGIS'!W51","v":"10:07:00"},{"$f":"'IMPORTACIÓN DATOS ANUALES PVGIS'!X51","v":873},{"$f":"'IMPORTACIÓN DATOS ANUALES PVGIS'!Z51","v":"10:37:00"},{"$f":"'IMPORTACIÓN DATOS ANUALES PVGIS'!AA51","v":923},{"$f":"'IMPORTACIÓN DATOS ANUALES PVGIS'!AC51","v":"11:22:00"},{"$f":"'IMPORTACIÓN DATOS ANUALES PVGIS'!AD51","v":974},{"$f":"'IMPORTACIÓN DATOS ANUALES PVGIS'!AF51","v":"11:52:00"},{"$f":"'IMPORTACIÓN DATOS ANUALES PVGIS'!AG51","v":898},{"$f":"'IMPORTACIÓN DATOS ANUALES PVGIS'!AI51","v":"12:07:00"},{"$f":"'IMPORTACIÓN DATOS ANUALES PVGIS'!AJ51","v":873}]
[{"$f":"'IMPORTACIÓN DATOS ANUALES PVGIS'!B52","v":"12:22:00"},{"$f":"'IMPORTACIÓN DATOS ANUALES PVGIS'!C52","v":892},{"$f":"'IMPORTACIÓN DATOS ANUALES PVGIS'!E52","v":"11:52:00"},{"$f":"'IMPORTACIÓN DATOS ANUALES PVGIS'!F52","v":970},{"$f":"'IMPORTACIÓN DATOS ANUALES PVGIS'!H52","v":"11:07:00"},{"$f":"'IMPORTACIÓN DATOS ANUALES PVGIS'!I52","v":1040},{"$f":"'IMPORTACIÓN DATOS ANUALES PVGIS'!K52","v":"10:37:00"},{"$f":"'IMPORTACIÓN DATOS ANUALES PVGIS'!L52","v":980},{"$f":"'IMPORTACIÓN DATOS ANUALES PVGIS'!N52","v":"10:07:00"},{"$f":"'IMPORTACIÓN DATOS ANUALES PVGIS'!O52","v":900},{"$f":"'IMPORTACIÓN DATOS ANUALES PVGIS'!Q52","v":"09:52:00"},{"$f":"'IMPORTACIÓN DATOS ANUALES PVGIS'!R52","v":836},{"$f":"'IMPORTACIÓN DATOS ANUALES PVGIS'!T52","v":"09:52:00"},{"$f":"'IMPORTACIÓN DATOS ANUALES PVGIS'!U52","v":835},{"$f":"'IMPORTACIÓN DATOS ANUALES PVGIS'!W52","v":"10:22:00"},{"$f":"'IMPORTACIÓN DATOS ANUALES PVGIS'!X52","v":905},{"$f":"'IMPORTACIÓN DATOS ANUALES PVGIS'!Z52","v":"10:52:00"},{"$f":"'IMPORTACIÓN DATOS ANUALES PVGIS'!AA52","v":948},{"$f":"'IMPORTACIÓN DATOS ANUALES PVGIS'!AC52","v":"11:37:00"},{"$f":"'IMPORTACIÓN DATOS ANUALES PVGIS'!AD52","v":984},{"$f":"'IMPORTACIÓN DATOS ANUALES PVGIS'!AF52","v":"12:07:00"},{"$f":"'IMPORTACIÓN DATOS ANUALES PVGIS'!AG52","v":898},{"$f":"'IMPORTACIÓN DATOS ANUALES PVGIS'!AI52","v":"12:22:00"},{"$f":"'IMPORTACIÓN DATOS ANUALES PVGIS'!AJ52","v":867}]
[{"$f":"'IMPORTACIÓN DATOS ANUALES PVGIS'!B53","v":"12:37:00"},{"$f":"'IMPORTACIÓN DATOS ANUALES PVGIS'!C53","v":881},{"$f":"'IMPORTACIÓN DATOS ANUALES PVGIS'!E53","v":"12:07:00"},{"$f":"'IMPORTACIÓN DATOS ANUALES PVGIS'!F53","v":970},{"$f":"'IMPORTACIÓN DATOS ANUALES PVGIS'!H53","v":"11:22:00"},{"$f":"'IMPORTACIÓN DATOS ANUALES PVGIS'!I53","v":1050},{"$f":"'IMPORTACIÓN DATOS ANUALES PVGIS'!K53","v":"10:52:00"},{"$f":"'IMPORTACIÓN DATOS ANUALES PVGIS'!L53","v":1010},{"$f":"'IMPORTACIÓN DATOS ANUALES PVGIS'!N53","v":"10:22:00"},{"$f":"'IMPORTACIÓN DATOS ANUALES PVGIS'!O53","v":931},{"$f":"'IMPORTACIÓN DATOS ANUALES PVGIS'!Q53","v":"10:07:00"},{"$f":"'IMPORTACIÓN DATOS ANUALES PVGIS'!R53","v":870},{"$f":"'IMPORTACIÓN DATOS ANUALES PVGIS'!T53","v":"10:07:00"},{"$f":"'IMPORTACIÓN DATOS ANUALES PVGIS'!U53","v":869},{"$f":"'IMPORTACIÓN DATOS ANUALES PVGIS'!W53","v":"10:37:00"},{"$f":"'IMPORTACIÓN DATOS ANUALES PVGIS'!X53","v":932},{"$f":"'IMPORTACIÓN DATOS ANUALES PVGIS'!Z53","v":"11:07:00"},{"$f":"'IMPORTACIÓN DATOS ANUALES PVGIS'!AA53","v":968},{"$f":"'IMPORTACIÓN DATOS ANUALES PVGIS'!AC53","v":"11:52:00"},{"$f":"'IMPORTACIÓN DATOS ANUALES PVGIS'!AD53","v":990},{"$f":"'IMPORTACIÓN DATOS ANUALES PVGIS'!AF53","v":"12:22:00"},{"$f":"'IMPORTACIÓN DATOS ANUALES PVGIS'!AG53","v":892},{"$f":"'IMPORTACIÓN DATOS ANUALES PVGIS'!AI53","v":"12:37:00"},{"$f":"'IMPORTACIÓN DATOS ANUALES PVGIS'!AJ53","v":856}]
[{"$f":"'IMPORTACIÓN DATOS ANUALES PVGIS'!B54","v":"12:52:00"},{"$f":"'IMPORTACIÓN DATOS ANUALES PVGIS'!C54","v":865},{"$f":"'IMPORTACIÓN DATOS ANUALES PVGIS'!E54","v":"12:22:00"},{"$f":"'IMPORTACIÓN DATOS ANUALES PVGIS'!F54","v":964},{"$f":"'IMPORTACIÓN DATOS ANUALES PVGIS'!H54","v":"11:37:00"},{"$f":"'IMPORTACIÓN DATOS ANUALES PVGIS'!I54","v":1060},{"$f":"'IMPORTACIÓN DATOS ANUALES PVGIS'!K54","v":"11:07:00"},{"$f":"'IMPORTACIÓN DATOS ANUALES PVGIS'!L54","v":1020},{"$f":"'IMPORTACIÓN DATOS ANUALES PVGIS'!N54","v":"10:37:00"},{"$f":"'IMPORTACIÓN DATOS ANUALES PVGIS'!O54","v":958},{"$f":"'IMPORTACIÓN DATOS ANUALES PVGIS'!Q54","v":"10:22:00"},{"$f":"'IMPORTACIÓN DATOS ANUALES PVGIS'!R54","v":899},{"$f":"'IMPORTACIÓN DATOS ANUALES PVGIS'!T54","v":"10:22:00"},{"$f":"'IMPORTACIÓN DATOS ANUALES PVGIS'!U54","v":899},{"$f":"'IMPORTACIÓN DATOS ANUALES PVGIS'!W54","v":"10:52:00"},{"$f":"'IMPORTACIÓN DATOS ANUALES PVGIS'!X54","v":955},{"$f":"'IMPORTACIÓN DATOS ANUALES PVGIS'!Z54","v":"11:22:00"},{"$f":"'IMPORTACIÓN DATOS ANUALES PVGIS'!AA54","v":983},{"$f":"'IMPORTACIÓN DATOS ANUALES PVGIS'!AC54","v":"12:07:00"},{"$f":"'IMPORTACIÓN DATOS ANUALES PVGIS'!AD54","v":990},{"$f":"'IMPORTACIÓN DATOS ANUALES PVGIS'!AF54","v":"12:37:00"},{"$f":"'IMPORTACIÓN DATOS ANUALES PVGIS'!AG54","v":882},{"$f":"'IMPORTACIÓN DATOS ANUALES PVGIS'!AI54","v":"12:52:00"},{"$f":"'IMPORTACIÓN DATOS ANUALES PVGIS'!AJ54","v":840}]
[{"$f":"'IMPORTACIÓN DATOS ANUALES PVGIS'!B55","v":"13:07:00"},{"$f":"'IMPORTACIÓN DATOS ANUALES PVGIS'!C55","v":843},{"$f":"'IMPORTACIÓN DATOS ANUALES PVGIS'!E55","v":"12:37:00"},{"$f":"'IMPORTACIÓN DATOS ANUALES PVGIS'!F55","v":953},{"$f":"'IMPORTACIÓN DATOS ANUALES PVGIS'!H55","v":"11:52:00"},{"$f":"'IMPORTACIÓN DATOS ANUALES PVGIS'!I55","v":1070},{"$f":"'IMPORTACIÓN DATOS ANUALES PVGIS'!K55","v":"11:22:00"},{"$f":"'IMPORTACIÓN DATOS ANUALES PVGIS'!L55","v":1040},{"$f":"'IMPORTACIÓN DATOS ANUALES PVGIS'!N55","v":"10:52:00"},{"$f":"'IMPORTACIÓN DATOS ANUALES PVGIS'!O55","v":981},{"$f":"'IMPORTACIÓN DATOS ANUALES PVGIS'!Q55","v":"10:37:00"},{"$f":"'IMPORTACIÓN DATOS ANUALES PVGIS'!R55","v":925},{"$f":"'IMPORTACIÓN DATOS ANUALES PVGIS'!T55","v":"10:37:00"},{"$f":"'IMPORTACIÓN DATOS ANUALES PVGIS'!U55","v":925},{"$f":"'IMPORTACIÓN DATOS ANUALES PVGIS'!W55","v":"11:07:00"},{"$f":"'IMPORTACIÓN DATOS ANUALES PVGIS'!X55","v":974},{"$f":"'IMPORTACIÓN DATOS ANUALES PVGIS'!Z55","v":"11:37:00"},{"$f":"'IMPORTACIÓN DATOS ANUALES PVGIS'!AA55","v":993},{"$f":"'IMPORTACIÓN DATOS ANUALES PVGIS'!AC55","v":"12:22:00"},{"$f":"'IMPORTACIÓN DATOS ANUALES PVGIS'!AD55","v":984},{"$f":"'IMPORTACIÓN DATOS ANUALES PVGIS'!AF55","v":"12:52:00"},{"$f":"'IMPORTACIÓN DATOS ANUALES PVGIS'!AG55","v":865},{"$f":"'IMPORTACIÓN DATOS ANUALES PVGIS'!AI55","v":"13:07:00"},{"$f":"'IMPORTACIÓN DATOS ANUALES PVGIS'!AJ55","v":819}]
[{"$f":"'IMPORTACIÓN DATOS ANUALES PVGIS'!B56","v":"13:22:00"},{"$f":"'IMPORTACIÓN DATOS ANUALES PVGIS'!C56","v":816},{"$f":"'IMPORTACIÓN DATOS ANUALES PVGIS'!E56","v":"12:52:00"},{"$f":"'IMPORTACIÓN DATOS ANUALES PVGIS'!F56","v":937},{"$f":"'IMPORTACIÓN DATOS ANUALES PVGIS'!H56","v":"12:07:00"},{"$f":"'IMPORTACIÓN DATOS ANUALES PVGIS'!I56","v":1070},{"$f":"'IMPORTACIÓN DATOS ANUALES PVGIS'!K56","v":"11:37:00"},{"$f":"'IMPORTACIÓN DATOS ANUALES PVGIS'!L56","v":1050},{"$f":"'IMPORTACIÓN DATOS ANUALES PVGIS'!N56","v":"11:07:00"},{"$f":"'IMPORTACIÓN DATOS ANUALES PVGIS'!O56","v":999},{"$f":"'IMPORTACIÓN DATOS ANUALES PVGIS'!Q56","v":"10:52:00"},{"$f":"'IMPORTACIÓN DATOS ANUALES PVGIS'!R56","v":946},{"$f":"'IMPORTACIÓN DATOS ANUALES PVGIS'!T56","v":"10:52:00"},{"$f":"'IMPORTACIÓN DATOS ANUALES PVGIS'!U56","v":947},{"$f":"'IMPORTACIÓN DATOS ANUALES PVGIS'!W56","v":"11:22:00"},{"$f":"'IMPORTACIÓN DATOS ANUALES PVGIS'!X56","v":988},{"$f":"'IMPORTACIÓN DATOS ANUALES PVGIS'!Z56","v":"11:52:00"},{"$f":"'IMPORTACIÓN DATOS ANUALES PVGIS'!AA56","v":998},{"$f":"'IMPORTACIÓN DATOS ANUALES PVGIS'!AC56","v":"12:37:00"},{"$f":"'IMPORTACIÓN DATOS ANUALES PVGIS'!AD56","v":974},{"$f":"'IMPORTACIÓN DATOS ANUALES PVGIS'!AF56","v":"13:07:00"},{"$f":"'IMPORTACIÓN DATOS ANUALES PVGIS'!AG56","v":844},{"$f":"'IMPORTACIÓN DATOS ANUALES PVGIS'!AI56","v":"13:22:00"},{"$f":"'IMPORTACIÓN DATOS ANUALES PVGIS'!AJ56","v":792}]
[{"$f":"'IMPORTACIÓN DATOS ANUALES PVGIS'!B57","v":"13:37:00"},{"$f":"'IMPORTACIÓN DATOS ANUALES PVGIS'!C57","v":784},{"$f":"'IMPORTACIÓN DATOS ANUALES PVGIS'!E57","v":"13:07:00"},{"$f":"'IMPORTACIÓN DATOS ANUALES PVGIS'!F57","v":915},{"$f":"'IMPORTACIÓN DATOS ANUALES PVGIS'!H57","v":"12:22:00"},{"$f":"'IMPORTACIÓN DATOS ANUALES PVGIS'!I57","v":1060},{"$f":"'IMPORTACIÓN DATOS ANUALES PVGIS'!K57","v":"11:52:00"},{"$f":"'IMPORTACIÓN DATOS ANUALES PVGIS'!L57","v":1050},{"$f":"'IMPORTACIÓN DATOS ANUALES PVGIS'!N57","v":"11:22:00"},{"$f":"'IMPORTACIÓN DATOS ANUALES PVGIS'!O57","v":1010},{"$f":"'IMPORTACIÓN DATOS ANUALES PVGIS'!Q57","v":"11:07:00"},{"$f":"'IMPORTACIÓN DATOS ANUALES PVGIS'!R57","v":964},{"$f":"'IMPORTACIÓN DATOS ANUALES PVGIS'!T57","v":"11:07:00"},{"$f":"'IMPORTACIÓN DATOS ANUALES PVGIS'!U57","v":965},{"$f":"'IMPORTACIÓN DATOS ANUALES PVGIS'!W57","v":"11:37:00"},{"$f":"'IMPORTACIÓN DATOS ANUALES PVGIS'!X57","v":997},{"$f":"'IMPORTACIÓN DATOS ANUALES PVGIS'!Z57","v":"12:07:00"},{"$f":"'IMPORTACIÓN DATOS ANUALES PVGIS'!AA57","v":998},{"$f":"'IMPORTACIÓN DATOS ANUALES PVGIS'!AC57","v":"12:52:00"},{"$f":"'IMPORTACIÓN DATOS ANUALES PVGIS'!AD57","v":958},{"$f":"'IMPORTACIÓN DATOS ANUALES PVGIS'!AF57","v":"13:22:00"},{"$f":"'IMPORTACIÓN DATOS ANUALES PVGIS'!AG57","v":818},{"$f":"'IMPORTACIÓN DATOS ANUALES PVGIS'!AI57","v":"13:37:00"},{"$f":"'IMPORTACIÓN DATOS ANUALES PVGIS'!AJ57","v":761}]
[{"$f":"'IMPORTACIÓN DATOS ANUALES PVGIS'!B58","v":"13:52:00"},{"$f":"'IMPORTACIÓN DATOS ANUALES PVGIS'!C58","v":748},{"$f":"'IMPORTACIÓN DATOS ANUALES PVGIS'!E58","v":"13:22:00"},{"$f":"'IMPORTACIÓN DATOS ANUALES PVGIS'!F58","v":889},{"$f":"'IMPORTACIÓN DATOS ANUALES PVGIS'!H58","v":"12:37:00"},{"$f":"'IMPORTACIÓN DATOS ANUALES PVGIS'!I58","v":1050},{"$f":"'IMPORTACIÓN DATOS ANUALES PVGIS'!K58","v":"12:07:00"},{"$f":"'IMPORTACIÓN DATOS ANUALES PVGIS'!L58","v":1050},{"$f":"'IMPORTACIÓN DATOS ANUALES PVGIS'!N58","v":"11:37:00"},{"$f":"'IMPORTACIÓN DATOS ANUALES PVGIS'!O58","v":1020},{"$f":"'IMPORTACIÓN DATOS ANUALES PVGIS'!Q58","v":"11:22:00"},{"$f":"'IMPORTACIÓN DATOS ANUALES PVGIS'!R58","v":977},{"$f":"'IMPORTACIÓN DATOS ANUALES PVGIS'!T58","v":"11:22:00"},{"$f":"'IMPORTACIÓN DATOS ANUALES PVGIS'!U58","v":978},{"$f":"'IMPORTACIÓN DATOS ANUALES PVGIS'!W58","v":"11:52:00"},{"$f":"'IMPORTACIÓN DATOS ANUALES PVGIS'!X58","v":1000},{"$f":"'IMPORTACIÓN DATOS ANUALES PVGIS'!Z58","v":"12:22:00"},{"$f":"'IMPORTACIÓN DATOS ANUALES PVGIS'!AA58","v":993},{"$f":"'IMPORTACIÓN DATOS ANUALES PVGIS'!AC58","v":"13:07:00"},{"$f":"'IMPORTACIÓN DATOS ANUALES PVGIS'!AD58","v":936},{"$f":"'IMPORTACIÓN DATOS ANUALES PVGIS'!AF58","v":"13:37:00"},{"$f":"'IMPORTACIÓN DATOS ANUALES PVGIS'!AG58","v":786},{"$f":"'IMPORTACIÓN DATOS ANUALES PVGIS'!AI58","v":"13:52:00"},{"$f":"'IMPORTACIÓN DATOS ANUALES PVGIS'!AJ58","v":724}]
[{"$f":"'IMPORTACIÓN DATOS ANUALES PVGIS'!B59","v":"14:07:00"},{"$f":"'IMPORTACIÓN DATOS ANUALES PVGIS'!C59","v":706},{"$f":"'IMPORTACIÓN DATOS ANUALES PVGIS'!E59","v":"13:37:00"},{"$f":"'IMPORTACIÓN DATOS ANUALES PVGIS'!F59","v":857},{"$f":"'IMPORTACIÓN DATOS ANUALES PVGIS'!H59","v":"12:52:00"},{"$f":"'IMPORTACIÓN DATOS ANUALES PVGIS'!I59","v":1040},{"$f":"'IMPORTACIÓN DATOS ANUALES PVGIS'!K59","v":"12:22:00"},{"$f":"'IMPORTACIÓN DATOS ANUALES PVGIS'!L59","v":1050},{"$f":"'IMPORTACIÓN DATOS ANUALES PVGIS'!N59","v":"11:52:00"},{"$f":"'IMPORTACIÓN DATOS ANUALES PVGIS'!O59","v":1030},{"$f":"'IMPORTACIÓN DATOS ANUALES PVGIS'!Q59","v":"11:37:00"},{"$f":"'IMPORTACIÓN DATOS ANUALES PVGIS'!R59","v":985},{"$f":"'IMPORTACIÓN DATOS ANUALES PVGIS'!T59","v":"11:37:00"},{"$f":"'IMPORTACIÓN DATOS ANUALES PVGIS'!U59","v":987},{"$f":"'IMPORTACIÓN DATOS ANUALES PVGIS'!W59","v":"12:07:00"},{"$f":"'IMPORTACIÓN DATOS ANUALES PVGIS'!X59","v":1000},{"$f":"'IMPORTACIÓN DATOS ANUALES PVGIS'!Z59","v":"12:37:00"},{"$f":"'IMPORTACIÓN DATOS ANUALES PVGIS'!AA59","v":983},{"$f":"'IMPORTACIÓN DATOS ANUALES PVGIS'!AC59","v":"13:22:00"},{"$f":"'IMPORTACIÓN DATOS ANUALES PVGIS'!AD59","v":910},{"$f":"'IMPORTACIÓN DATOS ANUALES PVGIS'!AF59","v":"13:52:00"},{"$f":"'IMPORTACIÓN DATOS ANUALES PVGIS'!AG59","v":750},{"$f":"'IMPORTACIÓN DATOS ANUALES PVGIS'!AI59","v":"14:07:00"},{"$f":"'IMPORTACIÓN DATOS ANUALES PVGIS'!AJ59","v":683}]
[{"$f":"'IMPORTACIÓN DATOS ANUALES PVGIS'!B60","v":"14:22:00"},{"$f":"'IMPORTACIÓN DATOS ANUALES PVGIS'!C60","v":660},{"$f":"'IMPORTACIÓN DATOS ANUALES PVGIS'!E60","v":"13:52:00"},{"$f":"'IMPORTACIÓN DATOS ANUALES PVGIS'!F60","v":820},{"$f":"'IMPORTACIÓN DATOS ANUALES PVGIS'!H60","v":"13:07:00"},{"$f":"'IMPORTACIÓN DATOS ANUALES PVGIS'!I60","v":1010},{"$f":"'IMPORTACIÓN DATOS ANUALES PVGIS'!K60","v":"12:37:00"},{"$f":"'IMPORTACIÓN DATOS ANUALES PVGIS'!L60","v":1040},{"$f":"'IMPORTACIÓN DATOS ANUALES PVGIS'!N60","v":"12:07:00"},{"$f":"'IMPORTACIÓN DATOS ANUALES PVGIS'!O60","v":1030},{"$f":"'IMPORTACIÓN DATOS ANUALES PVGIS'!Q60","v":"11:52:00"},{"$f":"'IMPORTACIÓN DATOS ANUALES PVGIS'!R60","v":990},{"$f":"'IMPORTACIÓN DATOS ANUALES PVGIS'!T60","v":"11:52:00"},{"$f":"'IMPORTACIÓN DATOS ANUALES PVGIS'!U60","v":991},{"$f":"'IMPORTACIÓN DATOS ANUALES PVGIS'!W60","v":"12:22:00"},{"$f":"'IMPORTACIÓN DATOS ANUALES PVGIS'!X60","v":997},{"$f":"'IMPORTACIÓN DATOS ANUALES PVGIS'!Z60","v":"12:52:00"},{"$f":"'IMPORTACIÓN DATOS ANUALES PVGIS'!AA60","v":968},{"$f":"'IMPORTACIÓN DATOS ANUALES PVGIS'!AC60","v":"13:37:00"},{"$f":"'IMPORTACIÓN DATOS ANUALES PVGIS'!AD60","v":879},{"$f":"'IMPORTACIÓN DATOS ANUALES PVGIS'!AF60","v":"14:07:00"},{"$f":"'IMPORTACIÓN DATOS ANUALES PVGIS'!AG60","v":708},{"$f":"'IMPORTACIÓN DATOS ANUALES PVGIS'!AI60","v":"14:22:00"},{"$f":"'IMPORTACIÓN DATOS ANUALES PVGIS'!AJ60","v":637}]
[{"$f":"'IMPORTACIÓN DATOS ANUALES PVGIS'!B61","v":"14:37:00"},{"$f":"'IMPORTACIÓN DATOS ANUALES PVGIS'!C61","v":609},{"$f":"'IMPORTACIÓN DATOS ANUALES PVGIS'!E61","v":"14:07:00"},{"$f":"'IMPORTACIÓN DATOS ANUALES PVGIS'!F61","v":778},{"$f":"'IMPORTACIÓN DATOS ANUALES PVGIS'!H61","v":"13:22:00"},{"$f":"'IMPORTACIÓN DATOS ANUALES PVGIS'!I61","v":988},{"$f":"'IMPORTACIÓN DATOS ANUALES PVGIS'!K61","v":"12:52:00"},{"$f":"'IMPORTACIÓN DATOS ANUALES PVGIS'!L61","v":1020},{"$f":"'IMPORTACIÓN DATOS ANUALES PVGIS'!N61","v":"12:22:00"},{"$f":"'IMPORTACIÓN DATOS ANUALES PVGIS'!O61","v":1020},{"$f":"'IMPORTACIÓN DATOS ANUALES PVGIS'!Q61","v":"12:07:00"},{"$f":"'IMPORTACIÓN DATOS ANUALES PVGIS'!R61","v":990},{"$f":"'IMPORTACIÓN DATOS ANUALES PVGIS'!T61","v":"12:07:00"},{"$f":"'IMPORTACIÓN DATOS ANUALES PVGIS'!U61","v":991},{"$f":"'IMPORTACIÓN DATOS ANUALES PVGIS'!W61","v":"12:37:00"},{"$f":"'IMPORTACIÓN DATOS ANUALES PVGIS'!X61","v":988},{"$f":"'IMPORTACIÓN DATOS ANUALES PVGIS'!Z61","v":"13:07:00"},{"$f":"'IMPORTACIÓN DATOS ANUALES PVGIS'!AA61","v":948},{"$f":"'IMPORTACIÓN DATOS ANUALES PVGIS'!AC61","v":"13:52:00"},{"$f":"'IMPORTACIÓN DATOS ANUALES PVGIS'!AD61","v":842},{"$f":"'IMPORTACIÓN DATOS ANUALES PVGIS'!AF61","v":"14:22:00"},{"$f":"'IMPORTACIÓN DATOS ANUALES PVGIS'!AG61","v":663},{"$f":"'IMPORTACIÓN DATOS ANUALES PVGIS'!AI61","v":"14:37:00"},{"$f":"'IMPORTACIÓN DATOS ANUALES PVGIS'!AJ61","v":586}]
[{"$f":"'IMPORTACIÓN DATOS ANUALES PVGIS'!B62","v":"14:52:00"},{"$f":"'IMPORTACIÓN DATOS ANUALES PVGIS'!C62","v":555},{"$f":"'IMPORTACIÓN DATOS ANUALES PVGIS'!E62","v":"14:22:00"},{"$f":"'IMPORTACIÓN DATOS ANUALES PVGIS'!F62","v":732},{"$f":"'IMPORTACIÓN DATOS ANUALES PVGIS'!H62","v":"13:37:00"},{"$f":"'IMPORTACIÓN DATOS ANUALES PVGIS'!I62","v":957},{"$f":"'IMPORTACIÓN DATOS ANUALES PVGIS'!K62","v":"13:07:00"},{"$f":"'IMPORTACIÓN DATOS ANUALES PVGIS'!L62","v":1010},{"$f":"'IMPORTACIÓN DATOS ANUALES PVGIS'!N62","v":"12:37:00"},{"$f":"'IMPORTACIÓN DATOS ANUALES PVGIS'!O62","v":1010},{"$f":"'IMPORTACIÓN DATOS ANUALES PVGIS'!Q62","v":"12:22:00"},{"$f":"'IMPORTACIÓN DATOS ANUALES PVGIS'!R62","v":985},{"$f":"'IMPORTACIÓN DATOS ANUALES PVGIS'!T62","v":"12:22:00"},{"$f":"'IMPORTACIÓN DATOS ANUALES PVGIS'!U62","v":987},{"$f":"'IMPORTACIÓN DATOS ANUALES PVGIS'!W62","v":"12:52:00"},{"$f":"'IMPORTACIÓN DATOS ANUALES PVGIS'!X62","v":974},{"$f":"'IMPORTACIÓN DATOS ANUALES PVGIS'!Z62","v":"13:22:00"},{"$f":"'IMPORTACIÓN DATOS ANUALES PVGIS'!AA62","v":923},{"$f":"'IMPORTACIÓN DATOS ANUALES PVGIS'!AC62","v":"14:07:00"},{"$f":"'IMPORTACIÓN DATOS ANUALES PVGIS'!AD62","v":801},{"$f":"'IMPORTACIÓN DATOS ANUALES PVGIS'!AF62","v":"14:37:00"},{"$f":"'IMPORTACIÓN DATOS ANUALES PVGIS'!AG62","v":613},{"$f":"'IMPORTACIÓN DATOS ANUALES PVGIS'!AI62","v":"14:52:00"},{"$f":"'IMPORTACIÓN DATOS ANUALES PVGIS'!AJ62","v":532}]
[{"$f":"'IMPORTACIÓN DATOS ANUALES PVGIS'!B63","v":"15:07:00"},{"$f":"'IMPORTACIÓN DATOS ANUALES PVGIS'!C63","v":497},{"$f":"'IMPORTACIÓN DATOS ANUALES PVGIS'!E63","v":"14:37:00"},{"$f":"'IMPORTACIÓN DATOS ANUALES PVGIS'!F63","v":682},{"$f":"'IMPORTACIÓN DATOS ANUALES PVGIS'!H63","v":"13:52:00"},{"$f":"'IMPORTACIÓN DATOS ANUALES PVGIS'!I63","v":920},{"$f":"'IMPORTACIÓN DATOS ANUALES PVGIS'!K63","v":"13:22:00"},{"$f":"'IMPORTACIÓN DATOS ANUALES PVGIS'!L63","v":980},{"$f":"'IMPORTACIÓN DATOS ANUALES PVGIS'!N63","v":"12:52:00"},{"$f":"'IMPORTACIÓN DATOS ANUALES PVGIS'!O63","v":999},{"$f":"'IMPORTACIÓN DATOS ANUALES PVGIS'!Q63","v":"12:37:00"},{"$f":"'IMPORTACIÓN DATOS ANUALES PVGIS'!R63","v":977},{"$f":"'IMPORTACIÓN DATOS ANUALES PVGIS'!T63","v":"12:37:00"},{"$f":"'IMPORTACIÓN DATOS ANUALES PVGIS'!U63","v":978},{"$f":"'IMPORTACIÓN DATOS ANUALES PVGIS'!W63","v":"13:07:00"},{"$f":"'IMPORTACIÓN DATOS ANUALES PVGIS'!X63","v":955},{"$f":"'IMPORTACIÓN DATOS ANUALES PVGIS'!Z63","v":"13:37:00"},{"$f":"'IMPORTACIÓN DATOS ANUALES PVGIS'!AA63","v":893},{"$f":"'IMPORTACIÓN DATOS ANUALES PVGIS'!AC63","v":"14:22:00"},{"$f":"'IMPORTACIÓN DATOS ANUALES PVGIS'!AD63","v":756},{"$f":"'IMPORTACIÓN DATOS ANUALES PVGIS'!AF63","v":"14:52:00"},{"$f":"'IMPORTACIÓN DATOS ANUALES PVGIS'!AG63","v":559},{"$f":"'IMPORTACIÓN DATOS ANUALES PVGIS'!AI63","v":"15:07:00"},{"$f":"'IMPORTACIÓN DATOS ANUALES PVGIS'!AJ63","v":474}]
[{"$f":"'IMPORTACIÓN DATOS ANUALES PVGIS'!B64","v":"15:22:00"},{"$f":"'IMPORTACIÓN DATOS ANUALES PVGIS'!C64","v":435},{"$f":"'IMPORTACIÓN DATOS ANUALES PVGIS'!E64","v":"14:52:00"},{"$f":"'IMPORTACIÓN DATOS ANUALES PVGIS'!F64","v":628},{"$f":"'IMPORTACIÓN DATOS ANUALES PVGIS'!H64","v":"14:07:00"},{"$f":"'IMPORTACIÓN DATOS ANUALES PVGIS'!I64","v":879},{"$f":"'IMPORTACIÓN DATOS ANUALES PVGIS'!K64","v":"13:37:00"},{"$f":"'IMPORTACIÓN DATOS ANUALES PVGIS'!L64","v":951},{"$f":"'IMPORTACIÓN DATOS ANUALES PVGIS'!N64","v":"13:07:00"},{"$f":"'IMPORTACIÓN DATOS ANUALES PVGIS'!O64","v":981},{"$f":"'IMPORTACIÓN DATOS ANUALES PVGIS'!Q64","v":"12:52:00"},{"$f":"'IMPORTACIÓN DATOS ANUALES PVGIS'!R64","v":964},{"$f":"'IMPORTACIÓN DATOS ANUALES PVGIS'!T64","v":"12:52:00"},{"$f":"'IMPORTACIÓN DATOS ANUALES PVGIS'!U64","v":965},{"$f":"'IMPORTACIÓN DATOS ANUALES PVGIS'!W64","v":"13:22:00"},{"$f":"'IMPORTACIÓN DATOS ANUALES PVGIS'!X64","v":932},{"$f":"'IMPORTACIÓN DATOS ANUALES PVGIS'!Z64","v":"13:52:00"},{"$f":"'IMPORTACIÓN DATOS ANUALES PVGIS'!AA64","v":859},{"$f":"'IMPORTACIÓN DATOS ANUALES PVGIS'!AC64","v":"14:37:00"},{"$f":"'IMPORTACIÓN DATOS ANUALES PVGIS'!AD64","v":707},{"$f":"'IMPORTACIÓN DATOS ANUALES PVGIS'!AF64","v":"15:07:00"},{"$f":"'IMPORTACIÓN DATOS ANUALES PVGIS'!AG64","v":502},{"$f":"'IMPORTACIÓN DATOS ANUALES PVGIS'!AI64","v":"15:22:00"},{"$f":"'IMPORTACIÓN DATOS ANUALES PVGIS'!AJ64","v":412}]
[{"$f":"'IMPORTACIÓN DATOS ANUALES PVGIS'!B65","v":"15:37:00"},{"$f":"'IMPORTACIÓN DATOS ANUALES PVGIS'!C65","v":370},{"$f":"'IMPORTACIÓN DATOS ANUALES PVGIS'!E65","v":"15:07:00"},{"$f":"'IMPORTACIÓN DATOS ANUALES PVGIS'!F65","v":570},{"$f":"'IMPORTACIÓN DATOS ANUALES PVGIS'!H65","v":"14:22:00"},{"$f":"'IMPORTACIÓN DATOS ANUALES PVGIS'!I65","v":834},{"$f":"'IMPORTACIÓN DATOS ANUALES PVGIS'!K65","v":"13:52:00"},{"$f":"'IMPORTACIÓN DATOS ANUALES PVGIS'!L65","v":917},{"$f":"'IMPORTACIÓN DATOS ANUALES PVGIS'!N65","v":"13:22:00"},{"$f":"'IMPORTACIÓN DATOS ANUALES PVGIS'!O65","v":958},{"$f":"'IMPORTACIÓN DATOS ANUALES PVGIS'!Q65","v":"13:07:00"},{"$f":"'IMPORTACIÓN DATOS ANUALES PVGIS'!R65","v":946},{"$f":"'IMPORTACIÓN DATOS ANUALES PVGIS'!T65","v":"13:07:00"},{"$f":"'IMPORTACIÓN DATOS ANUALES PVGIS'!U65","v":947},{"$f":"'IMPORTACIÓN DATOS ANUALES PVGIS'!W65","v":"13:37:00"},{"$f":"'IMPORTACIÓN DATOS ANUALES PVGIS'!X65","v":905},{"$f":"'IMPORTACIÓN DATOS ANUALES PVGIS'!Z65","v":"14:07:00"},{"$f":"'IMPORTACIÓN DATOS ANUALES PVGIS'!AA65","v":821},{"$f":"'IMPORTACIÓN DATOS ANUALES PVGIS'!AC65","v":"14:52:00"},{"$f":"'IMPORTACIÓN DATOS ANUALES PVGIS'!AD65","v":653},{"$f":"'IMPORTACIÓN DATOS ANUALES PVGIS'!AF65","v":"15:22:00"},{"$f":"'IMPORTACIÓN DATOS ANUALES PVGIS'!AG65","v":441},{"$f":"'IMPORTACIÓN DATOS ANUALES PVGIS'!AI65","v":"15:37:00"},{"$f":"'IMPORTACIÓN DATOS ANUALES PVGIS'!AJ65","v":346}]
[{"$f":"'IMPORTACIÓN DATOS ANUALES PVGIS'!B66","v":"15:52:00"},{"$f":"'IMPORTACIÓN DATOS ANUALES PVGIS'!C66","v":303},{"$f":"'IMPORTACIÓN DATOS ANUALES PVGIS'!E66","v":"15:22:00"},{"$f":"'IMPORTACIÓN DATOS ANUALES PVGIS'!F66","v":509},{"$f":"'IMPORTACIÓN DATOS ANUALES PVGIS'!H66","v":"14:37:00"},{"$f":"'IMPORTACIÓN DATOS ANUALES PVGIS'!I66","v":784},{"$f":"'IMPORTACIÓN DATOS ANUALES PVGIS'!K66","v":"14:07:00"},{"$f":"'IMPORTACIÓN DATOS ANUALES PVGIS'!L66","v":879},{"$f":"'IMPORTACIÓN DATOS ANUALES PVGIS'!N66","v":"13:37:00"},{"$f":"'IMPORTACIÓN DATOS ANUALES PVGIS'!O66","v":931},{"$f":"'IMPORTACIÓN DATOS ANUALES PVGIS'!Q66","v":"13:22:00"},{"$f":"'IMPORTACIÓN DATOS ANUALES PVGIS'!R66","v":925},{"$f":"'IMPORTACIÓN DATOS ANUALES PVGIS'!T66","v":"13:22:00"},{"$f":"'IMPORTACIÓN DATOS ANUALES PVGIS'!U66","v":925},{"$f":"'IMPORTACIÓN DATOS ANUALES PVGIS'!W66","v":"13:52:00"},{"$f":"'IMPORTACIÓN DATOS ANUALES PVGIS'!X66","v":873},{"$f":"'IMPORTACIÓN DATOS ANUALES PVGIS'!Z66","v":"14:22:00"},{"$f":"'IMPORTACIÓN DATOS ANUALES PVGIS'!AA66","v":778},{"$f":"'IMPORTACIÓN DATOS ANUALES PVGIS'!AC66","v":"15:07:00"},{"$f":"'IMPORTACIÓN DATOS ANUALES PVGIS'!AD66","v":596},{"$f":"'IMPORTACIÓN DATOS ANUALES PVGIS'!AF66","v":"15:37:00"},{"$f":"'IMPORTACIÓN DATOS ANUALES PVGIS'!AG66","v":378},{"$f":"'IMPORTACIÓN DATOS ANUALES PVGIS'!AI66","v":"15:52:00"},{"$f":"'IMPORTACIÓN DATOS ANUALES PVGIS'!AJ66","v":278}]
[{"$f":"'IMPORTACIÓN DATOS ANUALES PVGIS'!B67","v":"16:07:00"},{"$f":"'IMPORTACIÓN DATOS ANUALES PVGIS'!C67","v":234},{"$f":"'IMPORTACIÓN DATOS ANUALES PVGIS'!E67","v":"15:37:00"},{"$f":"'IMPORTACIÓN DATOS ANUALES PVGIS'!F67","v":445},{"$f":"'IMPORTACIÓN DATOS ANUALES PVGIS'!H67","v":"14:52:00"},{"$f":"'IMPORTACIÓN DATOS ANUALES PVGIS'!I67","v":730},{"$f":"'IMPORTACIÓN DATOS ANUALES PVGIS'!K67","v":"14:22:00"},{"$f":"'IMPORTACIÓN DATOS ANUALES PVGIS'!L67","v":837},{"$f":"'IMPORTACIÓN DATOS ANUALES PVGIS'!N67","v":"13:52:00"},{"$f":"'IMPORTACIÓN DATOS ANUALES PVGIS'!O67","v":900},{"$f":"'IMPORTACIÓN DATOS ANUALES PVGIS'!Q67","v":"13:37:00"},{"$f":"'IMPORTACIÓN DATOS ANUALES PVGIS'!R67","v":899},{"$f":"'IMPORTACIÓN DATOS ANUALES PVGIS'!T67","v":"13:37:00"},{"$f":"'IMPORTACIÓN DATOS ANUALES PVGIS'!U67","v":899},{"$f":"'IMPORTACIÓN DATOS ANUALES PVGIS'!W67","v":"14:07:00"},{"$f":"'IMPORTACIÓN DATOS ANUALES PVGIS'!X67","v":837},{"$f":"'IMPORTACIÓN DATOS ANUALES PVGIS'!Z67","v":"14:37:00"},{"$f":"'IMPORTACIÓN DATOS ANUALES PVGIS'!AA67","v":731},{"$f":"'IMPORTACIÓN DATOS ANUALES PVGIS'!AC67","v":"15:22:00"},{"$f":"'IMPORTACIÓN DATOS ANUALES PVGIS'!AD67","v":537},{"$f":"'IMPORTACIÓN DATOS ANUALES PVGIS'!AF67","v":"15:52:00"},{"$f":"'IMPORTACIÓN DATOS ANUALES PVGIS'!AG67","v":313},{"$f":"'IMPORTACIÓN DATOS ANUALES PVGIS'!AI67","v":"16:07:00"},{"$f":"'IMPORTACIÓN DATOS ANUALES PVGIS'!AJ67","v":201}]
[{"$f":"'IMPORTACIÓN DATOS ANUALES PVGIS'!B68","v":"16:22:00"},{"$f":"'IMPORTACIÓN DATOS ANUALES PVGIS'!C68","v":156},{"$f":"'IMPORTACIÓN DATOS ANUALES PVGIS'!E68","v":"15:52:00"},{"$f":"'IMPORTACIÓN DATOS ANUALES PVGIS'!F68","v":379},{"$f":"'IMPORTACIÓN DATOS ANUALES PVGIS'!H68","v":"15:07:00"},{"$f":"'IMPORTACIÓN DATOS ANUALES PVGIS'!I68","v":672},{"$f":"'IMPORTACIÓN DATOS ANUALES PVGIS'!K68","v":"14:37:00"},{"$f":"'IMPORTACIÓN DATOS ANUALES PVGIS'!L68","v":790},{"$f":"'IMPORTACIÓN DATOS ANUALES PVGIS'!N68","v":"14:07:00"},{"$f":"'IMPORTACIÓN DATOS ANUALES PVGIS'!O68","v":864},{"$f":"'IMPORTACIÓN DATOS ANUALES PVGIS'!Q68","v":"13:52:00"},{"$f":"'IMPORTACIÓN DATOS ANUALES PVGIS'!R68","v":870},{"$f":"'IMPORTACIÓN DATOS ANUALES PVGIS'!T68","v":"13:52:00"},{"$f":"'IMPORTACIÓN DATOS ANUALES PVGIS'!U68","v":869},{"$f":"'IMPORTACIÓN DATOS ANUALES PVGIS'!W68","v":"14:22:00"},{"$f":"'IMPORTACIÓN DATOS ANUALES PVGIS'!X68","v":797},{"$f":"'IMPORTACIÓN DATOS ANUALES PVGIS'!Z68","v":"14:52:00"},{"$f":"'IMPORTACIÓN DATOS ANUALES PVGIS'!AA68","v":681},{"$f":"'IMPORTACIÓN DATOS ANUALES PVGIS'!AC68","v":"15:37:00"},{"$f":"'IMPORTACIÓN DATOS ANUALES PVGIS'!AD68","v":474},{"$f":"'IMPORTACIÓN DATOS ANUALES PVGIS'!AF68","v":"16:07:00"},{"$f":"'IMPORTACIÓN DATOS ANUALES PVGIS'!AG68","v":246},{"$f":"'IMPORTACIÓN DATOS ANUALES PVGIS'!AI68","v":"16:22:00"},{"$f":"'IMPORTACIÓN DATOS ANUALES PVGIS'!AJ68","v":129}]
[{"$f":"'IMPORTACIÓN DATOS ANUALES PVGIS'!B69","v":"16:37:00"},{"$f":"'IMPORTACIÓN DATOS ANUALES PVGIS'!C69","v":91},{"$f":"'IMPORTACIÓN DATOS ANUALES PVGIS'!E69","v":"16:07:00"},{"$f":"'IMPORTACIÓN DATOS ANUALES PVGIS'!F69","v":312},{"$f":"'IMPORTACIÓN DATOS ANUALES PVGIS'!H69","v":"15:22:00"},{"$f":"'IMPORTACIÓN DATOS ANUALES PVGIS'!I69","v":612},{"$f":"'IMPORTACIÓN DATOS ANUALES PVGIS'!K69","v":"14:52:00"},{"$f":"'IMPORTACIÓN DATOS ANUALES PVGIS'!L69","v":740},{"$f":"'IMPORTACIÓN DATOS ANUALES PVGIS'!N69","v":"14:22:00"},{"$f":"'IMPORTACIÓN DATOS ANUALES PVGIS'!O69","v":825},{"$f":"'IMPORTACIÓN DATOS ANUALES PVGIS'!Q69","v":"14:07:00"},{"$f":"'IMPORTACIÓN DATOS ANUALES PVGIS'!R69","v":836},{"$f":"'IMPORTACIÓN DATOS ANUALES PVGIS'!T69","v":"14:07:00"},{"$f":"'IMPORTACIÓN DATOS ANUALES PVGIS'!U69","v":835},{"$f":"'IMPORTACIÓN DATOS ANUALES PVGIS'!W69","v":"14:37:00"},{"$f":"'IMPORTACIÓN DATOS ANUALES PVGIS'!X69","v":754},{"$f":"'IMPORTACIÓN DATOS ANUALES PVGIS'!Z69","v":"15:07:00"},{"$f":"'IMPORTACIÓN DATOS ANUALES PVGIS'!AA69","v":628},{"$f":"'IMPORTACIÓN DATOS ANUALES PVGIS'!AC69","v":"15:52:00"},{"$f":"'IMPORTACIÓN DATOS ANUALES PVGIS'!AD69","v":410},{"$f":"'IMPORTACIÓN DATOS ANUALES PVGIS'!AF69","v":"16:22:00"},{"$f":"'IMPORTACIÓN DATOS ANUALES PVGIS'!AG69","v":179},{"$f":"'IMPORTACIÓN DATOS ANUALES PVGIS'!AI69","v":"16:37:00"},{"$f":"'IMPORTACIÓN DATOS ANUALES PVGIS'!AJ69","v":69}]
[{"$f":"'IMPORTACIÓN DATOS ANUALES PVGIS'!B70","v":"00:00:00"},{"$f":"'IMPORTACIÓN DATOS ANUALES PVGIS'!C70","v":""},{"$f":"'IMPORTACIÓN DATOS ANUALES PVGIS'!E70","v":"16:22:00"},{"$f":"'IMPORTACIÓN DATOS ANUALES PVGIS'!F70","v":245},{"$f":"'IMPORTACIÓN DATOS ANUALES PVGIS'!H70","v":"15:37:00"},{"$f":"'IMPORTACIÓN DATOS ANUALES PVGIS'!I70","v":549},{"$f":"'IMPORTACIÓN DATOS ANUALES PVGIS'!K70","v":"15:07:00"},{"$f":"'IMPORTACIÓN DATOS ANUALES PVGIS'!L70","v":687},{"$f":"'IMPORTACIÓN DATOS ANUALES PVGIS'!N70","v":"14:37:00"},{"$f":"'IMPORTACIÓN DATOS ANUALES PVGIS'!O70","v":782},{"$f":"'IMPORTACIÓN DATOS ANUALES PVGIS'!Q70","v":"14:22:00"},{"$f":"'IMPORTACIÓN DATOS ANUALES PVGIS'!R70","v":799},{"$f":"'IMPORTACIÓN DATOS ANUALES PVGIS'!T70","v":"14:22:00"},{"$f":"'IMPORTACIÓN DATOS ANUALES PVGIS'!U70","v":798},{"$f":"'IMPORTACIÓN DATOS ANUALES PVGIS'!W70","v":"14:52:00"},{"$f":"'IMPORTACIÓN DATOS ANUALES PVGIS'!X70","v":707},{"$f":"'IMPORTACIÓN DATOS ANUALES PVGIS'!Z70","v":"15:22:00"},{"$f":"'IMPORTACIÓN DATOS ANUALES PVGIS'!AA70","v":572},{"$f":"'IMPORTACIÓN DATOS ANUALES PVGIS'!AC70","v":"16:07:00"},{"$f":"'IMPORTACIÓN DATOS ANUALES PVGIS'!AD70","v":344},{"$f":"'IMPORTACIÓN DATOS ANUALES PVGIS'!AF70","v":"16:37:00"},{"$f":"'IMPORTACIÓN DATOS ANUALES PVGIS'!AG70","v":107},{"$f":"'IMPORTACIÓN DATOS ANUALES PVGIS'!AI70","v":"00:00:00"},{"$f":"'IMPORTACIÓN DATOS ANUALES PVGIS'!AJ70","v":0}]
[{"$f":"'IMPORTACIÓN DATOS ANUALES PVGIS'!B71","v":"00:00:00"},{"$f":"'IMPORTACIÓN DATOS ANUALES PVGIS'!C71","v":""},{"$f":"'IMPORTACIÓN DATOS ANUALES PVGIS'!E71","v":"16:37:00"},{"$f":"'IMPORTACIÓN DATOS ANUALES PVGIS'!F71","v":178},{"$f":"'IMPORTACIÓN DATOS ANUALES PVGIS'!H71","v":"15:52:00"},{"$f":"'IMPORTACIÓN DATOS ANUALES PVGIS'!I71","v":483},{"$f":"'IMPORTACIÓN DATOS ANUALES PVGIS'!K71","v":"15:22:00"},{"$f":"'IMPORTACIÓN DATOS ANUALES PVGIS'!L71","v":631},{"$f":"'IMPORTACIÓN DATOS ANUALES PVGIS'!N71","v":"14:52:00"},{"$f":"'IMPORTACIÓN DATOS ANUALES PVGIS'!O71","v":736},{"$f":"'IMPORTACIÓN DATOS ANUALES PVGIS'!Q71","v":"14:37:00"},{"$f":"'IMPORTACIÓN DATOS ANUALES PVGIS'!R71","v":759},{"$f":"'IMPORTACIÓN DATOS ANUALES PVGIS'!T71","v":"14:37:00"},{"$f":"'IMPORTACIÓN DATOS ANUALES PVGIS'!U71","v":757},{"$f":"'IMPORTACIÓN DATOS ANUALES PVGIS'!W71","v":"15:07:00"},{"$f":"'IMPORTACIÓN DATOS ANUALES PVGIS'!X71","v":657},{"$f":"'IMPORTACIÓN DATOS ANUALES PVGIS'!Z71","v":"15:37:00"},{"$f":"'IMPORTACIÓN DATOS ANUALES PVGIS'!AA71","v":513},{"$f":"'IMPORTACIÓN DATOS ANUALES PVGIS'!AC71","v":"16:22:00"},{"$f":"'IMPORTACIÓN DATOS ANUALES PVGIS'!AD71","v":278},{"$f":"'IMPORTACIÓN DATOS ANUALES PVGIS'!AF71","v":"16:52:00"},{"$f":"'IMPORTACIÓN DATOS ANUALES PVGIS'!AG71","v":54},{"$f":"'IMPORTACIÓN DATOS ANUALES PVGIS'!AI71","v":"00:00:00"},{"$f":"'IMPORTACIÓN DATOS ANUALES PVGIS'!AJ71","v":0}]
[{"$f":"'IMPORTACIÓN DATOS ANUALES PVGIS'!B72","v":"00:00:00"},{"$f":"'IMPORTACIÓN DATOS ANUALES PVGIS'!C72","v":""},{"$f":"'IMPORTACIÓN DATOS ANUALES PVGIS'!E72","v":"16:52:00"},{"$f":"'IMPORTACIÓN DATOS ANUALES PVGIS'!F72","v":109},{"$f":"'IMPORTACIÓN DATOS ANUALES PVGIS'!H72","v":"16:07:00"},{"$f":"'IMPORTACIÓN DATOS ANUALES PVGIS'!I72","v":416},{"$f":"'IMPORTACIÓN DATOS ANUALES PVGIS'!K72","v":"15:37:00"},{"$f":"'IMPORTACIÓN DATOS ANUALES PVGIS'!L72","v":573},{"$f":"'IMPORTACIÓN DATOS ANUALES PVGIS'!N72","v":"15:07:00"},{"$f":"'IMPORTACIÓN DATOS ANUALES PVGIS'!O72","v":687},{"$f":"'IMPORTACIÓN DATOS ANUALES PVGIS'!Q72","v":"14:52:00"},{"$f":"'IMPORTACIÓN DATOS ANUALES PVGIS'!R72","v":715},{"$f":"'IMPORTACIÓN DATOS ANUALES PVGIS'!T72","v":"14:52:00"},{"$f":"'IMPORTACIÓN DATOS ANUALES PVGIS'!U72","v":713},{"$f":"'IMPORTACIÓN DATOS ANUALES PVGIS'!W72","v":"15:22:00"},{"$f":"'IMPORTACIÓN DATOS ANUALES PVGIS'!X72","v":605},{"$f":"'IMPORTACIÓN DATOS ANUALES PVGIS'!Z72","v":"15:52:00"},{"$f":"'IMPORTACIÓN DATOS ANUALES PVGIS'!AA72","v":453},{"$f":"'IMPORTACIÓN DATOS ANUALES PVGIS'!AC72","v":"16:37:00"},{"$f":"'IMPORTACIÓN DATOS ANUALES PVGIS'!AD72","v":212},{"$f":"'IMPORTACIÓN DATOS ANUALES PVGIS'!AF72","v":"00:00:00"},{"$f":"'IMPORTACIÓN DATOS ANUALES PVGIS'!AG72","v":0},{"$f":"'IMPORTACIÓN DATOS ANUALES PVGIS'!AI72","v":"00:00:00"},{"$f":"'IMPORTACIÓN DATOS ANUALES PVGIS'!AJ72","v":0}]
[{"$f":"'IMPORTACIÓN DATOS ANUALES PVGIS'!B73","v":"00:00:00"},{"$f":"'IMPORTACIÓN DATOS ANUALES PVGIS'!C73","v":""},{"$f":"'IMPORTACIÓN DATOS ANUALES PVGIS'!E73","v":"17:07:00"},{"$f":"'IMPORTACIÓN DATOS ANUALES PVGIS'!F73","v":56},{"$f":"'IMPORTACIÓN DATOS ANUALES PVGIS'!H73","v":"16:22:00"},{"$f":"'IMPORTACIÓN DATOS ANUALES PVGIS'!I73","v":349},{"$f":"'IMPORTACIÓN DATOS ANUALES PVGIS'!K73","v":"15:52:00"},{"$f":"'IMPORTACIÓN DATOS ANUALES PVGIS'!L73","v":512},{"$f":"'IMPORTACIÓN DATOS ANUALES PVGIS'!N73","v":"15:22:00"},{"$f":"'IMPORTACIÓN DATOS ANUALES PVGIS'!O73","v":635},{"$f":"'IMPORTACIÓN DATOS ANUALES PVGIS'!Q73","v":"15:07:00"},{"$f":"'IMPORTACIÓN DATOS ANUALES PVGIS'!R73","v":669},{"$f":"'IMPORTACIÓN DATOS ANUALES PVGIS'!T73","v":"15:07:00"},{"$f":"'IMPORTACIÓN DATOS ANUALES PVGIS'!U73","v":666},{"$f":"'IMPORTACIÓN DATOS ANUALES PVGIS'!W73","v":"15:37:00"},{"$f":"'IMPORTACIÓN DATOS ANUALES PVGIS'!X73","v":550},{"$f":"'IMPORTACIÓN DATOS ANUALES PVGIS'!Z73","v":"16:07:00"},{"$f":"'IMPORTACIÓN DATOS ANUALES PVGIS'!AA73","v":392},{"$f":"'IMPORTACIÓN DATOS ANUALES PVGIS'!AC73","v":"16:52:00"},{"$f":"'IMPORTACIÓN DATOS ANUALES PVGIS'!AD73","v":149},{"$f":"'IMPORTACIÓN DATOS ANUALES PVGIS'!AF73","v":"00:00:00"},{"$f":"'IMPORTACIÓN DATOS ANUALES PVGIS'!AG73","v":0},{"$f":"'IMPORTACIÓN DATOS ANUALES PVGIS'!AI73","v":"00:00:00"},{"$f":"'IMPORTACIÓN DATOS ANUALES PVGIS'!AJ73","v":0}]
[{"$f":"'IMPORTACIÓN DATOS ANUALES PVGIS'!B74","v":"00:00:00"},{"$f":"'IMPORTACIÓN DATOS ANUALES PVGIS'!C74","v":""},{"$f":"'IMPORTACIÓN DATOS ANUALES PVGIS'!E74","v":"00:00:00"},{"$f":"'IMPORTACIÓN DATOS ANUALES PVGIS'!F74","v":0},{"$f":"'IMPORTACIÓN DATOS ANUALES PVGIS'!H74","v":"16:37:00"},{"$f":"'IMPORTACIÓN DATOS ANUALES PVGIS'!I74","v":281},{"$f":"'IMPORTACIÓN DATOS ANUALES PVGIS'!K74","v":"16:07:00"},{"$f":"'IMPORTACIÓN DATOS ANUALES PVGIS'!L74","v":450},{"$f":"'IMPORTACIÓN DATOS ANUALES PVGIS'!N74","v":"15:37:00"},{"$f":"'IMPORTACIÓN DATOS ANUALES PVGIS'!O74","v":581},{"$f":"'IMPORTACIÓN DATOS ANUALES PVGIS'!Q74","v":"15:22:00"},{"$f":"'IMPORTACIÓN DATOS ANUALES PVGIS'!R74","v":620},{"$f":"'IMPORTACIÓN DATOS ANUALES PVGIS'!T74","v":"15:22:00"},{"$f":"'IMPORTACIÓN DATOS ANUALES PVGIS'!U74","v":616},{"$f":"'IMPORTACIÓN DATOS ANUALES PVGIS'!W74","v":"15:52:00"},{"$f":"'IMPORTACIÓN DATOS ANUALES PVGIS'!X74","v":493},{"$f":"'IMPORTACIÓN DATOS ANUALES PVGIS'!Z74","v":"16:22:00"},{"$f":"'IMPORTACIÓN DATOS ANUALES PVGIS'!AA74","v":330},{"$f":"'IMPORTACIÓN DATOS ANUALES PVGIS'!AC74","v":"17:07:00"},{"$f":"'IMPORTACIÓN DATOS ANUALES PVGIS'!AD74","v":86},{"$f":"'IMPORTACIÓN DATOS ANUALES PVGIS'!AF74","v":"00:00:00"},{"$f":"'IMPORTACIÓN DATOS ANUALES PVGIS'!AG74","v":0},{"$f":"'IMPORTACIÓN DATOS ANUALES PVGIS'!AI74","v":"00:00:00"},{"$f":"'IMPORTACIÓN DATOS ANUALES PVGIS'!AJ74","v":0}]
[{"$f":"'IMPORTACIÓN DATOS ANUALES PVGIS'!B75","v":"00:00:00"},{"$f":"'IMPORTACIÓN DATOS ANUALES PVGIS'!C75","v":""},{"$f":"'IMPORTACIÓN DATOS ANUALES PVGIS'!E75","v":"00:00:00"},{"$f":"'IMPORTACIÓN DATOS ANUALES PVGIS'!F75","v":0},{"$f":"'IMPORTACIÓN DATOS ANUALES PVGIS'!H75","v":"16:52:00"},{"$f":"'IMPORTACIÓN DATOS ANUALES PVGIS'!I75","v":215},{"$f":"'IMPORTACIÓN DATOS ANUALES PVGIS'!K75","v":"16:22:00"},{"$f":"'IMPORTACIÓN DATOS ANUALES PVGIS'!L75","v":387},{"$f":"'IMPORTACIÓN DATOS ANUALES PVGIS'!N75","v":"15:52:00"},{"$f":"'IMPORTACIÓN DATOS ANUALES PVGIS'!O75","v":525},{"$f":"'IMPORTACIÓN DATOS ANUALES PVGIS'!Q75","v":"15:37:00"},{"$f":"'IMPORTACIÓN DATOS ANUALES PVGIS'!R75","v":569},{"$f":"'IMPORTACIÓN DATOS ANUALES PVGIS'!T75","v":"15:37:00"},{"$f":"'IMPORTACIÓN DATOS ANUALES PVGIS'!U75","v":565},{"$f":"'IMPORTACIÓN DATOS ANUALES PVGIS'!W75","v":"16:07:00"},{"$f":"'IMPORTACIÓN DATOS ANUALES PVGIS'!X75","v":436},{"$f":"'IMPORTACIÓN DATOS ANUALES PVGIS'!Z75","v":"16:37:00"},{"$f":"'IMPORTACIÓN DATOS ANUALES PVGIS'!AA75","v":269},{"$f":"'IMPORTACIÓN DATOS ANUALES PVGIS'!AC75","v":"17:22:00"},{"$f":"'IMPORTACIÓN DATOS ANUALES PVGIS'!AD75","v":41},{"$f":"'IMPORTACIÓN DATOS ANUALES PVGIS'!AF75","v":"00:00:00"},{"$f":"'IMPORTACIÓN DATOS ANUALES PVGIS'!AG75","v":0},{"$f":"'IMPORTACIÓN DATOS ANUALES PVGIS'!AI75","v":"00:00:00"},{"$f":"'IMPORTACIÓN DATOS ANUALES PVGIS'!AJ75","v":0}]
[{"$f":"'IMPORTACIÓN DATOS ANUALES PVGIS'!B76","v":"00:00:00"},{"$f":"'IMPORTACIÓN DATOS ANUALES PVGIS'!C76","v":""},{"$f":"'IMPORTACIÓN DATOS ANUALES PVGIS'!E76","v":"00:00:00"},{"$f":"'IMPORTACIÓN DATOS ANUALES PVGIS'!F76","v":0},{"$f":"'IMPORTACIÓN DATOS ANUALES PVGIS'!H76","v":"17:07:00"},{"$f":"'IMPORTACIÓN DATOS ANUALES PVGIS'!I76","v":152},{"$f":"'IMPORTACIÓN DATOS ANUALES PVGIS'!K76","v":"16:37:00"},{"$f":"'IMPORTACIÓN DATOS ANUALES PVGIS'!L76","v":324},{"$f":"'IMPORTACIÓN DATOS ANUALES PVGIS'!N76","v":"16:07:00"},{"$f":"'IMPORTACIÓN DATOS ANUALES PVGIS'!O76","v":467},{"$f":"'IMPORTACIÓN DATOS ANUALES PVGIS'!Q76","v":"15:52:00"},{"$f":"'IMPORTACIÓN DATOS ANUALES PVGIS'!R76","v":516},{"$f":"'IMPORTACIÓN DATOS ANUALES PVGIS'!T76","v":"15:52:00"},{"$f":"'IMPORTACIÓN DATOS ANUALES PVGIS'!U76","v":511},{"$f":"'IMPORTACIÓN DATOS ANUALES PVGIS'!W76","v":"16:22:00"},{"$f":"'IMPORTACIÓN DATOS ANUALES PVGIS'!X76","v":378},{"$f":"'IMPORTACIÓN DATOS ANUALES PVGIS'!Z76","v":"16:52:00"},{"$f":"'IMPORTACIÓN DATOS ANUALES PVGIS'!AA76","v":210},{"$f":"'IMPORTACIÓN DATOS ANUALES PVGIS'!AC76","v":"00:00:00"},{"$f":"'IMPORTACIÓN DATOS ANUALES PVGIS'!AD76","v":0},{"$f":"'IMPORTACIÓN DATOS ANUALES PVGIS'!AF76","v":"00:00:00"},{"$f":"'IMPORTACIÓN DATOS ANUALES PVGIS'!AG76","v":0},{"$f":"'IMPORTACIÓN DATOS ANUALES PVGIS'!AI76","v":"00:00:00"},{"$f":"'IMPORTACIÓN DATOS ANUALES PVGIS'!AJ76","v":0}]
[{"$f":"'IMPORTACIÓN DATOS ANUALES PVGIS'!B77","v":"00:00:00"},{"$f":"'IMPORTACIÓN DATOS ANUALES PVGIS'!C77","v":""},{"$f":"'IMPORTACIÓN DATOS ANUALES PVGIS'!E77","v":"00:00:00"},{"$f":"'IMPORTACIÓN DATOS ANUALES PVGIS'!F77","v":0},{"$f":"'IMPORTACIÓN DATOS ANUALES PVGIS'!H77","v":"17:22:00"},{"$f":"'IMPORTACIÓN DATOS ANUALES PVGIS'!I77","v":95},{"$f":"'IMPORTACIÓN DATOS ANUALES PVGIS'!K77","v":"16:52:00"},{"$f":"'IMPORTACIÓN DATOS ANUALES PVGIS'!L77","v":263},{"$f":"'IMPORTACIÓN DATOS ANUALES PVGIS'!N77","v":"16:22:00"},{"$f":"'IMPORTACIÓN DATOS ANUALES PVGIS'!O77","v":409},{"$f":"'IMPORTACIÓN DATOS ANUALES PVGIS'!Q77","v":"16:07:00"},{"$f":"'IMPORTACIÓN DATOS ANUALES PVGIS'!R77","v":462},{"$f":"'IMPORTACIÓN DATOS ANUALES PVGIS'!T77","v":"16:07:00"},{"$f":"'IMPORTACIÓN DATOS ANUALES PVGIS'!U77","v":456},{"$f":"'IMPORTACIÓN DATOS ANUALES PVGIS'!W77","v":"16:37:00"},{"$f":"'IMPORTACIÓN DATOS ANUALES PVGIS'!X77","v":320},{"$f":"'IMPORTACIÓN DATOS ANUALES PVGIS'!Z77","v":"17:07:00"},{"$f":"'IMPORTACIÓN DATOS ANUALES PVGIS'!AA77","v":154},{"$f":"'IMPORTACIÓN DATOS ANUALES PVGIS'!AC77","v":"00:00:00"},{"$f":"'IMPORTACIÓN DATOS ANUALES PVGIS'!AD77","v":0},{"$f":"'IMPORTACIÓN DATOS ANUALES PVGIS'!AF77","v":"00:00:00"},{"$f":"'IMPORTACIÓN DATOS ANUALES PVGIS'!AG77","v":0},{"$f":"'IMPORTACIÓN DATOS ANUALES PVGIS'!AI77","v":"00:00:00"},{"$f":"'IMPORTACIÓN DATOS ANUALES PVGIS'!AJ77","v":0}]
[{"$f":"'IMPORTACIÓN DATOS ANUALES PVGIS'!B78","v":"00:00:00"},{"$f":"'IMPORTACIÓN DATOS ANUALES PVGIS'!C78","v":""},{"$f":"'IMPORTACIÓN DATOS ANUALES PVGIS'!E78","v":"00:00:00"},{"$f":"'IMPORTACIÓN DATOS ANUALES PVGIS'!F78","v":0},{"$f":"'IMPORTACIÓN DATOS ANUALES PVGIS'!H78","v":"17:37:00"},{"$f":"'IMPORTACIÓN DATOS ANUALES PVGIS'!I78","v":44},{"$f":"'IMPORTACIÓN DATOS ANUALES PVGIS'!K78","v":"17:07:00"},{"$f":"'IMPORTACIÓN DATOS ANUALES PVGIS'!L78","v":203},{"$f":"'IMPORTACIÓN DATOS ANUALES PVGIS'!N78","v":"16:37:00"},{"$f":"'IMPORTACIÓN DATOS ANUALES PVGIS'!O78","v":350},{"$f":"'IMPORTACIÓN DATOS ANUALES PVGIS'!Q78","v":"16:22:00"},{"$f":"'IMPORTACIÓN DATOS ANUALES PVGIS'!R78","v":407},{"$f":"'IMPORTACIÓN DATOS ANUALES PVGIS'!T78","v":"16:22:00"},{"$f":"'IMPORTACIÓN DATOS ANUALES PVGIS'!U78","v":401},{"$f":"'IMPORTACIÓN DATOS ANUALES PVGIS'!W78","v":"16:52:00"},{"$f":"'IMPORTACIÓN DATOS ANUALES PVGIS'!X78","v":263},{"$f":"'IMPORTACIÓN DATOS ANUALES PVGIS'!Z78","v":"17:22:00"},{"$f":"'IMPORTACIÓN DATOS ANUALES PVGIS'!AA78","v":104},{"$f":"'IMPORTACIÓN DATOS ANUALES PVGIS'!AC78","v":"00:00:00"},{"$f":"'IMPORTACIÓN DATOS ANUALES PVGIS'!AD78","v":0},{"$f":"'IMPORTACIÓN DATOS ANUALES PVGIS'!AF78","v":"00:00:00"},{"$f":"'IMPORTACIÓN DATOS ANUALES PVGIS'!AG78","v":0},{"$f":"'IMPORTACIÓN DATOS ANUALES PVGIS'!AI78","v":"00:00:00"},{"$f":"'IMPORTACIÓN DATOS ANUALES PVGIS'!AJ78","v":0}]
[{"$f":"'IMPORTACIÓN DATOS ANUALES PVGIS'!B79","v":"00:00:00"},{"$f":"'IMPORTACIÓN DATOS ANUALES PVGIS'!C79","v":""},{"$f":"'IMPORTACIÓN DATOS ANUALES PVGIS'!E79","v":"00:00:00"},{"$f":"'IMPORTACIÓN DATOS ANUALES PVGIS'!F79","v":0},{"$f":"'IMPORTACIÓN DATOS ANUALES PVGIS'!H79","v":"17:52:00"},{"$f":"'IMPORTACIÓN DATOS ANUALES PVGIS'!I79","v":12},{"$f":"'IMPORTACIÓN DATOS ANUALES PVGIS'!K79","v":"17:22:00"},{"$f":"'IMPORTACIÓN DATOS ANUALES PVGIS'!L79","v":148},{"$f":"'IMPORTACIÓN DATOS ANUALES PVGIS'!N79","v":"16:52:00"},{"$f":"'IMPORTACIÓN DATOS ANUALES PVGIS'!O79","v":292},{"$f":"'IMPORTACIÓN DATOS ANUALES PVGIS'!Q79","v":"16:37:00"},{"$f":"'IMPORTACIÓN DATOS ANUALES PVGIS'!R79","v":351},{"$f":"'IMPORTACIÓN DATOS ANUALES PVGIS'!T79","v":"16:37:00"},{"$f":"'IMPORTACIÓN DATOS ANUALES PVGIS'!U79","v":345},{"$f":"'IMPORTACIÓN DATOS ANUALES PVGIS'!W79","v":"17:07:00"},{"$f":"'IMPORTACIÓN DATOS ANUALES PVGIS'!X79","v":208},{"$f":"'IMPORTACIÓN DATOS ANUALES PVGIS'!Z79","v":"17:37:00"},{"$f":"'IMPORTACIÓN DATOS ANUALES PVGIS'!AA79","v":61},{"$f":"'IMPORTACIÓN DATOS ANUALES PVGIS'!AC79","v":"00:00:00"},{"$f":"'IMPORTACIÓN DATOS ANUALES PVGIS'!AD79","v":0},{"$f":"'IMPORTACIÓN DATOS ANUALES PVGIS'!AF79","v":"00:00:00"},{"$f":"'IMPORTACIÓN DATOS ANUALES PVGIS'!AG79","v":0},{"$f":"'IMPORTACIÓN DATOS ANUALES PVGIS'!AI79","v":"00:00:00"},{"$f":"'IMPORTACIÓN DATOS ANUALES PVGIS'!AJ79","v":0}]
[{"$f":"'IMPORTACIÓN DATOS ANUALES PVGIS'!B80","v":"00:00:00"},{"$f":"'IMPORTACIÓN DATOS ANUALES PVGIS'!C80","v":""},{"$f":"'IMPORTACIÓN DATOS ANUALES PVGIS'!E80","v":"00:00:00"},{"$f":"'IMPORTACIÓN DATOS ANUALES PVGIS'!F80","v":0},{"$f":"'IMPORTACIÓN DATOS ANUALES PVGIS'!H80","v":"00:00:00"},{"$f":"'IMPORTACIÓN DATOS ANUALES PVGIS'!I80","v":0},{"$f":"'IMPORTACIÓN DATOS ANUALES PVGIS'!K80","v":"17:37:00"},{"$f":"'IMPORTACIÓN DATOS ANUALES PVGIS'!L80","v":97},{"$f":"'IMPORTACIÓN DATOS ANUALES PVGIS'!N80","v":"17:07:00"},{"$f":"'IMPORTACIÓN DATOS ANUALES PVGIS'!O80","v":235},{"$f":"'IMPORTACIÓN DATOS ANUALES PVGIS'!Q80","v":"16:52:00"},{"$f":"'IMPORTACIÓN DATOS ANUALES PVGIS'!R80","v":297},{"$f":"'IMPORTACIÓN DATOS ANUALES PVGIS'!T80","v":"16:52:00"},{"$f":"'IMPORTACIÓN DATOS ANUALES PVGIS'!U80","v":290},{"$f":"'IMPORTACIÓN DATOS ANUALES PVGIS'!W80","v":"17:22:00"},{"$f":"'IMPORTACIÓN DATOS ANUALES PVGIS'!X80","v":156},{"$f":"'IMPORTACIÓN DATOS ANUALES PVGIS'!Z80","v":"17:52:00"},{"$f":"'IMPORTACIÓN DATOS ANUALES PVGIS'!AA80","v":27},{"$f":"'IMPORTACIÓN DATOS ANUALES PVGIS'!AC80","v":"00:00:00"},{"$f":"'IMPORTACIÓN DATOS ANUALES PVGIS'!AD80","v":0},{"$f":"'IMPORTACIÓN DATOS ANUALES PVGIS'!AF80","v":"00:00:00"},{"$f":"'IMPORTACIÓN DATOS ANUALES PVGIS'!AG80","v":0},{"$f":"'IMPORTACIÓN DATOS ANUALES PVGIS'!AI80","v":"00:00:00"},{"$f":"'IMPORTACIÓN DATOS ANUALES PVGIS'!AJ80","v":0}]
[{"$f":"'IMPORTACIÓN DATOS ANUALES PVGIS'!B81","v":"00:00:00"},{"$f":"'IMPORTACIÓN DATOS ANUALES PVGIS'!C81","v":""},{"$f":"'IMPORTACIÓN DATOS ANUALES PVGIS'!E81","v":"00:00:00"},{"$f":"'IMPORTACIÓN DATOS ANUALES PVGIS'!F81","v":0},{"$f":"'IMPORTACIÓN DATOS ANUALES PVGIS'!H81","v":"00:00:00"},{"$f":"'IMPORTACIÓN DATOS ANUALES PVGIS'!I81","v":0},{"$f":"'IMPORTACIÓN DATOS ANUALES PVGIS'!K81","v":"17:52:00"},{"$f":"'IMPORTACIÓN DATOS ANUALES PVGIS'!L81","v":55},{"$f":"'IMPORTACIÓN DATOS ANUALES PVGIS'!N81","v":"17:22:00"},{"$f":"'IMPORTACIÓN DATOS ANUALES PVGIS'!O81","v":181},{"$f":"'IMPORTACIÓN DATOS ANUALES PVGIS'!Q81","v":"17:07:00"},{"$f":"'IMPORTACIÓN DATOS ANUALES PVGIS'!R81","v":243},{"$f":"'IMPORTACIÓN DATOS ANUALES PVGIS'!T81","v":"17:07:00"},{"$f":"'IMPORTACIÓN DATOS ANUALES PVGIS'!U81","v":236},{"$f":"'IMPORTACIÓN DATOS ANUALES PVGIS'!W81","v":"17:37:00"},{"$f":"'IMPORTACIÓN DATOS ANUALES PVGIS'!X81","v":109},{"$f":"'IMPORTACIÓN DATOS ANUALES PVGIS'!Z81","v":"18:07:00"},{"$f":"'IMPORTACIÓN DATOS ANUALES PVGIS'!AA81","v":10},{"$f":"'IMPORTACIÓN DATOS ANUALES PVGIS'!AC81","v":"00:00:00"},{"$f":"'IMPORTACIÓN DATOS ANUALES PVGIS'!AD81","v":0},{"$f":"'IMPORTACIÓN DATOS ANUALES PVGIS'!AF81","v":"00:00:00"},{"$f":"'IMPORTACIÓN DATOS ANUALES PVGIS'!AG81","v":0},{"$f":"'IMPORTACIÓN DATOS ANUALES PVGIS'!AI81","v":"00:00:00"},{"$f":"'IMPORTACIÓN DATOS ANUALES PVGIS'!AJ81","v":0}]
[{"$f":"'IMPORTACIÓN DATOS ANUALES PVGIS'!B82","v":"00:00:00"},{"$f":"'IMPORTACIÓN DATOS ANUALES PVGIS'!C82","v":""},{"$f":"'IMPORTACIÓN DATOS ANUALES PVGIS'!E82","v":"00:00:00"},{"$f":"'IMPORTACIÓN DATOS ANUALES PVGIS'!F82","v":0},{"$f":"'IMPORTACIÓN DATOS ANUALES PVGIS'!H82","v":"00:00:00"},{"$f":"'IMPORTACIÓN DATOS ANUALES PVGIS'!I82","v":0},{"$f":"'IMPORTACIÓN DATOS ANUALES PVGIS'!K82","v":"18:07:00"},{"$f":"'IMPORTACIÓN DATOS ANUALES PVGIS'!L82","v":28},{"$f":"'IMPORTACIÓN DATOS ANUALES PVGIS'!N82","v":"17:37:00"},{"$f":"'IMPORTACIÓN DATOS ANUALES PVGIS'!O82","v":131},{"$f":"'IMPORTACIÓN DATOS ANUALES PVGIS'!Q82","v":"17:22:00"},{"$f":"'IMPORTACIÓN DATOS ANUALES PVGIS'!R82","v":192},{"$f":"'IMPORTACIÓN DATOS ANUALES PVGIS'!T82","v":"17:22:00"},{"$f":"'IMPORTACIÓN DATOS ANUALES PVGIS'!U82","v":185},{"$f":"'IMPORTACIÓN DATOS ANUALES PVGIS'!W82","v":"17:52:00"},{"$f":"'IMPORTACIÓN DATOS ANUALES PVGIS'!X82","v":69},{"$f":"'IMPORTACIÓN DATOS ANUALES PVGIS'!Z82","v":"00:00:00"},{"$f":"'IMPORTACIÓN DATOS ANUALES PVGIS'!AA82","v":0},{"$f":"'IMPORTACIÓN DATOS ANUALES PVGIS'!AC82","v":"00:00:00"},{"$f":"'IMPORTACIÓN DATOS ANUALES PVGIS'!AD82","v":0},{"$f":"'IMPORTACIÓN DATOS ANUALES PVGIS'!AF82","v":"00:00:00"},{"$f":"'IMPORTACIÓN DATOS ANUALES PVGIS'!AG82","v":0},{"$f":"'IMPORTACIÓN DATOS ANUALES PVGIS'!AI82","v":"00:00:00"},{"$f":"'IMPORTACIÓN DATOS ANUALES PVGIS'!AJ82","v":0}]
[{"$f":"'IMPORTACIÓN DATOS ANUALES PVGIS'!B83","v":"00:00:00"},{"$f":"'IMPORTACIÓN DATOS ANUALES PVGIS'!C83","v":""},{"$f":"'IMPORTACIÓN DATOS ANUALES PVGIS'!E83","v":"00:00:00"},{"$f":"'IMPORTACIÓN DATOS ANUALES PVGIS'!F83","v":0},{"$f":"'IMPORTACIÓN DATOS ANUALES PVGIS'!H83","v":"00:00:00"},{"$f":"'IMPORTACIÓN DATOS ANUALES PVGIS'!I83","v":0},{"$f":"'IMPORTACIÓN DATOS ANUALES PVGIS'!K83","v":"18:22:00"},{"$f":"'IMPORTACIÓN DATOS ANUALES PVGIS'!L83","v":17},{"$f":"'IMPORTACIÓN DATOS ANUALES PVGIS'!N83","v":"17:52:00"},{"$f":"'IMPORTACIÓN DATOS ANUALES PVGIS'!O83","v":85},{"$f":"'IMPORTACIÓN DATOS ANUALES PVGIS'!Q83","v":"17:37:00"},{"$f":"'IMPORTACIÓN DATOS ANUALES PVGIS'!R83","v":144},{"$f":"'IMPORTACIÓN DATOS ANUALES PVGIS'!T83","v":"17:37:00"},{"$f":"'IMPORTACIÓN DATOS ANUALES PVGIS'!U83","v":137},{"$f":"'IMPORTACIÓN DATOS ANUALES PVGIS'!W83","v":"18:07:00"},{"$f":"'IMPORTACIÓN DATOS ANUALES PVGIS'!X83","v":37},{"$f":"'IMPORTACIÓN DATOS ANUALES PVGIS'!Z83","v":"00:00:00"},{"$f":"'IMPORTACIÓN DATOS ANUALES PVGIS'!AA83","v":0},{"$f":"'IMPORTACIÓN DATOS ANUALES PVGIS'!AC83","v":"00:00:00"},{"$f":"'IMPORTACIÓN DATOS ANUALES PVGIS'!AD83","v":0},{"$f":"'IMPORTACIÓN DATOS ANUALES PVGIS'!AF83","v":"00:00:00"},{"$f":"'IMPORTACIÓN DATOS ANUALES PVGIS'!AG83","v":0},{"$f":"'IMPORTACIÓN DATOS ANUALES PVGIS'!AI83","v":"00:00:00"},{"$f":"'IMPORTACIÓN DATOS ANUALES PVGIS'!AJ83","v":0}]
[{"$f":"'IMPORTACIÓN DATOS ANUALES PVGIS'!B84","v":"00:00:00"},{"$f":"'IMPORTACIÓN DATOS ANUALES PVGIS'!C84","v":""},{"$f":"'IMPORTACIÓN DATOS ANUALES PVGIS'!E84","v":"00:00:00"},{"$f":"'IMPORTACIÓN DATOS ANUALES PVGIS'!F84","v":0},{"$f":"'IMPORTACIÓN DATOS ANUALES PVGIS'!H84","v":"00:00:00"},{"$f":"'IMPORTACIÓN DATOS ANUALES PVGIS'!I84","v":0},{"$f":"'IMPORTACIÓN DATOS ANUALES PVGIS'!K84","v":"00:00:00"},{"$f":"'IMPORTACIÓN DATOS ANUALES PVGIS'!L84","v":0},{"$f":"'IMPORTACIÓN DATOS ANUALES PVGIS'!N84","v":"18:07:00"},{"$f":"'IMPORTACIÓN DATOS ANUALES PVGIS'!O84","v":47},{"$f":"'IMPORTACIÓN DATOS ANUALES PVGIS'!Q84","v":"17:52:00"},{"$f":"'IMPORTACIÓN DATOS ANUALES PVGIS'!R84","v":100},{"$f":"'IMPORTACIÓN DATOS ANUALES PVGIS'!T84","v":"17:52:00"},{"$f":"'IMPORTACIÓN DATOS ANUALES PVGIS'!U84","v":94},{"$f":"'IMPORTACIÓN DATOS ANUALES PVGIS'!W84","v":"18:22:00"},{"$f":"'IMPORTACIÓN DATOS ANUALES PVGIS'!X84","v":28},{"$f":"'IMPORTACIÓN DATOS ANUALES PVGIS'!Z84","v":"00:00:00"},{"$f":"'IMPORTACIÓN DATOS ANUALES PVGIS'!AA84","v":0},{"$f":"'IMPORTACIÓN DATOS ANUALES PVGIS'!AC84","v":"00:00:00"},{"$f":"'IMPORTACIÓN DATOS ANUALES PVGIS'!AD84","v":0},{"$f":"'IMPORTACIÓN DATOS ANUALES PVGIS'!AF84","v":"00:00:00"},{"$f":"'IMPORTACIÓN DATOS ANUALES PVGIS'!AG84","v":0},{"$f":"'IMPORTACIÓN DATOS ANUALES PVGIS'!AI84","v":"00:00:00"},{"$f":"'IMPORTACIÓN DATOS ANUALES PVGIS'!AJ84","v":0}]
[{"$f":"'IMPORTACIÓN DATOS ANUALES PVGIS'!B85","v":"00:00:00"},{"$f":"'IMPORTACIÓN DATOS ANUALES PVGIS'!C85","v":""},{"$f":"'IMPORTACIÓN DATOS ANUALES PVGIS'!E85","v":"00:00:00"},{"$f":"'IMPORTACIÓN DATOS ANUALES PVGIS'!F85","v":0},{"$f":"'IMPORTACIÓN DATOS ANUALES PVGIS'!H85","v":"00:00:00"},{"$f":"'IMPORTACIÓN DATOS ANUALES PVGIS'!I85","v":0},{"$f":"'IMPORTACIÓN DATOS ANUALES PVGIS'!K85","v":"00:00:00"},{"$f":"'IMPORTACIÓN DATOS ANUALES PVGIS'!L85","v":0},{"$f":"'IMPORTACIÓN DATOS ANUALES PVGIS'!N85","v":"18:22:00"},{"$f":"'IMPORTACIÓN DATOS ANUALES PVGIS'!O85","v":39},{"$f":"'IMPORTACIÓN DATOS ANUALES PVGIS'!Q85","v":"18:07:00"},{"$f":"'IMPORTACIÓN DATOS ANUALES PVGIS'!R85","v":61},{"$f":"'IMPORTACIÓN DATOS ANUALES PVGIS'!T85","v":"18:07:00"},{"$f":"'IMPORTACIÓN DATOS ANUALES PVGIS'!U85","v":56},{"$f":"'IMPORTACIÓN DATOS ANUALES PVGIS'!W85","v":"18:37:00"},{"$f":"'IMPORTACIÓN DATOS ANUALES PVGIS'!X85","v":15},{"$f":"'IMPORTACIÓN DATOS ANUALES PVGIS'!Z85","v":"00:00:00"},{"$f":"'IMPORTACIÓN DATOS ANUALES PVGIS'!AA85","v":0},{"$f":"'IMPORTACIÓN DATOS ANUALES PVGIS'!AC85","v":"00:00:00"},{"$f":"'IMPORTACIÓN DATOS ANUALES PVGIS'!AD85","v":0},{"$f":"'IMPORTACIÓN DATOS ANUALES PVGIS'!AF85","v":"00:00:00"},{"$f":"'IMPORTACIÓN DATOS ANUALES PVGIS'!AG85","v":0},{"$f":"'IMPORTACIÓN DATOS ANUALES PVGIS'!AI85","v":"00:00:00"},{"$f":"'IMPORTACIÓN DATOS ANUALES PVGIS'!AJ85","v":0}]
[{"$f":"'IMPORTACIÓN DATOS ANUALES PVGIS'!B86","v":"00:00:00"},{"$f":"'IMPORTACIÓN DATOS ANUALES PVGIS'!C86","v":""},{"$f":"'IMPORTACIÓN DATOS ANUALES PVGIS'!E86","v":"00:00:00"},{"$f":"'IMPORTACIÓN DATOS ANUALES PVGIS'!F86","v":0},{"$f":"'IMPORTACIÓN DATOS ANUALES PVGIS'!H86","v":"00:00:00"},{"$f":"'IMPORTACIÓN DATOS ANUALES PVGIS'!I86","v":0},{"$f":"'IMPORTACIÓN DATOS ANUALES PVGIS'!K86","v":"00:00:00"},{"$f":"'IMPORTACIÓN DATOS ANUALES PVGIS'!L86","v":0},{"$f":"'IMPORTACIÓN DATOS ANUALES PVGIS'!N86","v":"18:37:00"},{"$f":"'IMPORTACIÓN DATOS ANUALES PVGIS'!O86","v":28},{"$f":"'IMPORTACIÓN DATOS ANUALES PVGIS'!Q86","v":"18:22:00"},{"$f":"'IMPORTACIÓN DATOS ANUALES PVGIS'!R86","v":51},{"$f":"'IMPORTACIÓN DATOS ANUALES PVGIS'!T86","v":"18:22:00"},{"$f":"'IMPORTACIÓN DATOS ANUALES PVGIS'!U86","v":47},{"$f":"'IMPORTACIÓN DATOS ANUALES PVGIS'!W86","v":"00:00:00"},{"$f":"'IMPORTACIÓN DATOS ANUALES PVGIS'!X86","v":0},{"$f":"'IMPORTACIÓN DATOS ANUALES PVGIS'!Z86","v":"00:00:00"},{"$f":"'IMPORTACIÓN DATOS ANUALES PVGIS'!AA86","v":0},{"$f":"'IMPORTACIÓN DATOS ANUALES PVGIS'!AC86","v":"00:00:00"},{"$f":"'IMPORTACIÓN DATOS ANUALES PVGIS'!AD86","v":0},{"$f":"'IMPORTACIÓN DATOS ANUALES PVGIS'!AF86","v":"00:00:00"},{"$f":"'IMPORTACIÓN DATOS ANUALES PVGIS'!AG86","v":0},{"$f":"'IMPORTACIÓN DATOS ANUALES PVGIS'!AI86","v":"00:00:00"},{"$f":"'IMPORTACIÓN DATOS ANUALES PVGIS'!AJ86","v":0}]
[{"$f":"'IMPORTACIÓN DATOS ANUALES PVGIS'!B87","v":"00:00:00"},{"$f":"'IMPORTACIÓN DATOS ANUALES PVGIS'!C87","v":""},{"$f":"'IMPORTACIÓN DATOS ANUALES PVGIS'!E87","v":"00:00:00"},{"$f":"'IMPORTACIÓN DATOS ANUALES PVGIS'!F87","v":0},{"$f":"'IMPORTACIÓN DATOS ANUALES PVGIS'!H87","v":"00:00:00"},{"$f":"'IMPORTACIÓN DATOS ANUALES PVGIS'!I87","v":0},{"$f":"'IMPORTACIÓN DATOS ANUALES PVGIS'!K87","v":"00:00:00"},{"$f":"'IMPORTACIÓN DATOS ANUALES PVGIS'!L87","v":0},{"$f":"'IMPORTACIÓN DATOS ANUALES PVGIS'!N87","v":"18:52:00"},{"$f":"'IMPORTACIÓN DATOS ANUALES PVGIS'!O87","v":17},{"$f":"'IMPORTACIÓN DATOS ANUALES PVGIS'!Q87","v":"18:37:00"},{"$f":"'IMPORTACIÓN DATOS ANUALES PVGIS'!R87","v":40},{"$f":"'IMPORTACIÓN DATOS ANUALES PVGIS'!T87","v":"18:37:00"},{"$f":"'IMPORTACIÓN DATOS ANUALES PVGIS'!U87","v":36},{"$f":"'IMPORTACIÓN DATOS ANUALES PVGIS'!W87","v":"00:00:00"},{"$f":"'IMPORTACIÓN DATOS ANUALES PVGIS'!X87","v":0},{"$f":"'IMPORTACIÓN DATOS ANUALES PVGIS'!Z87","v":"00:00:00"},{"$f":"'IMPORTACIÓN DATOS ANUALES PVGIS'!AA87","v":0},{"$f":"'IMPORTACIÓN DATOS ANUALES PVGIS'!AC87","v":"00:00:00"},{"$f":"'IMPORTACIÓN DATOS ANUALES PVGIS'!AD87","v":0},{"$f":"'IMPORTACIÓN DATOS ANUALES PVGIS'!AF87","v":"00:00:00"},{"$f":"'IMPORTACIÓN DATOS ANUALES PVGIS'!AG87","v":0},{"$f":"'IMPORTACIÓN DATOS ANUALES PVGIS'!AI87","v":"00:00:00"},{"$f":"'IMPORTACIÓN DATOS ANUALES PVGIS'!AJ87","v":0}]
[{"$f":"'IMPORTACIÓN DATOS ANUALES PVGIS'!B88","v":"00:00:00"},{"$f":"'IMPORTACIÓN DATOS ANUALES PVGIS'!C88","v":""},{"$f":"'IMPORTACIÓN DATOS ANUALES PVGIS'!E88","v":"00:00:00"},{"$f":"'IMPORTACIÓN DATOS ANUALES PVGIS'!F88","v":0},{"$f":"'IMPORTACIÓN DATOS ANUALES PVGIS'!H88","v":"00:00:00"},{"$f":"'IMPORTACIÓN DATOS ANUALES PVGIS'!I88","v":0},{"$f":"'IMPORTACIÓN DATOS ANUALES PVGIS'!K88","v":"00:00:00"},{"$f":"'IMPORTACIÓN DATOS ANUALES PVGIS'!L88","v":0},{"$f":"'IMPORTACIÓN DATOS ANUALES PVGIS'!N88","v":"00:00:00"},{"$f":"'IMPORTACIÓN DATOS ANUALES PVGIS'!O88","v":0},{"$f":"'IMPORTACIÓN DATOS ANUALES PVGIS'!Q88","v":"18:52:00"},{"$f":"'IMPORTACIÓN DATOS ANUALES PVGIS'!R88","v":29},{"$f":"'IMPORTACIÓN DATOS ANUALES PVGIS'!T88","v":"18:52:00"},{"$f":"'IMPORTACIÓN DATOS ANUALES PVGIS'!U88","v":24},{"$f":"'IMPORTACIÓN DATOS ANUALES PVGIS'!W88","v":"00:00:00"},{"$f":"'IMPORTACIÓN DATOS ANUALES PVGIS'!X88","v":0},{"$f":"'IMPORTACIÓN DATOS ANUALES PVGIS'!Z88","v":"00:00:00"},{"$f":"'IMPORTACIÓN DATOS ANUALES PVGIS'!AA88","v":0},{"$f":"'IMPORTACIÓN DATOS ANUALES PVGIS'!AC88","v":"00:00:00"},{"$f":"'IMPORTACIÓN DATOS ANUALES PVGIS'!AD88","v":0},{"$f":"'IMPORTACIÓN DATOS ANUALES PVGIS'!AF88","v":"00:00:00"},{"$f":"'IMPORTACIÓN DATOS ANUALES PVGIS'!AG88","v":0},{"$f":"'IMPORTACIÓN DATOS ANUALES PVGIS'!AI88","v":"00:00:00"},{"$f":"'IMPORTACIÓN DATOS ANUALES PVGIS'!AJ88","v":0}]
[{"$f":"'IMPORTACIÓN DATOS ANUALES PVGIS'!B89","v":"00:00:00"},{"$f":"'IMPORTACIÓN DATOS ANUALES PVGIS'!C89","v":""},{"$f":"'IMPORTACIÓN DATOS ANUALES PVGIS'!E89","v":"00:00:00"},{"$f":"'IMPORTACIÓN DATOS ANUALES PVGIS'!F89","v":0},{"$f":"'IMPORTACIÓN DATOS ANUALES PVGIS'!H89","v":"00:00:00"},{"$f":"'IMPORTACIÓN DATOS ANUALES PVGIS'!I89","v":0},{"$f":"'IMPORTACIÓN DATOS ANUALES PVGIS'!K89","v":"00:00:00"},{"$f":"'IMPORTACIÓN DATOS ANUALES PVGIS'!L89","v":0},{"$f":"'IMPORTACIÓN DATOS ANUALES PVGIS'!N89","v":"00:00:00"},{"$f":"'IMPORTACIÓN DATOS ANUALES PVGIS'!O89","v":0},{"$f":"'IMPORTACIÓN DATOS ANUALES PVGIS'!Q89","v":"19:07:00"},{"$f":"'IMPORTACIÓN DATOS ANUALES PVGIS'!R89","v":18},{"$f":"'IMPORTACIÓN DATOS ANUALES PVGIS'!T89","v":"19:07:00"},{"$f":"'IMPORTACIÓN DATOS ANUALES PVGIS'!U89","v":12},{"$f":"'IMPORTACIÓN DATOS ANUALES PVGIS'!W89","v":"00:00:00"},{"$f":"'IMPORTACIÓN DATOS ANUALES PVGIS'!X89","v":0},{"$f":"'IMPORTACIÓN DATOS ANUALES PVGIS'!Z89","v":"00:00:00"},{"$f":"'IMPORTACIÓN DATOS ANUALES PVGIS'!AA89","v":0},{"$f":"'IMPORTACIÓN DATOS ANUALES PVGIS'!AC89","v":"00:00:00"},{"$f":"'IMPORTACIÓN DATOS ANUALES PVGIS'!AD89","v":0},{"$f":"'IMPORTACIÓN DATOS ANUALES PVGIS'!AF89","v":"00:00:00"},{"$f":"'IMPORTACIÓN DATOS ANUALES PVGIS'!AG89","v":0},{"$f":"'IMPORTACIÓN DATOS ANUALES PVGIS'!AI89","v":"00:00:00"},{"$f":"'IMPORTACIÓN DATOS ANUALES PVGIS'!AJ89","v":0}]
[{"$f":"'IMPORTACIÓN DATOS ANUALES PVGIS'!B90","v":"00:00:00"},{"$f":"'IMPORTACIÓN DATOS ANUALES PVGIS'!C90","v":""},{"$f":"'IMPORTACIÓN DATOS ANUALES PVGIS'!E90","v":"00:00:00"},{"$f":"'IMPORTACIÓN DATOS ANUALES PVGIS'!F90","v":0},{"$f":"'IMPORTACIÓN DATOS ANUALES PVGIS'!H90","v":"00:00:00"},{"$f":"'IMPORTACIÓN DATOS ANUALES PVGIS'!I90","v":0},{"$f":"'IMPORTACIÓN DATOS ANUALES PVGIS'!K90","v":"00:00:00"},{"$f":"'IMPORTACIÓN DATOS ANUALES PVGIS'!L90","v":0},{"$f":"'IMPORTACIÓN DATOS ANUALES PVGIS'!N90","v":"00:00:00"},{"$f":"'IMPORTACIÓN DATOS ANUALES PVGIS'!O90","v":0},{"$f":"'IMPORTACIÓN DATOS ANUALES PVGIS'!Q90","v":"00:00:00"},{"$f":"'IMPORTACIÓN DATOS ANUALES PVGIS'!R90","v":0},{"$f":"'IMPORTACIÓN DATOS ANUALES PVGIS'!T90","v":"00:00:00"},{"$f":"'IMPORTACIÓN DATOS ANUALES PVGIS'!U90","v":0},{"$f":"'IMPORTACIÓN DATOS ANUALES PVGIS'!W90","v":"00:00:00"},{"$f":"'IMPORTACIÓN DATOS ANUALES PVGIS'!X90","v":0},{"$f":"'IMPORTACIÓN DATOS ANUALES PVGIS'!Z90","v":"00:00:00"},{"$f":"'IMPORTACIÓN DATOS ANUALES PVGIS'!AA90","v":0},{"$f":"'IMPORTACIÓN DATOS ANUALES PVGIS'!AC90","v":"00:00:00"},{"$f":"'IMPORTACIÓN DATOS ANUALES PVGIS'!AD90","v":0},{"$f":"'IMPORTACIÓN DATOS ANUALES PVGIS'!AF90","v":"00:00:00"},{"$f":"'IMPORTACIÓN DATOS ANUALES PVGIS'!AG90","v":0},{"$f":"'IMPORTACIÓN DATOS ANUALES PVGIS'!AI90","v":"00:00:00"},{"$f":"'IMPORTACIÓN DATOS ANUALES PVGIS'!AJ90","v":0}]
[{"$f":"'IMPORTACIÓN DATOS ANUALES PVGIS'!B91","v":"00:00:00"},{"$f":"'IMPORTACIÓN DATOS ANUALES PVGIS'!C91","v":""},{"$f":"'IMPORTACIÓN DATOS ANUALES PVGIS'!E91","v":"00:00:00"},{"$f":"'IMPORTACIÓN DATOS ANUALES PVGIS'!F91","v":0},{"$f":"'IMPORTACIÓN DATOS ANUALES PVGIS'!H91","v":"00:00:00"},{"$f":"'IMPORTACIÓN DATOS ANUALES PVGIS'!I91","v":0},{"$f":"'IMPORTACIÓN DATOS ANUALES PVGIS'!K91","v":"00:00:00"},{"$f":"'IMPORTACIÓN DATOS ANUALES PVGIS'!L91","v":0},{"$f":"'IMPORTACIÓN DATOS ANUALES PVGIS'!N91","v":"00:00:00"},{"$f":"'IMPORTACIÓN DATOS ANUALES PVGIS'!O91","v":0},{"$f":"'IMPORTACIÓN DATOS ANUALES PVGIS'!Q91","v":"00:00:00"},{"$f":"'IMPORTACIÓN DATOS ANUALES PVGIS'!R91","v":0},{"$f":"'IMPORTACIÓN DATOS ANUALES PVGIS'!T91","v":"00:00:00"},{"$f":"'IMPORTACIÓN DATOS ANUALES PVGIS'!U91","v":0},{"$f":"'IMPORTACIÓN DATOS ANUALES PVGIS'!W91","v":"00:00:00"},{"$f":"'IMPORTACIÓN DATOS ANUALES PVGIS'!X91","v":0},{"$f":"'IMPORTACIÓN DATOS ANUALES PVGIS'!Z91","v":"00:00:00"},{"$f":"'IMPORTACIÓN DATOS ANUALES PVGIS'!AA91","v":0},{"$f":"'IMPORTACIÓN DATOS ANUALES PVGIS'!AC91","v":"00:00:00"},{"$f":"'IMPORTACIÓN DATOS ANUALES PVGIS'!AD91","v":0},{"$f":"'IMPORTACIÓN DATOS ANUALES PVGIS'!AF91","v":"00:00:00"},{"$f":"'IMPORTACIÓN DATOS ANUALES PVGIS'!AG91","v":0},{"$f":"'IMPORTACIÓN DATOS ANUALES PVGIS'!AI91","v":"00:00:00"},{"$f":"'IMPORTACIÓN DATOS ANUALES PVGIS'!AJ91","v":0}]
[{"$f":"'IMPORTACIÓN DATOS ANUALES PVGIS'!B92","v":"00:00:00"},{"$f":"'IMPORTACIÓN DATOS ANUALES PVGIS'!C92","v":""},{"$f":"'IMPORTACIÓN DATOS ANUALES PVGIS'!E92","v":"00:00:00"},{"$f":"'IMPORTACIÓN DATOS ANUALES PVGIS'!F92","v":0},{"$f":"'IMPORTACIÓN DATOS ANUALES PVGIS'!H92","v":"00:00:00"},{"$f":"'IMPORTACIÓN DATOS ANUALES PVGIS'!I92","v":0},{"$f":"'IMPORTACIÓN DATOS ANUALES PVGIS'!K92","v":"00:00:00"},{"$f":"'IMPORTACIÓN DATOS ANUALES PVGIS'!L92","v":0},{"$f":"'IMPORTACIÓN DATOS ANUALES PVGIS'!N92","v":"00:00:00"},{"$f":"'IMPORTACIÓN DATOS ANUALES PVGIS'!O92","v":0},{"$f":"'IMPORTACIÓN DATOS ANUALES PVGIS'!Q92","v":"00:00:00"},{"$f":"'IMPORTACIÓN DATOS ANUALES PVGIS'!R92","v":0},{"$f":"'IMPORTACIÓN DATOS ANUALES PVGIS'!T92","v":"00:00:00"},{"$f":"'IMPORTACIÓN DATOS ANUALES PVGIS'!U92","v":0},{"$f":"'IMPORTACIÓN DATOS ANUALES PVGIS'!W92","v":"00:00:00"},{"$f":"'IMPORTACIÓN DATOS ANUALES PVGIS'!X92","v":0},{"$f":"'IMPORTACIÓN DATOS ANUALES PVGIS'!Z92","v":"00:00:00"},{"$f":"'IMPORTACIÓN DATOS ANUALES PVGIS'!AA92","v":0},{"$f":"'IMPORTACIÓN DATOS ANUALES PVGIS'!AC92","v":"00:00:00"},{"$f":"'IMPORTACIÓN DATOS ANUALES PVGIS'!AD92","v":0},{"$f":"'IMPORTACIÓN DATOS ANUALES PVGIS'!AF92","v":"00:00:00"},{"$f":"'IMPORTACIÓN DATOS ANUALES PVGIS'!AG92","v":0},{"$f":"'IMPORTACIÓN DATOS ANUALES PVGIS'!AI92","v":"00:00:00"},{"$f":"'IMPORTACIÓN DATOS ANUALES PVGIS'!AJ92","v":0}]
[{"$f":"'IMPORTACIÓN DATOS ANUALES PVGIS'!B93","v":"00:00:00"},{"$f":"'IMPORTACIÓN DATOS ANUALES PVGIS'!C93","v":""},{"$f":"'IMPORTACIÓN DATOS ANUALES PVGIS'!E93","v":"00:00:00"},{"$f":"'IMPORTACIÓN DATOS ANUALES PVGIS'!F93","v":0},{"$f":"'IMPORTACIÓN DATOS ANUALES PVGIS'!H93","v":"00:00:00"},{"$f":"'IMPORTACIÓN DATOS ANUALES PVGIS'!I93","v":0},{"$f":"'IMPORTACIÓN DATOS ANUALES PVGIS'!K93","v":"00:00:00"},{"$f":"'IMPORTACIÓN DATOS ANUALES PVGIS'!L93","v":0},{"$f":"'IMPORTACIÓN DATOS ANUALES PVGIS'!N93","v":"00:00:00"},{"$f":"'IMPORTACIÓN DATOS ANUALES PVGIS'!O93","v":0},{"$f":"'IMPORTACIÓN DATOS ANUALES PVGIS'!Q93","v":"00:00:00"},{"$f":"'IMPORTACIÓN DATOS ANUALES PVGIS'!R93","v":0},{"$f":"'IMPORTACIÓN DATOS ANUALES PVGIS'!T93","v":"00:00:00"},{"$f":"'IMPORTACIÓN DATOS ANUALES PVGIS'!U93","v":0},{"$f":"'IMPORTACIÓN DATOS ANUALES PVGIS'!W93","v":"00:00:00"},{"$f":"'IMPORTACIÓN DATOS ANUALES PVGIS'!X93","v":0},{"$f":"'IMPORTACIÓN DATOS ANUALES PVGIS'!Z93","v":"00:00:00"},{"$f":"'IMPORTACIÓN DATOS ANUALES PVGIS'!AA93","v":0},{"$f":"'IMPORTACIÓN DATOS ANUALES PVGIS'!AC93","v":"00:00:00"},{"$f":"'IMPORTACIÓN DATOS ANUALES PVGIS'!AD93","v":0},{"$f":"'IMPORTACIÓN DATOS ANUALES PVGIS'!AF93","v":"00:00:00"},{"$f":"'IMPORTACIÓN DATOS ANUALES PVGIS'!AG93","v":0},{"$f":"'IMPORTACIÓN DATOS ANUALES PVGIS'!AI93","v":"00:00:00"},{"$f":"'IMPORTACIÓN DATOS ANUALES PVGIS'!AJ93","v":0}]
[{"$f":"'IMPORTACIÓN DATOS ANUALES PVGIS'!B94","v":"00:00:00"},{"$f":"'IMPORTACIÓN DATOS ANUALES PVGIS'!C94","v":""},{"$f":"'IMPORTACIÓN DATOS ANUALES PVGIS'!E94","v":"00:00:00"},{"$f":"'IMPORTACIÓN DATOS ANUALES PVGIS'!F94","v":0},{"$f":"'IMPORTACIÓN DATOS ANUALES PVGIS'!H94","v":"00:00:00"},{"$f":"'IMPORTACIÓN DATOS ANUALES PVGIS'!I94","v":0},{"$f":"'IMPORTACIÓN DATOS ANUALES PVGIS'!K94","v":"00:00:00"},{"$f":"'IMPORTACIÓN DATOS ANUALES PVGIS'!L94","v":0},{"$f":"'IMPORTACIÓN DATOS ANUALES PVGIS'!N94","v":"00:00:00"},{"$f":"'IMPORTACIÓN DATOS ANUALES PVGIS'!O94","v":0},{"$f":"'IMPORTACIÓN DATOS ANUALES PVGIS'!Q94","v":"00:00:00"},{"$f":"'IMPORTACIÓN DATOS ANUALES PVGIS'!R94","v":0},{"$f":"'IMPORTACIÓN DATOS ANUALES PVGIS'!T94","v":"00:00:00"},{"$f":"'IMPORTACIÓN DATOS ANUALES PVGIS'!U94","v":0},{"$f":"'IMPORTACIÓN DATOS ANUALES PVGIS'!W94","v":"00:00:00"},{"$f":"'IMPORTACIÓN DATOS ANUALES PVGIS'!X94","v":0},{"$f":"'IMPORTACIÓN DATOS ANUALES PVGIS'!Z94","v":"00:00:00"},{"$f":"'IMPORTACIÓN DATOS ANUALES PVGIS'!AA94","v":0},{"$f":"'IMPORTACIÓN DATOS ANUALES PVGIS'!AC94","v":"00:00:00"},{"$f":"'IMPORTACIÓN DATOS ANUALES PVGIS'!AD94","v":0},{"$f":"'IMPORTACIÓN DATOS ANUALES PVGIS'!AF94","v":"00:00:00"},{"$f":"'IMPORTACIÓN DATOS ANUALES PVGIS'!AG94","v":0},{"$f":"'IMPORTACIÓN DATOS ANUALES PVGIS'!AI94","v":"00:00:00"},{"$f":"'IMPORTACIÓN DATOS ANUALES PVGIS'!AJ94","v":0}]
[{"$f":"'IMPORTACIÓN DATOS ANUALES PVGIS'!B95","v":"00:00:00"},{"$f":"'IMPORTACIÓN DATOS ANUALES PVGIS'!C95","v":""},{"$f":"'IMPORTACIÓN DATOS ANUALES PVGIS'!E95","v":"00:00:00"},{"$f":"'IMPORTACIÓN DATOS ANUALES PVGIS'!F95","v":0},{"$f":"'IMPORTACIÓN DATOS ANUALES PVGIS'!H95","v":"00:00:00"},{"$f":"'IMPORTACIÓN DATOS ANUALES PVGIS'!I95","v":0},{"$f":"'IMPORTACIÓN DATOS ANUALES PVGIS'!K95","v":"00:00:00"},{"$f":"'IMPORTACIÓN DATOS ANUALES PVGIS'!L95","v":0},{"$f":"'IMPORTACIÓN DATOS ANUALES PVGIS'!N95","v":"00:00:00"},{"$f":"'IMPORTACIÓN DATOS ANUALES PVGIS'!O95","v":0},{"$f":"'IMPORTACIÓN DATOS ANUALES PVGIS'!Q95","v":"00:00:00"},{"$f":"'IMPORTACIÓN DATOS ANUALES PVGIS'!R95","v":0},{"$f":"'IMPORTACIÓN DATOS ANUALES PVGIS'!T95","v":"00:00:00"},{"$f":"'IMPORTACIÓN DATOS ANUALES PVGIS'!U95","v":0},{"$f":"'IMPORTACIÓN DATOS ANUALES PVGIS'!W95","v":"00:00:00"},{"$f":"'IMPORTACIÓN DATOS ANUALES PVGIS'!X95","v":0},{"$f":"'IMPORTACIÓN DATOS ANUALES PVGIS'!Z95","v":"00:00:00"},{"$f":"'IMPORTACIÓN DATOS ANUALES PVGIS'!AA95","v":0},{"$f":"'IMPORTACIÓN DATOS ANUALES PVGIS'!AC95","v":"00:00:00"},{"$f":"'IMPORTACIÓN DATOS ANUALES PVGIS'!AD95","v":0},{"$f":"'IMPORTACIÓN DATOS ANUALES PVGIS'!AF95","v":"00:00:00"},{"$f":"'IMPORTACIÓN DATOS ANUALES PVGIS'!AG95","v":0},{"$f":"'IMPORTACIÓN DATOS ANUALES PVGIS'!AI95","v":"00:00:00"},{"$f":"'IMPORTACIÓN DATOS ANUALES PVGIS'!AJ95","v":0}]
[{"$f":"'IMPORTACIÓN DATOS ANUALES PVGIS'!B96","v":"00:00:00"},{"$f":"'IMPORTACIÓN DATOS ANUALES PVGIS'!C96","v":""},{"$f":"'IMPORTACIÓN DATOS ANUALES PVGIS'!E96","v":"00:00:00"},{"$f":"'IMPORTACIÓN DATOS ANUALES PVGIS'!F96","v":0},{"$f":"'IMPORTACIÓN DATOS ANUALES PVGIS'!H96","v":"00:00:00"},{"$f":"'IMPORTACIÓN DATOS ANUALES PVGIS'!I96","v":0},{"$f":"'IMPORTACIÓN DATOS ANUALES PVGIS'!K96","v":"00:00:00"},{"$f":"'IMPORTACIÓN DATOS ANUALES PVGIS'!L96","v":0},{"$f":"'IMPORTACIÓN DATOS ANUALES PVGIS'!N96","v":"00:00:00"},{"$f":"'IMPORTACIÓN DATOS ANUALES PVGIS'!O96","v":0},{"$f":"'IMPORTACIÓN DATOS ANUALES PVGIS'!Q96","v":"00:00:00"},{"$f":"'IMPORTACIÓN DATOS ANUALES PVGIS'!R96","v":0},{"$f":"'IMPORTACIÓN DATOS ANUALES PVGIS'!T96","v":"00:00:00"},{"$f":"'IMPORTACIÓN DATOS ANUALES PVGIS'!U96","v":0},{"$f":"'IMPORTACIÓN DATOS ANUALES PVGIS'!W96","v":"00:00:00"},{"$f":"'IMPORTACIÓN DATOS ANUALES PVGIS'!X96","v":0},{"$f":"'IMPORTACIÓN DATOS ANUALES PVGIS'!Z96","v":"00:00:00"},{"$f":"'IMPORTACIÓN DATOS ANUALES PVGIS'!AA96","v":0},{"$f":"'IMPORTACIÓN DATOS ANUALES PVGIS'!AC96","v":"00:00:00"},{"$f":"'IMPORTACIÓN DATOS ANUALES PVGIS'!AD96","v":0},{"$f":"'IMPORTACIÓN DATOS ANUALES PVGIS'!AF96","v":"00:00:00"},{"$f":"'IMPORTACIÓN DATOS ANUALES PVGIS'!AG96","v":0},{"$f":"'IMPORTACIÓN DATOS ANUALES PVGIS'!AI96","v":"00:00:00"},{"$f":"'IMPORTACIÓN DATOS ANUALES PVGIS'!AJ96","v":0}]
[{"$f":"'IMPORTACIÓN DATOS ANUALES PVGIS'!B97","v":"00:00:00"},{"$f":"'IMPORTACIÓN DATOS ANUALES PVGIS'!C97","v":""},{"$f":"'IMPORTACIÓN DATOS ANUALES PVGIS'!E97","v":"00:00:00"},{"$f":"'IMPORTACIÓN DATOS ANUALES PVGIS'!F97","v":0},{"$f":"'IMPORTACIÓN DATOS ANUALES PVGIS'!H97","v":"00:00:00"},{"$f":"'IMPORTACIÓN DATOS ANUALES PVGIS'!I97","v":0},{"$f":"'IMPORTACIÓN DATOS ANUALES PVGIS'!K97","v":"00:00:00"},{"$f":"'IMPORTACIÓN DATOS ANUALES PVGIS'!L97","v":0},{"$f":"'IMPORTACIÓN DATOS ANUALES PVGIS'!N97","v":"00:00:00"},{"$f":"'IMPORTACIÓN DATOS ANUALES PVGIS'!O97","v":0},{"$f":"'IMPORTACIÓN DATOS ANUALES PVGIS'!Q97","v":"00:00:00"},{"$f":"'IMPORTACIÓN DATOS ANUALES PVGIS'!R97","v":0},{"$f":"'IMPORTACIÓN DATOS ANUALES PVGIS'!T97","v":"00:00:00"},{"$f":"'IMPORTACIÓN DATOS ANUALES PVGIS'!U97","v":0},{"$f":"'IMPORTACIÓN DATOS ANUALES PVGIS'!W97","v":"00:00:00"},{"$f":"'IMPORTACIÓN DATOS ANUALES PVGIS'!X97","v":0},{"$f":"'IMPORTACIÓN DATOS ANUALES PVGIS'!Z97","v":"00:00:00"},{"$f":"'IMPORTACIÓN DATOS ANUALES PVGIS'!AA97","v":0},{"$f":"'IMPORTACIÓN DATOS ANUALES PVGIS'!AC97","v":"00:00:00"},{"$f":"'IMPORTACIÓN DATOS ANUALES PVGIS'!AD97","v":0},{"$f":"'IMPORTACIÓN DATOS ANUALES PVGIS'!AF97","v":"00:00:00"},{"$f":"'IMPORTACIÓN DATOS ANUALES PVGIS'!AG97","v":0},{"$f":"'IMPORTACIÓN DATOS ANUALES PVGIS'!AI97","v":"00:00:00"},{"$f":"'IMPORTACIÓN DATOS ANUALES PVGIS'!AJ97","v":0}]
[{"$f":"'IMPORTACIÓN DATOS ANUALES PVGIS'!B98","v":"00:00:00"},{"$f":"'IMPORTACIÓN DATOS ANUALES PVGIS'!C98","v":""},{"$f":"'IMPORTACIÓN DATOS ANUALES PVGIS'!E98","v":"00:00:00"},{"$f":"'IMPORTACIÓN DATOS ANUALES PVGIS'!F98","v":0},{"$f":"'IMPORTACIÓN DATOS ANUALES PVGIS'!H98","v":"00:00:00"},{"$f":"'IMPORTACIÓN DATOS ANUALES PVGIS'!I98","v":0},{"$f":"'IMPORTACIÓN DATOS ANUALES PVGIS'!K98","v":"00:00:00"},{"$f":"'IMPORTACIÓN DATOS ANUALES PVGIS'!L98","v":0},{"$f":"'IMPORTACIÓN DATOS ANUALES PVGIS'!N98","v":"00:00:00"},{"$f":"'IMPORTACIÓN DATOS ANUALES PVGIS'!O98","v":0},{"$f":"'IMPORTACIÓN DATOS ANUALES PVGIS'!Q98","v":"00:00:00"},{"$f":"'IMPORTACIÓN DATOS ANUALES PVGIS'!R98","v":0},{"$f":"'IMPORTACIÓN DATOS ANUALES PVGIS'!T98","v":"00:00:00"},{"$f":"'IMPORTACIÓN DATOS ANUALES PVGIS'!U98","v":0},{"$f":"'IMPORTACIÓN DATOS ANUALES PVGIS'!W98","v":"00:00:00"},{"$f":"'IMPORTACIÓN DATOS ANUALES PVGIS'!X98","v":0},{"$f":"'IMPORTACIÓN DATOS ANUALES PVGIS'!Z98","v":"00:00:00"},{"$f":"'IMPORTACIÓN DATOS ANUALES PVGIS'!AA98","v":0},{"$f":"'IMPORTACIÓN DATOS ANUALES PVGIS'!AC98","v":"00:00:00"},{"$f":"'IMPORTACIÓN DATOS ANUALES PVGIS'!AD98","v":0},{"$f":"'IMPORTACIÓN DATOS ANUALES PVGIS'!AF98","v":"00:00:00"},{"$f":"'IMPORTACIÓN DATOS ANUALES PVGIS'!AG98","v":0},{"$f":"'IMPORTACIÓN DATOS ANUALES PVGIS'!AI98","v":"00:00:00"},{"$f":"'IMPORTACIÓN DATOS ANUALES PVGIS'!AJ98","v":0}]
[{"$f":"'IMPORTACIÓN DATOS ANUALES PVGIS'!B99","v":"00:00:00"},{"$f":"'IMPORTACIÓN DATOS ANUALES PVGIS'!C99","v":""},{"$f":"'IMPORTACIÓN DATOS ANUALES PVGIS'!E99","v":"00:00:00"},{"$f":"'IMPORTACIÓN DATOS ANUALES PVGIS'!F99","v":0},{"$f":"'IMPORTACIÓN DATOS ANUALES PVGIS'!H99","v":"00:00:00"},{"$f":"'IMPORTACIÓN DATOS ANUALES PVGIS'!I99","v":0},{"$f":"'IMPORTACIÓN DATOS ANUALES PVGIS'!K99","v":"00:00:00"},{"$f":"'IMPORTACIÓN DATOS ANUALES PVGIS'!L99","v":0},{"$f":"'IMPORTACIÓN DATOS ANUALES PVGIS'!N99","v":"00:00:00"},{"$f":"'IMPORTACIÓN DATOS ANUALES PVGIS'!O99","v":0},{"$f":"'IMPORTACIÓN DATOS ANUALES PVGIS'!Q99","v":"00:00:00"},{"$f":"'IMPORTACIÓN DATOS ANUALES PVGIS'!R99","v":0},{"$f":"'IMPORTACIÓN DATOS ANUALES PVGIS'!T99","v":"00:00:00"},{"$f":"'IMPORTACIÓN DATOS ANUALES PVGIS'!U99","v":0},{"$f":"'IMPORTACIÓN DATOS ANUALES PVGIS'!W99","v":"00:00:00"},{"$f":"'IMPORTACIÓN DATOS ANUALES PVGIS'!X99","v":0},{"$f":"'IMPORTACIÓN DATOS ANUALES PVGIS'!Z99","v":"00:00:00"},{"$f":"'IMPORTACIÓN DATOS ANUALES PVGIS'!AA99","v":0},{"$f":"'IMPORTACIÓN DATOS ANUALES PVGIS'!AC99","v":"00:00:00"},{"$f":"'IMPORTACIÓN DATOS ANUALES PVGIS'!AD99","v":0},{"$f":"'IMPORTACIÓN DATOS ANUALES PVGIS'!AF99","v":"00:00:00"},{"$f":"'IMPORTACIÓN DATOS ANUALES PVGIS'!AG99","v":0},{"$f":"'IMPORTACIÓN DATOS ANUALES PVGIS'!AI99","v":"00:00:00"},{"$f":"'IMPORTACIÓN DATOS ANUALES PVGIS'!AJ99","v":0}]
[{"$f":"'IMPORTACIÓN DATOS ANUALES PVGIS'!B100","v":"00:00:00"},{"$f":"'IMPORTACIÓN DATOS ANUALES PVGIS'!C100","v":""},{"$f":"'IMPORTACIÓN DATOS ANUALES PVGIS'!E100","v":"00:00:00"},{"$f":"'IMPORTACIÓN DATOS ANUALES PVGIS'!F100","v":0},{"$f":"'IMPORTACIÓN DATOS ANUALES PVGIS'!H100","v":"00:00:00"},{"$f":"'IMPORTACIÓN DATOS ANUALES PVGIS'!I100","v":0},{"$f":"'IMPORTACIÓN DATOS ANUALES PVGIS'!K100","v":"00:00:00"},{"$f":"'IMPORTACIÓN DATOS ANUALES PVGIS'!L100","v":0},{"$f":"'IMPORTACIÓN DATOS ANUALES PVGIS'!N100","v":"00:00:00"},{"$f":"'IMPORTACIÓN DATOS ANUALES PVGIS'!O100","v":0},{"$f":"'IMPORTACIÓN DATOS ANUALES PVGIS'!Q100","v":"00:00:00"},{"$f":"'IMPORTACIÓN DATOS ANUALES PVGIS'!R100","v":0},{"$f":"'IMPORTACIÓN DATOS ANUALES PVGIS'!T100","v":"00:00:00"},{"$f":"'IMPORTACIÓN DATOS ANUALES PVGIS'!U100","v":0},{"$f":"'IMPORTACIÓN DATOS ANUALES PVGIS'!W100","v":"00:00:00"},{"$f":"'IMPORTACIÓN DATOS ANUALES PVGIS'!X100","v":0},{"$f":"'IMPORTACIÓN DATOS ANUALES PVGIS'!Z100","v":"00:00:00"},{"$f":"'IMPORTACIÓN DATOS ANUALES PVGIS'!AA100","v":0},{"$f":"'IMPORTACIÓN DATOS ANUALES PVGIS'!AC100","v":"00:00:00"},{"$f":"'IMPORTACIÓN DATOS ANUALES PVGIS'!AD100","v":0},{"$f":"'IMPORTACIÓN DATOS ANUALES PVGIS'!AF100","v":"00:00:00"},{"$f":"'IMPORTACIÓN DATOS ANUALES PVGIS'!AG100","v":0},{"$f":"'IMPORTACIÓN DATOS ANUALES PVGIS'!AI100","v":"00:00:00"},{"$f":"'IMPORTACIÓN DATOS ANUALES PVGIS'!AJ100","v":0}]
[{"$f":"'IMPORTACIÓN DATOS ANUALES PVGIS'!B101","v":"00:00:00"},{"$f":"'IMPORTACIÓN DATOS ANUALES PVGIS'!C101","v":""},{"$f":"'IMPORTACIÓN DATOS ANUALES PVGIS'!E101","v":"00:00:00"},{"$f":"'IMPORTACIÓN DATOS ANUALES PVGIS'!F101","v":0},{"$f":"'IMPORTACIÓN DATOS ANUALES PVGIS'!H101","v":"00:00:00"},{"$f":"'IMPORTACIÓN DATOS ANUALES PVGIS'!I101","v":0},{"$f":"'IMPORTACIÓN DATOS ANUALES PVGIS'!K101","v":"00:00:00"},{"$f":"'IMPORTACIÓN DATOS ANUALES PVGIS'!L101","v":0},{"$f":"'IMPORTACIÓN DATOS ANUALES PVGIS'!N101","v":"00:00:00"},{"$f":"'IMPORTACIÓN DATOS ANUALES PVGIS'!O101","v":0},{"$f":"'IMPORTACIÓN DATOS ANUALES PVGIS'!Q101","v":"00:00:00"},{"$f":"'IMPORTACIÓN DATOS ANUALES PVGIS'!R101","v":0},{"$f":"'IMPORTACIÓN DATOS ANUALES PVGIS'!T101","v":"00:00:00"},{"$f":"'IMPORTACIÓN DATOS ANUALES PVGIS'!U101","v":0},{"$f":"'IMPORTACIÓN DATOS ANUALES PVGIS'!W101","v":"00:00:00"},{"$f":"'IMPORTACIÓN DATOS ANUALES PVGIS'!X101","v":0},{"$f":"'IMPORTACIÓN DATOS ANUALES PVGIS'!Z101","v":"00:00:00"},{"$f":"'IMPORTACIÓN DATOS ANUALES PVGIS'!AA101","v":0},{"$f":"'IMPORTACIÓN DATOS ANUALES PVGIS'!AC101","v":"00:00:00"},{"$f":"'IMPORTACIÓN DATOS ANUALES PVGIS'!AD101","v":0},{"$f":"'IMPORTACIÓN DATOS ANUALES PVGIS'!AF101","v":"00:00:00"},{"$f":"'IMPORTACIÓN DATOS ANUALES PVGIS'!AG101","v":0},{"$f":"'IMPORTACIÓN DATOS ANUALES PVGIS'!AI101","v":"00:00:00"},{"$f":"'IMPORTACIÓN DATOS ANUALES PVGIS'!AJ101","v":0}]
[{"$f":"'IMPORTACIÓN DATOS ANUALES PVGIS'!B102","v":"00:00:00"},{"$f":"'IMPORTACIÓN DATOS ANUALES PVGIS'!C102","v":""},{"$f":"'IMPORTACIÓN DATOS ANUALES PVGIS'!E102","v":"00:00:00"},{"$f":"'IMPORTACIÓN DATOS ANUALES PVGIS'!F102","v":0},{"$f":"'IMPORTACIÓN DATOS ANUALES PVGIS'!H102","v":"00:00:00"},{"$f":"'IMPORTACIÓN DATOS ANUALES PVGIS'!I102","v":0},{"$f":"'IMPORTACIÓN DATOS ANUALES PVGIS'!K102","v":"00:00:00"},{"$f":"'IMPORTACIÓN DATOS ANUALES PVGIS'!L102","v":0},{"$f":"'IMPORTACIÓN DATOS ANUALES PVGIS'!N102","v":"00:00:00"},{"$f":"'IMPORTACIÓN DATOS ANUALES PVGIS'!O102","v":0},{"$f":"'IMPORTACIÓN DATOS ANUALES PVGIS'!Q102","v":"00:00:00"},{"$f":"'IMPORTACIÓN DATOS ANUALES PVGIS'!R102","v":0},{"$f":"'IMPORTACIÓN DATOS ANUALES PVGIS'!T102","v":"00:00:00"},{"$f":"'IMPORTACIÓN DATOS ANUALES PVGIS'!U102","v":0},{"$f":"'IMPORTACIÓN DATOS ANUALES PVGIS'!W102","v":"00:00:00"},{"$f":"'IMPORTACIÓN DATOS ANUALES PVGIS'!X102","v":0},{"$f":"'IMPORTACIÓN DATOS ANUALES PVGIS'!Z102","v":"00:00:00"},{"$f":"'IMPORTACIÓN DATOS ANUALES PVGIS'!AA102","v":0},{"$f":"'IMPORTACIÓN DATOS ANUALES PVGIS'!AC102","v":"00:00:00"},{"$f":"'IMPORTACIÓN DATOS ANUALES PVGIS'!AD102","v":0},{"$f":"'IMPORTACIÓN DATOS ANUALES PVGIS'!AF102","v":"00:00:00"},{"$f":"'IMPORTACIÓN DATOS ANUALES PVGIS'!AG102","v":0},{"$f":"'IMPORTACIÓN DATOS ANUALES PVGIS'!AI102","v":"00:00:00"},{"$f":"'IMPORTACIÓN DATOS ANUALES PVGIS'!AJ102","v":0}]
[{"$f":"'IMPORTACIÓN DATOS ANUALES PVGIS'!B103","v":"00:00:00"},{"$f":"'IMPORTACIÓN DATOS ANUALES PVGIS'!C103","v":""},{"$f":"'IMPORTACIÓN DATOS ANUALES PVGIS'!E103","v":"00:00:00"},{"$f":"'IMPORTACIÓN DATOS ANUALES PVGIS'!F103","v":0},{"$f":"'IMPORTACIÓN DATOS ANUALES PVGIS'!H103","v":"00:00:00"},{"$f":"'IMPORTACIÓN DATOS ANUALES PVGIS'!I103","v":0},{"$f":"'IMPORTACIÓN DATOS ANUALES PVGIS'!K103","v":"00:00:00"},{"$f":"'IMPORTACIÓN DATOS ANUALES PVGIS'!L103","v":0},{"$f":"'IMPORTACIÓN DATOS ANUALES PVGIS'!N103","v":"00:00:00"},{"$f":"'IMPORTACIÓN DATOS ANUALES PVGIS'!O103","v":0},{"$f":"'IMPORTACIÓN DATOS ANUALES PVGIS'!Q103","v":"00:00:00"},{"$f":"'IMPORTACIÓN DATOS ANUALES PVGIS'!R103","v":0},{"$f":"'IMPORTACIÓN DATOS ANUALES PVGIS'!T103","v":"00:00:00"},{"$f":"'IMPORTACIÓN DATOS ANUALES PVGIS'!U103","v":0},{"$f":"'IMPORTACIÓN DATOS ANUALES PVGIS'!W103","v":"00:00:00"},{"$f":"'IMPORTACIÓN DATOS ANUALES PVGIS'!X103","v":0},{"$f":"'IMPORTACIÓN DATOS ANUALES PVGIS'!Z103","v":"00:00:00"},{"$f":"'IMPORTACIÓN DATOS ANUALES PVGIS'!AA103","v":0},{"$f":"'IMPORTACIÓN DATOS ANUALES PVGIS'!AC103","v":"00:00:00"},{"$f":"'IMPORTACIÓN DATOS ANUALES PVGIS'!AD103","v":0},{"$f":"'IMPORTACIÓN DATOS ANUALES PVGIS'!AF103","v":"00:00:00"},{"$f":"'IMPORTACIÓN DATOS ANUALES PVGIS'!AG103","v":0},{"$f":"'IMPORTACIÓN DATOS ANUALES PVGIS'!AI103","v":"00:00:00"},{"$f":"'IMPORTACIÓN DATOS ANUALES PVGIS'!AJ103","v":0}]
[{"$f":"'IMPORTACIÓN DATOS ANUALES PVGIS'!B104","v":"00:00:00"},{"$f":"'IMPORTACIÓN DATOS ANUALES PVGIS'!C104","v":""},{"$f":"'IMPORTACIÓN DATOS ANUALES PVGIS'!E104","v":"00:00:00"},{"$f":"'IMPORTACIÓN DATOS ANUALES PVGIS'!F104","v":0},{"$f":"'IMPORTACIÓN DATOS ANUALES PVGIS'!H104","v":"00:00:00"},{"$f":"'IMPORTACIÓN DATOS ANUALES PVGIS'!I104","v":0},{"$f":"'IMPORTACIÓN DATOS ANUALES PVGIS'!K104","v":"00:00:00"},{"$f":"'IMPORTACIÓN DATOS ANUALES PVGIS'!L104","v":0},{"$f":"'IMPORTACIÓN DATOS ANUALES PVGIS'!N104","v":"00:00:00"},{"$f":"'IMPORTACIÓN DATOS ANUALES PVGIS'!O104","v":0},{"$f":"'IMPORTACIÓN DATOS ANUALES PVGIS'!Q104","v":"00:00:00"},{"$f":"'IMPORTACIÓN DATOS ANUALES PVGIS'!R104","v":0},{"$f":"'IMPORTACIÓN DATOS ANUALES PVGIS'!T104","v":"00:00:00"},{"$f":"'IMPORTACIÓN DATOS ANUALES PVGIS'!U104","v":0},{"$f":"'IMPORTACIÓN DATOS ANUALES PVGIS'!W104","v":"00:00:00"},{"$f":"'IMPORTACIÓN DATOS ANUALES PVGIS'!X104","v":0},{"$f":"'IMPORTACIÓN DATOS ANUALES PVGIS'!Z104","v":"00:00:00"},{"$f":"'IMPORTACIÓN DATOS ANUALES PVGIS'!AA104","v":0},{"$f":"'IMPORTACIÓN DATOS ANUALES PVGIS'!AC104","v":"00:00:00"},{"$f":"'IMPORTACIÓN DATOS ANUALES PVGIS'!AD104","v":0},{"$f":"'IMPORTACIÓN DATOS ANUALES PVGIS'!AF104","v":"00:00:00"},{"$f":"'IMPORTACIÓN DATOS ANUALES PVGIS'!AG104","v":0},{"$f":"'IMPORTACIÓN DATOS ANUALES PVGIS'!AI104","v":"00:00:00"},{"$f":"'IMPORTACIÓN DATOS ANUALES PVGIS'!AJ104","v":0}]
[{"$f":"'IMPORTACIÓN DATOS ANUALES PVGIS'!B105","v":"00:00:00"},{"$f":"'IMPORTACIÓN DATOS ANUALES PVGIS'!C105","v":""},{"$f":"'IMPORTACIÓN DATOS ANUALES PVGIS'!E105","v":"00:00:00"},{"$f":"'IMPORTACIÓN DATOS ANUALES PVGIS'!F105","v":0},{"$f":"'IMPORTACIÓN DATOS ANUALES PVGIS'!H105","v":"00:00:00"},{"$f":"'IMPORTACIÓN DATOS ANUALES PVGIS'!I105","v":0},{"$f":"'IMPORTACIÓN DATOS ANUALES PVGIS'!K105","v":"00:00:00"},{"$f":"'IMPORTACIÓN DATOS ANUALES PVGIS'!L105","v":0},{"$f":"'IMPORTACIÓN DATOS ANUALES PVGIS'!N105","v":"00:00:00"},{"$f":"'IMPORTACIÓN DATOS ANUALES PVGIS'!O105","v":0},{"$f":"'IMPORTACIÓN DATOS ANUALES PVGIS'!Q105","v":"00:00:00"},{"$f":"'IMPORTACIÓN DATOS ANUALES PVGIS'!R105","v":0},{"$f":"'IMPORTACIÓN DATOS ANUALES PVGIS'!T105","v":"00:00:00"},{"$f":"'IMPORTACIÓN DATOS ANUALES PVGIS'!U105","v":0},{"$f":"'IMPORTACIÓN DATOS ANUALES PVGIS'!W105","v":"00:00:00"},{"$f":"'IMPORTACIÓN DATOS ANUALES PVGIS'!X105","v":0},{"$f":"'IMPORTACIÓN DATOS ANUALES PVGIS'!Z105","v":"00:00:00"},{"$f":"'IMPORTACIÓN DATOS ANUALES PVGIS'!AA105","v":0},{"$f":"'IMPORTACIÓN DATOS ANUALES PVGIS'!AC105","v":"00:00:00"},{"$f":"'IMPORTACIÓN DATOS ANUALES PVGIS'!AD105","v":0},{"$f":"'IMPORTACIÓN DATOS ANUALES PVGIS'!AF105","v":"00:00:00"},{"$f":"'IMPORTACIÓN DATOS ANUALES PVGIS'!AG105","v":0},{"$f":"'IMPORTACIÓN DATOS ANUALES PVGIS'!AI105","v":"00:00:00"},{"$f":"'IMPORTACIÓN DATOS ANUALES PVGIS'!AJ105","v":0}]
[{"$f":"'IMPORTACIÓN DATOS ANUALES PVGIS'!B106","v":"00:00:00"},{"$f":"'IMPORTACIÓN DATOS ANUALES PVGIS'!C106","v":""},{"$f":"'IMPORTACIÓN DATOS ANUALES PVGIS'!E106","v":"00:00:00"},{"$f":"'IMPORTACIÓN DATOS ANUALES PVGIS'!F106","v":0},{"$f":"'IMPORTACIÓN DATOS ANUALES PVGIS'!H106","v":"00:00:00"},{"$f":"'IMPORTACIÓN DATOS ANUALES PVGIS'!I106","v":0},{"$f":"'IMPORTACIÓN DATOS ANUALES PVGIS'!K106","v":"00:00:00"},{"$f":"'IMPORTACIÓN DATOS ANUALES PVGIS'!L106","v":0},{"$f":"'IMPORTACIÓN DATOS ANUALES PVGIS'!N106","v":"00:00:00"},{"$f":"'IMPORTACIÓN DATOS ANUALES PVGIS'!O106","v":0},{"$f":"'IMPORTACIÓN DATOS ANUALES PVGIS'!Q106","v":"00:00:00"},{"$f":"'IMPORTACIÓN DATOS ANUALES PVGIS'!R106","v":0},{"$f":"'IMPORTACIÓN DATOS ANUALES PVGIS'!T106","v":"00:00:00"},{"$f":"'IMPORTACIÓN DATOS ANUALES PVGIS'!U106","v":0},{"$f":"'IMPORTACIÓN DATOS ANUALES PVGIS'!W106","v":"00:00:00"},{"$f":"'IMPORTACIÓN DATOS ANUALES PVGIS'!X106","v":0},{"$f":"'IMPORTACIÓN DATOS ANUALES PVGIS'!Z106","v":"00:00:00"},{"$f":"'IMPORTACIÓN DATOS ANUALES PVGIS'!AA106","v":0},{"$f":"'IMPORTACIÓN DATOS ANUALES PVGIS'!AC106","v":"00:00:00"},{"$f":"'IMPORTACIÓN DATOS ANUALES PVGIS'!AD106","v":0},{"$f":"'IMPORTACIÓN DATOS ANUALES PVGIS'!AF106","v":"00:00:00"},{"$f":"'IMPORTACIÓN DATOS ANUALES PVGIS'!AG106","v":0},{"$f":"'IMPORTACIÓN DATOS ANUALES PVGIS'!AI106","v":"00:00:00"},{"$f":"'IMPORTACIÓN DATOS ANUALES PVGIS'!AJ106","v":0}]
[{"$f":"'IMPORTACIÓN DATOS ANUALES PVGIS'!B107","v":"00:00:00"},{"$f":"'IMPORTACIÓN DATOS ANUALES PVGIS'!C107","v":""},{"$f":"'IMPORTACIÓN DATOS ANUALES PVGIS'!E107","v":"00:00:00"},{"$f":"'IMPORTACIÓN DATOS ANUALES PVGIS'!F107","v":0},{"$f":"'IMPORTACIÓN DATOS ANUALES PVGIS'!H107","v":"00:00:00"},{"$f":"'IMPORTACIÓN DATOS ANUALES PVGIS'!I107","v":0},{"$f":"'IMPORTACIÓN DATOS ANUALES PVGIS'!K107","v":"00:00:00"},{"$f":"'IMPORTACIÓN DATOS ANUALES PVGIS'!L107","v":0},{"$f":"'IMPORTACIÓN DATOS ANUALES PVGIS'!N107","v":"00:00:00"},{"$f":"'IMPORTACIÓN DATOS ANUALES PVGIS'!O107","v":0},{"$f":"'IMPORTACIÓN DATOS ANUALES PVGIS'!Q107","v":"00:00:00"},{"$f":"'IMPORTACIÓN DATOS ANUALES PVGIS'!R107","v":0},{"$f":"'IMPORTACIÓN DATOS ANUALES PVGIS'!T107","v":"00:00:00"},{"$f":"'IMPORTACIÓN DATOS ANUALES PVGIS'!U107","v":0},{"$f":"'IMPORTACIÓN DATOS ANUALES PVGIS'!W107","v":"00:00:00"},{"$f":"'IMPORTACIÓN DATOS ANUALES PVGIS'!X107","v":0},{"$f":"'IMPORTACIÓN DATOS ANUALES PVGIS'!Z107","v":"00:00:00"},{"$f":"'IMPORTACIÓN DATOS ANUALES PVGIS'!AA107","v":0},{"$f":"'IMPORTACIÓN DATOS ANUALES PVGIS'!AC107","v":"00:00:00"},{"$f":"'IMPORTACIÓN DATOS ANUALES PVGIS'!AD107","v":0},{"$f":"'IMPORTACIÓN DATOS ANUALES PVGIS'!AF107","v":"00:00:00"},{"$f":"'IMPORTACIÓN DATOS ANUALES PVGIS'!AG107","v":0},{"$f":"'IMPORTACIÓN DATOS ANUALES PVGIS'!AI107","v":"00:00:00"},{"$f":"'IMPORTACIÓN DATOS ANUALES PVGIS'!AJ107","v":0}]
[{"$f":"'IMPORTACIÓN DATOS ANUALES PVGIS'!B108","v":"00:00:00"},{"$f":"'IMPORTACIÓN DATOS ANUALES PVGIS'!C108","v":""},{"$f":"'IMPORTACIÓN DATOS ANUALES PVGIS'!E108","v":"00:00:00"},{"$f":"'IMPORTACIÓN DATOS ANUALES PVGIS'!F108","v":0},{"$f":"'IMPORTACIÓN DATOS ANUALES PVGIS'!H108","v":"00:00:00"},{"$f":"'IMPORTACIÓN DATOS ANUALES PVGIS'!I108","v":0},{"$f":"'IMPORTACIÓN DATOS ANUALES PVGIS'!K108","v":"00:00:00"},{"$f":"'IMPORTACIÓN DATOS ANUALES PVGIS'!L108","v":0},{"$f":"'IMPORTACIÓN DATOS ANUALES PVGIS'!N108","v":"00:00:00"},{"$f":"'IMPORTACIÓN DATOS ANUALES PVGIS'!O108","v":0},{"$f":"'IMPORTACIÓN DATOS ANUALES PVGIS'!Q108","v":"00:00:00"},{"$f":"'IMPORTACIÓN DATOS ANUALES PVGIS'!R108","v":0},{"$f":"'IMPORTACIÓN DATOS ANUALES PVGIS'!T108","v":"00:00:00"},{"$f":"'IMPORTACIÓN DATOS ANUALES PVGIS'!U108","v":0},{"$f":"'IMPORTACIÓN DATOS ANUALES PVGIS'!W108","v":"00:00:00"},{"$f":"'IMPORTACIÓN DATOS ANUALES PVGIS'!X108","v":0},{"$f":"'IMPORTACIÓN DATOS ANUALES PVGIS'!Z108","v":"00:00:00"},{"$f":"'IMPORTACIÓN DATOS ANUALES PVGIS'!AA108","v":0},{"$f":"'IMPORTACIÓN DATOS ANUALES PVGIS'!AC108","v":"00:00:00"},{"$f":"'IMPORTACIÓN DATOS ANUALES PVGIS'!AD108","v":0},{"$f":"'IMPORTACIÓN DATOS ANUALES PVGIS'!AF108","v":"00:00:00"},{"$f":"'IMPORTACIÓN DATOS ANUALES PVGIS'!AG108","v":0},{"$f":"'IMPORTACIÓN DATOS ANUALES PVGIS'!AI108","v":"00:00:00"},{"$f":"'IMPORTACIÓN DATOS ANUALES PVGIS'!AJ108","v":0}]
[{"$f":"'IMPORTACIÓN DATOS ANUALES PVGIS'!B109","v":"00:00:00"},{"$f":"'IMPORTACIÓN DATOS ANUALES PVGIS'!C109","v":""},{"$f":"'IMPORTACIÓN DATOS ANUALES PVGIS'!E109","v":"00:00:00"},{"$f":"'IMPORTACIÓN DATOS ANUALES PVGIS'!F109","v":0},{"$f":"'IMPORTACIÓN DATOS ANUALES PVGIS'!H109","v":"00:00:00"},{"$f":"'IMPORTACIÓN DATOS ANUALES PVGIS'!I109","v":0},{"$f":"'IMPORTACIÓN DATOS ANUALES PVGIS'!K109","v":"00:00:00"},{"$f":"'IMPORTACIÓN DATOS ANUALES PVGIS'!L109","v":0},{"$f":"'IMPORTACIÓN DATOS ANUALES PVGIS'!N109","v":"00:00:00"},{"$f":"'IMPORTACIÓN DATOS ANUALES PVGIS'!O109","v":0},{"$f":"'IMPORTACIÓN DATOS ANUALES PVGIS'!Q109","v":"00:00:00"},{"$f":"'IMPORTACIÓN DATOS ANUALES PVGIS'!R109","v":0},{"$f":"'IMPORTACIÓN DATOS ANUALES PVGIS'!T109","v":"00:00:00"},{"$f":"'IMPORTACIÓN DATOS ANUALES PVGIS'!U109","v":0},{"$f":"'IMPORTACIÓN DATOS ANUALES PVGIS'!W109","v":"00:00:00"},{"$f":"'IMPORTACIÓN DATOS ANUALES PVGIS'!X109","v":0},{"$f":"'IMPORTACIÓN DATOS ANUALES PVGIS'!Z109","v":"00:00:00"},{"$f":"'IMPORTACIÓN DATOS ANUALES PVGIS'!AA109","v":0},{"$f":"'IMPORTACIÓN DATOS ANUALES PVGIS'!AC109","v":"00:00:00"},{"$f":"'IMPORTACIÓN DATOS ANUALES PVGIS'!AD109","v":0},{"$f":"'IMPORTACIÓN DATOS ANUALES PVGIS'!AF109","v":"00:00:00"},{"$f":"'IMPORTACIÓN DATOS ANUALES PVGIS'!AG109","v":0},{"$f":"'IMPORTACIÓN DATOS ANUALES PVGIS'!AI109","v":"00:00:00"},{"$f":"'IMPORTACIÓN DATOS ANUALES PVGIS'!AJ109","v":0}]
[{"$f":"'IMPORTACIÓN DATOS ANUALES PVGIS'!B110","v":"00:00:00"},{"$f":"'IMPORTACIÓN DATOS ANUALES PVGIS'!C110","v":""},{"$f":"'IMPORTACIÓN DATOS ANUALES PVGIS'!E110","v":"00:00:00"},{"$f":"'IMPORTACIÓN DATOS ANUALES PVGIS'!F110","v":0},{"$f":"'IMPORTACIÓN DATOS ANUALES PVGIS'!H110","v":"00:00:00"},{"$f":"'IMPORTACIÓN DATOS ANUALES PVGIS'!I110","v":0},{"$f":"'IMPORTACIÓN DATOS ANUALES PVGIS'!K110","v":"00:00:00"},{"$f":"'IMPORTACIÓN DATOS ANUALES PVGIS'!L110","v":0},{"$f":"'IMPORTACIÓN DATOS ANUALES PVGIS'!N110","v":"00:00:00"},{"$f":"'IMPORTACIÓN DATOS ANUALES PVGIS'!O110","v":0},{"$f":"'IMPORTACIÓN DATOS ANUALES PVGIS'!Q110","v":"00:00:00"},{"$f":"'IMPORTACIÓN DATOS ANUALES PVGIS'!R110","v":0},{"$f":"'IMPORTACIÓN DATOS ANUALES PVGIS'!T110","v":"00:00:00"},{"$f":"'IMPORTACIÓN DATOS ANUALES PVGIS'!U110","v":0},{"$f":"'IMPORTACIÓN DATOS ANUALES PVGIS'!W110","v":"00:00:00"},{"$f":"'IMPORTACIÓN DATOS ANUALES PVGIS'!X110","v":0},{"$f":"'IMPORTACIÓN DATOS ANUALES PVGIS'!Z110","v":"00:00:00"},{"$f":"'IMPORTACIÓN DATOS ANUALES PVGIS'!AA110","v":0},{"$f":"'IMPORTACIÓN DATOS ANUALES PVGIS'!AC110","v":"00:00:00"},{"$f":"'IMPORTACIÓN DATOS ANUALES PVGIS'!AD110","v":0},{"$f":"'IMPORTACIÓN DATOS ANUALES PVGIS'!AF110","v":"00:00:00"},{"$f":"'IMPORTACIÓN DATOS ANUALES PVGIS'!AG110","v":0},{"$f":"'IMPORTACIÓN DATOS ANUALES PVGIS'!AI110","v":"00:00:00"},{"$f":"'IMPORTACIÓN DATOS ANUALES PVGIS'!AJ110","v":0}]
[{"$f":"'IMPORTACIÓN DATOS ANUALES PVGIS'!B111","v":"00:00:00"},{"$f":"'IMPORTACIÓN DATOS ANUALES PVGIS'!C111","v":""},{"$f":"'IMPORTACIÓN DATOS ANUALES PVGIS'!E111","v":"00:00:00"},{"$f":"'IMPORTACIÓN DATOS ANUALES PVGIS'!F111","v":0},{"$f":"'IMPORTACIÓN DATOS ANUALES PVGIS'!H111","v":"00:00:00"},{"$f":"'IMPORTACIÓN DATOS ANUALES PVGIS'!I111","v":0},{"$f":"'IMPORTACIÓN DATOS ANUALES PVGIS'!K111","v":"00:00:00"},{"$f":"'IMPORTACIÓN DATOS ANUALES PVGIS'!L111","v":0},{"$f":"'IMPORTACIÓN DATOS ANUALES PVGIS'!N111","v":"00:00:00"},{"$f":"'IMPORTACIÓN DATOS ANUALES PVGIS'!O111","v":0},{"$f":"'IMPORTACIÓN DATOS ANUALES PVGIS'!Q111","v":"00:00:00"},{"$f":"'IMPORTACIÓN DATOS ANUALES PVGIS'!R111","v":0},{"$f":"'IMPORTACIÓN DATOS ANUALES PVGIS'!T111","v":"00:00:00"},{"$f":"'IMPORTACIÓN DATOS ANUALES PVGIS'!U111","v":0},{"$f":"'IMPORTACIÓN DATOS ANUALES PVGIS'!W111","v":"00:00:00"},{"$f":"'IMPORTACIÓN DATOS ANUALES PVGIS'!X111","v":0},{"$f":"'IMPORTACIÓN DATOS ANUALES PVGIS'!Z111","v":"00:00:00"},{"$f":"'IMPORTACIÓN DATOS ANUALES PVGIS'!AA111","v":0},{"$f":"'IMPORTACIÓN DATOS ANUALES PVGIS'!AC111","v":"00:00:00"},{"$f":"'IMPORTACIÓN DATOS ANUALES PVGIS'!AD111","v":0},{"$f":"'IMPORTACIÓN DATOS ANUALES PVGIS'!AF111","v":"00:00:00"},{"$f":"'IMPORTACIÓN DATOS ANUALES PVGIS'!AG111","v":0},{"$f":"'IMPORTACIÓN DATOS ANUALES PVGIS'!AI111","v":"00:00:00"},{"$f":"'IMPORTACIÓN DATOS ANUALES PVGIS'!AJ111","v":0}]
[{"$f":"'IMPORTACIÓN DATOS ANUALES PVGIS'!B112","v":"00:00:00"},{"$f":"'IMPORTACIÓN DATOS ANUALES PVGIS'!C112","v":""},{"$f":"'IMPORTACIÓN DATOS ANUALES PVGIS'!E112","v":"00:00:00"},{"$f":"'IMPORTACIÓN DATOS ANUALES PVGIS'!F112","v":0},{"$f":"'IMPORTACIÓN DATOS ANUALES PVGIS'!H112","v":"00:00:00"},{"$f":"'IMPORTACIÓN DATOS ANUALES PVGIS'!I112","v":0},{"$f":"'IMPORTACIÓN DATOS ANUALES PVGIS'!K112","v":"00:00:00"},{"$f":"'IMPORTACIÓN DATOS ANUALES PVGIS'!L112","v":0},{"$f":"'IMPORTACIÓN DATOS ANUALES PVGIS'!N112","v":"00:00:00"},{"$f":"'IMPORTACIÓN DATOS ANUALES PVGIS'!O112","v":0},{"$f":"'IMPORTACIÓN DATOS ANUALES PVGIS'!Q112","v":"00:00:00"},{"$f":"'IMPORTACIÓN DATOS ANUALES PVGIS'!R112","v":0},{"$f":"'IMPORTACIÓN DATOS ANUALES PVGIS'!T112","v":"00:00:00"},{"$f":"'IMPORTACIÓN DATOS ANUALES PVGIS'!U112","v":0},{"$f":"'IMPORTACIÓN DATOS ANUALES PVGIS'!W112","v":"00:00:00"},{"$f":"'IMPORTACIÓN DATOS ANUALES PVGIS'!X112","v":0},{"$f":"'IMPORTACIÓN DATOS ANUALES PVGIS'!Z112","v":"00:00:00"},{"$f":"'IMPORTACIÓN DATOS ANUALES PVGIS'!AA112","v":0},{"$f":"'IMPORTACIÓN DATOS ANUALES PVGIS'!AC112","v":"00:00:00"},{"$f":"'IMPORTACIÓN DATOS ANUALES PVGIS'!AD112","v":0},{"$f":"'IMPORTACIÓN DATOS ANUALES PVGIS'!AF112","v":"00:00:00"},{"$f":"'IMPORTACIÓN DATOS ANUALES PVGIS'!AG112","v":0},{"$f":"'IMPORTACIÓN DATOS ANUALES PVGIS'!AI112","v":"00:00:00"},{"$f":"'IMPORTACIÓN DATOS ANUALES PVGIS'!AJ112","v":0}]
[{"$f":"'IMPORTACIÓN DATOS ANUALES PVGIS'!B113","v":"00:00:00"},{"$f":"'IMPORTACIÓN DATOS ANUALES PVGIS'!C113","v":""},{"$f":"'IMPORTACIÓN DATOS ANUALES PVGIS'!E113","v":"00:00:00"},{"$f":"'IMPORTACIÓN DATOS ANUALES PVGIS'!F113","v":0},{"$f":"'IMPORTACIÓN DATOS ANUALES PVGIS'!H113","v":"00:00:00"},{"$f":"'IMPORTACIÓN DATOS ANUALES PVGIS'!I113","v":0},{"$f":"'IMPORTACIÓN DATOS ANUALES PVGIS'!K113","v":"00:00:00"},{"$f":"'IMPORTACIÓN DATOS ANUALES PVGIS'!L113","v":0},{"$f":"'IMPORTACIÓN DATOS ANUALES PVGIS'!N113","v":"00:00:00"},{"$f":"'IMPORTACIÓN DATOS ANUALES PVGIS'!O113","v":0},{"$f":"'IMPORTACIÓN DATOS ANUALES PVGIS'!Q113","v":"00:00:00"},{"$f":"'IMPORTACIÓN DATOS ANUALES PVGIS'!R113","v":0},{"$f":"'IMPORTACIÓN DATOS ANUALES PVGIS'!T113","v":"00:00:00"},{"$f":"'IMPORTACIÓN DATOS ANUALES PVGIS'!U113","v":0},{"$f":"'IMPORTACIÓN DATOS ANUALES PVGIS'!W113","v":"00:00:00"},{"$f":"'IMPORTACIÓN DATOS ANUALES PVGIS'!X113","v":0},{"$f":"'IMPORTACIÓN DATOS ANUALES PVGIS'!Z113","v":"00:00:00"},{"$f":"'IMPORTACIÓN DATOS ANUALES PVGIS'!AA113","v":0},{"$f":"'IMPORTACIÓN DATOS ANUALES PVGIS'!AC113","v":"00:00:00"},{"$f":"'IMPORTACIÓN DATOS ANUALES PVGIS'!AD113","v":0},{"$f":"'IMPORTACIÓN DATOS ANUALES PVGIS'!AF113","v":"00:00:00"},{"$f":"'IMPORTACIÓN DATOS ANUALES PVGIS'!AG113","v":0},{"$f":"'IMPORTACIÓN DATOS ANUALES PVGIS'!AI113","v":"00:00:00"},{"$f":"'IMPORTACIÓN DATOS ANUALES PVGIS'!AJ113","v":0}]
[{"$f":"'IMPORTACIÓN DATOS ANUALES PVGIS'!B114","v":"00:00:00"},{"$f":"'IMPORTACIÓN DATOS ANUALES PVGIS'!C114","v":""},{"$f":"'IMPORTACIÓN DATOS ANUALES PVGIS'!E114","v":"00:00:00"},{"$f":"'IMPORTACIÓN DATOS ANUALES PVGIS'!F114","v":0},{"$f":"'IMPORTACIÓN DATOS ANUALES PVGIS'!H114","v":"00:00:00"},{"$f":"'IMPORTACIÓN DATOS ANUALES PVGIS'!I114","v":0},{"$f":"'IMPORTACIÓN DATOS ANUALES PVGIS'!K114","v":"00:00:00"},{"$f":"'IMPORTACIÓN DATOS ANUALES PVGIS'!L114","v":0},{"$f":"'IMPORTACIÓN DATOS ANUALES PVGIS'!N114","v":"00:00:00"},{"$f":"'IMPORTACIÓN DATOS ANUALES PVGIS'!O114","v":0},{"$f":"'IMPORTACIÓN DATOS ANUALES PVGIS'!Q114","v":"00:00:00"},{"$f":"'IMPORTACIÓN DATOS ANUALES PVGIS'!R114","v":0},{"$f":"'IMPORTACIÓN DATOS ANUALES PVGIS'!T114","v":"00:00:00"},{"$f":"'IMPORTACIÓN DATOS ANUALES PVGIS'!U114","v":0},{"$f":"'IMPORTACIÓN DATOS ANUALES PVGIS'!W114","v":"00:00:00"},{"$f":"'IMPORTACIÓN DATOS ANUALES PVGIS'!X114","v":0},{"$f":"'IMPORTACIÓN DATOS ANUALES PVGIS'!Z114","v":"00:00:00"},{"$f":"'IMPORTACIÓN DATOS ANUALES PVGIS'!AA114","v":0},{"$f":"'IMPORTACIÓN DATOS ANUALES PVGIS'!AC114","v":"00:00:00"},{"$f":"'IMPORTACIÓN DATOS ANUALES PVGIS'!AD114","v":0},{"$f":"'IMPORTACIÓN DATOS ANUALES PVGIS'!AF114","v":"00:00:00"},{"$f":"'IMPORTACIÓN DATOS ANUALES PVGIS'!AG114","v":0},{"$f":"'IMPORTACIÓN DATOS ANUALES PVGIS'!AI114","v":"00:00:00"},{"$f":"'IMPORTACIÓN DATOS ANUALES PVGIS'!AJ114","v":0}]
[{"$f":"'IMPORTACIÓN DATOS ANUALES PVGIS'!B115","v":"00:00:00"},{"$f":"'IMPORTACIÓN DATOS ANUALES PVGIS'!C115","v":""},{"$f":"'IMPORTACIÓN DATOS ANUALES PVGIS'!E115","v":"00:00:00"},{"$f":"'IMPORTACIÓN DATOS ANUALES PVGIS'!F115","v":0},{"$f":"'IMPORTACIÓN DATOS ANUALES PVGIS'!H115","v":"00:00:00"},{"$f":"'IMPORTACIÓN DATOS ANUALES PVGIS'!I115","v":0},{"$f":"'IMPORTACIÓN DATOS ANUALES PVGIS'!K115","v":"00:00:00"},{"$f":"'IMPORTACIÓN DATOS ANUALES PVGIS'!L115","v":0},{"$f":"'IMPORTACIÓN DATOS ANUALES PVGIS'!N115","v":"00:00:00"},{"$f":"'IMPORTACIÓN DATOS ANUALES PVGIS'!O115","v":0},{"$f":"'IMPORTACIÓN DATOS ANUALES PVGIS'!Q115","v":"00:00:00"},{"$f":"'IMPORTACIÓN DATOS ANUALES PVGIS'!R115","v":0},{"$f":"'IMPORTACIÓN DATOS ANUALES PVGIS'!T115","v":"00:00:00"},{"$f":"'IMPORTACIÓN DATOS ANUALES PVGIS'!U115","v":0},{"$f":"'IMPORTACIÓN DATOS ANUALES PVGIS'!W115","v":"00:00:00"},{"$f":"'IMPORTACIÓN DATOS ANUALES PVGIS'!X115","v":0},{"$f":"'IMPORTACIÓN DATOS ANUALES PVGIS'!Z115","v":"00:00:00"},{"$f":"'IMPORTACIÓN DATOS ANUALES PVGIS'!AA115","v":0},{"$f":"'IMPORTACIÓN DATOS ANUALES PVGIS'!AC115","v":"00:00:00"},{"$f":"'IMPORTACIÓN DATOS ANUALES PVGIS'!AD115","v":0},{"$f":"'IMPORTACIÓN DATOS ANUALES PVGIS'!AF115","v":"00:00:00"},{"$f":"'IMPORTACIÓN DATOS ANUALES PVGIS'!AG115","v":0},{"$f":"'IMPORTACIÓN DATOS ANUALES PVGIS'!AI115","v":"00:00:00"},{"$f":"'IMPORTACIÓN DATOS ANUALES PVGIS'!AJ115","v":0}]
[{"$f":"'IMPORTACIÓN DATOS ANUALES PVGIS'!B116","v":"00:00:00"},{"$f":"'IMPORTACIÓN DATOS ANUALES PVGIS'!C116","v":""},{"$f":"'IMPORTACIÓN DATOS ANUALES PVGIS'!E116","v":"00:00:00"},{"$f":"'IMPORTACIÓN DATOS ANUALES PVGIS'!F116","v":0},{"$f":"'IMPORTACIÓN DATOS ANUALES PVGIS'!H116","v":"00:00:00"},{"$f":"'IMPORTACIÓN DATOS ANUALES PVGIS'!I116","v":0},{"$f":"'IMPORTACIÓN DATOS ANUALES PVGIS'!K116","v":"00:00:00"},{"$f":"'IMPORTACIÓN DATOS ANUALES PVGIS'!L116","v":0},{"$f":"'IMPORTACIÓN DATOS ANUALES PVGIS'!N116","v":"00:00:00"},{"$f":"'IMPORTACIÓN DATOS ANUALES PVGIS'!O116","v":0},{"$f":"'IMPORTACIÓN DATOS ANUALES PVGIS'!Q116","v":"00:00:00"},{"$f":"'IMPORTACIÓN DATOS ANUALES PVGIS'!R116","v":0},{"$f":"'IMPORTACIÓN DATOS ANUALES PVGIS'!T116","v":"00:00:00"},{"$f":"'IMPORTACIÓN DATOS ANUALES PVGIS'!U116","v":0},{"$f":"'IMPORTACIÓN DATOS ANUALES PVGIS'!W116","v":"00:00:00"},{"$f":"'IMPORTACIÓN DATOS ANUALES PVGIS'!X116","v":0},{"$f":"'IMPORTACIÓN DATOS ANUALES PVGIS'!Z116","v":"00:00:00"},{"$f":"'IMPORTACIÓN DATOS ANUALES PVGIS'!AA116","v":0},{"$f":"'IMPORTACIÓN DATOS ANUALES PVGIS'!AC116","v":"00:00:00"},{"$f":"'IMPORTACIÓN DATOS ANUALES PVGIS'!AD116","v":0},{"$f":"'IMPORTACIÓN DATOS ANUALES PVGIS'!AF116","v":"00:00:00"},{"$f":"'IMPORTACIÓN DATOS ANUALES PVGIS'!AG116","v":0},{"$f":"'IMPORTACIÓN DATOS ANUALES PVGIS'!AI116","v":"00:00:00"},{"$f":"'IMPORTACIÓN DATOS ANUALES PVGIS'!AJ116","v":0}]
[{"$f":"'IMPORTACIÓN DATOS ANUALES PVGIS'!B117","v":"00:00:00"},{"$f":"'IMPORTACIÓN DATOS ANUALES PVGIS'!C117","v":""},{"$f":"'IMPORTACIÓN DATOS ANUALES PVGIS'!E117","v":"00:00:00"},{"$f":"'IMPORTACIÓN DATOS ANUALES PVGIS'!F117","v":0},{"$f":"'IMPORTACIÓN DATOS ANUALES PVGIS'!H117","v":"00:00:00"},{"$f":"'IMPORTACIÓN DATOS ANUALES PVGIS'!I117","v":0},{"$f":"'IMPORTACIÓN DATOS ANUALES PVGIS'!K117","v":"00:00:00"},{"$f":"'IMPORTACIÓN DATOS ANUALES PVGIS'!L117","v":0},{"$f":"'IMPORTACIÓN DATOS ANUALES PVGIS'!N117","v":"00:00:00"},{"$f":"'IMPORTACIÓN DATOS ANUALES PVGIS'!O117","v":0},{"$f":"'IMPORTACIÓN DATOS ANUALES PVGIS'!Q117","v":"00:00:00"},{"$f":"'IMPORTACIÓN DATOS ANUALES PVGIS'!R117","v":0},{"$f":"'IMPORTACIÓN DATOS ANUALES PVGIS'!T117","v":"00:00:00"},{"$f":"'IMPORTACIÓN DATOS ANUALES PVGIS'!U117","v":0},{"$f":"'IMPORTACIÓN DATOS ANUALES PVGIS'!W117","v":"00:00:00"},{"$f":"'IMPORTACIÓN DATOS ANUALES PVGIS'!X117","v":0},{"$f":"'IMPORTACIÓN DATOS ANUALES PVGIS'!Z117","v":"00:00:00"},{"$f":"'IMPORTACIÓN DATOS ANUALES PVGIS'!AA117","v":0},{"$f":"'IMPORTACIÓN DATOS ANUALES PVGIS'!AC117","v":"00:00:00"},{"$f":"'IMPORTACIÓN DATOS ANUALES PVGIS'!AD117","v":0},{"$f":"'IMPORTACIÓN DATOS ANUALES PVGIS'!AF117","v":"00:00:00"},{"$f":"'IMPORTACIÓN DATOS ANUALES PVGIS'!AG117","v":0},{"$f":"'IMPORTACIÓN DATOS ANUALES PVGIS'!AI117","v":"00:00:00"},{"$f":"'IMPORTACIÓN DATOS ANUALES PVGIS'!AJ117","v":0}]
[{"$f":"'IMPORTACIÓN DATOS ANUALES PVGIS'!B118","v":"00:00:00"},{"$f":"'IMPORTACIÓN DATOS ANUALES PVGIS'!C118","v":""},{"$f":"'IMPORTACIÓN DATOS ANUALES PVGIS'!E118","v":"00:00:00"},{"$f":"'IMPORTACIÓN DATOS ANUALES PVGIS'!F118","v":0},{"$f":"'IMPORTACIÓN DATOS ANUALES PVGIS'!H118","v":"00:00:00"},{"$f":"'IMPORTACIÓN DATOS ANUALES PVGIS'!I118","v":0},{"$f":"'IMPORTACIÓN DATOS ANUALES PVGIS'!K118","v":"00:00:00"},{"$f":"'IMPORTACIÓN DATOS ANUALES PVGIS'!L118","v":0},{"$f":"'IMPORTACIÓN DATOS ANUALES PVGIS'!N118","v":"00:00:00"},{"$f":"'IMPORTACIÓN DATOS ANUALES PVGIS'!O118","v":0},{"$f":"'IMPORTACIÓN DATOS ANUALES PVGIS'!Q118","v":"00:00:00"},{"$f":"'IMPORTACIÓN DATOS ANUALES PVGIS'!R118","v":0},{"$f":"'IMPORTACIÓN DATOS ANUALES PVGIS'!T118","v":"00:00:00"},{"$f":"'IMPORTACIÓN DATOS ANUALES PVGIS'!U118","v":0},{"$f":"'IMPORTACIÓN DATOS ANUALES PVGIS'!W118","v":"00:00:00"},{"$f":"'IMPORTACIÓN DATOS ANUALES PVGIS'!X118","v":0},{"$f":"'IMPORTACIÓN DATOS ANUALES PVGIS'!Z118","v":"00:00:00"},{"$f":"'IMPORTACIÓN DATOS ANUALES PVGIS'!AA118","v":0},{"$f":"'IMPORTACIÓN DATOS ANUALES PVGIS'!AC118","v":"00:00:00"},{"$f":"'IMPORTACIÓN DATOS ANUALES PVGIS'!AD118","v":0},{"$f":"'IMPORTACIÓN DATOS ANUALES PVGIS'!AF118","v":"00:00:00"},{"$f":"'IMPORTACIÓN DATOS ANUALES PVGIS'!AG118","v":0},{"$f":"'IMPORTACIÓN DATOS ANUALES PVGIS'!AI118","v":"00:00:00"},{"$f":"'IMPORTACIÓN DATOS ANUALES PVGIS'!AJ118","v":0}]
[{"$f":"'IMPORTACIÓN DATOS ANUALES PVGIS'!B119","v":"00:00:00"},{"$f":"'IMPORTACIÓN DATOS ANUALES PVGIS'!C119","v":""},{"$f":"'IMPORTACIÓN DATOS ANUALES PVGIS'!E119","v":"00:00:00"},{"$f":"'IMPORTACIÓN DATOS ANUALES PVGIS'!F119","v":0},{"$f":"'IMPORTACIÓN DATOS ANUALES PVGIS'!H119","v":"00:00:00"},{"$f":"'IMPORTACIÓN DATOS ANUALES PVGIS'!I119","v":0},{"$f":"'IMPORTACIÓN DATOS ANUALES PVGIS'!K119","v":"00:00:00"},{"$f":"'IMPORTACIÓN DATOS ANUALES PVGIS'!L119","v":0},{"$f":"'IMPORTACIÓN DATOS ANUALES PVGIS'!N119","v":"00:00:00"},{"$f":"'IMPORTACIÓN DATOS ANUALES PVGIS'!O119","v":0},{"$f":"'IMPORTACIÓN DATOS ANUALES PVGIS'!Q119","v":"00:00:00"},{"$f":"'IMPORTACIÓN DATOS ANUALES PVGIS'!R119","v":0},{"$f":"'IMPORTACIÓN DATOS ANUALES PVGIS'!T119","v":"00:00:00"},{"$f":"'IMPORTACIÓN DATOS ANUALES PVGIS'!U119","v":0},{"$f":"'IMPORTACIÓN DATOS ANUALES PVGIS'!W119","v":"00:00:00"},{"$f":"'IMPORTACIÓN DATOS ANUALES PVGIS'!X119","v":0},{"$f":"'IMPORTACIÓN DATOS ANUALES PVGIS'!Z119","v":"00:00:00"},{"$f":"'IMPORTACIÓN DATOS ANUALES PVGIS'!AA119","v":0},{"$f":"'IMPORTACIÓN DATOS ANUALES PVGIS'!AC119","v":"00:00:00"},{"$f":"'IMPORTACIÓN DATOS ANUALES PVGIS'!AD119","v":0},{"$f":"'IMPORTACIÓN DATOS ANUALES PVGIS'!AF119","v":"00:00:00"},{"$f":"'IMPORTACIÓN DATOS ANUALES PVGIS'!AG119","v":0},{"$f":"'IMPORTACIÓN DATOS ANUALES PVGIS'!AI119","v":"00:00:00"},{"$f":"'IMPORTACIÓN DATOS ANUALES PVGIS'!AJ119","v":0}]
[{"$f":"'IMPORTACIÓN DATOS ANUALES PVGIS'!B120","v":"00:00:00"},{"$f":"'IMPORTACIÓN DATOS ANUALES PVGIS'!C120","v":""},{"$f":"'IMPORTACIÓN DATOS ANUALES PVGIS'!E120","v":"00:00:00"},{"$f":"'IMPORTACIÓN DATOS ANUALES PVGIS'!F120","v":0},{"$f":"'IMPORTACIÓN DATOS ANUALES PVGIS'!H120","v":"00:00:00"},{"$f":"'IMPORTACIÓN DATOS ANUALES PVGIS'!I120","v":0},{"$f":"'IMPORTACIÓN DATOS ANUALES PVGIS'!K120","v":"00:00:00"},{"$f":"'IMPORTACIÓN DATOS ANUALES PVGIS'!L120","v":0},{"$f":"'IMPORTACIÓN DATOS ANUALES PVGIS'!N120","v":"00:00:00"},{"$f":"'IMPORTACIÓN DATOS ANUALES PVGIS'!O120","v":0},{"$f":"'IMPORTACIÓN DATOS ANUALES PVGIS'!Q120","v":"00:00:00"},{"$f":"'IMPORTACIÓN DATOS ANUALES PVGIS'!R120","v":0},{"$f":"'IMPORTACIÓN DATOS ANUALES PVGIS'!T120","v":"00:00:00"},{"$f":"'IMPORTACIÓN DATOS ANUALES PVGIS'!U120","v":0},{"$f":"'IMPORTACIÓN DATOS ANUALES PVGIS'!W120","v":"00:00:00"},{"$f":"'IMPORTACIÓN DATOS ANUALES PVGIS'!X120","v":0},{"$f":"'IMPORTACIÓN DATOS ANUALES PVGIS'!Z120","v":"00:00:00"},{"$f":"'IMPORTACIÓN DATOS ANUALES PVGIS'!AA120","v":0},{"$f":"'IMPORTACIÓN DATOS ANUALES PVGIS'!AC120","v":"00:00:00"},{"$f":"'IMPORTACIÓN DATOS ANUALES PVGIS'!AD120","v":0},{"$f":"'IMPORTACIÓN DATOS ANUALES PVGIS'!AF120","v":"00:00:00"},{"$f":"'IMPORTACIÓN DATOS ANUALES PVGIS'!AG120","v":0},{"$f":"'IMPORTACIÓN DATOS ANUALES PVGIS'!AI120","v":"00:00:00"},{"$f":"'IMPORTACIÓN DATOS ANUALES PVGIS'!AJ120","v":0}]
[{"$f":"'IMPORTACIÓN DATOS ANUALES PVGIS'!B121","v":"00:00:00"},{"$f":"'IMPORTACIÓN DATOS ANUALES PVGIS'!C121","v":""},{"$f":"'IMPORTACIÓN DATOS ANUALES PVGIS'!E121","v":"00:00:00"},{"$f":"'IMPORTACIÓN DATOS ANUALES PVGIS'!F121","v":0},{"$f":"'IMPORTACIÓN DATOS ANUALES PVGIS'!H121","v":"00:00:00"},{"$f":"'IMPORTACIÓN DATOS ANUALES PVGIS'!I121","v":0},{"$f":"'IMPORTACIÓN DATOS ANUALES PVGIS'!K121","v":"00:00:00"},{"$f":"'IMPORTACIÓN DATOS ANUALES PVGIS'!L121","v":0},{"$f":"'IMPORTACIÓN DATOS ANUALES PVGIS'!N121","v":"00:00:00"},{"$f":"'IMPORTACIÓN DATOS ANUALES PVGIS'!O121","v":0},{"$f":"'IMPORTACIÓN DATOS ANUALES PVGIS'!Q121","v":"00:00:00"},{"$f":"'IMPORTACIÓN DATOS ANUALES PVGIS'!R121","v":0},{"$f":"'IMPORTACIÓN DATOS ANUALES PVGIS'!T121","v":"00:00:00"},{"$f":"'IMPORTACIÓN DATOS ANUALES PVGIS'!U121","v":0},{"$f":"'IMPORTACIÓN DATOS ANUALES PVGIS'!W121","v":"00:00:00"},{"$f":"'IMPORTACIÓN DATOS ANUALES PVGIS'!X121","v":0},{"$f":"'IMPORTACIÓN DATOS ANUALES PVGIS'!Z121","v":"00:00:00"},{"$f":"'IMPORTACIÓN DATOS ANUALES PVGIS'!AA121","v":0},{"$f":"'IMPORTACIÓN DATOS ANUALES PVGIS'!AC121","v":"00:00:00"},{"$f":"'IMPORTACIÓN DATOS ANUALES PVGIS'!AD121","v":0},{"$f":"'IMPORTACIÓN DATOS ANUALES PVGIS'!AF121","v":"00:00:00"},{"$f":"'IMPORTACIÓN DATOS ANUALES PVGIS'!AG121","v":0},{"$f":"'IMPORTACIÓN DATOS ANUALES PVGIS'!AI121","v":"00:00:00"},{"$f":"'IMPORTACIÓN DATOS ANUALES PVGIS'!AJ121","v":0}]
[{"$f":"'IMPORTACIÓN DATOS ANUALES PVGIS'!B122","v":"00:00:00"},{"$f":"'IMPORTACIÓN DATOS ANUALES PVGIS'!C122","v":""},{"$f":"'IMPORTACIÓN DATOS ANUALES PVGIS'!E122","v":"00:00:00"},{"$f":"'IMPORTACIÓN DATOS ANUALES PVGIS'!F122","v":0},{"$f":"'IMPORTACIÓN DATOS ANUALES PVGIS'!H122","v":"00:00:00"},{"$f":"'IMPORTACIÓN DATOS ANUALES PVGIS'!I122","v":0},{"$f":"'IMPORTACIÓN DATOS ANUALES PVGIS'!K122","v":"00:00:00"},{"$f":"'IMPORTACIÓN DATOS ANUALES PVGIS'!L122","v":0},{"$f":"'IMPORTACIÓN DATOS ANUALES PVGIS'!N122","v":"00:00:00"},{"$f":"'IMPORTACIÓN DATOS ANUALES PVGIS'!O122","v":0},{"$f":"'IMPORTACIÓN DATOS ANUALES PVGIS'!Q122","v":"00:00:00"},{"$f":"'IMPORTACIÓN DATOS ANUALES PVGIS'!R122","v":0},{"$f":"'IMPORTACIÓN DATOS ANUALES PVGIS'!T122","v":"00:00:00"},{"$f":"'IMPORTACIÓN DATOS ANUALES PVGIS'!U122","v":0},{"$f":"'IMPORTACIÓN DATOS ANUALES PVGIS'!W122","v":"00:00:00"},{"$f":"'IMPORTACIÓN DATOS ANUALES PVGIS'!X122","v":0},{"$f":"'IMPORTACIÓN DATOS ANUALES PVGIS'!Z122","v":"00:00:00"},{"$f":"'IMPORTACIÓN DATOS ANUALES PVGIS'!AA122","v":0},{"$f":"'IMPORTACIÓN DATOS ANUALES PVGIS'!AC122","v":"00:00:00"},{"$f":"'IMPORTACIÓN DATOS ANUALES PVGIS'!AD122","v":0},{"$f":"'IMPORTACIÓN DATOS ANUALES PVGIS'!AF122","v":"00:00:00"},{"$f":"'IMPORTACIÓN DATOS ANUALES PVGIS'!AG122","v":0},{"$f":"'IMPORTACIÓN DATOS ANUALES PVGIS'!AI122","v":"00:00:00"},{"$f":"'IMPORTACIÓN DATOS ANUALES PVGIS'!AJ122","v":0}]
[{"$f":"'IMPORTACIÓN DATOS ANUALES PVGIS'!B123","v":"00:00:00"},{"$f":"'IMPORTACIÓN DATOS ANUALES PVGIS'!C123","v":""},{"$f":"'IMPORTACIÓN DATOS ANUALES PVGIS'!E123","v":"00:00:00"},{"$f":"'IMPORTACIÓN DATOS ANUALES PVGIS'!F123","v":0},{"$f":"'IMPORTACIÓN DATOS ANUALES PVGIS'!H123","v":"00:00:00"},{"$f":"'IMPORTACIÓN DATOS ANUALES PVGIS'!I123","v":0},{"$f":"'IMPORTACIÓN DATOS ANUALES PVGIS'!K123","v":"00:00:00"},{"$f":"'IMPORTACIÓN DATOS ANUALES PVGIS'!L123","v":0},{"$f":"'IMPORTACIÓN DATOS ANUALES PVGIS'!N123","v":"00:00:00"},{"$f":"'IMPORTACIÓN DATOS ANUALES PVGIS'!O123","v":0},{"$f":"'IMPORTACIÓN DATOS ANUALES PVGIS'!Q123","v":"00:00:00"},{"$f":"'IMPORTACIÓN DATOS ANUALES PVGIS'!R123","v":0},{"$f":"'IMPORTACIÓN DATOS ANUALES PVGIS'!T123","v":"00:00:00"},{"$f":"'IMPORTACIÓN DATOS ANUALES PVGIS'!U123","v":0},{"$f":"'IMPORTACIÓN DATOS ANUALES PVGIS'!W123","v":"00:00:00"},{"$f":"'IMPORTACIÓN DATOS ANUALES PVGIS'!X123","v":0},{"$f":"'IMPORTACIÓN DATOS ANUALES PVGIS'!Z123","v":"00:00:00"},{"$f":"'IMPORTACIÓN DATOS ANUALES PVGIS'!AA123","v":0},{"$f":"'IMPORTACIÓN DATOS ANUALES PVGIS'!AC123","v":"00:00:00"},{"$f":"'IMPORTACIÓN DATOS ANUALES PVGIS'!AD123","v":0},{"$f":"'IMPORTACIÓN DATOS ANUALES PVGIS'!AF123","v":"00:00:00"},{"$f":"'IMPORTACIÓN DATOS ANUALES PVGIS'!AG123","v":0},{"$f":"'IMPORTACIÓN DATOS ANUALES PVGIS'!AI123","v":"00:00:00"},{"$f":"'IMPORTACIÓN DATOS ANUALES PVGIS'!AJ123","v":0}]
[{"$f":"'IMPORTACIÓN DATOS ANUALES PVGIS'!B124","v":"00:00:00"},{"$f":"'IMPORTACIÓN DATOS ANUALES PVGIS'!C124","v":""},{"$f":"'IMPORTACIÓN DATOS ANUALES PVGIS'!E124","v":"00:00:00"},{"$f":"'IMPORTACIÓN DATOS ANUALES PVGIS'!F124","v":0},{"$f":"'IMPORTACIÓN DATOS ANUALES PVGIS'!H124","v":"00:00:00"},{"$f":"'IMPORTACIÓN DATOS ANUALES PVGIS'!I124","v":0},{"$f":"'IMPORTACIÓN DATOS ANUALES PVGIS'!K124","v":"00:00:00"},{"$f":"'IMPORTACIÓN DATOS ANUALES PVGIS'!L124","v":0},{"$f":"'IMPORTACIÓN DATOS ANUALES PVGIS'!N124","v":"00:00:00"},{"$f":"'IMPORTACIÓN DATOS ANUALES PVGIS'!O124","v":0},{"$f":"'IMPORTACIÓN DATOS ANUALES PVGIS'!Q124","v":"00:00:00"},{"$f":"'IMPORTACIÓN DATOS ANUALES PVGIS'!R124","v":0},{"$f":"'IMPORTACIÓN DATOS ANUALES PVGIS'!T124","v":"00:00:00"},{"$f":"'IMPORTACIÓN DATOS ANUALES PVGIS'!U124","v":0},{"$f":"'IMPORTACIÓN DATOS ANUALES PVGIS'!W124","v":"00:00:00"},{"$f":"'IMPORTACIÓN DATOS ANUALES PVGIS'!X124","v":0},{"$f":"'IMPORTACIÓN DATOS ANUALES PVGIS'!Z124","v":"00:00:00"},{"$f":"'IMPORTACIÓN DATOS ANUALES PVGIS'!AA124","v":0},{"$f":"'IMPORTACIÓN DATOS ANUALES PVGIS'!AC124","v":"00:00:00"},{"$f":"'IMPORTACIÓN DATOS ANUALES PVGIS'!AD124","v":0},{"$f":"'IMPORTACIÓN DATOS ANUALES PVGIS'!AF124","v":"00:00:00"},{"$f":"'IMPORTACIÓN DATOS ANUALES PVGIS'!AG124","v":0},{"$f":"'IMPORTACIÓN DATOS ANUALES PVGIS'!AI124","v":"00:00:00"},{"$f":"'IMPORTACIÓN DATOS ANUALES PVGIS'!AJ124","v":0}]
[{"$f":"'IMPORTACIÓN DATOS ANUALES PVGIS'!B125","v":"00:00:00"},{"$f":"'IMPORTACIÓN DATOS ANUALES PVGIS'!C125","v":""},{"$f":"'IMPORTACIÓN DATOS ANUALES PVGIS'!E125","v":"00:00:00"},{"$f":"'IMPORTACIÓN DATOS ANUALES PVGIS'!F125","v":0},{"$f":"'IMPORTACIÓN DATOS ANUALES PVGIS'!H125","v":"00:00:00"},{"$f":"'IMPORTACIÓN DATOS ANUALES PVGIS'!I125","v":0},{"$f":"'IMPORTACIÓN DATOS ANUALES PVGIS'!K125","v":"00:00:00"},{"$f":"'IMPORTACIÓN DATOS ANUALES PVGIS'!L125","v":0},{"$f":"'IMPORTACIÓN DATOS ANUALES PVGIS'!N125","v":"00:00:00"},{"$f":"'IMPORTACIÓN DATOS ANUALES PVGIS'!O125","v":0},{"$f":"'IMPORTACIÓN DATOS ANUALES PVGIS'!Q125","v":"00:00:00"},{"$f":"'IMPORTACIÓN DATOS ANUALES PVGIS'!R125","v":0},{"$f":"'IMPORTACIÓN DATOS ANUALES PVGIS'!T125","v":"00:00:00"},{"$f":"'IMPORTACIÓN DATOS ANUALES PVGIS'!U125","v":0},{"$f":"'IMPORTACIÓN DATOS ANUALES PVGIS'!W125","v":"00:00:00"},{"$f":"'IMPORTACIÓN DATOS ANUALES PVGIS'!X125","v":0},{"$f":"'IMPORTACIÓN DATOS ANUALES PVGIS'!Z125","v":"00:00:00"},{"$f":"'IMPORTACIÓN DATOS ANUALES PVGIS'!AA125","v":0},{"$f":"'IMPORTACIÓN DATOS ANUALES PVGIS'!AC125","v":"00:00:00"},{"$f":"'IMPORTACIÓN DATOS ANUALES PVGIS'!AD125","v":0},{"$f":"'IMPORTACIÓN DATOS ANUALES PVGIS'!AF125","v":"00:00:00"},{"$f":"'IMPORTACIÓN DATOS ANUALES PVGIS'!AG125","v":0},{"$f":"'IMPORTACIÓN DATOS ANUALES PVGIS'!AI125","v":"00:00:00"},{"$f":"'IMPORTACIÓN DATOS ANUALES PVGIS'!AJ125","v":0}]
[{"$f":"'IMPORTACIÓN DATOS ANUALES PVGIS'!B126","v":"00:00:00"},{"$f":"'IMPORTACIÓN DATOS ANUALES PVGIS'!C126","v":""},{"$f":"'IMPORTACIÓN DATOS ANUALES PVGIS'!E126","v":"00:00:00"},{"$f":"'IMPORTACIÓN DATOS ANUALES PVGIS'!F126","v":0},{"$f":"'IMPORTACIÓN DATOS ANUALES PVGIS'!H126","v":"00:00:00"},{"$f":"'IMPORTACIÓN DATOS ANUALES PVGIS'!I126","v":0},{"$f":"'IMPORTACIÓN DATOS ANUALES PVGIS'!K126","v":"00:00:00"},{"$f":"'IMPORTACIÓN DATOS ANUALES PVGIS'!L126","v":0},{"$f":"'IMPORTACIÓN DATOS ANUALES PVGIS'!N126","v":"00:00:00"},{"$f":"'IMPORTACIÓN DATOS ANUALES PVGIS'!O126","v":0},{"$f":"'IMPORTACIÓN DATOS ANUALES PVGIS'!Q126","v":"00:00:00"},{"$f":"'IMPORTACIÓN DATOS ANUALES PVGIS'!R126","v":0},{"$f":"'IMPORTACIÓN DATOS ANUALES PVGIS'!T126","v":"00:00:00"},{"$f":"'IMPORTACIÓN DATOS ANUALES PVGIS'!U126","v":0},{"$f":"'IMPORTACIÓN DATOS ANUALES PVGIS'!W126","v":"00:00:00"},{"$f":"'IMPORTACIÓN DATOS ANUALES PVGIS'!X126","v":0},{"$f":"'IMPORTACIÓN DATOS ANUALES PVGIS'!Z126","v":"00:00:00"},{"$f":"'IMPORTACIÓN DATOS ANUALES PVGIS'!AA126","v":0},{"$f":"'IMPORTACIÓN DATOS ANUALES PVGIS'!AC126","v":"00:00:00"},{"$f":"'IMPORTACIÓN DATOS ANUALES PVGIS'!AD126","v":0},{"$f":"'IMPORTACIÓN DATOS ANUALES PVGIS'!AF126","v":"00:00:00"},{"$f":"'IMPORTACIÓN DATOS ANUALES PVGIS'!AG126","v":0},{"$f":"'IMPORTACIÓN DATOS ANUALES PVGIS'!AI126","v":"00:00:00"},{"$f":"'IMPORTACIÓN DATOS ANUALES PVGIS'!AJ126","v":0}]
[{"$f":"'IMPORTACIÓN DATOS ANUALES PVGIS'!B127","v":"00:00:00"},{"$f":"'IMPORTACIÓN DATOS ANUALES PVGIS'!C127","v":""},{"$f":"'IMPORTACIÓN DATOS ANUALES PVGIS'!E127","v":"00:00:00"},{"$f":"'IMPORTACIÓN DATOS ANUALES PVGIS'!F127","v":0},{"$f":"'IMPORTACIÓN DATOS ANUALES PVGIS'!H127","v":"00:00:00"},{"$f":"'IMPORTACIÓN DATOS ANUALES PVGIS'!I127","v":0},{"$f":"'IMPORTACIÓN DATOS ANUALES PVGIS'!K127","v":"00:00:00"},{"$f":"'IMPORTACIÓN DATOS ANUALES PVGIS'!L127","v":0},{"$f":"'IMPORTACIÓN DATOS ANUALES PVGIS'!N127","v":"00:00:00"},{"$f":"'IMPORTACIÓN DATOS ANUALES PVGIS'!O127","v":0},{"$f":"'IMPORTACIÓN DATOS ANUALES PVGIS'!Q127","v":"00:00:00"},{"$f":"'IMPORTACIÓN DATOS ANUALES PVGIS'!R127","v":0},{"$f":"'IMPORTACIÓN DATOS ANUALES PVGIS'!T127","v":"00:00:00"},{"$f":"'IMPORTACIÓN DATOS ANUALES PVGIS'!U127","v":0},{"$f":"'IMPORTACIÓN DATOS ANUALES PVGIS'!W127","v":"00:00:00"},{"$f":"'IMPORTACIÓN DATOS ANUALES PVGIS'!X127","v":0},{"$f":"'IMPORTACIÓN DATOS ANUALES PVGIS'!Z127","v":"00:00:00"},{"$f":"'IMPORTACIÓN DATOS ANUALES PVGIS'!AA127","v":0},{"$f":"'IMPORTACIÓN DATOS ANUALES PVGIS'!AC127","v":"00:00:00"},{"$f":"'IMPORTACIÓN DATOS ANUALES PVGIS'!AD127","v":0},{"$f":"'IMPORTACIÓN DATOS ANUALES PVGIS'!AF127","v":"00:00:00"},{"$f":"'IMPORTACIÓN DATOS ANUALES PVGIS'!AG127","v":0},{"$f":"'IMPORTACIÓN DATOS ANUALES PVGIS'!AI127","v":"00:00:00"},{"$f":"'IMPORTACIÓN DATOS ANUALES PVGIS'!AJ127","v":0}]
[{"$f":"'IMPORTACIÓN DATOS ANUALES PVGIS'!B128","v":"00:00:00"},{"$f":"'IMPORTACIÓN DATOS ANUALES PVGIS'!C128","v":""},{"$f":"'IMPORTACIÓN DATOS ANUALES PVGIS'!E128","v":"00:00:00"},{"$f":"'IMPORTACIÓN DATOS ANUALES PVGIS'!F128","v":0},{"$f":"'IMPORTACIÓN DATOS ANUALES PVGIS'!H128","v":"00:00:00"},{"$f":"'IMPORTACIÓN DATOS ANUALES PVGIS'!I128","v":0},{"$f":"'IMPORTACIÓN DATOS ANUALES PVGIS'!K128","v":"00:00:00"},{"$f":"'IMPORTACIÓN DATOS ANUALES PVGIS'!L128","v":0},{"$f":"'IMPORTACIÓN DATOS ANUALES PVGIS'!N128","v":"00:00:00"},{"$f":"'IMPORTACIÓN DATOS ANUALES PVGIS'!O128","v":0},{"$f":"'IMPORTACIÓN DATOS ANUALES PVGIS'!Q128","v":"00:00:00"},{"$f":"'IMPORTACIÓN DATOS ANUALES PVGIS'!R128","v":0},{"$f":"'IMPORTACIÓN DATOS ANUALES PVGIS'!T128","v":"00:00:00"},{"$f":"'IMPORTACIÓN DATOS ANUALES PVGIS'!U128","v":0},{"$f":"'IMPORTACIÓN DATOS ANUALES PVGIS'!W128","v":"00:00:00"},{"$f":"'IMPORTACIÓN DATOS ANUALES PVGIS'!X128","v":0},{"$f":"'IMPORTACIÓN DATOS ANUALES PVGIS'!Z128","v":"00:00:00"},{"$f":"'IMPORTACIÓN DATOS ANUALES PVGIS'!AA128","v":0},{"$f":"'IMPORTACIÓN DATOS ANUALES PVGIS'!AC128","v":"00:00:00"},{"$f":"'IMPORTACIÓN DATOS ANUALES PVGIS'!AD128","v":0},{"$f":"'IMPORTACIÓN DATOS ANUALES PVGIS'!AF128","v":"00:00:00"},{"$f":"'IMPORTACIÓN DATOS ANUALES PVGIS'!AG128","v":0},{"$f":"'IMPORTACIÓN DATOS ANUALES PVGIS'!AI128","v":"00:00:00"},{"$f":"'IMPORTACIÓN DATOS ANUALES PVGIS'!AJ128","v":0}]
[{"$f":"'IMPORTACIÓN DATOS ANUALES PVGIS'!B129","v":"00:00:00"},{"$f":"'IMPORTACIÓN DATOS ANUALES PVGIS'!C129","v":""},{"$f":"'IMPORTACIÓN DATOS ANUALES PVGIS'!E129","v":"00:00:00"},{"$f":"'IMPORTACIÓN DATOS ANUALES PVGIS'!F129","v":0},{"$f":"'IMPORTACIÓN DATOS ANUALES PVGIS'!H129","v":"00:00:00"},{"$f":"'IMPORTACIÓN DATOS ANUALES PVGIS'!I129","v":0},{"$f":"'IMPORTACIÓN DATOS ANUALES PVGIS'!K129","v":"00:00:00"},{"$f":"'IMPORTACIÓN DATOS ANUALES PVGIS'!L129","v":0},{"$f":"'IMPORTACIÓN DATOS ANUALES PVGIS'!N129","v":"00:00:00"},{"$f":"'IMPORTACIÓN DATOS ANUALES PVGIS'!O129","v":0},{"$f":"'IMPORTACIÓN DATOS ANUALES PVGIS'!Q129","v":"00:00:00"},{"$f":"'IMPORTACIÓN DATOS ANUALES PVGIS'!R129","v":0},{"$f":"'IMPORTACIÓN DATOS ANUALES PVGIS'!T129","v":"00:00:00"},{"$f":"'IMPORTACIÓN DATOS ANUALES PVGIS'!U129","v":0},{"$f":"'IMPORTACIÓN DATOS ANUALES PVGIS'!W129","v":"00:00:00"},{"$f":"'IMPORTACIÓN DATOS ANUALES PVGIS'!X129","v":0},{"$f":"'IMPORTACIÓN DATOS ANUALES PVGIS'!Z129","v":"00:00:00"},{"$f":"'IMPORTACIÓN DATOS ANUALES PVGIS'!AA129","v":0},{"$f":"'IMPORTACIÓN DATOS ANUALES PVGIS'!AC129","v":"00:00:00"},{"$f":"'IMPORTACIÓN DATOS ANUALES PVGIS'!AD129","v":0},{"$f":"'IMPORTACIÓN DATOS ANUALES PVGIS'!AF129","v":"00:00:00"},{"$f":"'IMPORTACIÓN DATOS ANUALES PVGIS'!AG129","v":0},{"$f":"'IMPORTACIÓN DATOS ANUALES PVGIS'!AI129","v":"00:00:00"},{"$f":"'IMPORTACIÓN DATOS ANUALES PVGIS'!AJ129","v":0}]
[{"$f":"'IMPORTACIÓN DATOS ANUALES PVGIS'!B130","v":"00:00:00"},{"$f":"'IMPORTACIÓN DATOS ANUALES PVGIS'!C130","v":""},{"$f":"'IMPORTACIÓN DATOS ANUALES PVGIS'!E130","v":"00:00:00"},{"$f":"'IMPORTACIÓN DATOS ANUALES PVGIS'!F130","v":0},{"$f":"'IMPORTACIÓN DATOS ANUALES PVGIS'!H130","v":"00:00:00"},{"$f":"'IMPORTACIÓN DATOS ANUALES PVGIS'!I130","v":0},{"$f":"'IMPORTACIÓN DATOS ANUALES PVGIS'!K130","v":"00:00:00"},{"$f":"'IMPORTACIÓN DATOS ANUALES PVGIS'!L130","v":0},{"$f":"'IMPORTACIÓN DATOS ANUALES PVGIS'!N130","v":"00:00:00"},{"$f":"'IMPORTACIÓN DATOS ANUALES PVGIS'!O130","v":0},{"$f":"'IMPORTACIÓN DATOS ANUALES PVGIS'!Q130","v":"00:00:00"},{"$f":"'IMPORTACIÓN DATOS ANUALES PVGIS'!R130","v":0},{"$f":"'IMPORTACIÓN DATOS ANUALES PVGIS'!T130","v":"00:00:00"},{"$f":"'IMPORTACIÓN DATOS ANUALES PVGIS'!U130","v":0},{"$f":"'IMPORTACIÓN DATOS ANUALES PVGIS'!W130","v":"00:00:00"},{"$f":"'IMPORTACIÓN DATOS ANUALES PVGIS'!X130","v":0},{"$f":"'IMPORTACIÓN DATOS ANUALES PVGIS'!Z130","v":"00:00:00"},{"$f":"'IMPORTACIÓN DATOS ANUALES PVGIS'!AA130","v":0},{"$f":"'IMPORTACIÓN DATOS ANUALES PVGIS'!AC130","v":"00:00:00"},{"$f":"'IMPORTACIÓN DATOS ANUALES PVGIS'!AD130","v":0},{"$f":"'IMPORTACIÓN DATOS ANUALES PVGIS'!AF130","v":"00:00:00"},{"$f":"'IMPORTACIÓN DATOS ANUALES PVGIS'!AG130","v":0},{"$f":"'IMPORTACIÓN DATOS ANUALES PVGIS'!AI130","v":"00:00:00"},{"$f":"'IMPORTACIÓN DATOS ANUALES PVGIS'!AJ130","v":0}]
[{"$f":"'IMPORTACIÓN DATOS ANUALES PVGIS'!B131","v":"00:00:00"},{"$f":"'IMPORTACIÓN DATOS ANUALES PVGIS'!C131","v":""},{"$f":"'IMPORTACIÓN DATOS ANUALES PVGIS'!E131","v":"00:00:00"},{"$f":"'IMPORTACIÓN DATOS ANUALES PVGIS'!F131","v":0},{"$f":"'IMPORTACIÓN DATOS ANUALES PVGIS'!H131","v":"00:00:00"},{"$f":"'IMPORTACIÓN DATOS ANUALES PVGIS'!I131","v":0},{"$f":"'IMPORTACIÓN DATOS ANUALES PVGIS'!K131","v":"00:00:00"},{"$f":"'IMPORTACIÓN DATOS ANUALES PVGIS'!L131","v":0},{"$f":"'IMPORTACIÓN DATOS ANUALES PVGIS'!N131","v":"00:00:00"},{"$f":"'IMPORTACIÓN DATOS ANUALES PVGIS'!O131","v":0},{"$f":"'IMPORTACIÓN DATOS ANUALES PVGIS'!Q131","v":"00:00:00"},{"$f":"'IMPORTACIÓN DATOS ANUALES PVGIS'!R131","v":0},{"$f":"'IMPORTACIÓN DATOS ANUALES PVGIS'!T131","v":"00:00:00"},{"$f":"'IMPORTACIÓN DATOS ANUALES PVGIS'!U131","v":0},{"$f":"'IMPORTACIÓN DATOS ANUALES PVGIS'!W131","v":"00:00:00"},{"$f":"'IMPORTACIÓN DATOS ANUALES PVGIS'!X131","v":0},{"$f":"'IMPORTACIÓN DATOS ANUALES PVGIS'!Z131","v":"00:00:00"},{"$f":"'IMPORTACIÓN DATOS ANUALES PVGIS'!AA131","v":0},{"$f":"'IMPORTACIÓN DATOS ANUALES PVGIS'!AC131","v":"00:00:00"},{"$f":"'IMPORTACIÓN DATOS ANUALES PVGIS'!AD131","v":0},{"$f":"'IMPORTACIÓN DATOS ANUALES PVGIS'!AF131","v":"00:00:00"},{"$f":"'IMPORTACIÓN DATOS ANUALES PVGIS'!AG131","v":0},{"$f":"'IMPORTACIÓN DATOS ANUALES PVGIS'!AI131","v":"00:00:00"},{"$f":"'IMPORTACIÓN DATOS ANUALES PVGIS'!AJ131","v":0}]
[{"$f":"'IMPORTACIÓN DATOS ANUALES PVGIS'!B132","v":"00:00:00"},{"$f":"'IMPORTACIÓN DATOS ANUALES PVGIS'!C132","v":""},{"$f":"'IMPORTACIÓN DATOS ANUALES PVGIS'!E132","v":"00:00:00"},{"$f":"'IMPORTACIÓN DATOS ANUALES PVGIS'!F132","v":0},{"$f":"'IMPORTACIÓN DATOS ANUALES PVGIS'!H132","v":"00:00:00"},{"$f":"'IMPORTACIÓN DATOS ANUALES PVGIS'!I132","v":0},{"$f":"'IMPORTACIÓN DATOS ANUALES PVGIS'!K132","v":"00:00:00"},{"$f":"'IMPORTACIÓN DATOS ANUALES PVGIS'!L132","v":0},{"$f":"'IMPORTACIÓN DATOS ANUALES PVGIS'!N132","v":"00:00:00"},{"$f":"'IMPORTACIÓN DATOS ANUALES PVGIS'!O132","v":0},{"$f":"'IMPORTACIÓN DATOS ANUALES PVGIS'!Q132","v":"00:00:00"},{"$f":"'IMPORTACIÓN DATOS ANUALES PVGIS'!R132","v":0},{"$f":"'IMPORTACIÓN DATOS ANUALES PVGIS'!T132","v":"00:00:00"},{"$f":"'IMPORTACIÓN DATOS ANUALES PVGIS'!U132","v":0},{"$f":"'IMPORTACIÓN DATOS ANUALES PVGIS'!W132","v":"00:00:00"},{"$f":"'IMPORTACIÓN DATOS ANUALES PVGIS'!X132","v":0},{"$f":"'IMPORTACIÓN DATOS ANUALES PVGIS'!Z132","v":"00:00:00"},{"$f":"'IMPORTACIÓN DATOS ANUALES PVGIS'!AA132","v":0},{"$f":"'IMPORTACIÓN DATOS ANUALES PVGIS'!AC132","v":"00:00:00"},{"$f":"'IMPORTACIÓN DATOS ANUALES PVGIS'!AD132","v":0},{"$f":"'IMPORTACIÓN DATOS ANUALES PVGIS'!AF132","v":"00:00:00"},{"$f":"'IMPORTACIÓN DATOS ANUALES PVGIS'!AG132","v":0},{"$f":"'IMPORTACIÓN DATOS ANUALES PVGIS'!AI132","v":"00:00:00"},{"$f":"'IMPORTACIÓN DATOS ANUALES PVGIS'!AJ132","v":0}]
[{"$f":"'IMPORTACIÓN DATOS ANUALES PVGIS'!B133","v":"00:00:00"},{"$f":"'IMPORTACIÓN DATOS ANUALES PVGIS'!C133","v":""},{"$f":"'IMPORTACIÓN DATOS ANUALES PVGIS'!E133","v":"00:00:00"},{"$f":"'IMPORTACIÓN DATOS ANUALES PVGIS'!F133","v":0},{"$f":"'IMPORTACIÓN DATOS ANUALES PVGIS'!H133","v":"00:00:00"},{"$f":"'IMPORTACIÓN DATOS ANUALES PVGIS'!I133","v":0},{"$f":"'IMPORTACIÓN DATOS ANUALES PVGIS'!K133","v":"00:00:00"},{"$f":"'IMPORTACIÓN DATOS ANUALES PVGIS'!L133","v":0},{"$f":"'IMPORTACIÓN DATOS ANUALES PVGIS'!N133","v":"00:00:00"},{"$f":"'IMPORTACIÓN DATOS ANUALES PVGIS'!O133","v":0},{"$f":"'IMPORTACIÓN DATOS ANUALES PVGIS'!Q133","v":"00:00:00"},{"$f":"'IMPORTACIÓN DATOS ANUALES PVGIS'!R133","v":0},{"$f":"'IMPORTACIÓN DATOS ANUALES PVGIS'!T133","v":"00:00:00"},{"$f":"'IMPORTACIÓN DATOS ANUALES PVGIS'!U133","v":0},{"$f":"'IMPORTACIÓN DATOS ANUALES PVGIS'!W133","v":"00:00:00"},{"$f":"'IMPORTACIÓN DATOS ANUALES PVGIS'!X133","v":0},{"$f":"'IMPORTACIÓN DATOS ANUALES PVGIS'!Z133","v":"00:00:00"},{"$f":"'IMPORTACIÓN DATOS ANUALES PVGIS'!AA133","v":0},{"$f":"'IMPORTACIÓN DATOS ANUALES PVGIS'!AC133","v":"00:00:00"},{"$f":"'IMPORTACIÓN DATOS ANUALES PVGIS'!AD133","v":0},{"$f":"'IMPORTACIÓN DATOS ANUALES PVGIS'!AF133","v":"00:00:00"},{"$f":"'IMPORTACIÓN DATOS ANUALES PVGIS'!AG133","v":0},{"$f":"'IMPORTACIÓN DATOS ANUALES PVGIS'!AI133","v":"00:00:00"},{"$f":"'IMPORTACIÓN DATOS ANUALES PVGIS'!AJ133","v":0}]
[{"$f":"'IMPORTACIÓN DATOS ANUALES PVGIS'!B134","v":"00:00:00"},{"$f":"'IMPORTACIÓN DATOS ANUALES PVGIS'!C134","v":""},{"$f":"'IMPORTACIÓN DATOS ANUALES PVGIS'!E134","v":"00:00:00"},{"$f":"'IMPORTACIÓN DATOS ANUALES PVGIS'!F134","v":0},{"$f":"'IMPORTACIÓN DATOS ANUALES PVGIS'!H134","v":"00:00:00"},{"$f":"'IMPORTACIÓN DATOS ANUALES PVGIS'!I134","v":0},{"$f":"'IMPORTACIÓN DATOS ANUALES PVGIS'!K134","v":"00:00:00"},{"$f":"'IMPORTACIÓN DATOS ANUALES PVGIS'!L134","v":0},{"$f":"'IMPORTACIÓN DATOS ANUALES PVGIS'!N134","v":"00:00:00"},{"$f":"'IMPORTACIÓN DATOS ANUALES PVGIS'!O134","v":0},{"$f":"'IMPORTACIÓN DATOS ANUALES PVGIS'!Q134","v":"00:00:00"},{"$f":"'IMPORTACIÓN DATOS ANUALES PVGIS'!R134","v":0},{"$f":"'IMPORTACIÓN DATOS ANUALES PVGIS'!T134","v":"00:00:00"},{"$f":"'IMPORTACIÓN DATOS ANUALES PVGIS'!U134","v":0},{"$f":"'IMPORTACIÓN DATOS ANUALES PVGIS'!W134","v":"00:00:00"},{"$f":"'IMPORTACIÓN DATOS ANUALES PVGIS'!X134","v":0},{"$f":"'IMPORTACIÓN DATOS ANUALES PVGIS'!Z134","v":"00:00:00"},{"$f":"'IMPORTACIÓN DATOS ANUALES PVGIS'!AA134","v":0},{"$f":"'IMPORTACIÓN DATOS ANUALES PVGIS'!AC134","v":"00:00:00"},{"$f":"'IMPORTACIÓN DATOS ANUALES PVGIS'!AD134","v":0},{"$f":"'IMPORTACIÓN DATOS ANUALES PVGIS'!AF134","v":"00:00:00"},{"$f":"'IMPORTACIÓN DATOS ANUALES PVGIS'!AG134","v":0},{"$f":"'IMPORTACIÓN DATOS ANUALES PVGIS'!AI134","v":"00:00:00"},{"$f":"'IMPORTACIÓN DATOS ANUALES PVGIS'!AJ134","v":0}]
[{"$f":"'IMPORTACIÓN DATOS ANUALES PVGIS'!B135","v":"00:00:00"},{"$f":"'IMPORTACIÓN DATOS ANUALES PVGIS'!C135","v":""},{"$f":"'IMPORTACIÓN DATOS ANUALES PVGIS'!E135","v":"00:00:00"},{"$f":"'IMPORTACIÓN DATOS ANUALES PVGIS'!F135","v":0},{"$f":"'IMPORTACIÓN DATOS ANUALES PVGIS'!H135","v":"00:00:00"},{"$f":"'IMPORTACIÓN DATOS ANUALES PVGIS'!I135","v":0},{"$f":"'IMPORTACIÓN DATOS ANUALES PVGIS'!K135","v":"00:00:00"},{"$f":"'IMPORTACIÓN DATOS ANUALES PVGIS'!L135","v":0},{"$f":"'IMPORTACIÓN DATOS ANUALES PVGIS'!N135","v":"00:00:00"},{"$f":"'IMPORTACIÓN DATOS ANUALES PVGIS'!O135","v":0},{"$f":"'IMPORTACIÓN DATOS ANUALES PVGIS'!Q135","v":"00:00:00"},{"$f":"'IMPORTACIÓN DATOS ANUALES PVGIS'!R135","v":0},{"$f":"'IMPORTACIÓN DATOS ANUALES PVGIS'!T135","v":"00:00:00"},{"$f":"'IMPORTACIÓN DATOS ANUALES PVGIS'!U135","v":0},{"$f":"'IMPORTACIÓN DATOS ANUALES PVGIS'!W135","v":"00:00:00"},{"$f":"'IMPORTACIÓN DATOS ANUALES PVGIS'!X135","v":0},{"$f":"'IMPORTACIÓN DATOS ANUALES PVGIS'!Z135","v":"00:00:00"},{"$f":"'IMPORTACIÓN DATOS ANUALES PVGIS'!AA135","v":0},{"$f":"'IMPORTACIÓN DATOS ANUALES PVGIS'!AC135","v":"00:00:00"},{"$f":"'IMPORTACIÓN DATOS ANUALES PVGIS'!AD135","v":0},{"$f":"'IMPORTACIÓN DATOS ANUALES PVGIS'!AF135","v":"00:00:00"},{"$f":"'IMPORTACIÓN DATOS ANUALES PVGIS'!AG135","v":0},{"$f":"'IMPORTACIÓN DATOS ANUALES PVGIS'!AI135","v":"00:00:00"},{"$f":"'IMPORTACIÓN DATOS ANUALES PVGIS'!AJ135","v":0}]
[{"$f":"'IMPORTACIÓN DATOS ANUALES PVGIS'!B136","v":"00:00:00"},{"$f":"'IMPORTACIÓN DATOS ANUALES PVGIS'!C136","v":""},{"$f":"'IMPORTACIÓN DATOS ANUALES PVGIS'!E136","v":"00:00:00"},{"$f":"'IMPORTACIÓN DATOS ANUALES PVGIS'!F136","v":0},{"$f":"'IMPORTACIÓN DATOS ANUALES PVGIS'!H136","v":"00:00:00"},{"$f":"'IMPORTACIÓN DATOS ANUALES PVGIS'!I136","v":0},{"$f":"'IMPORTACIÓN DATOS ANUALES PVGIS'!K136","v":"00:00:00"},{"$f":"'IMPORTACIÓN DATOS ANUALES PVGIS'!L136","v":0},{"$f":"'IMPORTACIÓN DATOS ANUALES PVGIS'!N136","v":"00:00:00"},{"$f":"'IMPORTACIÓN DATOS ANUALES PVGIS'!O136","v":0},{"$f":"'IMPORTACIÓN DATOS ANUALES PVGIS'!Q136","v":"00:00:00"},{"$f":"'IMPORTACIÓN DATOS ANUALES PVGIS'!R136","v":0},{"$f":"'IMPORTACIÓN DATOS ANUALES PVGIS'!T136","v":"00:00:00"},{"$f":"'IMPORTACIÓN DATOS ANUALES PVGIS'!U136","v":0},{"$f":"'IMPORTACIÓN DATOS ANUALES PVGIS'!W136","v":"00:00:00"},{"$f":"'IMPORTACIÓN DATOS ANUALES PVGIS'!X136","v":0},{"$f":"'IMPORTACIÓN DATOS ANUALES PVGIS'!Z136","v":"00:00:00"},{"$f":"'IMPORTACIÓN DATOS ANUALES PVGIS'!AA136","v":0},{"$f":"'IMPORTACIÓN DATOS ANUALES PVGIS'!AC136","v":"00:00:00"},{"$f":"'IMPORTACIÓN DATOS ANUALES PVGIS'!AD136","v":0},{"$f":"'IMPORTACIÓN DATOS ANUALES PVGIS'!AF136","v":"00:00:00"},{"$f":"'IMPORTACIÓN DATOS ANUALES PVGIS'!AG136","v":0},{"$f":"'IMPORTACIÓN DATOS ANUALES PVGIS'!AI136","v":"00:00:00"},{"$f":"'IMPORTACIÓN DATOS ANUALES PVGIS'!AJ136","v":0}]
[{"$f":"'IMPORTACIÓN DATOS ANUALES PVGIS'!B137","v":"00:00:00"},{"$f":"'IMPORTACIÓN DATOS ANUALES PVGIS'!C137","v":""},{"$f":"'IMPORTACIÓN DATOS ANUALES PVGIS'!E137","v":"00:00:00"},{"$f":"'IMPORTACIÓN DATOS ANUALES PVGIS'!F137","v":0},{"$f":"'IMPORTACIÓN DATOS ANUALES PVGIS'!H137","v":"00:00:00"},{"$f":"'IMPORTACIÓN DATOS ANUALES PVGIS'!I137","v":0},{"$f":"'IMPORTACIÓN DATOS ANUALES PVGIS'!K137","v":"00:00:00"},{"$f":"'IMPORTACIÓN DATOS ANUALES PVGIS'!L137","v":0},{"$f":"'IMPORTACIÓN DATOS ANUALES PVGIS'!N137","v":"00:00:00"},{"$f":"'IMPORTACIÓN DATOS ANUALES PVGIS'!O137","v":0},{"$f":"'IMPORTACIÓN DATOS ANUALES PVGIS'!Q137","v":"00:00:00"},{"$f":"'IMPORTACIÓN DATOS ANUALES PVGIS'!R137","v":0},{"$f":"'IMPORTACIÓN DATOS ANUALES PVGIS'!T137","v":"00:00:00"},{"$f":"'IMPORTACIÓN DATOS ANUALES PVGIS'!U137","v":0},{"$f":"'IMPORTACIÓN DATOS ANUALES PVGIS'!W137","v":"00:00:00"},{"$f":"'IMPORTACIÓN DATOS ANUALES PVGIS'!X137","v":0},{"$f":"'IMPORTACIÓN DATOS ANUALES PVGIS'!Z137","v":"00:00:00"},{"$f":"'IMPORTACIÓN DATOS ANUALES PVGIS'!AA137","v":0},{"$f":"'IMPORTACIÓN DATOS ANUALES PVGIS'!AC137","v":"00:00:00"},{"$f":"'IMPORTACIÓN DATOS ANUALES PVGIS'!AD137","v":0},{"$f":"'IMPORTACIÓN DATOS ANUALES PVGIS'!AF137","v":"00:00:00"},{"$f":"'IMPORTACIÓN DATOS ANUALES PVGIS'!AG137","v":0},{"$f":"'IMPORTACIÓN DATOS ANUALES PVGIS'!AI137","v":"00:00:00"},{"$f":"'IMPORTACIÓN DATOS ANUALES PVGIS'!AJ137","v":0}]
[{"$f":"'IMPORTACIÓN DATOS ANUALES PVGIS'!B138","v":"00:00:00"},{"$f":"'IMPORTACIÓN DATOS ANUALES PVGIS'!C138","v":""},{"$f":"'IMPORTACIÓN DATOS ANUALES PVGIS'!E138","v":"00:00:00"},{"$f":"'IMPORTACIÓN DATOS ANUALES PVGIS'!F138","v":0},{"$f":"'IMPORTACIÓN DATOS ANUALES PVGIS'!H138","v":"00:00:00"},{"$f":"'IMPORTACIÓN DATOS ANUALES PVGIS'!I138","v":0},{"$f":"'IMPORTACIÓN DATOS ANUALES PVGIS'!K138","v":"00:00:00"},{"$f":"'IMPORTACIÓN DATOS ANUALES PVGIS'!L138","v":0},{"$f":"'IMPORTACIÓN DATOS ANUALES PVGIS'!N138","v":"00:00:00"},{"$f":"'IMPORTACIÓN DATOS ANUALES PVGIS'!O138","v":0},{"$f":"'IMPORTACIÓN DATOS ANUALES PVGIS'!Q138","v":"00:00:00"},{"$f":"'IMPORTACIÓN DATOS ANUALES PVGIS'!R138","v":0},{"$f":"'IMPORTACIÓN DATOS ANUALES PVGIS'!T138","v":"00:00:00"},{"$f":"'IMPORTACIÓN DATOS ANUALES PVGIS'!U138","v":0},{"$f":"'IMPORTACIÓN DATOS ANUALES PVGIS'!W138","v":"00:00:00"},{"$f":"'IMPORTACIÓN DATOS ANUALES PVGIS'!X138","v":0},{"$f":"'IMPORTACIÓN DATOS ANUALES PVGIS'!Z138","v":"00:00:00"},{"$f":"'IMPORTACIÓN DATOS ANUALES PVGIS'!AA138","v":0},{"$f":"'IMPORTACIÓN DATOS ANUALES PVGIS'!AC138","v":"00:00:00"},{"$f":"'IMPORTACIÓN DATOS ANUALES PVGIS'!AD138","v":0},{"$f":"'IMPORTACIÓN DATOS ANUALES PVGIS'!AF138","v":"00:00:00"},{"$f":"'IMPORTACIÓN DATOS ANUALES PVGIS'!AG138","v":0},{"$f":"'IMPORTACIÓN DATOS ANUALES PVGIS'!AI138","v":"00:00:00"},{"$f":"'IMPORTACIÓN DATOS ANUALES PVGIS'!AJ138","v":0}]
[{"$f":"'IMPORTACIÓN DATOS ANUALES PVGIS'!B139","v":"00:00:00"},{"$f":"'IMPORTACIÓN DATOS ANUALES PVGIS'!C139","v":""},{"$f":"'IMPORTACIÓN DATOS ANUALES PVGIS'!E139","v":"00:00:00"},{"$f":"'IMPORTACIÓN DATOS ANUALES PVGIS'!F139","v":0},{"$f":"'IMPORTACIÓN DATOS ANUALES PVGIS'!H139","v":"00:00:00"},{"$f":"'IMPORTACIÓN DATOS ANUALES PVGIS'!I139","v":0},{"$f":"'IMPORTACIÓN DATOS ANUALES PVGIS'!K139","v":"00:00:00"},{"$f":"'IMPORTACIÓN DATOS ANUALES PVGIS'!L139","v":0},{"$f":"'IMPORTACIÓN DATOS ANUALES PVGIS'!N139","v":"00:00:00"},{"$f":"'IMPORTACIÓN DATOS ANUALES PVGIS'!O139","v":0},{"$f":"'IMPORTACIÓN DATOS ANUALES PVGIS'!Q139","v":"00:00:00"},{"$f":"'IMPORTACIÓN DATOS ANUALES PVGIS'!R139","v":0},{"$f":"'IMPORTACIÓN DATOS ANUALES PVGIS'!T139","v":"00:00:00"},{"$f":"'IMPORTACIÓN DATOS ANUALES PVGIS'!U139","v":0},{"$f":"'IMPORTACIÓN DATOS ANUALES PVGIS'!W139","v":"00:00:00"},{"$f":"'IMPORTACIÓN DATOS ANUALES PVGIS'!X139","v":0},{"$f":"'IMPORTACIÓN DATOS ANUALES PVGIS'!Z139","v":"00:00:00"},{"$f":"'IMPORTACIÓN DATOS ANUALES PVGIS'!AA139","v":0},{"$f":"'IMPORTACIÓN DATOS ANUALES PVGIS'!AC139","v":"00:00:00"},{"$f":"'IMPORTACIÓN DATOS ANUALES PVGIS'!AD139","v":0},{"$f":"'IMPORTACIÓN DATOS ANUALES PVGIS'!AF139","v":"00:00:00"},{"$f":"'IMPORTACIÓN DATOS ANUALES PVGIS'!AG139","v":0},{"$f":"'IMPORTACIÓN DATOS ANUALES PVGIS'!AI139","v":"00:00:00"},{"$f":"'IMPORTACIÓN DATOS ANUALES PVGIS'!AJ139","v":0}]
[{"$f":"'IMPORTACIÓN DATOS ANUALES PVGIS'!B140","v":"00:00:00"},{"$f":"'IMPORTACIÓN DATOS ANUALES PVGIS'!C140","v":""},{"$f":"'IMPORTACIÓN DATOS ANUALES PVGIS'!E140","v":"00:00:00"},{"$f":"'IMPORTACIÓN DATOS ANUALES PVGIS'!F140","v":0},{"$f":"'IMPORTACIÓN DATOS ANUALES PVGIS'!H140","v":"00:00:00"},{"$f":"'IMPORTACIÓN DATOS ANUALES PVGIS'!I140","v":0},{"$f":"'IMPORTACIÓN DATOS ANUALES PVGIS'!K140","v":"00:00:00"},{"$f":"'IMPORTACIÓN DATOS ANUALES PVGIS'!L140","v":0},{"$f":"'IMPORTACIÓN DATOS ANUALES PVGIS'!N140","v":"00:00:00"},{"$f":"'IMPORTACIÓN DATOS ANUALES PVGIS'!O140","v":0},{"$f":"'IMPORTACIÓN DATOS ANUALES PVGIS'!Q140","v":"00:00:00"},{"$f":"'IMPORTACIÓN DATOS ANUALES PVGIS'!R140","v":0},{"$f":"'IMPORTACIÓN DATOS ANUALES PVGIS'!T140","v":"00:00:00"},{"$f":"'IMPORTACIÓN DATOS ANUALES PVGIS'!U140","v":0},{"$f":"'IMPORTACIÓN DATOS ANUALES PVGIS'!W140","v":"00:00:00"},{"$f":"'IMPORTACIÓN DATOS ANUALES PVGIS'!X140","v":0},{"$f":"'IMPORTACIÓN DATOS ANUALES PVGIS'!Z140","v":"00:00:00"},{"$f":"'IMPORTACIÓN DATOS ANUALES PVGIS'!AA140","v":0},{"$f":"'IMPORTACIÓN DATOS ANUALES PVGIS'!AC140","v":"00:00:00"},{"$f":"'IMPORTACIÓN DATOS ANUALES PVGIS'!AD140","v":0},{"$f":"'IMPORTACIÓN DATOS ANUALES PVGIS'!AF140","v":"00:00:00"},{"$f":"'IMPORTACIÓN DATOS ANUALES PVGIS'!AG140","v":0},{"$f":"'IMPORTACIÓN DATOS ANUALES PVGIS'!AI140","v":"00:00:00"},{"$f":"'IMPORTACIÓN DATOS ANUALES PVGIS'!AJ140","v":0}]
[{"$f":"'IMPORTACIÓN DATOS ANUALES PVGIS'!B141","v":"00:00:00"},{"$f":"'IMPORTACIÓN DATOS ANUALES PVGIS'!C141","v":""},{"$f":"'IMPORTACIÓN DATOS ANUALES PVGIS'!E141","v":"00:00:00"},{"$f":"'IMPORTACIÓN DATOS ANUALES PVGIS'!F141","v":0},{"$f":"'IMPORTACIÓN DATOS ANUALES PVGIS'!H141","v":"00:00:00"},{"$f":"'IMPORTACIÓN DATOS ANUALES PVGIS'!I141","v":0},{"$f":"'IMPORTACIÓN DATOS ANUALES PVGIS'!K141","v":"00:00:00"},{"$f":"'IMPORTACIÓN DATOS ANUALES PVGIS'!L141","v":0},{"$f":"'IMPORTACIÓN DATOS ANUALES PVGIS'!N141","v":"00:00:00"},{"$f":"'IMPORTACIÓN DATOS ANUALES PVGIS'!O141","v":0},{"$f":"'IMPORTACIÓN DATOS ANUALES PVGIS'!Q141","v":"00:00:00"},{"$f":"'IMPORTACIÓN DATOS ANUALES PVGIS'!R141","v":0},{"$f":"'IMPORTACIÓN DATOS ANUALES PVGIS'!T141","v":"00:00:00"},{"$f":"'IMPORTACIÓN DATOS ANUALES PVGIS'!U141","v":0},{"$f":"'IMPORTACIÓN DATOS ANUALES PVGIS'!W141","v":"00:00:00"},{"$f":"'IMPORTACIÓN DATOS ANUALES PVGIS'!X141","v":0},{"$f":"'IMPORTACIÓN DATOS ANUALES PVGIS'!Z141","v":"00:00:00"},{"$f":"'IMPORTACIÓN DATOS ANUALES PVGIS'!AA141","v":0},{"$f":"'IMPORTACIÓN DATOS ANUALES PVGIS'!AC141","v":"00:00:00"},{"$f":"'IMPORTACIÓN DATOS ANUALES PVGIS'!AD141","v":0},{"$f":"'IMPORTACIÓN DATOS ANUALES PVGIS'!AF141","v":"00:00:00"},{"$f":"'IMPORTACIÓN DATOS ANUALES PVGIS'!AG141","v":0},{"$f":"'IMPORTACIÓN DATOS ANUALES PVGIS'!AI141","v":"00:00:00"},{"$f":"'IMPORTACIÓN DATOS ANUALES PVGIS'!AJ141","v":0}]
[{"$f":"'IMPORTACIÓN DATOS ANUALES PVGIS'!B142","v":"00:00:00"},{"$f":"'IMPORTACIÓN DATOS ANUALES PVGIS'!C142","v":""},{"$f":"'IMPORTACIÓN DATOS ANUALES PVGIS'!E142","v":"00:00:00"},{"$f":"'IMPORTACIÓN DATOS ANUALES PVGIS'!F142","v":0},{"$f":"'IMPORTACIÓN DATOS ANUALES PVGIS'!H142","v":"00:00:00"},{"$f":"'IMPORTACIÓN DATOS ANUALES PVGIS'!I142","v":0},{"$f":"'IMPORTACIÓN DATOS ANUALES PVGIS'!K142","v":"00:00:00"},{"$f":"'IMPORTACIÓN DATOS ANUALES PVGIS'!L142","v":0},{"$f":"'IMPORTACIÓN DATOS ANUALES PVGIS'!N142","v":"00:00:00"},{"$f":"'IMPORTACIÓN DATOS ANUALES PVGIS'!O142","v":0},{"$f":"'IMPORTACIÓN DATOS ANUALES PVGIS'!Q142","v":"00:00:00"},{"$f":"'IMPORTACIÓN DATOS ANUALES PVGIS'!R142","v":0},{"$f":"'IMPORTACIÓN DATOS ANUALES PVGIS'!T142","v":"00:00:00"},{"$f":"'IMPORTACIÓN DATOS ANUALES PVGIS'!U142","v":0},{"$f":"'IMPORTACIÓN DATOS ANUALES PVGIS'!W142","v":"00:00:00"},{"$f":"'IMPORTACIÓN DATOS ANUALES PVGIS'!X142","v":0},{"$f":"'IMPORTACIÓN DATOS ANUALES PVGIS'!Z142","v":"00:00:00"},{"$f":"'IMPORTACIÓN DATOS ANUALES PVGIS'!AA142","v":0},{"$f":"'IMPORTACIÓN DATOS ANUALES PVGIS'!AC142","v":"00:00:00"},{"$f":"'IMPORTACIÓN DATOS ANUALES PVGIS'!AD142","v":0},{"$f":"'IMPORTACIÓN DATOS ANUALES PVGIS'!AF142","v":"00:00:00"},{"$f":"'IMPORTACIÓN DATOS ANUALES PVGIS'!AG142","v":0},{"$f":"'IMPORTACIÓN DATOS ANUALES PVGIS'!AI142","v":"00:00:00"},{"$f":"'IMPORTACIÓN DATOS ANUALES PVGIS'!AJ142","v":0}]
[{"$f":"'IMPORTACIÓN DATOS ANUALES PVGIS'!B143","v":"00:00:00"},{"$f":"'IMPORTACIÓN DATOS ANUALES PVGIS'!C143","v":""},{"$f":"'IMPORTACIÓN DATOS ANUALES PVGIS'!E143","v":"00:00:00"},{"$f":"'IMPORTACIÓN DATOS ANUALES PVGIS'!F143","v":0},{"$f":"'IMPORTACIÓN DATOS ANUALES PVGIS'!H143","v":"00:00:00"},{"$f":"'IMPORTACIÓN DATOS ANUALES PVGIS'!I143","v":0},{"$f":"'IMPORTACIÓN DATOS ANUALES PVGIS'!K143","v":"00:00:00"},{"$f":"'IMPORTACIÓN DATOS ANUALES PVGIS'!L143","v":0},{"$f":"'IMPORTACIÓN DATOS ANUALES PVGIS'!N143","v":"00:00:00"},{"$f":"'IMPORTACIÓN DATOS ANUALES PVGIS'!O143","v":0},{"$f":"'IMPORTACIÓN DATOS ANUALES PVGIS'!Q143","v":"00:00:00"},{"$f":"'IMPORTACIÓN DATOS ANUALES PVGIS'!R143","v":0},{"$f":"'IMPORTACIÓN DATOS ANUALES PVGIS'!T143","v":"00:00:00"},{"$f":"'IMPORTACIÓN DATOS ANUALES PVGIS'!U143","v":0},{"$f":"'IMPORTACIÓN DATOS ANUALES PVGIS'!W143","v":"00:00:00"},{"$f":"'IMPORTACIÓN DATOS ANUALES PVGIS'!X143","v":0},{"$f":"'IMPORTACIÓN DATOS ANUALES PVGIS'!Z143","v":"00:00:00"},{"$f":"'IMPORTACIÓN DATOS ANUALES PVGIS'!AA143","v":0},{"$f":"'IMPORTACIÓN DATOS ANUALES PVGIS'!AC143","v":"00:00:00"},{"$f":"'IMPORTACIÓN DATOS ANUALES PVGIS'!AD143","v":0},{"$f":"'IMPORTACIÓN DATOS ANUALES PVGIS'!AF143","v":"00:00:00"},{"$f":"'IMPORTACIÓN DATOS ANUALES PVGIS'!AG143","v":0},{"$f":"'IMPORTACIÓN DATOS ANUALES PVGIS'!AI143","v":"00:00:00"},{"$f":"'IMPORTACIÓN DATOS ANUALES PVGIS'!AJ143","v":0}]
[{"$f":"'IMPORTACIÓN DATOS ANUALES PVGIS'!B144","v":"00:00:00"},{"$f":"'IMPORTACIÓN DATOS ANUALES PVGIS'!C144","v":""},{"$f":"'IMPORTACIÓN DATOS ANUALES PVGIS'!E144","v":"00:00:00"},{"$f":"'IMPORTACIÓN DATOS ANUALES PVGIS'!F144","v":0},{"$f":"'IMPORTACIÓN DATOS ANUALES PVGIS'!H144","v":"00:00:00"},{"$f":"'IMPORTACIÓN DATOS ANUALES PVGIS'!I144","v":0},{"$f":"'IMPORTACIÓN DATOS ANUALES PVGIS'!K144","v":"00:00:00"},{"$f":"'IMPORTACIÓN DATOS ANUALES PVGIS'!L144","v":0},{"$f":"'IMPORTACIÓN DATOS ANUALES PVGIS'!N144","v":"00:00:00"},{"$f":"'IMPORTACIÓN DATOS ANUALES PVGIS'!O144","v":0},{"$f":"'IMPORTACIÓN DATOS ANUALES PVGIS'!Q144","v":"00:00:00"},{"$f":"'IMPORTACIÓN DATOS ANUALES PVGIS'!R144","v":0},{"$f":"'IMPORTACIÓN DATOS ANUALES PVGIS'!T144","v":"00:00:00"},{"$f":"'IMPORTACIÓN DATOS ANUALES PVGIS'!U144","v":0},{"$f":"'IMPORTACIÓN DATOS ANUALES PVGIS'!W144","v":"00:00:00"},{"$f":"'IMPORTACIÓN DATOS ANUALES PVGIS'!X144","v":0},{"$f":"'IMPORTACIÓN DATOS ANUALES PVGIS'!Z144","v":"00:00:00"},{"$f":"'IMPORTACIÓN DATOS ANUALES PVGIS'!AA144","v":0},{"$f":"'IMPORTACIÓN DATOS ANUALES PVGIS'!AC144","v":"00:00:00"},{"$f":"'IMPORTACIÓN DATOS ANUALES PVGIS'!AD144","v":0},{"$f":"'IMPORTACIÓN DATOS ANUALES PVGIS'!AF144","v":"00:00:00"},{"$f":"'IMPORTACIÓN DATOS ANUALES PVGIS'!AG144","v":0},{"$f":"'IMPORTACIÓN DATOS ANUALES PVGIS'!AI144","v":"00:00:00"},{"$f":"'IMPORTACIÓN DATOS ANUALES PVGIS'!AJ144","v":0}]
[{"$f":"'IMPORTACIÓN DATOS ANUALES PVGIS'!B145","v":"00:00:00"},{"$f":"'IMPORTACIÓN DATOS ANUALES PVGIS'!C145","v":""},{"$f":"'IMPORTACIÓN DATOS ANUALES PVGIS'!E145","v":"00:00:00"},{"$f":"'IMPORTACIÓN DATOS ANUALES PVGIS'!F145","v":0},{"$f":"'IMPORTACIÓN DATOS ANUALES PVGIS'!H145","v":"00:00:00"},{"$f":"'IMPORTACIÓN DATOS ANUALES PVGIS'!I145","v":0},{"$f":"'IMPORTACIÓN DATOS ANUALES PVGIS'!K145","v":"00:00:00"},{"$f":"'IMPORTACIÓN DATOS ANUALES PVGIS'!L145","v":0},{"$f":"'IMPORTACIÓN DATOS ANUALES PVGIS'!N145","v":"00:00:00"},{"$f":"'IMPORTACIÓN DATOS ANUALES PVGIS'!O145","v":0},{"$f":"'IMPORTACIÓN DATOS ANUALES PVGIS'!Q145","v":"00:00:00"},{"$f":"'IMPORTACIÓN DATOS ANUALES PVGIS'!R145","v":0},{"$f":"'IMPORTACIÓN DATOS ANUALES PVGIS'!T145","v":"00:00:00"},{"$f":"'IMPORTACIÓN DATOS ANUALES PVGIS'!U145","v":0},{"$f":"'IMPORTACIÓN DATOS ANUALES PVGIS'!W145","v":"00:00:00"},{"$f":"'IMPORTACIÓN DATOS ANUALES PVGIS'!X145","v":0},{"$f":"'IMPORTACIÓN DATOS ANUALES PVGIS'!Z145","v":"00:00:00"},{"$f":"'IMPORTACIÓN DATOS ANUALES PVGIS'!AA145","v":0},{"$f":"'IMPORTACIÓN DATOS ANUALES PVGIS'!AC145","v":"00:00:00"},{"$f":"'IMPORTACIÓN DATOS ANUALES PVGIS'!AD145","v":0},{"$f":"'IMPORTACIÓN DATOS ANUALES PVGIS'!AF145","v":"00:00:00"},{"$f":"'IMPORTACIÓN DATOS ANUALES PVGIS'!AG145","v":0},{"$f":"'IMPORTACIÓN DATOS ANUALES PVGIS'!AI145","v":"00:00:00"},{"$f":"'IMPORTACIÓN DATOS ANUALES PVGIS'!AJ145","v":0}]
[{"$f":"'IMPORTACIÓN DATOS ANUALES PVGIS'!B146","v":"00:00:00"},{"$f":"'IMPORTACIÓN DATOS ANUALES PVGIS'!C146","v":""},{"$f":"'IMPORTACIÓN DATOS ANUALES PVGIS'!E146","v":"00:00:00"},{"$f":"'IMPORTACIÓN DATOS ANUALES PVGIS'!F146","v":0},{"$f":"'IMPORTACIÓN DATOS ANUALES PVGIS'!H146","v":"00:00:00"},{"$f":"'IMPORTACIÓN DATOS ANUALES PVGIS'!I146","v":0},{"$f":"'IMPORTACIÓN DATOS ANUALES PVGIS'!K146","v":"00:00:00"},{"$f":"'IMPORTACIÓN DATOS ANUALES PVGIS'!L146","v":0},{"$f":"'IMPORTACIÓN DATOS ANUALES PVGIS'!N146","v":"00:00:00"},{"$f":"'IMPORTACIÓN DATOS ANUALES PVGIS'!O146","v":0},{"$f":"'IMPORTACIÓN DATOS ANUALES PVGIS'!Q146","v":"00:00:00"},{"$f":"'IMPORTACIÓN DATOS ANUALES PVGIS'!R146","v":0},{"$f":"'IMPORTACIÓN DATOS ANUALES PVGIS'!T146","v":"00:00:00"},{"$f":"'IMPORTACIÓN DATOS ANUALES PVGIS'!U146","v":0},{"$f":"'IMPORTACIÓN DATOS ANUALES PVGIS'!W146","v":"00:00:00"},{"$f":"'IMPORTACIÓN DATOS ANUALES PVGIS'!X146","v":0},{"$f":"'IMPORTACIÓN DATOS ANUALES PVGIS'!Z146","v":"00:00:00"},{"$f":"'IMPORTACIÓN DATOS ANUALES PVGIS'!AA146","v":0},{"$f":"'IMPORTACIÓN DATOS ANUALES PVGIS'!AC146","v":"00:00:00"},{"$f":"'IMPORTACIÓN DATOS ANUALES PVGIS'!AD146","v":0},{"$f":"'IMPORTACIÓN DATOS ANUALES PVGIS'!AF146","v":"00:00:00"},{"$f":"'IMPORTACIÓN DATOS ANUALES PVGIS'!AG146","v":0},{"$f":"'IMPORTACIÓN DATOS ANUALES PVGIS'!AI146","v":"00:00:00"},{"$f":"'IMPORTACIÓN DATOS ANUALES PVGIS'!AJ146","v":0}]
[{"$f":"'IMPORTACIÓN DATOS ANUALES PVGIS'!B147","v":"00:00:00"},{"$f":"'IMPORTACIÓN DATOS ANUALES PVGIS'!C147","v":""},{"$f":"'IMPORTACIÓN DATOS ANUALES PVGIS'!E147","v":"00:00:00"},{"$f":"'IMPORTACIÓN DATOS ANUALES PVGIS'!F147","v":0},{"$f":"'IMPORTACIÓN DATOS ANUALES PVGIS'!H147","v":"00:00:00"},{"$f":"'IMPORTACIÓN DATOS ANUALES PVGIS'!I147","v":0},{"$f":"'IMPORTACIÓN DATOS ANUALES PVGIS'!K147","v":"00:00:00"},{"$f":"'IMPORTACIÓN DATOS ANUALES PVGIS'!L147","v":0},{"$f":"'IMPORTACIÓN DATOS ANUALES PVGIS'!N147","v":"00:00:00"},{"$f":"'IMPORTACIÓN DATOS ANUALES PVGIS'!O147","v":0},{"$f":"'IMPORTACIÓN DATOS ANUALES PVGIS'!Q147","v":"00:00:00"},{"$f":"'IMPORTACIÓN DATOS ANUALES PVGIS'!R147","v":0},{"$f":"'IMPORTACIÓN DATOS ANUALES PVGIS'!T147","v":"00:00:00"},{"$f":"'IMPORTACIÓN DATOS ANUALES PVGIS'!U147","v":0},{"$f":"'IMPORTACIÓN DATOS ANUALES PVGIS'!W147","v":"00:00:00"},{"$f":"'IMPORTACIÓN DATOS ANUALES PVGIS'!X147","v":0},{"$f":"'IMPORTACIÓN DATOS ANUALES PVGIS'!Z147","v":"00:00:00"},{"$f":"'IMPORTACIÓN DATOS ANUALES PVGIS'!AA147","v":0},{"$f":"'IMPORTACIÓN DATOS ANUALES PVGIS'!AC147","v":"00:00:00"},{"$f":"'IMPORTACIÓN DATOS ANUALES PVGIS'!AD147","v":0},{"$f":"'IMPORTACIÓN DATOS ANUALES PVGIS'!AF147","v":"00:00:00"},{"$f":"'IMPORTACIÓN DATOS ANUALES PVGIS'!AG147","v":0},{"$f":"'IMPORTACIÓN DATOS ANUALES PVGIS'!AI147","v":"00:00:00"},{"$f":"'IMPORTACIÓN DATOS ANUALES PVGIS'!AJ147","v":0}]
[{"$f":"'IMPORTACIÓN DATOS ANUALES PVGIS'!B148","v":"00:00:00"},{"$f":"'IMPORTACIÓN DATOS ANUALES PVGIS'!C148","v":""},{"$f":"'IMPORTACIÓN DATOS ANUALES PVGIS'!E148","v":"00:00:00"},{"$f":"'IMPORTACIÓN DATOS ANUALES PVGIS'!F148","v":0},{"$f":"'IMPORTACIÓN DATOS ANUALES PVGIS'!H148","v":"00:00:00"},{"$f":"'IMPORTACIÓN DATOS ANUALES PVGIS'!I148","v":0},{"$f":"'IMPORTACIÓN DATOS ANUALES PVGIS'!K148","v":"00:00:00"},{"$f":"'IMPORTACIÓN DATOS ANUALES PVGIS'!L148","v":0},{"$f":"'IMPORTACIÓN DATOS ANUALES PVGIS'!N148","v":"00:00:00"},{"$f":"'IMPORTACIÓN DATOS ANUALES PVGIS'!O148","v":0},{"$f":"'IMPORTACIÓN DATOS ANUALES PVGIS'!Q148","v":"00:00:00"},{"$f":"'IMPORTACIÓN DATOS ANUALES PVGIS'!R148","v":0},{"$f":"'IMPORTACIÓN DATOS ANUALES PVGIS'!T148","v":"00:00:00"},{"$f":"'IMPORTACIÓN DATOS ANUALES PVGIS'!U148","v":0},{"$f":"'IMPORTACIÓN DATOS ANUALES PVGIS'!W148","v":"00:00:00"},{"$f":"'IMPORTACIÓN DATOS ANUALES PVGIS'!X148","v":0},{"$f":"'IMPORTACIÓN DATOS ANUALES PVGIS'!Z148","v":"00:00:00"},{"$f":"'IMPORTACIÓN DATOS ANUALES PVGIS'!AA148","v":0},{"$f":"'IMPORTACIÓN DATOS ANUALES PVGIS'!AC148","v":"00:00:00"},{"$f":"'IMPORTACIÓN DATOS ANUALES PVGIS'!AD148","v":0},{"$f":"'IMPORTACIÓN DATOS ANUALES PVGIS'!AF148","v":"00:00:00"},{"$f":"'IMPORTACIÓN DATOS ANUALES PVGIS'!AG148","v":0},{"$f":"'IMPORTACIÓN DATOS ANUALES PVGIS'!AI148","v":"00:00:00"},{"$f":"'IMPORTACIÓN DATOS ANUALES PVGIS'!AJ148","v":0}]
[{"$f":"'IMPORTACIÓN DATOS ANUALES PVGIS'!B149","v":"00:00:00"},{"$f":"'IMPORTACIÓN DATOS ANUALES PVGIS'!C149","v":""},{"$f":"'IMPORTACIÓN DATOS ANUALES PVGIS'!E149","v":"00:00:00"},{"$f":"'IMPORTACIÓN DATOS ANUALES PVGIS'!F149","v":0},{"$f":"'IMPORTACIÓN DATOS ANUALES PVGIS'!H149","v":"00:00:00"},{"$f":"'IMPORTACIÓN DATOS ANUALES PVGIS'!I149","v":0},{"$f":"'IMPORTACIÓN DATOS ANUALES PVGIS'!K149","v":"00:00:00"},{"$f":"'IMPORTACIÓN DATOS ANUALES PVGIS'!L149","v":0},{"$f":"'IMPORTACIÓN DATOS ANUALES PVGIS'!N149","v":"00:00:00"},{"$f":"'IMPORTACIÓN DATOS ANUALES PVGIS'!O149","v":0},{"$f":"'IMPORTACIÓN DATOS ANUALES PVGIS'!Q149","v":"00:00:00"},{"$f":"'IMPORTACIÓN DATOS ANUALES PVGIS'!R149","v":0},{"$f":"'IMPORTACIÓN DATOS ANUALES PVGIS'!T149","v":"00:00:00"},{"$f":"'IMPORTACIÓN DATOS ANUALES PVGIS'!U149","v":0},{"$f":"'IMPORTACIÓN DATOS ANUALES PVGIS'!W149","v":"00:00:00"},{"$f":"'IMPORTACIÓN DATOS ANUALES PVGIS'!X149","v":0},{"$f":"'IMPORTACIÓN DATOS ANUALES PVGIS'!Z149","v":"00:00:00"},{"$f":"'IMPORTACIÓN DATOS ANUALES PVGIS'!AA149","v":0},{"$f":"'IMPORTACIÓN DATOS ANUALES PVGIS'!AC149","v":"00:00:00"},{"$f":"'IMPORTACIÓN DATOS ANUALES PVGIS'!AD149","v":0},{"$f":"'IMPORTACIÓN DATOS ANUALES PVGIS'!AF149","v":"00:00:00"},{"$f":"'IMPORTACIÓN DATOS ANUALES PVGIS'!AG149","v":0},{"$f":"'IMPORTACIÓN DATOS ANUALES PVGIS'!AI149","v":"00:00:00"},{"$f":"'IMPORTACIÓN DATOS ANUALES PVGIS'!AJ149","v":0}]
[{"$f":"'IMPORTACIÓN DATOS ANUALES PVGIS'!B150","v":"00:00:00"},{"$f":"'IMPORTACIÓN DATOS ANUALES PVGIS'!C150","v":""},{"$f":"'IMPORTACIÓN DATOS ANUALES PVGIS'!E150","v":"00:00:00"},{"$f":"'IMPORTACIÓN DATOS ANUALES PVGIS'!F150","v":0},{"$f":"'IMPORTACIÓN DATOS ANUALES PVGIS'!H150","v":"00:00:00"},{"$f":"'IMPORTACIÓN DATOS ANUALES PVGIS'!I150","v":0},{"$f":"'IMPORTACIÓN DATOS ANUALES PVGIS'!K150","v":"00:00:00"},{"$f":"'IMPORTACIÓN DATOS ANUALES PVGIS'!L150","v":0},{"$f":"'IMPORTACIÓN DATOS ANUALES PVGIS'!N150","v":"00:00:00"},{"$f":"'IMPORTACIÓN DATOS ANUALES PVGIS'!O150","v":0},{"$f":"'IMPORTACIÓN DATOS ANUALES PVGIS'!Q150","v":"00:00:00"},{"$f":"'IMPORTACIÓN DATOS ANUALES PVGIS'!R150","v":0},{"$f":"'IMPORTACIÓN DATOS ANUALES PVGIS'!T150","v":"00:00:00"},{"$f":"'IMPORTACIÓN DATOS ANUALES PVGIS'!U150","v":0},{"$f":"'IMPORTACIÓN DATOS ANUALES PVGIS'!W150","v":"00:00:00"},{"$f":"'IMPORTACIÓN DATOS ANUALES PVGIS'!X150","v":0},{"$f":"'IMPORTACIÓN DATOS ANUALES PVGIS'!Z150","v":"00:00:00"},{"$f":"'IMPORTACIÓN DATOS ANUALES PVGIS'!AA150","v":0},{"$f":"'IMPORTACIÓN DATOS ANUALES PVGIS'!AC150","v":"00:00:00"},{"$f":"'IMPORTACIÓN DATOS ANUALES PVGIS'!AD150","v":0},{"$f":"'IMPORTACIÓN DATOS ANUALES PVGIS'!AF150","v":"00:00:00"},{"$f":"'IMPORTACIÓN DATOS ANUALES PVGIS'!AG150","v":0},{"$f":"'IMPORTACIÓN DATOS ANUALES PVGIS'!AI150","v":"00:00:00"},{"$f":"'IMPORTACIÓN DATOS ANUALES PVGIS'!AJ150","v":0}]
[{"$f":"'IMPORTACIÓN DATOS ANUALES PVGIS'!B151","v":"00:00:00"},{"$f":"'IMPORTACIÓN DATOS ANUALES PVGIS'!C151","v":""},{"$f":"'IMPORTACIÓN DATOS ANUALES PVGIS'!E151","v":"00:00:00"},{"$f":"'IMPORTACIÓN DATOS ANUALES PVGIS'!F151","v":0},{"$f":"'IMPORTACIÓN DATOS ANUALES PVGIS'!H151","v":"00:00:00"},{"$f":"'IMPORTACIÓN DATOS ANUALES PVGIS'!I151","v":0},{"$f":"'IMPORTACIÓN DATOS ANUALES PVGIS'!K151","v":"00:00:00"},{"$f":"'IMPORTACIÓN DATOS ANUALES PVGIS'!L151","v":0},{"$f":"'IMPORTACIÓN DATOS ANUALES PVGIS'!N151","v":"00:00:00"},{"$f":"'IMPORTACIÓN DATOS ANUALES PVGIS'!O151","v":0},{"$f":"'IMPORTACIÓN DATOS ANUALES PVGIS'!Q151","v":"00:00:00"},{"$f":"'IMPORTACIÓN DATOS ANUALES PVGIS'!R151","v":0},{"$f":"'IMPORTACIÓN DATOS ANUALES PVGIS'!T151","v":"00:00:00"},{"$f":"'IMPORTACIÓN DATOS ANUALES PVGIS'!U151","v":0},{"$f":"'IMPORTACIÓN DATOS ANUALES PVGIS'!W151","v":"00:00:00"},{"$f":"'IMPORTACIÓN DATOS ANUALES PVGIS'!X151","v":0},{"$f":"'IMPORTACIÓN DATOS ANUALES PVGIS'!Z151","v":"00:00:00"},{"$f":"'IMPORTACIÓN DATOS ANUALES PVGIS'!AA151","v":0},{"$f":"'IMPORTACIÓN DATOS ANUALES PVGIS'!AC151","v":"00:00:00"},{"$f":"'IMPORTACIÓN DATOS ANUALES PVGIS'!AD151","v":0},{"$f":"'IMPORTACIÓN DATOS ANUALES PVGIS'!AF151","v":"00:00:00"},{"$f":"'IMPORTACIÓN DATOS ANUALES PVGIS'!AG151","v":0},{"$f":"'IMPORTACIÓN DATOS ANUALES PVGIS'!AI151","v":"00:00:00"},{"$f":"'IMPORTACIÓN DATOS ANUALES PVGIS'!AJ151","v":0}]
[{"$f":"'IMPORTACIÓN DATOS ANUALES PVGIS'!B152","v":"00:00:00"},{"$f":"'IMPORTACIÓN DATOS ANUALES PVGIS'!C152","v":""},{"$f":"'IMPORTACIÓN DATOS ANUALES PVGIS'!E152","v":"00:00:00"},{"$f":"'IMPORTACIÓN DATOS ANUALES PVGIS'!F152","v":0},{"$f":"'IMPORTACIÓN DATOS ANUALES PVGIS'!H152","v":"00:00:00"},{"$f":"'IMPORTACIÓN DATOS ANUALES PVGIS'!I152","v":0},{"$f":"'IMPORTACIÓN DATOS ANUALES PVGIS'!K152","v":"00:00:00"},{"$f":"'IMPORTACIÓN DATOS ANUALES PVGIS'!L152","v":0},{"$f":"'IMPORTACIÓN DATOS ANUALES PVGIS'!N152","v":"00:00:00"},{"$f":"'IMPORTACIÓN DATOS ANUALES PVGIS'!O152","v":0},{"$f":"'IMPORTACIÓN DATOS ANUALES PVGIS'!Q152","v":"00:00:00"},{"$f":"'IMPORTACIÓN DATOS ANUALES PVGIS'!R152","v":0},{"$f":"'IMPORTACIÓN DATOS ANUALES PVGIS'!T152","v":"00:00:00"},{"$f":"'IMPORTACIÓN DATOS ANUALES PVGIS'!U152","v":0},{"$f":"'IMPORTACIÓN DATOS ANUALES PVGIS'!W152","v":"00:00:00"},{"$f":"'IMPORTACIÓN DATOS ANUALES PVGIS'!X152","v":0},{"$f":"'IMPORTACIÓN DATOS ANUALES PVGIS'!Z152","v":"00:00:00"},{"$f":"'IMPORTACIÓN DATOS ANUALES PVGIS'!AA152","v":0},{"$f":"'IMPORTACIÓN DATOS ANUALES PVGIS'!AC152","v":"00:00:00"},{"$f":"'IMPORTACIÓN DATOS ANUALES PVGIS'!AD152","v":0},{"$f":"'IMPORTACIÓN DATOS ANUALES PVGIS'!AF152","v":"00:00:00"},{"$f":"'IMPORTACIÓN DATOS ANUALES PVGIS'!AG152","v":0},{"$f":"'IMPORTACIÓN DATOS ANUALES PVGIS'!AI152","v":"00:00:00"},{"$f":"'IMPORTACIÓN DATOS ANUALES PVGIS'!AJ152","v":0}]
[{"$f":"'IMPORTACIÓN DATOS ANUALES PVGIS'!B153","v":"00:00:00"},{"$f":"'IMPORTACIÓN DATOS ANUALES PVGIS'!C153","v":""},{"$f":"'IMPORTACIÓN DATOS ANUALES PVGIS'!E153","v":"00:00:00"},{"$f":"'IMPORTACIÓN DATOS ANUALES PVGIS'!F153","v":0},{"$f":"'IMPORTACIÓN DATOS ANUALES PVGIS'!H153","v":"00:00:00"},{"$f":"'IMPORTACIÓN DATOS ANUALES PVGIS'!I153","v":0},{"$f":"'IMPORTACIÓN DATOS ANUALES PVGIS'!K153","v":"00:00:00"},{"$f":"'IMPORTACIÓN DATOS ANUALES PVGIS'!L153","v":0},{"$f":"'IMPORTACIÓN DATOS ANUALES PVGIS'!N153","v":"00:00:00"},{"$f":"'IMPORTACIÓN DATOS ANUALES PVGIS'!O153","v":0},{"$f":"'IMPORTACIÓN DATOS ANUALES PVGIS'!Q153","v":"00:00:00"},{"$f":"'IMPORTACIÓN DATOS ANUALES PVGIS'!R153","v":0},{"$f":"'IMPORTACIÓN DATOS ANUALES PVGIS'!T153","v":"00:00:00"},{"$f":"'IMPORTACIÓN DATOS ANUALES PVGIS'!U153","v":0},{"$f":"'IMPORTACIÓN DATOS ANUALES PVGIS'!W153","v":"00:00:00"},{"$f":"'IMPORTACIÓN DATOS ANUALES PVGIS'!X153","v":0},{"$f":"'IMPORTACIÓN DATOS ANUALES PVGIS'!Z153","v":"00:00:00"},{"$f":"'IMPORTACIÓN DATOS ANUALES PVGIS'!AA153","v":0},{"$f":"'IMPORTACIÓN DATOS ANUALES PVGIS'!AC153","v":"00:00:00"},{"$f":"'IMPORTACIÓN DATOS ANUALES PVGIS'!AD153","v":0},{"$f":"'IMPORTACIÓN DATOS ANUALES PVGIS'!AF153","v":"00:00:00"},{"$f":"'IMPORTACIÓN DATOS ANUALES PVGIS'!AG153","v":0},{"$f":"'IMPORTACIÓN DATOS ANUALES PVGIS'!AI153","v":"00:00:00"},{"$f":"'IMPORTACIÓN DATOS ANUALES PVGIS'!AJ153","v":0}]
[{"$f":"'IMPORTACIÓN DATOS ANUALES PVGIS'!B154","v":"00:00:00"},{"$f":"'IMPORTACIÓN DATOS ANUALES PVGIS'!C154","v":""},{"$f":"'IMPORTACIÓN DATOS ANUALES PVGIS'!E154","v":"00:00:00"},{"$f":"'IMPORTACIÓN DATOS ANUALES PVGIS'!F154","v":0},{"$f":"'IMPORTACIÓN DATOS ANUALES PVGIS'!H154","v":"00:00:00"},{"$f":"'IMPORTACIÓN DATOS ANUALES PVGIS'!I154","v":0},{"$f":"'IMPORTACIÓN DATOS ANUALES PVGIS'!K154","v":"00:00:00"},{"$f":"'IMPORTACIÓN DATOS ANUALES PVGIS'!L154","v":0},{"$f":"'IMPORTACIÓN DATOS ANUALES PVGIS'!N154","v":"00:00:00"},{"$f":"'IMPORTACIÓN DATOS ANUALES PVGIS'!O154","v":0},{"$f":"'IMPORTACIÓN DATOS ANUALES PVGIS'!Q154","v":"00:00:00"},{"$f":"'IMPORTACIÓN DATOS ANUALES PVGIS'!R154","v":0},{"$f":"'IMPORTACIÓN DATOS ANUALES PVGIS'!T154","v":"00:00:00"},{"$f":"'IMPORTACIÓN DATOS ANUALES PVGIS'!U154","v":0},{"$f":"'IMPORTACIÓN DATOS ANUALES PVGIS'!W154","v":"00:00:00"},{"$f":"'IMPORTACIÓN DATOS ANUALES PVGIS'!X154","v":0},{"$f":"'IMPORTACIÓN DATOS ANUALES PVGIS'!Z154","v":"00:00:00"},{"$f":"'IMPORTACIÓN DATOS ANUALES PVGIS'!AA154","v":0},{"$f":"'IMPORTACIÓN DATOS ANUALES PVGIS'!AC154","v":"00:00:00"},{"$f":"'IMPORTACIÓN DATOS ANUALES PVGIS'!AD154","v":0},{"$f":"'IMPORTACIÓN DATOS ANUALES PVGIS'!AF154","v":"00:00:00"},{"$f":"'IMPORTACIÓN DATOS ANUALES PVGIS'!AG154","v":0},{"$f":"'IMPORTACIÓN DATOS ANUALES PVGIS'!AI154","v":"00:00:00"},{"$f":"'IMPORTACIÓN DATOS ANUALES PVGIS'!AJ154","v":0}]
[{"$f":"'IMPORTACIÓN DATOS ANUALES PVGIS'!B155","v":"00:00:00"},{"$f":"'IMPORTACIÓN DATOS ANUALES PVGIS'!C155","v":""},{"$f":"'IMPORTACIÓN DATOS ANUALES PVGIS'!E155","v":"00:00:00"},{"$f":"'IMPORTACIÓN DATOS ANUALES PVGIS'!F155","v":0},{"$f":"'IMPORTACIÓN DATOS ANUALES PVGIS'!H155","v":"00:00:00"},{"$f":"'IMPORTACIÓN DATOS ANUALES PVGIS'!I155","v":0},{"$f":"'IMPORTACIÓN DATOS ANUALES PVGIS'!K155","v":"00:00:00"},{"$f":"'IMPORTACIÓN DATOS ANUALES PVGIS'!L155","v":0},{"$f":"'IMPORTACIÓN DATOS ANUALES PVGIS'!N155","v":"00:00:00"},{"$f":"'IMPORTACIÓN DATOS ANUALES PVGIS'!O155","v":0},{"$f":"'IMPORTACIÓN DATOS ANUALES PVGIS'!Q155","v":"00:00:00"},{"$f":"'IMPORTACIÓN DATOS ANUALES PVGIS'!R155","v":0},{"$f":"'IMPORTACIÓN DATOS ANUALES PVGIS'!T155","v":"00:00:00"},{"$f":"'IMPORTACIÓN DATOS ANUALES PVGIS'!U155","v":0},{"$f":"'IMPORTACIÓN DATOS ANUALES PVGIS'!W155","v":"00:00:00"},{"$f":"'IMPORTACIÓN DATOS ANUALES PVGIS'!X155","v":0},{"$f":"'IMPORTACIÓN DATOS ANUALES PVGIS'!Z155","v":"00:00:00"},{"$f":"'IMPORTACIÓN DATOS ANUALES PVGIS'!AA155","v":0},{"$f":"'IMPORTACIÓN DATOS ANUALES PVGIS'!AC155","v":"00:00:00"},{"$f":"'IMPORTACIÓN DATOS ANUALES PVGIS'!AD155","v":0},{"$f":"'IMPORTACIÓN DATOS ANUALES PVGIS'!AF155","v":"00:00:00"},{"$f":"'IMPORTACIÓN DATOS ANUALES PVGIS'!AG155","v":0},{"$f":"'IMPORTACIÓN DATOS ANUALES PVGIS'!AI155","v":"00:00:00"},{"$f":"'IMPORTACIÓN DATOS ANUALES PVGIS'!AJ155","v":0}]
[{"$f":"'IMPORTACIÓN DATOS ANUALES PVGIS'!B156","v":"00:00:00"},{"$f":"'IMPORTACIÓN DATOS ANUALES PVGIS'!C156","v":""},{"$f":"'IMPORTACIÓN DATOS ANUALES PVGIS'!E156","v":"00:00:00"},{"$f":"'IMPORTACIÓN DATOS ANUALES PVGIS'!F156","v":0},{"$f":"'IMPORTACIÓN DATOS ANUALES PVGIS'!H156","v":"00:00:00"},{"$f":"'IMPORTACIÓN DATOS ANUALES PVGIS'!I156","v":0},{"$f":"'IMPORTACIÓN DATOS ANUALES PVGIS'!K156","v":"00:00:00"},{"$f":"'IMPORTACIÓN DATOS ANUALES PVGIS'!L156","v":0},{"$f":"'IMPORTACIÓN DATOS ANUALES PVGIS'!N156","v":"00:00:00"},{"$f":"'IMPORTACIÓN DATOS ANUALES PVGIS'!O156","v":0},{"$f":"'IMPORTACIÓN DATOS ANUALES PVGIS'!Q156","v":"00:00:00"},{"$f":"'IMPORTACIÓN DATOS ANUALES PVGIS'!R156","v":0},{"$f":"'IMPORTACIÓN DATOS ANUALES PVGIS'!T156","v":"00:00:00"},{"$f":"'IMPORTACIÓN DATOS ANUALES PVGIS'!U156","v":0},{"$f":"'IMPORTACIÓN DATOS ANUALES PVGIS'!W156","v":"00:00:00"},{"$f":"'IMPORTACIÓN DATOS ANUALES PVGIS'!X156","v":0},{"$f":"'IMPORTACIÓN DATOS ANUALES PVGIS'!Z156","v":"00:00:00"},{"$f":"'IMPORTACIÓN DATOS ANUALES PVGIS'!AA156","v":0},{"$f":"'IMPORTACIÓN DATOS ANUALES PVGIS'!AC156","v":"00:00:00"},{"$f":"'IMPORTACIÓN DATOS ANUALES PVGIS'!AD156","v":0},{"$f":"'IMPORTACIÓN DATOS ANUALES PVGIS'!AF156","v":"00:00:00"},{"$f":"'IMPORTACIÓN DATOS ANUALES PVGIS'!AG156","v":0},{"$f":"'IMPORTACIÓN DATOS ANUALES PVGIS'!AI156","v":"00:00:00"},{"$f":"'IMPORTACIÓN DATOS ANUALES PVGIS'!AJ156","v":0}]
[{"$f":"'IMPORTACIÓN DATOS ANUALES PVGIS'!B157","v":"00:00:00"},{"$f":"'IMPORTACIÓN DATOS ANUALES PVGIS'!C157","v":""},{"$f":"'IMPORTACIÓN DATOS ANUALES PVGIS'!E157","v":"00:00:00"},{"$f":"'IMPORTACIÓN DATOS ANUALES PVGIS'!F157","v":0},{"$f":"'IMPORTACIÓN DATOS ANUALES PVGIS'!H157","v":"00:00:00"},{"$f":"'IMPORTACIÓN DATOS ANUALES PVGIS'!I157","v":0},{"$f":"'IMPORTACIÓN DATOS ANUALES PVGIS'!K157","v":"00:00:00"},{"$f":"'IMPORTACIÓN DATOS ANUALES PVGIS'!L157","v":0},{"$f":"'IMPORTACIÓN DATOS ANUALES PVGIS'!N157","v":"00:00:00"},{"$f":"'IMPORTACIÓN DATOS ANUALES PVGIS'!O157","v":0},{"$f":"'IMPORTACIÓN DATOS ANUALES PVGIS'!Q157","v":"00:00:00"},{"$f":"'IMPORTACIÓN DATOS ANUALES PVGIS'!R157","v":0},{"$f":"'IMPORTACIÓN DATOS ANUALES PVGIS'!T157","v":"00:00:00"},{"$f":"'IMPORTACIÓN DATOS ANUALES PVGIS'!U157","v":0},{"$f":"'IMPORTACIÓN DATOS ANUALES PVGIS'!W157","v":"00:00:00"},{"$f":"'IMPORTACIÓN DATOS ANUALES PVGIS'!X157","v":0},{"$f":"'IMPORTACIÓN DATOS ANUALES PVGIS'!Z157","v":"00:00:00"},{"$f":"'IMPORTACIÓN DATOS ANUALES PVGIS'!AA157","v":0},{"$f":"'IMPORTACIÓN DATOS ANUALES PVGIS'!AC157","v":"00:00:00"},{"$f":"'IMPORTACIÓN DATOS ANUALES PVGIS'!AD157","v":0},{"$f":"'IMPORTACIÓN DATOS ANUALES PVGIS'!AF157","v":"00:00:00"},{"$f":"'IMPORTACIÓN DATOS ANUALES PVGIS'!AG157","v":0},{"$f":"'IMPORTACIÓN DATOS ANUALES PVGIS'!AI157","v":"00:00:00"},{"$f":"'IMPORTACIÓN DATOS ANUALES PVGIS'!AJ157","v":0}]
[{"$f":"'IMPORTACIÓN DATOS ANUALES PVGIS'!B158","v":"00:00:00"},{"$f":"'IMPORTACIÓN DATOS ANUALES PVGIS'!C158","v":""},{"$f":"'IMPORTACIÓN DATOS ANUALES PVGIS'!E158","v":"00:00:00"},{"$f":"'IMPORTACIÓN DATOS ANUALES PVGIS'!F158","v":0},{"$f":"'IMPORTACIÓN DATOS ANUALES PVGIS'!H158","v":"00:00:00"},{"$f":"'IMPORTACIÓN DATOS ANUALES PVGIS'!I158","v":0},{"$f":"'IMPORTACIÓN DATOS ANUALES PVGIS'!K158","v":"00:00:00"},{"$f":"'IMPORTACIÓN DATOS ANUALES PVGIS'!L158","v":0},{"$f":"'IMPORTACIÓN DATOS ANUALES PVGIS'!N158","v":"00:00:00"},{"$f":"'IMPORTACIÓN DATOS ANUALES PVGIS'!O158","v":0},{"$f":"'IMPORTACIÓN DATOS ANUALES PVGIS'!Q158","v":"00:00:00"},{"$f":"'IMPORTACIÓN DATOS ANUALES PVGIS'!R158","v":0},{"$f":"'IMPORTACIÓN DATOS ANUALES PVGIS'!T158","v":"00:00:00"},{"$f":"'IMPORTACIÓN DATOS ANUALES PVGIS'!U158","v":0},{"$f":"'IMPORTACIÓN DATOS ANUALES PVGIS'!W158","v":"00:00:00"},{"$f":"'IMPORTACIÓN DATOS ANUALES PVGIS'!X158","v":0},{"$f":"'IMPORTACIÓN DATOS ANUALES PVGIS'!Z158","v":"00:00:00"},{"$f":"'IMPORTACIÓN DATOS ANUALES PVGIS'!AA158","v":0},{"$f":"'IMPORTACIÓN DATOS ANUALES PVGIS'!AC158","v":"00:00:00"},{"$f":"'IMPORTACIÓN DATOS ANUALES PVGIS'!AD158","v":0},{"$f":"'IMPORTACIÓN DATOS ANUALES PVGIS'!AF158","v":"00:00:00"},{"$f":"'IMPORTACIÓN DATOS ANUALES PVGIS'!AG158","v":0},{"$f":"'IMPORTACIÓN DATOS ANUALES PVGIS'!AI158","v":"00:00:00"},{"$f":"'IMPORTACIÓN DATOS ANUALES PVGIS'!AJ158","v":0}]
[{"$f":"'IMPORTACIÓN DATOS ANUALES PVGIS'!B159","v":"00:00:00"},{"$f":"'IMPORTACIÓN DATOS ANUALES PVGIS'!C159","v":""},{"$f":"'IMPORTACIÓN DATOS ANUALES PVGIS'!E159","v":"00:00:00"},{"$f":"'IMPORTACIÓN DATOS ANUALES PVGIS'!F159","v":0},{"$f":"'IMPORTACIÓN DATOS ANUALES PVGIS'!H159","v":"00:00:00"},{"$f":"'IMPORTACIÓN DATOS ANUALES PVGIS'!I159","v":0},{"$f":"'IMPORTACIÓN DATOS ANUALES PVGIS'!K159","v":"00:00:00"},{"$f":"'IMPORTACIÓN DATOS ANUALES PVGIS'!L159","v":0},{"$f":"'IMPORTACIÓN DATOS ANUALES PVGIS'!N159","v":"00:00:00"},{"$f":"'IMPORTACIÓN DATOS ANUALES PVGIS'!O159","v":0},{"$f":"'IMPORTACIÓN DATOS ANUALES PVGIS'!Q159","v":"00:00:00"},{"$f":"'IMPORTACIÓN DATOS ANUALES PVGIS'!R159","v":0},{"$f":"'IMPORTACIÓN DATOS ANUALES PVGIS'!T159","v":"00:00:00"},{"$f":"'IMPORTACIÓN DATOS ANUALES PVGIS'!U159","v":0},{"$f":"'IMPORTACIÓN DATOS ANUALES PVGIS'!W159","v":"00:00:00"},{"$f":"'IMPORTACIÓN DATOS ANUALES PVGIS'!X159","v":0},{"$f":"'IMPORTACIÓN DATOS ANUALES PVGIS'!Z159","v":"00:00:00"},{"$f":"'IMPORTACIÓN DATOS ANUALES PVGIS'!AA159","v":0},{"$f":"'IMPORTACIÓN DATOS ANUALES PVGIS'!AC159","v":"00:00:00"},{"$f":"'IMPORTACIÓN DATOS ANUALES PVGIS'!AD159","v":0},{"$f":"'IMPORTACIÓN DATOS ANUALES PVGIS'!AF159","v":"00:00:00"},{"$f":"'IMPORTACIÓN DATOS ANUALES PVGIS'!AG159","v":0},{"$f":"'IMPORTACIÓN DATOS ANUALES PVGIS'!AI159","v":"00:00:00"},{"$f":"'IMPORTACIÓN DATOS ANUALES PVGIS'!AJ159","v":0}]
[{"$f":"'IMPORTACIÓN DATOS ANUALES PVGIS'!B160","v":"00:00:00"},{"$f":"'IMPORTACIÓN DATOS ANUALES PVGIS'!C160","v":""},{"$f":"'IMPORTACIÓN DATOS ANUALES PVGIS'!E160","v":"00:00:00"},{"$f":"'IMPORTACIÓN DATOS ANUALES PVGIS'!F160","v":0},{"$f":"'IMPORTACIÓN DATOS ANUALES PVGIS'!H160","v":"00:00:00"},{"$f":"'IMPORTACIÓN DATOS ANUALES PVGIS'!I160","v":0},{"$f":"'IMPORTACIÓN DATOS ANUALES PVGIS'!K160","v":"00:00:00"},{"$f":"'IMPORTACIÓN DATOS ANUALES PVGIS'!L160","v":0},{"$f":"'IMPORTACIÓN DATOS ANUALES PVGIS'!N160","v":"00:00:00"},{"$f":"'IMPORTACIÓN DATOS ANUALES PVGIS'!O160","v":0},{"$f":"'IMPORTACIÓN DATOS ANUALES PVGIS'!Q160","v":"00:00:00"},{"$f":"'IMPORTACIÓN DATOS ANUALES PVGIS'!R160","v":0},{"$f":"'IMPORTACIÓN DATOS ANUALES PVGIS'!T160","v":"00:00:00"},{"$f":"'IMPORTACIÓN DATOS ANUALES PVGIS'!U160","v":0},{"$f":"'IMPORTACIÓN DATOS ANUALES PVGIS'!W160","v":"00:00:00"},{"$f":"'IMPORTACIÓN DATOS ANUALES PVGIS'!X160","v":0},{"$f":"'IMPORTACIÓN DATOS ANUALES PVGIS'!Z160","v":"00:00:00"},{"$f":"'IMPORTACIÓN DATOS ANUALES PVGIS'!AA160","v":0},{"$f":"'IMPORTACIÓN DATOS ANUALES PVGIS'!AC160","v":"00:00:00"},{"$f":"'IMPORTACIÓN DATOS ANUALES PVGIS'!AD160","v":0},{"$f":"'IMPORTACIÓN DATOS ANUALES PVGIS'!AF160","v":"00:00:00"},{"$f":"'IMPORTACIÓN DATOS ANUALES PVGIS'!AG160","v":0},{"$f":"'IMPORTACIÓN DATOS ANUALES PVGIS'!AI160","v":"00:00:00"},{"$f":"'IMPORTACIÓN DATOS ANUALES PVGIS'!AJ160","v":0}]
[{"$f":"'IMPORTACIÓN DATOS ANUALES PVGIS'!B161","v":"00:00:00"},{"$f":"'IMPORTACIÓN DATOS ANUALES PVGIS'!C161","v":""},{"$f":"'IMPORTACIÓN DATOS ANUALES PVGIS'!E161","v":"00:00:00"},{"$f":"'IMPORTACIÓN DATOS ANUALES PVGIS'!F161","v":0},{"$f":"'IMPORTACIÓN DATOS ANUALES PVGIS'!H161","v":"00:00:00"},{"$f":"'IMPORTACIÓN DATOS ANUALES PVGIS'!I161","v":0},{"$f":"'IMPORTACIÓN DATOS ANUALES PVGIS'!K161","v":"00:00:00"},{"$f":"'IMPORTACIÓN DATOS ANUALES PVGIS'!L161","v":0},{"$f":"'IMPORTACIÓN DATOS ANUALES PVGIS'!N161","v":"00:00:00"},{"$f":"'IMPORTACIÓN DATOS ANUALES PVGIS'!O161","v":0},{"$f":"'IMPORTACIÓN DATOS ANUALES PVGIS'!Q161","v":"00:00:00"},{"$f":"'IMPORTACIÓN DATOS ANUALES PVGIS'!R161","v":0},{"$f":"'IMPORTACIÓN DATOS ANUALES PVGIS'!T161","v":"00:00:00"},{"$f":"'IMPORTACIÓN DATOS ANUALES PVGIS'!U161","v":0},{"$f":"'IMPORTACIÓN DATOS ANUALES PVGIS'!W161","v":"00:00:00"},{"$f":"'IMPORTACIÓN DATOS ANUALES PVGIS'!X161","v":0},{"$f":"'IMPORTACIÓN DATOS ANUALES PVGIS'!Z161","v":"00:00:00"},{"$f":"'IMPORTACIÓN DATOS ANUALES PVGIS'!AA161","v":0},{"$f":"'IMPORTACIÓN DATOS ANUALES PVGIS'!AC161","v":"00:00:00"},{"$f":"'IMPORTACIÓN DATOS ANUALES PVGIS'!AD161","v":0},{"$f":"'IMPORTACIÓN DATOS ANUALES PVGIS'!AF161","v":"00:00:00"},{"$f":"'IMPORTACIÓN DATOS ANUALES PVGIS'!AG161","v":0},{"$f":"'IMPORTACIÓN DATOS ANUALES PVGIS'!AI161","v":"00:00:00"},{"$f":"'IMPORTACIÓN DATOS ANUALES PVGIS'!AJ161","v":0}]
[{"$f":"'IMPORTACIÓN DATOS ANUALES PVGIS'!B162","v":"00:00:00"},{"$f":"'IMPORTACIÓN DATOS ANUALES PVGIS'!C162","v":""},{"$f":"'IMPORTACIÓN DATOS ANUALES PVGIS'!E162","v":"00:00:00"},{"$f":"'IMPORTACIÓN DATOS ANUALES PVGIS'!F162","v":0},{"$f":"'IMPORTACIÓN DATOS ANUALES PVGIS'!H162","v":"00:00:00"},{"$f":"'IMPORTACIÓN DATOS ANUALES PVGIS'!I162","v":0},{"$f":"'IMPORTACIÓN DATOS ANUALES PVGIS'!K162","v":"00:00:00"},{"$f":"'IMPORTACIÓN DATOS ANUALES PVGIS'!L162","v":0},{"$f":"'IMPORTACIÓN DATOS ANUALES PVGIS'!N162","v":"00:00:00"},{"$f":"'IMPORTACIÓN DATOS ANUALES PVGIS'!O162","v":0},{"$f":"'IMPORTACIÓN DATOS ANUALES PVGIS'!Q162","v":"00:00:00"},{"$f":"'IMPORTACIÓN DATOS ANUALES PVGIS'!R162","v":0},{"$f":"'IMPORTACIÓN DATOS ANUALES PVGIS'!T162","v":"00:00:00"},{"$f":"'IMPORTACIÓN DATOS ANUALES PVGIS'!U162","v":0},{"$f":"'IMPORTACIÓN DATOS ANUALES PVGIS'!W162","v":"00:00:00"},{"$f":"'IMPORTACIÓN DATOS ANUALES PVGIS'!X162","v":0},{"$f":"'IMPORTACIÓN DATOS ANUALES PVGIS'!Z162","v":"00:00:00"},{"$f":"'IMPORTACIÓN DATOS ANUALES PVGIS'!AA162","v":0},{"$f":"'IMPORTACIÓN DATOS ANUALES PVGIS'!AC162","v":"00:00:00"},{"$f":"'IMPORTACIÓN DATOS ANUALES PVGIS'!AD162","v":0},{"$f":"'IMPORTACIÓN DATOS ANUALES PVGIS'!AF162","v":"00:00:00"},{"$f":"'IMPORTACIÓN DATOS ANUALES PVGIS'!AG162","v":0},{"$f":"'IMPORTACIÓN DATOS ANUALES PVGIS'!AI162","v":"00:00:00"},{"$f":"'IMPORTACIÓN DATOS ANUALES PVGIS'!AJ162","v":0}]
[{"$f":"'IMPORTACIÓN DATOS ANUALES PVGIS'!B163","v":"00:00:00"},{"$f":"'IMPORTACIÓN DATOS ANUALES PVGIS'!C163","v":""},{"$f":"'IMPORTACIÓN DATOS ANUALES PVGIS'!E163","v":"00:00:00"},{"$f":"'IMPORTACIÓN DATOS ANUALES PVGIS'!F163","v":0},{"$f":"'IMPORTACIÓN DATOS ANUALES PVGIS'!H163","v":"00:00:00"},{"$f":"'IMPORTACIÓN DATOS ANUALES PVGIS'!I163","v":0},{"$f":"'IMPORTACIÓN DATOS ANUALES PVGIS'!K163","v":"00:00:00"},{"$f":"'IMPORTACIÓN DATOS ANUALES PVGIS'!L163","v":0},{"$f":"'IMPORTACIÓN DATOS ANUALES PVGIS'!N163","v":"00:00:00"},{"$f":"'IMPORTACIÓN DATOS ANUALES PVGIS'!O163","v":0},{"$f":"'IMPORTACIÓN DATOS ANUALES PVGIS'!Q163","v":"00:00:00"},{"$f":"'IMPORTACIÓN DATOS ANUALES PVGIS'!R163","v":0},{"$f":"'IMPORTACIÓN DATOS ANUALES PVGIS'!T163","v":"00:00:00"},{"$f":"'IMPORTACIÓN DATOS ANUALES PVGIS'!U163","v":0},{"$f":"'IMPORTACIÓN DATOS ANUALES PVGIS'!W163","v":"00:00:00"},{"$f":"'IMPORTACIÓN DATOS ANUALES PVGIS'!X163","v":0},{"$f":"'IMPORTACIÓN DATOS ANUALES PVGIS'!Z163","v":"00:00:00"},{"$f":"'IMPORTACIÓN DATOS ANUALES PVGIS'!AA163","v":0},{"$f":"'IMPORTACIÓN DATOS ANUALES PVGIS'!AC163","v":"00:00:00"},{"$f":"'IMPORTACIÓN DATOS ANUALES PVGIS'!AD163","v":0},{"$f":"'IMPORTACIÓN DATOS ANUALES PVGIS'!AF163","v":"00:00:00"},{"$f":"'IMPORTACIÓN DATOS ANUALES PVGIS'!AG163","v":0},{"$f":"'IMPORTACIÓN DATOS ANUALES PVGIS'!AI163","v":"00:00:00"},{"$f":"'IMPORTACIÓN DATOS ANUALES PVGIS'!AJ163","v":0}]
[{"$f":"'IMPORTACIÓN DATOS ANUALES PVGIS'!B164","v":"00:00:00"},{"$f":"'IMPORTACIÓN DATOS ANUALES PVGIS'!C164","v":""},{"$f":"'IMPORTACIÓN DATOS ANUALES PVGIS'!E164","v":"00:00:00"},{"$f":"'IMPORTACIÓN DATOS ANUALES PVGIS'!F164","v":0},{"$f":"'IMPORTACIÓN DATOS ANUALES PVGIS'!H164","v":"00:00:00"},{"$f":"'IMPORTACIÓN DATOS ANUALES PVGIS'!I164","v":0},{"$f":"'IMPORTACIÓN DATOS ANUALES PVGIS'!K164","v":"00:00:00"},{"$f":"'IMPORTACIÓN DATOS ANUALES PVGIS'!L164","v":0},{"$f":"'IMPORTACIÓN DATOS ANUALES PVGIS'!N164","v":"00:00:00"},{"$f":"'IMPORTACIÓN DATOS ANUALES PVGIS'!O164","v":0},{"$f":"'IMPORTACIÓN DATOS ANUALES PVGIS'!Q164","v":"00:00:00"},{"$f":"'IMPORTACIÓN DATOS ANUALES PVGIS'!R164","v":0},{"$f":"'IMPORTACIÓN DATOS ANUALES PVGIS'!T164","v":"00:00:00"},{"$f":"'IMPORTACIÓN DATOS ANUALES PVGIS'!U164","v":0},{"$f":"'IMPORTACIÓN DATOS ANUALES PVGIS'!W164","v":"00:00:00"},{"$f":"'IMPORTACIÓN DATOS ANUALES PVGIS'!X164","v":0},{"$f":"'IMPORTACIÓN DATOS ANUALES PVGIS'!Z164","v":"00:00:00"},{"$f":"'IMPORTACIÓN DATOS ANUALES PVGIS'!AA164","v":0},{"$f":"'IMPORTACIÓN DATOS ANUALES PVGIS'!AC164","v":"00:00:00"},{"$f":"'IMPORTACIÓN DATOS ANUALES PVGIS'!AD164","v":0},{"$f":"'IMPORTACIÓN DATOS ANUALES PVGIS'!AF164","v":"00:00:00"},{"$f":"'IMPORTACIÓN DATOS ANUALES PVGIS'!AG164","v":0},{"$f":"'IMPORTACIÓN DATOS ANUALES PVGIS'!AI164","v":"00:00:00"},{"$f":"'IMPORTACIÓN DATOS ANUALES PVGIS'!AJ164","v":0}]
[{"$f":"'IMPORTACIÓN DATOS ANUALES PVGIS'!B165","v":"00:00:00"},{"$f":"'IMPORTACIÓN DATOS ANUALES PVGIS'!C165","v":""},{"$f":"'IMPORTACIÓN DATOS ANUALES PVGIS'!E165","v":"00:00:00"},{"$f":"'IMPORTACIÓN DATOS ANUALES PVGIS'!F165","v":0},{"$f":"'IMPORTACIÓN DATOS ANUALES PVGIS'!H165","v":"00:00:00"},{"$f":"'IMPORTACIÓN DATOS ANUALES PVGIS'!I165","v":0},{"$f":"'IMPORTACIÓN DATOS ANUALES PVGIS'!K165","v":"00:00:00"},{"$f":"'IMPORTACIÓN DATOS ANUALES PVGIS'!L165","v":0},{"$f":"'IMPORTACIÓN DATOS ANUALES PVGIS'!N165","v":"00:00:00"},{"$f":"'IMPORTACIÓN DATOS ANUALES PVGIS'!O165","v":0},{"$f":"'IMPORTACIÓN DATOS ANUALES PVGIS'!Q165","v":"00:00:00"},{"$f":"'IMPORTACIÓN DATOS ANUALES PVGIS'!R165","v":0},{"$f":"'IMPORTACIÓN DATOS ANUALES PVGIS'!T165","v":"00:00:00"},{"$f":"'IMPORTACIÓN DATOS ANUALES PVGIS'!U165","v":0},{"$f":"'IMPORTACIÓN DATOS ANUALES PVGIS'!W165","v":"00:00:00"},{"$f":"'IMPORTACIÓN DATOS ANUALES PVGIS'!X165","v":0},{"$f":"'IMPORTACIÓN DATOS ANUALES PVGIS'!Z165","v":"00:00:00"},{"$f":"'IMPORTACIÓN DATOS ANUALES PVGIS'!AA165","v":0},{"$f":"'IMPORTACIÓN DATOS ANUALES PVGIS'!AC165","v":"00:00:00"},{"$f":"'IMPORTACIÓN DATOS ANUALES PVGIS'!AD165","v":0},{"$f":"'IMPORTACIÓN DATOS ANUALES PVGIS'!AF165","v":"00:00:00"},{"$f":"'IMPORTACIÓN DATOS ANUALES PVGIS'!AG165","v":0},{"$f":"'IMPORTACIÓN DATOS ANUALES PVGIS'!AI165","v":"00:00:00"},{"$f":"'IMPORTACIÓN DATOS ANUALES PVGIS'!AJ165","v":0}]
[{"$f":"'IMPORTACIÓN DATOS ANUALES PVGIS'!B166","v":"00:00:00"},{"$f":"'IMPORTACIÓN DATOS ANUALES PVGIS'!C166","v":""},{"$f":"'IMPORTACIÓN DATOS ANUALES PVGIS'!E166","v":"00:00:00"},{"$f":"'IMPORTACIÓN DATOS ANUALES PVGIS'!F166","v":0},{"$f":"'IMPORTACIÓN DATOS ANUALES PVGIS'!H166","v":"00:00:00"},{"$f":"'IMPORTACIÓN DATOS ANUALES PVGIS'!I166","v":0},{"$f":"'IMPORTACIÓN DATOS ANUALES PVGIS'!K166","v":"00:00:00"},{"$f":"'IMPORTACIÓN DATOS ANUALES PVGIS'!L166","v":0},{"$f":"'IMPORTACIÓN DATOS ANUALES PVGIS'!N166","v":"00:00:00"},{"$f":"'IMPORTACIÓN DATOS ANUALES PVGIS'!O166","v":0},{"$f":"'IMPORTACIÓN DATOS ANUALES PVGIS'!Q166","v":"00:00:00"},{"$f":"'IMPORTACIÓN DATOS ANUALES PVGIS'!R166","v":0},{"$f":"'IMPORTACIÓN DATOS ANUALES PVGIS'!T166","v":"00:00:00"},{"$f":"'IMPORTACIÓN DATOS ANUALES PVGIS'!U166","v":0},{"$f":"'IMPORTACIÓN DATOS ANUALES PVGIS'!W166","v":"00:00:00"},{"$f":"'IMPORTACIÓN DATOS ANUALES PVGIS'!X166","v":0},{"$f":"'IMPORTACIÓN DATOS ANUALES PVGIS'!Z166","v":"00:00:00"},{"$f":"'IMPORTACIÓN DATOS ANUALES PVGIS'!AA166","v":0},{"$f":"'IMPORTACIÓN DATOS ANUALES PVGIS'!AC166","v":"00:00:00"},{"$f":"'IMPORTACIÓN DATOS ANUALES PVGIS'!AD166","v":0},{"$f":"'IMPORTACIÓN DATOS ANUALES PVGIS'!AF166","v":"00:00:00"},{"$f":"'IMPORTACIÓN DATOS ANUALES PVGIS'!AG166","v":0},{"$f":"'IMPORTACIÓN DATOS ANUALES PVGIS'!AI166","v":"00:00:00"},{"$f":"'IMPORTACIÓN DATOS ANUALES PVGIS'!AJ166","v":0}]
[{"$f":"'IMPORTACIÓN DATOS ANUALES PVGIS'!B167","v":"00:00:00"},{"$f":"'IMPORTACIÓN DATOS ANUALES PVGIS'!C167","v":""},{"$f":"'IMPORTACIÓN DATOS ANUALES PVGIS'!E167","v":"00:00:00"},{"$f":"'IMPORTACIÓN DATOS ANUALES PVGIS'!F167","v":0},{"$f":"'IMPORTACIÓN DATOS ANUALES PVGIS'!H167","v":"00:00:00"},{"$f":"'IMPORTACIÓN DATOS ANUALES PVGIS'!I167","v":0},{"$f":"'IMPORTACIÓN DATOS ANUALES PVGIS'!K167","v":"00:00:00"},{"$f":"'IMPORTACIÓN DATOS ANUALES PVGIS'!L167","v":0},{"$f":"'IMPORTACIÓN DATOS ANUALES PVGIS'!N167","v":"00:00:00"},{"$f":"'IMPORTACIÓN DATOS ANUALES PVGIS'!O167","v":0},{"$f":"'IMPORTACIÓN DATOS ANUALES PVGIS'!Q167","v":"00:00:00"},{"$f":"'IMPORTACIÓN DATOS ANUALES PVGIS'!R167","v":0},{"$f":"'IMPORTACIÓN DATOS ANUALES PVGIS'!T167","v":"00:00:00"},{"$f":"'IMPORTACIÓN DATOS ANUALES PVGIS'!U167","v":0},{"$f":"'IMPORTACIÓN DATOS ANUALES PVGIS'!W167","v":"00:00:00"},{"$f":"'IMPORTACIÓN DATOS ANUALES PVGIS'!X167","v":0},{"$f":"'IMPORTACIÓN DATOS ANUALES PVGIS'!Z167","v":"00:00:00"},{"$f":"'IMPORTACIÓN DATOS ANUALES PVGIS'!AA167","v":0},{"$f":"'IMPORTACIÓN DATOS ANUALES PVGIS'!AC167","v":"00:00:00"},{"$f":"'IMPORTACIÓN DATOS ANUALES PVGIS'!AD167","v":0},{"$f":"'IMPORTACIÓN DATOS ANUALES PVGIS'!AF167","v":"00:00:00"},{"$f":"'IMPORTACIÓN DATOS ANUALES PVGIS'!AG167","v":0},{"$f":"'IMPORTACIÓN DATOS ANUALES PVGIS'!AI167","v":"00:00:00"},{"$f":"'IMPORTACIÓN DATOS ANUALES PVGIS'!AJ167","v":0}]
[{"$f":"'IMPORTACIÓN DATOS ANUALES PVGIS'!B168","v":"00:00:00"},{"$f":"'IMPORTACIÓN DATOS ANUALES PVGIS'!C168","v":""},{"$f":"'IMPORTACIÓN DATOS ANUALES PVGIS'!E168","v":"00:00:00"},{"$f":"'IMPORTACIÓN DATOS ANUALES PVGIS'!F168","v":0},{"$f":"'IMPORTACIÓN DATOS ANUALES PVGIS'!H168","v":"00:00:00"},{"$f":"'IMPORTACIÓN DATOS ANUALES PVGIS'!I168","v":0},{"$f":"'IMPORTACIÓN DATOS ANUALES PVGIS'!K168","v":"00:00:00"},{"$f":"'IMPORTACIÓN DATOS ANUALES PVGIS'!L168","v":0},{"$f":"'IMPORTACIÓN DATOS ANUALES PVGIS'!N168","v":"00:00:00"},{"$f":"'IMPORTACIÓN DATOS ANUALES PVGIS'!O168","v":0},{"$f":"'IMPORTACIÓN DATOS ANUALES PVGIS'!Q168","v":"00:00:00"},{"$f":"'IMPORTACIÓN DATOS ANUALES PVGIS'!R168","v":0},{"$f":"'IMPORTACIÓN DATOS ANUALES PVGIS'!T168","v":"00:00:00"},{"$f":"'IMPORTACIÓN DATOS ANUALES PVGIS'!U168","v":0},{"$f":"'IMPORTACIÓN DATOS ANUALES PVGIS'!W168","v":"00:00:00"},{"$f":"'IMPORTACIÓN DATOS ANUALES PVGIS'!X168","v":0},{"$f":"'IMPORTACIÓN DATOS ANUALES PVGIS'!Z168","v":"00:00:00"},{"$f":"'IMPORTACIÓN DATOS ANUALES PVGIS'!AA168","v":0},{"$f":"'IMPORTACIÓN DATOS ANUALES PVGIS'!AC168","v":"00:00:00"},{"$f":"'IMPORTACIÓN DATOS ANUALES PVGIS'!AD168","v":0},{"$f":"'IMPORTACIÓN DATOS ANUALES PVGIS'!AF168","v":"00:00:00"},{"$f":"'IMPORTACIÓN DATOS ANUALES PVGIS'!AG168","v":0},{"$f":"'IMPORTACIÓN DATOS ANUALES PVGIS'!AI168","v":"00:00:00"},{"$f":"'IMPORTACIÓN DATOS ANUALES PVGIS'!AJ168","v":0}]
[{"$f":"'IMPORTACIÓN DATOS ANUALES PVGIS'!B169","v":"00:00:00"},{"$f":"'IMPORTACIÓN DATOS ANUALES PVGIS'!C169","v":""},{"$f":"'IMPORTACIÓN DATOS ANUALES PVGIS'!E169","v":"00:00:00"},{"$f":"'IMPORTACIÓN DATOS ANUALES PVGIS'!F169","v":0},{"$f":"'IMPORTACIÓN DATOS ANUALES PVGIS'!H169","v":"00:00:00"},{"$f":"'IMPORTACIÓN DATOS ANUALES PVGIS'!I169","v":0},{"$f":"'IMPORTACIÓN DATOS ANUALES PVGIS'!K169","v":"00:00:00"},{"$f":"'IMPORTACIÓN DATOS ANUALES PVGIS'!L169","v":0},{"$f":"'IMPORTACIÓN DATOS ANUALES PVGIS'!N169","v":"00:00:00"},{"$f":"'IMPORTACIÓN DATOS ANUALES PVGIS'!O169","v":0},{"$f":"'IMPORTACIÓN DATOS ANUALES PVGIS'!Q169","v":"00:00:00"},{"$f":"'IMPORTACIÓN DATOS ANUALES PVGIS'!R169","v":0},{"$f":"'IMPORTACIÓN DATOS ANUALES PVGIS'!T169","v":"00:00:00"},{"$f":"'IMPORTACIÓN DATOS ANUALES PVGIS'!U169","v":0},{"$f":"'IMPORTACIÓN DATOS ANUALES PVGIS'!W169","v":"00:00:00"},{"$f":"'IMPORTACIÓN DATOS ANUALES PVGIS'!X169","v":0},{"$f":"'IMPORTACIÓN DATOS ANUALES PVGIS'!Z169","v":"00:00:00"},{"$f":"'IMPORTACIÓN DATOS ANUALES PVGIS'!AA169","v":0},{"$f":"'IMPORTACIÓN DATOS ANUALES PVGIS'!AC169","v":"00:00:00"},{"$f":"'IMPORTACIÓN DATOS ANUALES PVGIS'!AD169","v":0},{"$f":"'IMPORTACIÓN DATOS ANUALES PVGIS'!AF169","v":"00:00:00"},{"$f":"'IMPORTACIÓN DATOS ANUALES PVGIS'!AG169","v":0},{"$f":"'IMPORTACIÓN DATOS ANUALES PVGIS'!AI169","v":"00:00:00"},{"$f":"'IMPORTACIÓN DATOS ANUALES PVGIS'!AJ169","v":0}]
[{"$f":"'IMPORTACIÓN DATOS ANUALES PVGIS'!B170","v":"00:00:00"},{"$f":"'IMPORTACIÓN DATOS ANUALES PVGIS'!C170","v":""},{"$f":"'IMPORTACIÓN DATOS ANUALES PVGIS'!E170","v":"00:00:00"},{"$f":"'IMPORTACIÓN DATOS ANUALES PVGIS'!F170","v":0},{"$f":"'IMPORTACIÓN DATOS ANUALES PVGIS'!H170","v":"00:00:00"},{"$f":"'IMPORTACIÓN DATOS ANUALES PVGIS'!I170","v":0},{"$f":"'IMPORTACIÓN DATOS ANUALES PVGIS'!K170","v":"00:00:00"},{"$f":"'IMPORTACIÓN DATOS ANUALES PVGIS'!L170","v":0},{"$f":"'IMPORTACIÓN DATOS ANUALES PVGIS'!N170","v":"00:00:00"},{"$f":"'IMPORTACIÓN DATOS ANUALES PVGIS'!O170","v":0},{"$f":"'IMPORTACIÓN DATOS ANUALES PVGIS'!Q170","v":"00:00:00"},{"$f":"'IMPORTACIÓN DATOS ANUALES PVGIS'!R170","v":0},{"$f":"'IMPORTACIÓN DATOS ANUALES PVGIS'!T170","v":"00:00:00"},{"$f":"'IMPORTACIÓN DATOS ANUALES PVGIS'!U170","v":0},{"$f":"'IMPORTACIÓN DATOS ANUALES PVGIS'!W170","v":"00:00:00"},{"$f":"'IMPORTACIÓN DATOS ANUALES PVGIS'!X170","v":0},{"$f":"'IMPORTACIÓN DATOS ANUALES PVGIS'!Z170","v":"00:00:00"},{"$f":"'IMPORTACIÓN DATOS ANUALES PVGIS'!AA170","v":0},{"$f":"'IMPORTACIÓN DATOS ANUALES PVGIS'!AC170","v":"00:00:00"},{"$f":"'IMPORTACIÓN DATOS ANUALES PVGIS'!AD170","v":0},{"$f":"'IMPORTACIÓN DATOS ANUALES PVGIS'!AF170","v":"00:00:00"},{"$f":"'IMPORTACIÓN DATOS ANUALES PVGIS'!AG170","v":0},{"$f":"'IMPORTACIÓN DATOS ANUALES PVGIS'!AI170","v":"00:00:00"},{"$f":"'IMPORTACIÓN DATOS ANUALES PVGIS'!AJ170","v":0}]
[{"$f":"'IMPORTACIÓN DATOS ANUALES PVGIS'!B171","v":"00:00:00"},{"$f":"'IMPORTACIÓN DATOS ANUALES PVGIS'!C171","v":""},{"$f":"'IMPORTACIÓN DATOS ANUALES PVGIS'!E171","v":"00:00:00"},{"$f":"'IMPORTACIÓN DATOS ANUALES PVGIS'!F171","v":0},{"$f":"'IMPORTACIÓN DATOS ANUALES PVGIS'!H171","v":"00:00:00"},{"$f":"'IMPORTACIÓN DATOS ANUALES PVGIS'!I171","v":0},{"$f":"'IMPORTACIÓN DATOS ANUALES PVGIS'!K171","v":"00:00:00"},{"$f":"'IMPORTACIÓN DATOS ANUALES PVGIS'!L171","v":0},{"$f":"'IMPORTACIÓN DATOS ANUALES PVGIS'!N171","v":"00:00:00"},{"$f":"'IMPORTACIÓN DATOS ANUALES PVGIS'!O171","v":0},{"$f":"'IMPORTACIÓN DATOS ANUALES PVGIS'!Q171","v":"00:00:00"},{"$f":"'IMPORTACIÓN DATOS ANUALES PVGIS'!R171","v":0},{"$f":"'IMPORTACIÓN DATOS ANUALES PVGIS'!T171","v":"00:00:00"},{"$f":"'IMPORTACIÓN DATOS ANUALES PVGIS'!U171","v":0},{"$f":"'IMPORTACIÓN DATOS ANUALES PVGIS'!W171","v":"00:00:00"},{"$f":"'IMPORTACIÓN DATOS ANUALES PVGIS'!X171","v":0},{"$f":"'IMPORTACIÓN DATOS ANUALES PVGIS'!Z171","v":"00:00:00"},{"$f":"'IMPORTACIÓN DATOS ANUALES PVGIS'!AA171","v":0},{"$f":"'IMPORTACIÓN DATOS ANUALES PVGIS'!AC171","v":"00:00:00"},{"$f":"'IMPORTACIÓN DATOS ANUALES PVGIS'!AD171","v":0},{"$f":"'IMPORTACIÓN DATOS ANUALES PVGIS'!AF171","v":"00:00:00"},{"$f":"'IMPORTACIÓN DATOS ANUALES PVGIS'!AG171","v":0},{"$f":"'IMPORTACIÓN DATOS ANUALES PVGIS'!AI171","v":"00:00:00"},{"$f":"'IMPORTACIÓN DATOS ANUALES PVGIS'!AJ171","v":0}]
[{"$f":"'IMPORTACIÓN DATOS ANUALES PVGIS'!B172","v":"00:00:00"},{"$f":"'IMPORTACIÓN DATOS ANUALES PVGIS'!C172","v":""},{"$f":"'IMPORTACIÓN DATOS ANUALES PVGIS'!E172","v":"00:00:00"},{"$f":"'IMPORTACIÓN DATOS ANUALES PVGIS'!F172","v":0},{"$f":"'IMPORTACIÓN DATOS ANUALES PVGIS'!H172","v":"00:00:00"},{"$f":"'IMPORTACIÓN DATOS ANUALES PVGIS'!I172","v":0},{"$f":"'IMPORTACIÓN DATOS ANUALES PVGIS'!K172","v":"00:00:00"},{"$f":"'IMPORTACIÓN DATOS ANUALES PVGIS'!L172","v":0},{"$f":"'IMPORTACIÓN DATOS ANUALES PVGIS'!N172","v":"00:00:00"},{"$f":"'IMPORTACIÓN DATOS ANUALES PVGIS'!O172","v":0},{"$f":"'IMPORTACIÓN DATOS ANUALES PVGIS'!Q172","v":"00:00:00"},{"$f":"'IMPORTACIÓN DATOS ANUALES PVGIS'!R172","v":0},{"$f":"'IMPORTACIÓN DATOS ANUALES PVGIS'!T172","v":"00:00:00"},{"$f":"'IMPORTACIÓN DATOS ANUALES PVGIS'!U172","v":0},{"$f":"'IMPORTACIÓN DATOS ANUALES PVGIS'!W172","v":"00:00:00"},{"$f":"'IMPORTACIÓN DATOS ANUALES PVGIS'!X172","v":0},{"$f":"'IMPORTACIÓN DATOS ANUALES PVGIS'!Z172","v":"00:00:00"},{"$f":"'IMPORTACIÓN DATOS ANUALES PVGIS'!AA172","v":0},{"$f":"'IMPORTACIÓN DATOS ANUALES PVGIS'!AC172","v":"00:00:00"},{"$f":"'IMPORTACIÓN DATOS ANUALES PVGIS'!AD172","v":0},{"$f":"'IMPORTACIÓN DATOS ANUALES PVGIS'!AF172","v":"00:00:00"},{"$f":"'IMPORTACIÓN DATOS ANUALES PVGIS'!AG172","v":0},{"$f":"'IMPORTACIÓN DATOS ANUALES PVGIS'!AI172","v":"00:00:00"},{"$f":"'IMPORTACIÓN DATOS ANUALES PVGIS'!AJ172","v":0}]
[{"$f":"'IMPORTACIÓN DATOS ANUALES PVGIS'!B173","v":"00:00:00"},{"$f":"'IMPORTACIÓN DATOS ANUALES PVGIS'!C173","v":""},{"$f":"'IMPORTACIÓN DATOS ANUALES PVGIS'!E173","v":"00:00:00"},{"$f":"'IMPORTACIÓN DATOS ANUALES PVGIS'!F173","v":0},{"$f":"'IMPORTACIÓN DATOS ANUALES PVGIS'!H173","v":"00:00:00"},{"$f":"'IMPORTACIÓN DATOS ANUALES PVGIS'!I173","v":0},{"$f":"'IMPORTACIÓN DATOS ANUALES PVGIS'!K173","v":"00:00:00"},{"$f":"'IMPORTACIÓN DATOS ANUALES PVGIS'!L173","v":0},{"$f":"'IMPORTACIÓN DATOS ANUALES PVGIS'!N173","v":"00:00:00"},{"$f":"'IMPORTACIÓN DATOS ANUALES PVGIS'!O173","v":0},{"$f":"'IMPORTACIÓN DATOS ANUALES PVGIS'!Q173","v":"00:00:00"},{"$f":"'IMPORTACIÓN DATOS ANUALES PVGIS'!R173","v":0},{"$f":"'IMPORTACIÓN DATOS ANUALES PVGIS'!T173","v":"00:00:00"},{"$f":"'IMPORTACIÓN DATOS ANUALES PVGIS'!U173","v":0},{"$f":"'IMPORTACIÓN DATOS ANUALES PVGIS'!W173","v":"00:00:00"},{"$f":"'IMPORTACIÓN DATOS ANUALES PVGIS'!X173","v":0},{"$f":"'IMPORTACIÓN DATOS ANUALES PVGIS'!Z173","v":"00:00:00"},{"$f":"'IMPORTACIÓN DATOS ANUALES PVGIS'!AA173","v":0},{"$f":"'IMPORTACIÓN DATOS ANUALES PVGIS'!AC173","v":"00:00:00"},{"$f":"'IMPORTACIÓN DATOS ANUALES PVGIS'!AD173","v":0},{"$f":"'IMPORTACIÓN DATOS ANUALES PVGIS'!AF173","v":"00:00:00"},{"$f":"'IMPORTACIÓN DATOS ANUALES PVGIS'!AG173","v":0},{"$f":"'IMPORTACIÓN DATOS ANUALES PVGIS'!AI173","v":"00:00:00"},{"$f":"'IMPORTACIÓN DATOS ANUALES PVGIS'!AJ173","v":0}]
[{"$f":"'IMPORTACIÓN DATOS ANUALES PVGIS'!B174","v":"00:00:00"},{"$f":"'IMPORTACIÓN DATOS ANUALES PVGIS'!C174","v":""},{"$f":"'IMPORTACIÓN DATOS ANUALES PVGIS'!E174","v":"00:00:00"},{"$f":"'IMPORTACIÓN DATOS ANUALES PVGIS'!F174","v":0},{"$f":"'IMPORTACIÓN DATOS ANUALES PVGIS'!H174","v":"00:00:00"},{"$f":"'IMPORTACIÓN DATOS ANUALES PVGIS'!F174","v":0},{"$f":"'IMPORTACIÓN DATOS ANUALES PVGIS'!K174","v":"00:00:00"},{"$f":"'IMPORTACIÓN DATOS ANUALES PVGIS'!L174","v":0},{"$f":"'IMPORTACIÓN DATOS ANUALES PVGIS'!N174","v":"00:00:00"},{"$f":"'IMPORTACIÓN DATOS ANUALES PVGIS'!O174","v":0},{"$f":"'IMPORTACIÓN DATOS ANUALES PVGIS'!Q174","v":"00:00:00"},{"$f":"'IMPORTACIÓN DATOS ANUALES PVGIS'!R174","v":0},{"$f":"'IMPORTACIÓN DATOS ANUALES PVGIS'!T174","v":"00:00:00"},{"$f":"'IMPORTACIÓN DATOS ANUALES PVGIS'!U174","v":0},{"$f":"'IMPORTACIÓN DATOS ANUALES PVGIS'!W174","v":"00:00:00"},{"$f":"'IMPORTACIÓN DATOS ANUALES PVGIS'!X174","v":0},{"$f":"'IMPORTACIÓN DATOS ANUALES PVGIS'!Z174","v":"00:00:00"},{"$f":"'IMPORTACIÓN DATOS ANUALES PVGIS'!AA174","v":0},{"$f":"'IMPORTACIÓN DATOS ANUALES PVGIS'!AC174","v":"00:00:00"},{"$f":"'IMPORTACIÓN DATOS ANUALES PVGIS'!AD174","v":0},{"$f":"'IMPORTACIÓN DATOS ANUALES PVGIS'!AF174","v":"00:00:00"},{"$f":"'IMPORTACIÓN DATOS ANUALES PVGIS'!AG174","v":0},{"$f":"'IMPORTACIÓN DATOS ANUALES PVGIS'!AI174","v":"00:00:00"},{"$f":"'IMPORTACIÓN DATOS ANUALES PVGIS'!AJ174","v":0}]
[{"$f":"'IMPORTACIÓN DATOS ANUALES PVGIS'!B175","v":"00:00:00"},{"$f":"'IMPORTACIÓN DATOS ANUALES PVGIS'!C175","v":""},{"$f":"'IMPORTACIÓN DATOS ANUALES PVGIS'!E175","v":"00:00:00"},{"$f":"'IMPORTACIÓN DATOS ANUALES PVGIS'!F175","v":0},{"$f":"'IMPORTACIÓN DATOS ANUALES PVGIS'!H175","v":"00:00:00"},{"$f":"'IMPORTACIÓN DATOS ANUALES PVGIS'!F175","v":0},{"$f":"'IMPORTACIÓN DATOS ANUALES PVGIS'!K175","v":"00:00:00"},{"$f":"'IMPORTACIÓN DATOS ANUALES PVGIS'!L175","v":0},{"$f":"'IMPORTACIÓN DATOS ANUALES PVGIS'!N175","v":"00:00:00"},{"$f":"'IMPORTACIÓN DATOS ANUALES PVGIS'!O175","v":0},{"$f":"'IMPORTACIÓN DATOS ANUALES PVGIS'!Q175","v":"00:00:00"},{"$f":"'IMPORTACIÓN DATOS ANUALES PVGIS'!R175","v":0},{"$f":"'IMPORTACIÓN DATOS ANUALES PVGIS'!T175","v":"00:00:00"},{"$f":"'IMPORTACIÓN DATOS ANUALES PVGIS'!U175","v":0},{"$f":"'IMPORTACIÓN DATOS ANUALES PVGIS'!W175","v":"00:00:00"},{"$f":"'IMPORTACIÓN DATOS ANUALES PVGIS'!X175","v":0},{"$f":"'IMPORTACIÓN DATOS ANUALES PVGIS'!Z175","v":"00:00:00"},{"$f":"'IMPORTACIÓN DATOS ANUALES PVGIS'!AA175","v":0},{"$f":"'IMPORTACIÓN DATOS ANUALES PVGIS'!AC175","v":"00:00:00"},{"$f":"'IMPORTACIÓN DATOS ANUALES PVGIS'!AD175","v":0},{"$f":"'IMPORTACIÓN DATOS ANUALES PVGIS'!AF175","v":"00:00:00"},{"$f":"'IMPORTACIÓN DATOS ANUALES PVGIS'!AG175","v":0},{"$f":"'IMPORTACIÓN DATOS ANUALES PVGIS'!AI175","v":"00:00:00"},{"$f":"'IMPORTACIÓN DATOS ANUALES PVGIS'!AJ175","v":0}]
[{"$f":"'IMPORTACIÓN DATOS ANUALES PVGIS'!B176","v":"00:00:00"},{"$f":"'IMPORTACIÓN DATOS ANUALES PVGIS'!C176","v":""},{"$f":"'IMPORTACIÓN DATOS ANUALES PVGIS'!E176","v":"00:00:00"},{"$f":"'IMPORTACIÓN DATOS ANUALES PVGIS'!F176","v":0},{"$f":"'IMPORTACIÓN DATOS ANUALES PVGIS'!H176","v":"00:00:00"},{"$f":"'IMPORTACIÓN DATOS ANUALES PVGIS'!F176","v":0},{"$f":"'IMPORTACIÓN DATOS ANUALES PVGIS'!K176","v":"00:00:00"},{"$f":"'IMPORTACIÓN DATOS ANUALES PVGIS'!L176","v":0},{"$f":"'IMPORTACIÓN DATOS ANUALES PVGIS'!N176","v":"00:00:00"},{"$f":"'IMPORTACIÓN DATOS ANUALES PVGIS'!O176","v":0},{"$f":"'IMPORTACIÓN DATOS ANUALES PVGIS'!Q176","v":"00:00:00"},{"$f":"'IMPORTACIÓN DATOS ANUALES PVGIS'!R176","v":0},{"$f":"'IMPORTACIÓN DATOS ANUALES PVGIS'!T176","v":"00:00:00"},{"$f":"'IMPORTACIÓN DATOS ANUALES PVGIS'!U176","v":0},{"$f":"'IMPORTACIÓN DATOS ANUALES PVGIS'!W176","v":"00:00:00"},{"$f":"'IMPORTACIÓN DATOS ANUALES PVGIS'!X176","v":0},{"$f":"'IMPORTACIÓN DATOS ANUALES PVGIS'!Z176","v":"00:00:00"},{"$f":"'IMPORTACIÓN DATOS ANUALES PVGIS'!AA176","v":0},{"$f":"'IMPORTACIÓN DATOS ANUALES PVGIS'!AC176","v":"00:00:00"},{"$f":"'IMPORTACIÓN DATOS ANUALES PVGIS'!AD176","v":0},{"$f":"'IMPORTACIÓN DATOS ANUALES PVGIS'!AF176","v":"00:00:00"},{"$f":"'IMPORTACIÓN DATOS ANUALES PVGIS'!AG176","v":0},{"$f":"'IMPORTACIÓN DATOS ANUALES PVGIS'!AI176","v":"00:00:00"},{"$f":"'IMPORTACIÓN DATOS ANUALES PVGIS'!AJ176","v":0}]
[{"$f":"'IMPORTACIÓN DATOS ANUALES PVGIS'!B177","v":"00:00:00"},{"$f":"'IMPORTACIÓN DATOS ANUALES PVGIS'!C177","v":""},{"$f":"'IMPORTACIÓN DATOS ANUALES PVGIS'!E177","v":"00:00:00"},{"$f":"'IMPORTACIÓN DATOS ANUALES PVGIS'!F177","v":0},{"$f":"'IMPORTACIÓN DATOS ANUALES PVGIS'!H177","v":"00:00:00"},{"$f":"'IMPORTACIÓN DATOS ANUALES PVGIS'!F177","v":0},{"$f":"'IMPORTACIÓN DATOS ANUALES PVGIS'!K177","v":"00:00:00"},{"$f":"'IMPORTACIÓN DATOS ANUALES PVGIS'!L177","v":0},{"$f":"'IMPORTACIÓN DATOS ANUALES PVGIS'!N177","v":"00:00:00"},{"$f":"'IMPORTACIÓN DATOS ANUALES PVGIS'!O177","v":0},{"$f":"'IMPORTACIÓN DATOS ANUALES PVGIS'!Q177","v":"00:00:00"},{"$f":"'IMPORTACIÓN DATOS ANUALES PVGIS'!R177","v":0},{"$f":"'IMPORTACIÓN DATOS ANUALES PVGIS'!T177","v":"00:00:00"},{"$f":"'IMPORTACIÓN DATOS ANUALES PVGIS'!U177","v":0},{"$f":"'IMPORTACIÓN DATOS ANUALES PVGIS'!W177","v":"00:00:00"},{"$f":"'IMPORTACIÓN DATOS ANUALES PVGIS'!X177","v":0},{"$f":"'IMPORTACIÓN DATOS ANUALES PVGIS'!Z177","v":"00:00:00"},{"$f":"'IMPORTACIÓN DATOS ANUALES PVGIS'!AA177","v":0},{"$f":"'IMPORTACIÓN DATOS ANUALES PVGIS'!AC177","v":"00:00:00"},{"$f":"'IMPORTACIÓN DATOS ANUALES PVGIS'!AD177","v":0},{"$f":"'IMPORTACIÓN DATOS ANUALES PVGIS'!AF177","v":"00:00:00"},{"$f":"'IMPORTACIÓN DATOS ANUALES PVGIS'!AG177","v":0},{"$f":"'IMPORTACIÓN DATOS ANUALES PVGIS'!AI177","v":"00:00:00"},{"$f":"'IMPORTACIÓN DATOS ANUALES PVGIS'!AJ177","v":0}]
[{"$f":"'IMPORTACIÓN DATOS ANUALES PVGIS'!B178","v":"00:00:00"},{"$f":"'IMPORTACIÓN DATOS ANUALES PVGIS'!C178","v":""},{"$f":"'IMPORTACIÓN DATOS ANUALES PVGIS'!E178","v":"00:00:00"},{"$f":"'IMPORTACIÓN DATOS ANUALES PVGIS'!F178","v":0},{"$f":"'IMPORTACIÓN DATOS ANUALES PVGIS'!H178","v":"00:00:00"},{"$f":"'IMPORTACIÓN DATOS ANUALES PVGIS'!F178","v":0},{"$f":"'IMPORTACIÓN DATOS ANUALES PVGIS'!K178","v":"00:00:00"},{"$f":"'IMPORTACIÓN DATOS ANUALES PVGIS'!L178","v":0},{"$f":"'IMPORTACIÓN DATOS ANUALES PVGIS'!N178","v":"00:00:00"},{"$f":"'IMPORTACIÓN DATOS ANUALES PVGIS'!O178","v":0},{"$f":"'IMPORTACIÓN DATOS ANUALES PVGIS'!Q178","v":"00:00:00"},{"$f":"'IMPORTACIÓN DATOS ANUALES PVGIS'!R178","v":0},{"$f":"'IMPORTACIÓN DATOS ANUALES PVGIS'!T178","v":"00:00:00"},{"$f":"'IMPORTACIÓN DATOS ANUALES PVGIS'!U178","v":0},{"$f":"'IMPORTACIÓN DATOS ANUALES PVGIS'!W178","v":"00:00:00"},{"$f":"'IMPORTACIÓN DATOS ANUALES PVGIS'!X178","v":0},{"$f":"'IMPORTACIÓN DATOS ANUALES PVGIS'!Z178","v":"00:00:00"},{"$f":"'IMPORTACIÓN DATOS ANUALES PVGIS'!AA178","v":0},{"$f":"'IMPORTACIÓN DATOS ANUALES PVGIS'!AC178","v":"00:00:00"},{"$f":"'IMPORTACIÓN DATOS ANUALES PVGIS'!AD178","v":0},{"$f":"'IMPORTACIÓN DATOS ANUALES PVGIS'!AF178","v":"00:00:00"},{"$f":"'IMPORTACIÓN DATOS ANUALES PVGIS'!AG178","v":0},{"$f":"'IMPORTACIÓN DATOS ANUALES PVGIS'!AI178","v":"00:00:00"},{"$f":"'IMPORTACIÓN DATOS ANUALES PVGIS'!AJ178","v":0}]
[{"$f":"'IMPORTACIÓN DATOS ANUALES PVGIS'!B179","v":"00:00:00"},{"$f":"'IMPORTACIÓN DATOS ANUALES PVGIS'!C179","v":""},{"$f":"'IMPORTACIÓN DATOS ANUALES PVGIS'!E179","v":"00:00:00"},{"$f":"'IMPORTACIÓN DATOS ANUALES PVGIS'!F179","v":0},{"$f":"'IMPORTACIÓN DATOS ANUALES PVGIS'!H179","v":"00:00:00"},{"$f":"'IMPORTACIÓN DATOS ANUALES PVGIS'!F179","v":0},{"$f":"'IMPORTACIÓN DATOS ANUALES PVGIS'!K179","v":"00:00:00"},{"$f":"'IMPORTACIÓN DATOS ANUALES PVGIS'!L179","v":0},{"$f":"'IMPORTACIÓN DATOS ANUALES PVGIS'!N179","v":"00:00:00"},{"$f":"'IMPORTACIÓN DATOS ANUALES PVGIS'!O179","v":0},{"$f":"'IMPORTACIÓN DATOS ANUALES PVGIS'!Q179","v":"00:00:00"},{"$f":"'IMPORTACIÓN DATOS ANUALES PVGIS'!R179","v":0},{"$f":"'IMPORTACIÓN DATOS ANUALES PVGIS'!T179","v":"00:00:00"},{"$f":"'IMPORTACIÓN DATOS ANUALES PVGIS'!U179","v":0},{"$f":"'IMPORTACIÓN DATOS ANUALES PVGIS'!W179","v":"00:00:00"},{"$f":"'IMPORTACIÓN DATOS ANUALES PVGIS'!X179","v":0},{"$f":"'IMPORTACIÓN DATOS ANUALES PVGIS'!Z179","v":"00:00:00"},{"$f":"'IMPORTACIÓN DATOS ANUALES PVGIS'!AA179","v":0},{"$f":"'IMPORTACIÓN DATOS ANUALES PVGIS'!AC179","v":"00:00:00"},{"$f":"'IMPORTACIÓN DATOS ANUALES PVGIS'!AD179","v":0},{"$f":"'IMPORTACIÓN DATOS ANUALES PVGIS'!AF179","v":"00:00:00"},{"$f":"'IMPORTACIÓN DATOS ANUALES PVGIS'!AG179","v":0},{"$f":"'IMPORTACIÓN DATOS ANUALES PVGIS'!AI179","v":"00:00:00"},{"$f":"'IMPORTACIÓN DATOS ANUALES PVGIS'!AJ179","v":0}]
[{"$f":"'IMPORTACIÓN DATOS ANUALES PVGIS'!B180","v":"00:00:00"},{"$f":"'IMPORTACIÓN DATOS ANUALES PVGIS'!C180","v":""},{"$f":"'IMPORTACIÓN DATOS ANUALES PVGIS'!E180","v":"00:00:00"},{"$f":"'IMPORTACIÓN DATOS ANUALES PVGIS'!F180","v":0},{"$f":"'IMPORTACIÓN DATOS ANUALES PVGIS'!H180","v":"00:00:00"},{"$f":"'IMPORTACIÓN DATOS ANUALES PVGIS'!F180","v":0},{"$f":"'IMPORTACIÓN DATOS ANUALES PVGIS'!K180","v":"00:00:00"},{"$f":"'IMPORTACIÓN DATOS ANUALES PVGIS'!L180","v":0},{"$f":"'IMPORTACIÓN DATOS ANUALES PVGIS'!N180","v":"00:00:00"},{"$f":"'IMPORTACIÓN DATOS ANUALES PVGIS'!O180","v":0},{"$f":"'IMPORTACIÓN DATOS ANUALES PVGIS'!Q180","v":"00:00:00"},{"$f":"'IMPORTACIÓN DATOS ANUALES PVGIS'!R180","v":0},{"$f":"'IMPORTACIÓN DATOS ANUALES PVGIS'!T180","v":"00:00:00"},{"$f":"'IMPORTACIÓN DATOS ANUALES PVGIS'!U180","v":0},{"$f":"'IMPORTACIÓN DATOS ANUALES PVGIS'!W180","v":"00:00:00"},{"$f":"'IMPORTACIÓN DATOS ANUALES PVGIS'!X180","v":0},{"$f":"'IMPORTACIÓN DATOS ANUALES PVGIS'!Z180","v":"00:00:00"},{"$f":"'IMPORTACIÓN DATOS ANUALES PVGIS'!AA180","v":0},{"$f":"'IMPORTACIÓN DATOS ANUALES PVGIS'!AC180","v":"00:00:00"},{"$f":"'IMPORTACIÓN DATOS ANUALES PVGIS'!AD180","v":0},{"$f":"'IMPORTACIÓN DATOS ANUALES PVGIS'!AF180","v":"00:00:00"},{"$f":"'IMPORTACIÓN DATOS ANUALES PVGIS'!AG180","v":0},{"$f":"'IMPORTACIÓN DATOS ANUALES PVGIS'!AI180","v":"00:00:00"},{"$f":"'IMPORTACIÓN DATOS ANUALES PVGIS'!AJ180","v":0}]
[{"$f":"'IMPORTACIÓN DATOS ANUALES PVGIS'!B181","v":"00:00:00"},{"$f":"'IMPORTACIÓN DATOS ANUALES PVGIS'!C181","v":""},{"$f":"'IMPORTACIÓN DATOS ANUALES PVGIS'!E181","v":"00:00:00"},{"$f":"'IMPORTACIÓN DATOS ANUALES PVGIS'!F181","v":0},{"$f":"'IMPORTACIÓN DATOS ANUALES PVGIS'!H181","v":"00:00:00"},{"$f":"'IMPORTACIÓN DATOS ANUALES PVGIS'!F181","v":0},{"$f":"'IMPORTACIÓN DATOS ANUALES PVGIS'!K181","v":"00:00:00"},{"$f":"'IMPORTACIÓN DATOS ANUALES PVGIS'!L181","v":0},{"$f":"'IMPORTACIÓN DATOS ANUALES PVGIS'!N181","v":"00:00:00"},{"$f":"'IMPORTACIÓN DATOS ANUALES PVGIS'!O181","v":0},{"$f":"'IMPORTACIÓN DATOS ANUALES PVGIS'!Q181","v":"00:00:00"},{"$f":"'IMPORTACIÓN DATOS ANUALES PVGIS'!R181","v":0},{"$f":"'IMPORTACIÓN DATOS ANUALES PVGIS'!T181","v":"00:00:00"},{"$f":"'IMPORTACIÓN DATOS ANUALES PVGIS'!U181","v":0},{"$f":"'IMPORTACIÓN DATOS ANUALES PVGIS'!W181","v":"00:00:00"},{"$f":"'IMPORTACIÓN DATOS ANUALES PVGIS'!X181","v":0},{"$f":"'IMPORTACIÓN DATOS ANUALES PVGIS'!Z181","v":"00:00:00"},{"$f":"'IMPORTACIÓN DATOS ANUALES PVGIS'!AA181","v":0},{"$f":"'IMPORTACIÓN DATOS ANUALES PVGIS'!AC181","v":"00:00:00"},{"$f":"'IMPORTACIÓN DATOS ANUALES PVGIS'!AD181","v":0},{"$f":"'IMPORTACIÓN DATOS ANUALES PVGIS'!AF181","v":"00:00:00"},{"$f":"'IMPORTACIÓN DATOS ANUALES PVGIS'!AG181","v":0},{"$f":"'IMPORTACIÓN DATOS ANUALES PVGIS'!AI181","v":"00:00:00"},{"$f":"'IMPORTACIÓN DATOS ANUALES PVGIS'!AJ181","v":0}]
[{"$f":"'IMPORTACIÓN DATOS ANUALES PVGIS'!B182","v":"00:00:00"},{"$f":"'IMPORTACIÓN DATOS ANUALES PVGIS'!C182","v":""},{"$f":"'IMPORTACIÓN DATOS ANUALES PVGIS'!E182","v":"00:00:00"},{"$f":"'IMPORTACIÓN DATOS ANUALES PVGIS'!F182","v":0},{"$f":"'IMPORTACIÓN DATOS ANUALES PVGIS'!H182","v":"00:00:00"},{"$f":"'IMPORTACIÓN DATOS ANUALES PVGIS'!F182","v":0},{"$f":"'IMPORTACIÓN DATOS ANUALES PVGIS'!K182","v":"00:00:00"},{"$f":"'IMPORTACIÓN DATOS ANUALES PVGIS'!L182","v":0},{"$f":"'IMPORTACIÓN DATOS ANUALES PVGIS'!N182","v":"00:00:00"},{"$f":"'IMPORTACIÓN DATOS ANUALES PVGIS'!O182","v":0},{"$f":"'IMPORTACIÓN DATOS ANUALES PVGIS'!Q182","v":"00:00:00"},{"$f":"'IMPORTACIÓN DATOS ANUALES PVGIS'!R182","v":0},{"$f":"'IMPORTACIÓN DATOS ANUALES PVGIS'!T182","v":"00:00:00"},{"$f":"'IMPORTACIÓN DATOS ANUALES PVGIS'!U182","v":0},{"$f":"'IMPORTACIÓN DATOS ANUALES PVGIS'!W182","v":"00:00:00"},{"$f":"'IMPORTACIÓN DATOS ANUALES PVGIS'!X182","v":0},{"$f":"'IMPORTACIÓN DATOS ANUALES PVGIS'!Z182","v":"00:00:00"},{"$f":"'IMPORTACIÓN DATOS ANUALES PVGIS'!AA182","v":0},{"$f":"'IMPORTACIÓN DATOS ANUALES PVGIS'!AC182","v":"00:00:00"},{"$f":"'IMPORTACIÓN DATOS ANUALES PVGIS'!AD182","v":0},{"$f":"'IMPORTACIÓN DATOS ANUALES PVGIS'!AF182","v":"00:00:00"},{"$f":"'IMPORTACIÓN DATOS ANUALES PVGIS'!AG182","v":0},{"$f":"'IMPORTACIÓN DATOS ANUALES PVGIS'!AI182","v":"00:00:00"},{"$f":"'IMPORTACIÓN DATOS ANUALES PVGIS'!AJ182","v":0}]
[{"$f":"'IMPORTACIÓN DATOS ANUALES PVGIS'!B183","v":"00:00:00"},{"$f":"'IMPORTACIÓN DATOS ANUALES PVGIS'!C183","v":""},{"$f":"'IMPORTACIÓN DATOS ANUALES PVGIS'!E183","v":"00:00:00"},{"$f":"'IMPORTACIÓN DATOS ANUALES PVGIS'!F183","v":0},{"$f":"'IMPORTACIÓN DATOS ANUALES PVGIS'!H183","v":"00:00:00"},{"$f":"'IMPORTACIÓN DATOS ANUALES PVGIS'!F183","v":0},{"$f":"'IMPORTACIÓN DATOS ANUALES PVGIS'!K183","v":"00:00:00"},{"$f":"'IMPORTACIÓN DATOS ANUALES PVGIS'!L183","v":0},{"$f":"'IMPORTACIÓN DATOS ANUALES PVGIS'!N183","v":"00:00:00"},{"$f":"'IMPORTACIÓN DATOS ANUALES PVGIS'!O183","v":0},{"$f":"'IMPORTACIÓN DATOS ANUALES PVGIS'!Q183","v":"00:00:00"},{"$f":"'IMPORTACIÓN DATOS ANUALES PVGIS'!R183","v":0},{"$f":"'IMPORTACIÓN DATOS ANUALES PVGIS'!T183","v":"00:00:00"},{"$f":"'IMPORTACIÓN DATOS ANUALES PVGIS'!U183","v":0},{"$f":"'IMPORTACIÓN DATOS ANUALES PVGIS'!W183","v":"00:00:00"},{"$f":"'IMPORTACIÓN DATOS ANUALES PVGIS'!X183","v":0},{"$f":"'IMPORTACIÓN DATOS ANUALES PVGIS'!Z183","v":"00:00:00"},{"$f":"'IMPORTACIÓN DATOS ANUALES PVGIS'!AA183","v":0},{"$f":"'IMPORTACIÓN DATOS ANUALES PVGIS'!AC183","v":"00:00:00"},{"$f":"'IMPORTACIÓN DATOS ANUALES PVGIS'!AD183","v":0},{"$f":"'IMPORTACIÓN DATOS ANUALES PVGIS'!AF183","v":"00:00:00"},{"$f":"'IMPORTACIÓN DATOS ANUALES PVGIS'!AG183","v":0},{"$f":"'IMPORTACIÓN DATOS ANUALES PVGIS'!AI183","v":"00:00:00"},{"$f":"'IMPORTACIÓN DATOS ANUALES PVGIS'!AJ183","v":0}]
[{"$f":"'IMPORTACIÓN DATOS ANUALES PVGIS'!B184","v":"00:00:00"},{"$f":"'IMPORTACIÓN DATOS ANUALES PVGIS'!C184","v":""},{"$f":"'IMPORTACIÓN DATOS ANUALES PVGIS'!E184","v":"00:00:00"},{"$f":"'IMPORTACIÓN DATOS ANUALES PVGIS'!F184","v":0},{"$f":"'IMPORTACIÓN DATOS ANUALES PVGIS'!H184","v":"00:00:00"},{"$f":"'IMPORTACIÓN DATOS ANUALES PVGIS'!F184","v":0},{"$f":"'IMPORTACIÓN DATOS ANUALES PVGIS'!K184","v":"00:00:00"},{"$f":"'IMPORTACIÓN DATOS ANUALES PVGIS'!L184","v":0},{"$f":"'IMPORTACIÓN DATOS ANUALES PVGIS'!N184","v":"00:00:00"},{"$f":"'IMPORTACIÓN DATOS ANUALES PVGIS'!O184","v":0},{"$f":"'IMPORTACIÓN DATOS ANUALES PVGIS'!Q184","v":"00:00:00"},{"$f":"'IMPORTACIÓN DATOS ANUALES PVGIS'!R184","v":0},{"$f":"'IMPORTACIÓN DATOS ANUALES PVGIS'!T184","v":"00:00:00"},{"$f":"'IMPORTACIÓN DATOS ANUALES PVGIS'!U184","v":0},{"$f":"'IMPORTACIÓN DATOS ANUALES PVGIS'!W184","v":"00:00:00"},{"$f":"'IMPORTACIÓN DATOS ANUALES PVGIS'!X184","v":0},{"$f":"'IMPORTACIÓN DATOS ANUALES PVGIS'!Z184","v":"00:00:00"},{"$f":"'IMPORTACIÓN DATOS ANUALES PVGIS'!AA184","v":0},{"$f":"'IMPORTACIÓN DATOS ANUALES PVGIS'!AC184","v":"00:00:00"},{"$f":"'IMPORTACIÓN DATOS ANUALES PVGIS'!AD184","v":0},{"$f":"'IMPORTACIÓN DATOS ANUALES PVGIS'!AF184","v":"00:00:00"},{"$f":"'IMPORTACIÓN DATOS ANUALES PVGIS'!AG184","v":0},{"$f":"'IMPORTACIÓN DATOS ANUALES PVGIS'!AI184","v":"00:00:00"},{"$f":"'IMPORTACIÓN DATOS ANUALES PVGIS'!AJ184","v":0}]
[{"$f":"'IMPORTACIÓN DATOS ANUALES PVGIS'!B185","v":"00:00:00"},{"$f":"'IMPORTACIÓN DATOS ANUALES PVGIS'!C185","v":""},{"$f":"'IMPORTACIÓN DATOS ANUALES PVGIS'!E185","v":"00:00:00"},{"$f":"'IMPORTACIÓN DATOS ANUALES PVGIS'!F185","v":0},{"$f":"'IMPORTACIÓN DATOS ANUALES PVGIS'!H185","v":"00:00:00"},{"$f":"'IMPORTACIÓN DATOS ANUALES PVGIS'!F185","v":0},{"$f":"'IMPORTACIÓN DATOS ANUALES PVGIS'!K185","v":"00:00:00"},{"$f":"'IMPORTACIÓN DATOS ANUALES PVGIS'!L185","v":0},{"$f":"'IMPORTACIÓN DATOS ANUALES PVGIS'!N185","v":"00:00:00"},{"$f":"'IMPORTACIÓN DATOS ANUALES PVGIS'!O185","v":0},{"$f":"'IMPORTACIÓN DATOS ANUALES PVGIS'!Q185","v":"00:00:00"},{"$f":"'IMPORTACIÓN DATOS ANUALES PVGIS'!R185","v":0},{"$f":"'IMPORTACIÓN DATOS ANUALES PVGIS'!T185","v":"00:00:00"},{"$f":"'IMPORTACIÓN DATOS ANUALES PVGIS'!U185","v":0},{"$f":"'IMPORTACIÓN DATOS ANUALES PVGIS'!W185","v":"00:00:00"},{"$f":"'IMPORTACIÓN DATOS ANUALES PVGIS'!X185","v":0},{"$f":"'IMPORTACIÓN DATOS ANUALES PVGIS'!Z185","v":"00:00:00"},{"$f":"'IMPORTACIÓN DATOS ANUALES PVGIS'!AA185","v":0},{"$f":"'IMPORTACIÓN DATOS ANUALES PVGIS'!AC185","v":"00:00:00"},{"$f":"'IMPORTACIÓN DATOS ANUALES PVGIS'!AD185","v":0},{"$f":"'IMPORTACIÓN DATOS ANUALES PVGIS'!AF185","v":"00:00:00"},{"$f":"'IMPORTACIÓN DATOS ANUALES PVGIS'!AG185","v":0},{"$f":"'IMPORTACIÓN DATOS ANUALES PVGIS'!AI185","v":"00:00:00"},{"$f":"'IMPORTACIÓN DATOS ANUALES PVGIS'!AJ185","v":0}]
[{"$f":"'IMPORTACIÓN DATOS ANUALES PVGIS'!B186","v":"00:00:00"},{"$f":"'IMPORTACIÓN DATOS ANUALES PVGIS'!C186","v":""},{"$f":"'IMPORTACIÓN DATOS ANUALES PVGIS'!E186","v":"00:00:00"},{"$f":"'IMPORTACIÓN DATOS ANUALES PVGIS'!F186","v":0},{"$f":"'IMPORTACIÓN DATOS ANUALES PVGIS'!H186","v":"00:00:00"},{"$f":"'IMPORTACIÓN DATOS ANUALES PVGIS'!F186","v":0},{"$f":"'IMPORTACIÓN DATOS ANUALES PVGIS'!K186","v":"00:00:00"},{"$f":"'IMPORTACIÓN DATOS ANUALES PVGIS'!L186","v":0},{"$f":"'IMPORTACIÓN DATOS ANUALES PVGIS'!N186","v":"00:00:00"},{"$f":"'IMPORTACIÓN DATOS ANUALES PVGIS'!O186","v":0},{"$f":"'IMPORTACIÓN DATOS ANUALES PVGIS'!Q186","v":"00:00:00"},{"$f":"'IMPORTACIÓN DATOS ANUALES PVGIS'!R186","v":0},{"$f":"'IMPORTACIÓN DATOS ANUALES PVGIS'!T186","v":"00:00:00"},{"$f":"'IMPORTACIÓN DATOS ANUALES PVGIS'!U186","v":0},{"$f":"'IMPORTACIÓN DATOS ANUALES PVGIS'!W186","v":"00:00:00"},{"$f":"'IMPORTACIÓN DATOS ANUALES PVGIS'!X186","v":0},{"$f":"'IMPORTACIÓN DATOS ANUALES PVGIS'!Z186","v":"00:00:00"},{"$f":"'IMPORTACIÓN DATOS ANUALES PVGIS'!AA186","v":0},{"$f":"'IMPORTACIÓN DATOS ANUALES PVGIS'!AC186","v":"00:00:00"},{"$f":"'IMPORTACIÓN DATOS ANUALES PVGIS'!AD186","v":0},{"$f":"'IMPORTACIÓN DATOS ANUALES PVGIS'!AF186","v":"00:00:00"},{"$f":"'IMPORTACIÓN DATOS ANUALES PVGIS'!AG186","v":0},{"$f":"'IMPORTACIÓN DATOS ANUALES PVGIS'!AI186","v":"00:00:00"},{"$f":"'IMPORTACIÓN DATOS ANUALES PVGIS'!AJ186","v":0}]
[{"$f":"'IMPORTACIÓN DATOS ANUALES PVGIS'!B187","v":"00:00:00"},{"$f":"'IMPORTACIÓN DATOS ANUALES PVGIS'!C187","v":""},{"$f":"'IMPORTACIÓN DATOS ANUALES PVGIS'!E187","v":"00:00:00"},{"$f":"'IMPORTACIÓN DATOS ANUALES PVGIS'!F187","v":0},{"$f":"'IMPORTACIÓN DATOS ANUALES PVGIS'!H187","v":"00:00:00"},{"$f":"'IMPORTACIÓN DATOS ANUALES PVGIS'!F187","v":0},{"$f":"'IMPORTACIÓN DATOS ANUALES PVGIS'!K187","v":"00:00:00"},{"$f":"'IMPORTACIÓN DATOS ANUALES PVGIS'!L187","v":0},{"$f":"'IMPORTACIÓN DATOS ANUALES PVGIS'!N187","v":"00:00:00"},{"$f":"'IMPORTACIÓN DATOS ANUALES PVGIS'!O187","v":0},{"$f":"'IMPORTACIÓN DATOS ANUALES PVGIS'!Q187","v":"00:00:00"},{"$f":"'IMPORTACIÓN DATOS ANUALES PVGIS'!R187","v":0},{"$f":"'IMPORTACIÓN DATOS ANUALES PVGIS'!T187","v":"00:00:00"},{"$f":"'IMPORTACIÓN DATOS ANUALES PVGIS'!U187","v":0},{"$f":"'IMPORTACIÓN DATOS ANUALES PVGIS'!W187","v":"00:00:00"},{"$f":"'IMPORTACIÓN DATOS ANUALES PVGIS'!X187","v":0},{"$f":"'IMPORTACIÓN DATOS ANUALES PVGIS'!Z187","v":"00:00:00"},{"$f":"'IMPORTACIÓN DATOS ANUALES PVGIS'!AA187","v":0},{"$f":"'IMPORTACIÓN DATOS ANUALES PVGIS'!AC187","v":"00:00:00"},{"$f":"'IMPORTACIÓN DATOS ANUALES PVGIS'!AD187","v":0},{"$f":"'IMPORTACIÓN DATOS ANUALES PVGIS'!AF187","v":"00:00:00"},{"$f":"'IMPORTACIÓN DATOS ANUALES PVGIS'!AG187","v":0},{"$f":"'IMPORTACIÓN DATOS ANUALES PVGIS'!AI187","v":"00:00:00"},{"$f":"'IMPORTACIÓN DATOS ANUALES PVGIS'!AJ187","v":0}]
[{"$f":"'IMPORTACIÓN DATOS ANUALES PVGIS'!B188","v":"00:00:00"},{"$f":"'IMPORTACIÓN DATOS ANUALES PVGIS'!C188","v":""},{"$f":"'IMPORTACIÓN DATOS ANUALES PVGIS'!E188","v":"00:00:00"},{"$f":"'IMPORTACIÓN DATOS ANUALES PVGIS'!F188","v":0},{"$f":"'IMPORTACIÓN DATOS ANUALES PVGIS'!H188","v":"00:00:00"},{"$f":"'IMPORTACIÓN DATOS ANUALES PVGIS'!F188","v":0},{"$f":"'IMPORTACIÓN DATOS ANUALES PVGIS'!K188","v":"00:00:00"},{"$f":"'IMPORTACIÓN DATOS ANUALES PVGIS'!L188","v":0},{"$f":"'IMPORTACIÓN DATOS ANUALES PVGIS'!N188","v":"00:00:00"},{"$f":"'IMPORTACIÓN DATOS ANUALES PVGIS'!O188","v":0},{"$f":"'IMPORTACIÓN DATOS ANUALES PVGIS'!Q188","v":"00:00:00"},{"$f":"'IMPORTACIÓN DATOS ANUALES PVGIS'!R188","v":0},{"$f":"'IMPORTACIÓN DATOS ANUALES PVGIS'!T188","v":"00:00:00"},{"$f":"'IMPORTACIÓN DATOS ANUALES PVGIS'!U188","v":0},{"$f":"'IMPORTACIÓN DATOS ANUALES PVGIS'!W188","v":"00:00:00"},{"$f":"'IMPORTACIÓN DATOS ANUALES PVGIS'!X188","v":0},{"$f":"'IMPORTACIÓN DATOS ANUALES PVGIS'!Z188","v":"00:00:00"},{"$f":"'IMPORTACIÓN DATOS ANUALES PVGIS'!AA188","v":0},{"$f":"'IMPORTACIÓN DATOS ANUALES PVGIS'!AC188","v":"00:00:00"},{"$f":"'IMPORTACIÓN DATOS ANUALES PVGIS'!AD188","v":0},{"$f":"'IMPORTACIÓN DATOS ANUALES PVGIS'!AF188","v":"00:00:00"},{"$f":"'IMPORTACIÓN DATOS ANUALES PVGIS'!AG188","v":0},{"$f":"'IMPORTACIÓN DATOS ANUALES PVGIS'!AI188","v":"00:00:00"},{"$f":"'IMPORTACIÓN DATOS ANUALES PVGIS'!AJ188","v":0}]
[{"$f":"'IMPORTACIÓN DATOS ANUALES PVGIS'!B189","v":"00:00:00"},{"$f":"'IMPORTACIÓN DATOS ANUALES PVGIS'!C189","v":""},{"$f":"'IMPORTACIÓN DATOS ANUALES PVGIS'!E189","v":"00:00:00"},{"$f":"'IMPORTACIÓN DATOS ANUALES PVGIS'!F189","v":0},{"$f":"'IMPORTACIÓN DATOS ANUALES PVGIS'!H189","v":"00:00:00"},{"$f":"'IMPORTACIÓN DATOS ANUALES PVGIS'!F189","v":0},{"$f":"'IMPORTACIÓN DATOS ANUALES PVGIS'!K189","v":"00:00:00"},{"$f":"'IMPORTACIÓN DATOS ANUALES PVGIS'!L189","v":0},{"$f":"'IMPORTACIÓN DATOS ANUALES PVGIS'!N189","v":"00:00:00"},{"$f":"'IMPORTACIÓN DATOS ANUALES PVGIS'!O189","v":0},{"$f":"'IMPORTACIÓN DATOS ANUALES PVGIS'!Q189","v":"00:00:00"},{"$f":"'IMPORTACIÓN DATOS ANUALES PVGIS'!R189","v":0},{"$f":"'IMPORTACIÓN DATOS ANUALES PVGIS'!T189","v":"00:00:00"},{"$f":"'IMPORTACIÓN DATOS ANUALES PVGIS'!U189","v":0},{"$f":"'IMPORTACIÓN DATOS ANUALES PVGIS'!W189","v":"00:00:00"},{"$f":"'IMPORTACIÓN DATOS ANUALES PVGIS'!X189","v":0},{"$f":"'IMPORTACIÓN DATOS ANUALES PVGIS'!Z189","v":"00:00:00"},{"$f":"'IMPORTACIÓN DATOS ANUALES PVGIS'!AA189","v":0},{"$f":"'IMPORTACIÓN DATOS ANUALES PVGIS'!AC189","v":"00:00:00"},{"$f":"'IMPORTACIÓN DATOS ANUALES PVGIS'!AD189","v":0},{"$f":"'IMPORTACIÓN DATOS ANUALES PVGIS'!AF189","v":"00:00:00"},{"$f":"'IMPORTACIÓN DATOS ANUALES PVGIS'!AG189","v":0},{"$f":"'IMPORTACIÓN DATOS ANUALES PVGIS'!AI189","v":"00:00:00"},{"$f":"'IMPORTACIÓN DATOS ANUALES PVGIS'!AJ189","v":0}]
[{"$f":"'IMPORTACIÓN DATOS ANUALES PVGIS'!B190","v":"00:00:00"},{"$f":"'IMPORTACIÓN DATOS ANUALES PVGIS'!C190","v":""},{"$f":"'IMPORTACIÓN DATOS ANUALES PVGIS'!E190","v":"00:00:00"},{"$f":"'IMPORTACIÓN DATOS ANUALES PVGIS'!F190","v":0},{"$f":"'IMPORTACIÓN DATOS ANUALES PVGIS'!H190","v":"00:00:00"},{"$f":"'IMPORTACIÓN DATOS ANUALES PVGIS'!F190","v":0},{"$f":"'IMPORTACIÓN DATOS ANUALES PVGIS'!K190","v":"00:00:00"},{"$f":"'IMPORTACIÓN DATOS ANUALES PVGIS'!L190","v":0},{"$f":"'IMPORTACIÓN DATOS ANUALES PVGIS'!N190","v":"00:00:00"},{"$f":"'IMPORTACIÓN DATOS ANUALES PVGIS'!O190","v":0},{"$f":"'IMPORTACIÓN DATOS ANUALES PVGIS'!Q190","v":"00:00:00"},{"$f":"'IMPORTACIÓN DATOS ANUALES PVGIS'!R190","v":0},{"$f":"'IMPORTACIÓN DATOS ANUALES PVGIS'!T190","v":"00:00:00"},{"$f":"'IMPORTACIÓN DATOS ANUALES PVGIS'!U190","v":0},{"$f":"'IMPORTACIÓN DATOS ANUALES PVGIS'!W190","v":"00:00:00"},{"$f":"'IMPORTACIÓN DATOS ANUALES PVGIS'!X190","v":0},{"$f":"'IMPORTACIÓN DATOS ANUALES PVGIS'!Z190","v":"00:00:00"},{"$f":"'IMPORTACIÓN DATOS ANUALES PVGIS'!AA190","v":0},{"$f":"'IMPORTACIÓN DATOS ANUALES PVGIS'!AC190","v":"00:00:00"},{"$f":"'IMPORTACIÓN DATOS ANUALES PVGIS'!AD190","v":0},{"$f":"'IMPORTACIÓN DATOS ANUALES PVGIS'!AF190","v":"00:00:00"},{"$f":"'IMPORTACIÓN DATOS ANUALES PVGIS'!AG190","v":0},{"$f":"'IMPORTACIÓN DATOS ANUALES PVGIS'!AI190","v":"00:00:00"},{"$f":"'IMPORTACIÓN DATOS ANUALES PVGIS'!AJ190","v":0}]
[{"$f":"'IMPORTACIÓN DATOS ANUALES PVGIS'!B191","v":"00:00:00"},{"$f":"'IMPORTACIÓN DATOS ANUALES PVGIS'!C191","v":""},{"$f":"'IMPORTACIÓN DATOS ANUALES PVGIS'!E191","v":"00:00:00"},{"$f":"'IMPORTACIÓN DATOS ANUALES PVGIS'!F191","v":0},{"$f":"'IMPORTACIÓN DATOS ANUALES PVGIS'!H191","v":"00:00:00"},{"$f":"'IMPORTACIÓN DATOS ANUALES PVGIS'!F191","v":0},{"$f":"'IMPORTACIÓN DATOS ANUALES PVGIS'!K191","v":"00:00:00"},{"$f":"'IMPORTACIÓN DATOS ANUALES PVGIS'!L191","v":0},{"$f":"'IMPORTACIÓN DATOS ANUALES PVGIS'!N191","v":"00:00:00"},{"$f":"'IMPORTACIÓN DATOS ANUALES PVGIS'!O191","v":0},{"$f":"'IMPORTACIÓN DATOS ANUALES PVGIS'!Q191","v":"00:00:00"},{"$f":"'IMPORTACIÓN DATOS ANUALES PVGIS'!R191","v":0},{"$f":"'IMPORTACIÓN DATOS ANUALES PVGIS'!T191","v":"00:00:00"},{"$f":"'IMPORTACIÓN DATOS ANUALES PVGIS'!U191","v":0},{"$f":"'IMPORTACIÓN DATOS ANUALES PVGIS'!W191","v":"00:00:00"},{"$f":"'IMPORTACIÓN DATOS ANUALES PVGIS'!X191","v":0},{"$f":"'IMPORTACIÓN DATOS ANUALES PVGIS'!Z191","v":"00:00:00"},{"$f":"'IMPORTACIÓN DATOS ANUALES PVGIS'!AA191","v":0},{"$f":"'IMPORTACIÓN DATOS ANUALES PVGIS'!AC191","v":"00:00:00"},{"$f":"'IMPORTACIÓN DATOS ANUALES PVGIS'!AD191","v":0},{"$f":"'IMPORTACIÓN DATOS ANUALES PVGIS'!AF191","v":"00:00:00"},{"$f":"'IMPORTACIÓN DATOS ANUALES PVGIS'!AG191","v":0},{"$f":"'IMPORTACIÓN DATOS ANUALES PVGIS'!AI191","v":"00:00:00"},{"$f":"'IMPORTACIÓN DATOS ANUALES PVGIS'!AJ191","v":0}]
[{"$f":"'IMPORTACIÓN DATOS ANUALES PVGIS'!B192","v":"00:00:00"},{"$f":"'IMPORTACIÓN DATOS ANUALES PVGIS'!C192","v":""},{"$f":"'IMPORTACIÓN DATOS ANUALES PVGIS'!E192","v":"00:00:00"},{"$f":"'IMPORTACIÓN DATOS ANUALES PVGIS'!F192","v":0},{"$f":"'IMPORTACIÓN DATOS ANUALES PVGIS'!H192","v":"00:00:00"},{"$f":"'IMPORTACIÓN DATOS ANUALES PVGIS'!F192","v":0},{"$f":"'IMPORTACIÓN DATOS ANUALES PVGIS'!K192","v":"00:00:00"},{"$f":"'IMPORTACIÓN DATOS ANUALES PVGIS'!L192","v":0},{"$f":"'IMPORTACIÓN DATOS ANUALES PVGIS'!N192","v":"00:00:00"},{"$f":"'IMPORTACIÓN DATOS ANUALES PVGIS'!O192","v":0},{"$f":"'IMPORTACIÓN DATOS ANUALES PVGIS'!Q192","v":"00:00:00"},{"$f":"'IMPORTACIÓN DATOS ANUALES PVGIS'!R192","v":0},{"$f":"'IMPORTACIÓN DATOS ANUALES PVGIS'!T192","v":"00:00:00"},{"$f":"'IMPORTACIÓN DATOS ANUALES PVGIS'!U192","v":0},{"$f":"'IMPORTACIÓN DATOS ANUALES PVGIS'!W192","v":"00:00:00"},{"$f":"'IMPORTACIÓN DATOS ANUALES PVGIS'!X192","v":0},{"$f":"'IMPORTACIÓN DATOS ANUALES PVGIS'!Z192","v":"00:00:00"},{"$f":"'IMPORTACIÓN DATOS ANUALES PVGIS'!AA192","v":0},{"$f":"'IMPORTACIÓN DATOS ANUALES PVGIS'!AC192","v":"00:00:00"},{"$f":"'IMPORTACIÓN DATOS ANUALES PVGIS'!AD192","v":0},{"$f":"'IMPORTACIÓN DATOS ANUALES PVGIS'!AF192","v":"00:00:00"},{"$f":"'IMPORTACIÓN DATOS ANUALES PVGIS'!AG192","v":0},{"$f":"'IMPORTACIÓN DATOS ANUALES PVGIS'!AI192","v":"00:00:00"},{"$f":"'IMPORTACIÓN DATOS ANUALES PVGIS'!AJ192","v":0}]
[{"$f":"'IMPORTACIÓN DATOS ANUALES PVGIS'!B193","v":"00:00:00"},{"$f":"'IMPORTACIÓN DATOS ANUALES PVGIS'!C193","v":""},{"$f":"'IMPORTACIÓN DATOS ANUALES PVGIS'!E193","v":"00:00:00"},{"$f":"'IMPORTACIÓN DATOS ANUALES PVGIS'!F193","v":0},{"$f":"'IMPORTACIÓN DATOS ANUALES PVGIS'!H193","v":"00:00:00"},{"$f":"'IMPORTACIÓN DATOS ANUALES PVGIS'!F193","v":0},{"$f":"'IMPORTACIÓN DATOS ANUALES PVGIS'!K193","v":"00:00:00"},{"$f":"'IMPORTACIÓN DATOS ANUALES PVGIS'!L193","v":0},{"$f":"'IMPORTACIÓN DATOS ANUALES PVGIS'!N193","v":"00:00:00"},{"$f":"'IMPORTACIÓN DATOS ANUALES PVGIS'!O193","v":0},{"$f":"'IMPORTACIÓN DATOS ANUALES PVGIS'!Q193","v":"00:00:00"},{"$f":"'IMPORTACIÓN DATOS ANUALES PVGIS'!R193","v":0},{"$f":"'IMPORTACIÓN DATOS ANUALES PVGIS'!T193","v":"00:00:00"},{"$f":"'IMPORTACIÓN DATOS ANUALES PVGIS'!U193","v":0},{"$f":"'IMPORTACIÓN DATOS ANUALES PVGIS'!W193","v":"00:00:00"},{"$f":"'IMPORTACIÓN DATOS ANUALES PVGIS'!X193","v":0},{"$f":"'IMPORTACIÓN DATOS ANUALES PVGIS'!Z193","v":"00:00:00"},{"$f":"'IMPORTACIÓN DATOS ANUALES PVGIS'!AA193","v":0},{"$f":"'IMPORTACIÓN DATOS ANUALES PVGIS'!AC193","v":"00:00:00"},{"$f":"'IMPORTACIÓN DATOS ANUALES PVGIS'!AD193","v":0},{"$f":"'IMPORTACIÓN DATOS ANUALES PVGIS'!AF193","v":"00:00:00"},{"$f":"'IMPORTACIÓN DATOS ANUALES PVGIS'!AG193","v":0},{"$f":"'IMPORTACIÓN DATOS ANUALES PVGIS'!AI193","v":"00:00:00"},{"$f":"'IMPORTACIÓN DATOS ANUALES PVGIS'!AJ193","v":0}]
[{"$f":"'IMPORTACIÓN DATOS ANUALES PVGIS'!B194","v":"00:00:00"},{"$f":"'IMPORTACIÓN DATOS ANUALES PVGIS'!C194","v":""},{"$f":"'IMPORTACIÓN DATOS ANUALES PVGIS'!E194","v":"00:00:00"},{"$f":"'IMPORTACIÓN DATOS ANUALES PVGIS'!F194","v":0},{"$f":"'IMPORTACIÓN DATOS ANUALES PVGIS'!H194","v":"00:00:00"},{"$f":"'IMPORTACIÓN DATOS ANUALES PVGIS'!F194","v":0},{"$f":"'IMPORTACIÓN DATOS ANUALES PVGIS'!K194","v":"00:00:00"},{"$f":"'IMPORTACIÓN DATOS ANUALES PVGIS'!L194","v":0},{"$f":"'IMPORTACIÓN DATOS ANUALES PVGIS'!N194","v":"00:00:00"},{"$f":"'IMPORTACIÓN DATOS ANUALES PVGIS'!O194","v":0},{"$f":"'IMPORTACIÓN DATOS ANUALES PVGIS'!Q194","v":"00:00:00"},{"$f":"'IMPORTACIÓN DATOS ANUALES PVGIS'!R194","v":0},{"$f":"'IMPORTACIÓN DATOS ANUALES PVGIS'!T194","v":"00:00:00"},{"$f":"'IMPORTACIÓN DATOS ANUALES PVGIS'!U194","v":0},{"$f":"'IMPORTACIÓN DATOS ANUALES PVGIS'!W194","v":"00:00:00"},{"$f":"'IMPORTACIÓN DATOS ANUALES PVGIS'!X194","v":0},{"$f":"'IMPORTACIÓN DATOS ANUALES PVGIS'!Z194","v":"00:00:00"},{"$f":"'IMPORTACIÓN DATOS ANUALES PVGIS'!AA194","v":0},{"$f":"'IMPORTACIÓN DATOS ANUALES PVGIS'!AC194","v":"00:00:00"},{"$f":"'IMPORTACIÓN DATOS ANUALES PVGIS'!AD194","v":0},{"$f":"'IMPORTACIÓN DATOS ANUALES PVGIS'!AF194","v":"00:00:00"},{"$f":"'IMPORTACIÓN DATOS ANUALES PVGIS'!AG194","v":0},{"$f":"'IMPORTACIÓN DATOS ANUALES PVGIS'!AI194","v":"00:00:00"},{"$f":"'IMPORTACIÓN DATOS ANUALES PVGIS'!AJ194","v":0}]
[{"$f":"'IMPORTACIÓN DATOS ANUALES PVGIS'!B195","v":"00:00:00"},{"$f":"'IMPORTACIÓN DATOS ANUALES PVGIS'!C195","v":""},{"$f":"'IMPORTACIÓN DATOS ANUALES PVGIS'!E195","v":"00:00:00"},{"$f":"'IMPORTACIÓN DATOS ANUALES PVGIS'!F195","v":0},{"$f":"'IMPORTACIÓN DATOS ANUALES PVGIS'!H195","v":"00:00:00"},{"$f":"'IMPORTACIÓN DATOS ANUALES PVGIS'!F195","v":0},{"$f":"'IMPORTACIÓN DATOS ANUALES PVGIS'!K195","v":"00:00:00"},{"$f":"'IMPORTACIÓN DATOS ANUALES PVGIS'!L195","v":0},{"$f":"'IMPORTACIÓN DATOS ANUALES PVGIS'!N195","v":"00:00:00"},{"$f":"'IMPORTACIÓN DATOS ANUALES PVGIS'!O195","v":0},{"$f":"'IMPORTACIÓN DATOS ANUALES PVGIS'!Q195","v":"00:00:00"},{"$f":"'IMPORTACIÓN DATOS ANUALES PVGIS'!R195","v":0},{"$f":"'IMPORTACIÓN DATOS ANUALES PVGIS'!T195","v":"00:00:00"},{"$f":"'IMPORTACIÓN DATOS ANUALES PVGIS'!U195","v":0},{"$f":"'IMPORTACIÓN DATOS ANUALES PVGIS'!W195","v":"00:00:00"},{"$f":"'IMPORTACIÓN DATOS ANUALES PVGIS'!X195","v":0},{"$f":"'IMPORTACIÓN DATOS ANUALES PVGIS'!Z195","v":"00:00:00"},{"$f":"'IMPORTACIÓN DATOS ANUALES PVGIS'!AA195","v":0},{"$f":"'IMPORTACIÓN DATOS ANUALES PVGIS'!AC195","v":"00:00:00"},{"$f":"'IMPORTACIÓN DATOS ANUALES PVGIS'!AD195","v":0},{"$f":"'IMPORTACIÓN DATOS ANUALES PVGIS'!AF195","v":"00:00:00"},{"$f":"'IMPORTACIÓN DATOS ANUALES PVGIS'!AG195","v":0},{"$f":"'IMPORTACIÓN DATOS ANUALES PVGIS'!AI195","v":"00:00:00"},{"$f":"'IMPORTACIÓN DATOS ANUALES PVGIS'!AJ195","v":0}]
[{"$f":"'IMPORTACIÓN DATOS ANUALES PVGIS'!B196","v":"00:00:00"},{"$f":"'IMPORTACIÓN DATOS ANUALES PVGIS'!C196","v":""},{"$f":"'IMPORTACIÓN DATOS ANUALES PVGIS'!E196","v":"00:00:00"},{"$f":"'IMPORTACIÓN DATOS ANUALES PVGIS'!F196","v":0},{"$f":"'IMPORTACIÓN DATOS ANUALES PVGIS'!H196","v":"00:00:00"},{"$f":"'IMPORTACIÓN DATOS ANUALES PVGIS'!F196","v":0},{"$f":"'IMPORTACIÓN DATOS ANUALES PVGIS'!K196","v":"00:00:00"},{"$f":"'IMPORTACIÓN DATOS ANUALES PVGIS'!L196","v":0},{"$f":"'IMPORTACIÓN DATOS ANUALES PVGIS'!N196","v":"00:00:00"},{"$f":"'IMPORTACIÓN DATOS ANUALES PVGIS'!O196","v":0},{"$f":"'IMPORTACIÓN DATOS ANUALES PVGIS'!Q196","v":"00:00:00"},{"$f":"'IMPORTACIÓN DATOS ANUALES PVGIS'!R196","v":0},{"$f":"'IMPORTACIÓN DATOS ANUALES PVGIS'!T196","v":"00:00:00"},{"$f":"'IMPORTACIÓN DATOS ANUALES PVGIS'!U196","v":0},{"$f":"'IMPORTACIÓN DATOS ANUALES PVGIS'!W196","v":"00:00:00"},{"$f":"'IMPORTACIÓN DATOS ANUALES PVGIS'!X196","v":0},{"$f":"'IMPORTACIÓN DATOS ANUALES PVGIS'!Z196","v":"00:00:00"},{"$f":"'IMPORTACIÓN DATOS ANUALES PVGIS'!AA196","v":0},{"$f":"'IMPORTACIÓN DATOS ANUALES PVGIS'!AC196","v":"00:00:00"},{"$f":"'IMPORTACIÓN DATOS ANUALES PVGIS'!AD196","v":0},{"$f":"'IMPORTACIÓN DATOS ANUALES PVGIS'!AF196","v":"00:00:00"},{"$f":"'IMPORTACIÓN DATOS ANUALES PVGIS'!AG196","v":0},{"$f":"'IMPORTACIÓN DATOS ANUALES PVGIS'!AI196","v":"00:00:00"},{"$f":"'IMPORTACIÓN DATOS ANUALES PVGIS'!AJ196","v":0}]
[{"$f":"'IMPORTACIÓN DATOS ANUALES PVGIS'!B197","v":"00:00:00"},{"$f":"'IMPORTACIÓN DATOS ANUALES PVGIS'!C197","v":""},{"$f":"'IMPORTACIÓN DATOS ANUALES PVGIS'!E197","v":"00:00:00"},{"$f":"'IMPORTACIÓN DATOS ANUALES PVGIS'!F197","v":0},{"$f":"'IMPORTACIÓN DATOS ANUALES PVGIS'!H197","v":"00:00:00"},{"$f":"'IMPORTACIÓN DATOS ANUALES PVGIS'!F197","v":0},{"$f":"'IMPORTACIÓN DATOS ANUALES PVGIS'!K197","v":"00:00:00"},{"$f":"'IMPORTACIÓN DATOS ANUALES PVGIS'!L197","v":0},{"$f":"'IMPORTACIÓN DATOS ANUALES PVGIS'!N197","v":"00:00:00"},{"$f":"'IMPORTACIÓN DATOS ANUALES PVGIS'!O197","v":0},{"$f":"'IMPORTACIÓN DATOS ANUALES PVGIS'!Q197","v":"00:00:00"},{"$f":"'IMPORTACIÓN DATOS ANUALES PVGIS'!R197","v":0},{"$f":"'IMPORTACIÓN DATOS ANUALES PVGIS'!T197","v":"00:00:00"},{"$f":"'IMPORTACIÓN DATOS ANUALES PVGIS'!U197","v":0},{"$f":"'IMPORTACIÓN DATOS ANUALES PVGIS'!W197","v":"00:00:00"},{"$f":"'IMPORTACIÓN DATOS ANUALES PVGIS'!X197","v":0},{"$f":"'IMPORTACIÓN DATOS ANUALES PVGIS'!Z197","v":"00:00:00"},{"$f":"'IMPORTACIÓN DATOS ANUALES PVGIS'!AA197","v":0},{"$f":"'IMPORTACIÓN DATOS ANUALES PVGIS'!AC197","v":"00:00:00"},{"$f":"'IMPORTACIÓN DATOS ANUALES PVGIS'!AD197","v":0},{"$f":"'IMPORTACIÓN DATOS ANUALES PVGIS'!AF197","v":"00:00:00"},{"$f":"'IMPORTACIÓN DATOS ANUALES PVGIS'!AG197","v":0},{"$f":"'IMPORTACIÓN DATOS ANUALES PVGIS'!AI197","v":"00:00:00"},{"$f":"'IMPORTACIÓN DATOS ANUALES PVGIS'!AJ197","v":0}]
[{"$f":"'IMPORTACIÓN DATOS ANUALES PVGIS'!B198","v":"00:00:00"},{"$f":"'IMPORTACIÓN DATOS ANUALES PVGIS'!C198","v":""},{"$f":"'IMPORTACIÓN DATOS ANUALES PVGIS'!E198","v":"00:00:00"},{"$f":"'IMPORTACIÓN DATOS ANUALES PVGIS'!F198","v":0},{"$f":"'IMPORTACIÓN DATOS ANUALES PVGIS'!H198","v":"00:00:00"},{"$f":"'IMPORTACIÓN DATOS ANUALES PVGIS'!F198","v":0},{"$f":"'IMPORTACIÓN DATOS ANUALES PVGIS'!K198","v":"00:00:00"},{"$f":"'IMPORTACIÓN DATOS ANUALES PVGIS'!L198","v":0},{"$f":"'IMPORTACIÓN DATOS ANUALES PVGIS'!N198","v":"00:00:00"},{"$f":"'IMPORTACIÓN DATOS ANUALES PVGIS'!O198","v":0},{"$f":"'IMPORTACIÓN DATOS ANUALES PVGIS'!Q198","v":"00:00:00"},{"$f":"'IMPORTACIÓN DATOS ANUALES PVGIS'!R198","v":0},{"$f":"'IMPORTACIÓN DATOS ANUALES PVGIS'!T198","v":"00:00:00"},{"$f":"'IMPORTACIÓN DATOS ANUALES PVGIS'!U198","v":0},{"$f":"'IMPORTACIÓN DATOS ANUALES PVGIS'!W198","v":"00:00:00"},{"$f":"'IMPORTACIÓN DATOS ANUALES PVGIS'!X198","v":0},{"$f":"'IMPORTACIÓN DATOS ANUALES PVGIS'!Z198","v":"00:00:00"},{"$f":"'IMPORTACIÓN DATOS ANUALES PVGIS'!AA198","v":0},{"$f":"'IMPORTACIÓN DATOS ANUALES PVGIS'!AC198","v":"00:00:00"},{"$f":"'IMPORTACIÓN DATOS ANUALES PVGIS'!AD198","v":0},{"$f":"'IMPORTACIÓN DATOS ANUALES PVGIS'!AF198","v":"00:00:00"},{"$f":"'IMPORTACIÓN DATOS ANUALES PVGIS'!AG198","v":0},{"$f":"'IMPORTACIÓN DATOS ANUALES PVGIS'!AI198","v":"00:00:00"},{"$f":"'IMPORTACIÓN DATOS ANUALES PVGIS'!AJ198","v":0}]
[{"$f":"'IMPORTACIÓN DATOS ANUALES PVGIS'!B199","v":"00:00:00"},{"$f":"'IMPORTACIÓN DATOS ANUALES PVGIS'!C199","v":""},{"$f":"'IMPORTACIÓN DATOS ANUALES PVGIS'!E199","v":"00:00:00"},{"$f":"'IMPORTACIÓN DATOS ANUALES PVGIS'!F199","v":0},{"$f":"'IMPORTACIÓN DATOS ANUALES PVGIS'!H199","v":"00:00:00"},{"$f":"'IMPORTACIÓN DATOS ANUALES PVGIS'!F199","v":0},{"$f":"'IMPORTACIÓN DATOS ANUALES PVGIS'!K199","v":"00:00:00"},{"$f":"'IMPORTACIÓN DATOS ANUALES PVGIS'!L199","v":0},{"$f":"'IMPORTACIÓN DATOS ANUALES PVGIS'!N199","v":"00:00:00"},{"$f":"'IMPORTACIÓN DATOS ANUALES PVGIS'!O199","v":0},{"$f":"'IMPORTACIÓN DATOS ANUALES PVGIS'!Q199","v":"00:00:00"},{"$f":"'IMPORTACIÓN DATOS ANUALES PVGIS'!R199","v":0},{"$f":"'IMPORTACIÓN DATOS ANUALES PVGIS'!T199","v":"00:00:00"},{"$f":"'IMPORTACIÓN DATOS ANUALES PVGIS'!U199","v":0},{"$f":"'IMPORTACIÓN DATOS ANUALES PVGIS'!W199","v":"00:00:00"},{"$f":"'IMPORTACIÓN DATOS ANUALES PVGIS'!X199","v":0},{"$f":"'IMPORTACIÓN DATOS ANUALES PVGIS'!Z199","v":"00:00:00"},{"$f":"'IMPORTACIÓN DATOS ANUALES PVGIS'!AA199","v":0},{"$f":"'IMPORTACIÓN DATOS ANUALES PVGIS'!AC199","v":"00:00:00"},{"$f":"'IMPORTACIÓN DATOS ANUALES PVGIS'!AD199","v":0},{"$f":"'IMPORTACIÓN DATOS ANUALES PVGIS'!AF199","v":"00:00:00"},{"$f":"'IMPORTACIÓN DATOS ANUALES PVGIS'!AG199","v":0},{"$f":"'IMPORTACIÓN DATOS ANUALES PVGIS'!AI199","v":"00:00:00"},{"$f":"'IMPORTACIÓN DATOS ANUALES PVGIS'!AJ199","v":0}]
[{"$f":"'IMPORTACIÓN DATOS ANUALES PVGIS'!B200","v":"00:00:00"},{"$f":"'IMPORTACIÓN DATOS ANUALES PVGIS'!C200","v":""},{"$f":"'IMPORTACIÓN DATOS ANUALES PVGIS'!E200","v":"00:00:00"},{"$f":"'IMPORTACIÓN DATOS ANUALES PVGIS'!F200","v":0},{"$f":"'IMPORTACIÓN DATOS ANUALES PVGIS'!H200","v":"00:00:00"},{"$f":"'IMPORTACIÓN DATOS ANUALES PVGIS'!F200","v":0},{"$f":"'IMPORTACIÓN DATOS ANUALES PVGIS'!K200","v":"00:00:00"},{"$f":"'IMPORTACIÓN DATOS ANUALES PVGIS'!L200","v":0},{"$f":"'IMPORTACIÓN DATOS ANUALES PVGIS'!N200","v":"00:00:00"},{"$f":"'IMPORTACIÓN DATOS ANUALES PVGIS'!O200","v":0},{"$f":"'IMPORTACIÓN DATOS ANUALES PVGIS'!Q200","v":"00:00:00"},{"$f":"'IMPORTACIÓN DATOS ANUALES PVGIS'!R200","v":0},{"$f":"'IMPORTACIÓN DATOS ANUALES PVGIS'!T200","v":"00:00:00"},{"$f":"'IMPORTACIÓN DATOS ANUALES PVGIS'!U200","v":0},{"$f":"'IMPORTACIÓN DATOS ANUALES PVGIS'!W200","v":"00:00:00"},{"$f":"'IMPORTACIÓN DATOS ANUALES PVGIS'!X200","v":0},{"$f":"'IMPORTACIÓN DATOS ANUALES PVGIS'!Z200","v":"00:00:00"},{"$f":"'IMPORTACIÓN DATOS ANUALES PVGIS'!AA200","v":0},{"$f":"'IMPORTACIÓN DATOS ANUALES PVGIS'!AC200","v":"00:00:00"},{"$f":"'IMPORTACIÓN DATOS ANUALES PVGIS'!AD200","v":0},{"$f":"'IMPORTACIÓN DATOS ANUALES PVGIS'!AF200","v":"00:00:00"},{"$f":"'IMPORTACIÓN DATOS ANUALES PVGIS'!AG200","v":0},{"$f":"'IMPORTACIÓN DATOS ANUALES PVGIS'!AI200","v":"00:00:00"},{"$f":"'IMPORTACIÓN DATOS ANUALES PVGIS'!AJ200","v":0}]
[{"$f":"'IMPORTACIÓN DATOS ANUALES PVGIS'!B201","v":"00:00:00"},{"$f":"'IMPORTACIÓN DATOS ANUALES PVGIS'!C201","v":""},{"$f":"'IMPORTACIÓN DATOS ANUALES PVGIS'!E201","v":"00:00:00"},{"$f":"'IMPORTACIÓN DATOS ANUALES PVGIS'!F201","v":0},{"$f":"'IMPORTACIÓN DATOS ANUALES PVGIS'!H201","v":"00:00:00"},{"$f":"'IMPORTACIÓN DATOS ANUALES PVGIS'!F201","v":0},{"$f":"'IMPORTACIÓN DATOS ANUALES PVGIS'!K201","v":"00:00:00"},{"$f":"'IMPORTACIÓN DATOS ANUALES PVGIS'!L201","v":0},{"$f":"'IMPORTACIÓN DATOS ANUALES PVGIS'!N201","v":"00:00:00"},{"$f":"'IMPORTACIÓN DATOS ANUALES PVGIS'!O201","v":0},{"$f":"'IMPORTACIÓN DATOS ANUALES PVGIS'!Q201","v":"00:00:00"},{"$f":"'IMPORTACIÓN DATOS ANUALES PVGIS'!R201","v":0},{"$f":"'IMPORTACIÓN DATOS ANUALES PVGIS'!T201","v":"00:00:00"},{"$f":"'IMPORTACIÓN DATOS ANUALES PVGIS'!U201","v":0},{"$f":"'IMPORTACIÓN DATOS ANUALES PVGIS'!W201","v":"00:00:00"},{"$f":"'IMPORTACIÓN DATOS ANUALES PVGIS'!X201","v":0},{"$f":"'IMPORTACIÓN DATOS ANUALES PVGIS'!Z201","v":"00:00:00"},{"$f":"'IMPORTACIÓN DATOS ANUALES PVGIS'!AA201","v":0},{"$f":"'IMPORTACIÓN DATOS ANUALES PVGIS'!AC201","v":"00:00:00"},{"$f":"'IMPORTACIÓN DATOS ANUALES PVGIS'!AD201","v":0},{"$f":"'IMPORTACIÓN DATOS ANUALES PVGIS'!AF201","v":"00:00:00"},{"$f":"'IMPORTACIÓN DATOS ANUALES PVGIS'!AG201","v":0},{"$f":"'IMPORTACIÓN DATOS ANUALES PVGIS'!AI201","v":"00:00:00"},{"$f":"'IMPORTACIÓN DATOS ANUALES PVGIS'!AJ201","v":0}]
[{"$f":"'IMPORTACIÓN DATOS ANUALES PVGIS'!B202","v":"00:00:00"},{"$f":"'IMPORTACIÓN DATOS ANUALES PVGIS'!C202","v":""},{"$f":"'IMPORTACIÓN DATOS ANUALES PVGIS'!E202","v":"00:00:00"},{"$f":"'IMPORTACIÓN DATOS ANUALES PVGIS'!F202","v":0},{"$f":"'IMPORTACIÓN DATOS ANUALES PVGIS'!H202","v":"00:00:00"},{"$f":"'IMPORTACIÓN DATOS ANUALES PVGIS'!F202","v":0},{"$f":"'IMPORTACIÓN DATOS ANUALES PVGIS'!K202","v":"00:00:00"},{"$f":"'IMPORTACIÓN DATOS ANUALES PVGIS'!L202","v":0},{"$f":"'IMPORTACIÓN DATOS ANUALES PVGIS'!N202","v":"00:00:00"},{"$f":"'IMPORTACIÓN DATOS ANUALES PVGIS'!O202","v":0},{"$f":"'IMPORTACIÓN DATOS ANUALES PVGIS'!Q202","v":"00:00:00"},{"$f":"'IMPORTACIÓN DATOS ANUALES PVGIS'!R202","v":0},{"$f":"'IMPORTACIÓN DATOS ANUALES PVGIS'!T202","v":"00:00:00"},{"$f":"'IMPORTACIÓN DATOS ANUALES PVGIS'!U202","v":0},{"$f":"'IMPORTACIÓN DATOS ANUALES PVGIS'!W202","v":"00:00:00"},{"$f":"'IMPORTACIÓN DATOS ANUALES PVGIS'!X202","v":0},{"$f":"'IMPORTACIÓN DATOS ANUALES PVGIS'!Z202","v":"00:00:00"},{"$f":"'IMPORTACIÓN DATOS ANUALES PVGIS'!AA202","v":0},{"$f":"'IMPORTACIÓN DATOS ANUALES PVGIS'!AC202","v":"00:00:00"},{"$f":"'IMPORTACIÓN DATOS ANUALES PVGIS'!AD202","v":0},{"$f":"'IMPORTACIÓN DATOS ANUALES PVGIS'!AF202","v":"00:00:00"},{"$f":"'IMPORTACIÓN DATOS ANUALES PVGIS'!AG202","v":0},{"$f":"'IMPORTACIÓN DATOS ANUALES PVGIS'!AI202","v":"00:00:00"},{"$f":"'IMPORTACIÓN DATOS ANUALES PVGIS'!AJ202","v":0}]
[{"$f":"'IMPORTACIÓN DATOS ANUALES PVGIS'!B203","v":"00:00:00"},{"$f":"'IMPORTACIÓN DATOS ANUALES PVGIS'!C203","v":""},{"$f":"'IMPORTACIÓN DATOS ANUALES PVGIS'!E203","v":"00:00:00"},{"$f":"'IMPORTACIÓN DATOS ANUALES PVGIS'!F203","v":0},{"$f":"'IMPORTACIÓN DATOS ANUALES PVGIS'!H203","v":"00:00:00"},{"$f":"'IMPORTACIÓN DATOS ANUALES PVGIS'!F203","v":0},{"$f":"'IMPORTACIÓN DATOS ANUALES PVGIS'!K203","v":"00:00:00"},{"$f":"'IMPORTACIÓN DATOS ANUALES PVGIS'!L203","v":0},{"$f":"'IMPORTACIÓN DATOS ANUALES PVGIS'!N203","v":"00:00:00"},{"$f":"'IMPORTACIÓN DATOS ANUALES PVGIS'!O203","v":0},{"$f":"'IMPORTACIÓN DATOS ANUALES PVGIS'!Q203","v":"00:00:00"},{"$f":"'IMPORTACIÓN DATOS ANUALES PVGIS'!R203","v":0},{"$f":"'IMPORTACIÓN DATOS ANUALES PVGIS'!T203","v":"00:00:00"},{"$f":"'IMPORTACIÓN DATOS ANUALES PVGIS'!U203","v":0},{"$f":"'IMPORTACIÓN DATOS ANUALES PVGIS'!W203","v":"00:00:00"},{"$f":"'IMPORTACIÓN DATOS ANUALES PVGIS'!X203","v":0},{"$f":"'IMPORTACIÓN DATOS ANUALES PVGIS'!Z203","v":"00:00:00"},{"$f":"'IMPORTACIÓN DATOS ANUALES PVGIS'!AA203","v":0},{"$f":"'IMPORTACIÓN DATOS ANUALES PVGIS'!AC203","v":"00:00:00"},{"$f":"'IMPORTACIÓN DATOS ANUALES PVGIS'!AD203","v":0},{"$f":"'IMPORTACIÓN DATOS ANUALES PVGIS'!AF203","v":"00:00:00"},{"$f":"'IMPORTACIÓN DATOS ANUALES PVGIS'!AG203","v":0},{"$f":"'IMPORTACIÓN DATOS ANUALES PVGIS'!AI203","v":"00:00:00"},{"$f":"'IMPORTACIÓN DATOS ANUALES PVGIS'!AJ203","v":0}]
[{"$f":"'IMPORTACIÓN DATOS ANUALES PVGIS'!B204","v":"00:00:00"},{"$f":"'IMPORTACIÓN DATOS ANUALES PVGIS'!C204","v":""},{"$f":"'IMPORTACIÓN DATOS ANUALES PVGIS'!E204","v":"00:00:00"},{"$f":"'IMPORTACIÓN DATOS ANUALES PVGIS'!F204","v":0},{"$f":"'IMPORTACIÓN DATOS ANUALES PVGIS'!H204","v":"00:00:00"},{"$f":"'IMPORTACIÓN DATOS ANUALES PVGIS'!F204","v":0},{"$f":"'IMPORTACIÓN DATOS ANUALES PVGIS'!K204","v":"00:00:00"},{"$f":"'IMPORTACIÓN DATOS ANUALES PVGIS'!L204","v":0},{"$f":"'IMPORTACIÓN DATOS ANUALES PVGIS'!N204","v":"00:00:00"},{"$f":"'IMPORTACIÓN DATOS ANUALES PVGIS'!O204","v":0},{"$f":"'IMPORTACIÓN DATOS ANUALES PVGIS'!Q204","v":"00:00:00"},{"$f":"'IMPORTACIÓN DATOS ANUALES PVGIS'!R204","v":0},{"$f":"'IMPORTACIÓN DATOS ANUALES PVGIS'!T204","v":"00:00:00"},{"$f":"'IMPORTACIÓN DATOS ANUALES PVGIS'!U204","v":0},{"$f":"'IMPORTACIÓN DATOS ANUALES PVGIS'!W204","v":"00:00:00"},{"$f":"'IMPORTACIÓN DATOS ANUALES PVGIS'!X204","v":0},{"$f":"'IMPORTACIÓN DATOS ANUALES PVGIS'!Z204","v":"00:00:00"},{"$f":"'IMPORTACIÓN DATOS ANUALES PVGIS'!AA204","v":0},{"$f":"'IMPORTACIÓN DATOS ANUALES PVGIS'!AC204","v":"00:00:00"},{"$f":"'IMPORTACIÓN DATOS ANUALES PVGIS'!AD204","v":0},{"$f":"'IMPORTACIÓN DATOS ANUALES PVGIS'!AF204","v":"00:00:00"},{"$f":"'IMPORTACIÓN DATOS ANUALES PVGIS'!AG204","v":0},{"$f":"'IMPORTACIÓN DATOS ANUALES PVGIS'!AI204","v":"00:00:00"},{"$f":"'IMPORTACIÓN DATOS ANUALES PVGIS'!AJ204","v":0}]
[{"$f":"'IMPORTACIÓN DATOS ANUALES PVGIS'!B205","v":"00:00:00"},{"$f":"'IMPORTACIÓN DATOS ANUALES PVGIS'!C205","v":""},{"$f":"'IMPORTACIÓN DATOS ANUALES PVGIS'!E205","v":"00:00:00"},{"$f":"'IMPORTACIÓN DATOS ANUALES PVGIS'!F205","v":0},{"$f":"'IMPORTACIÓN DATOS ANUALES PVGIS'!H205","v":"00:00:00"},{"$f":"'IMPORTACIÓN DATOS ANUALES PVGIS'!F205","v":0},{"$f":"'IMPORTACIÓN DATOS ANUALES PVGIS'!K205","v":"00:00:00"},{"$f":"'IMPORTACIÓN DATOS ANUALES PVGIS'!L205","v":0},{"$f":"'IMPORTACIÓN DATOS ANUALES PVGIS'!N205","v":"00:00:00"},{"$f":"'IMPORTACIÓN DATOS ANUALES PVGIS'!O205","v":0},{"$f":"'IMPORTACIÓN DATOS ANUALES PVGIS'!Q205","v":"00:00:00"},{"$f":"'IMPORTACIÓN DATOS ANUALES PVGIS'!R205","v":0},{"$f":"'IMPORTACIÓN DATOS ANUALES PVGIS'!T205","v":"00:00:00"},{"$f":"'IMPORTACIÓN DATOS ANUALES PVGIS'!U205","v":0},{"$f":"'IMPORTACIÓN DATOS ANUALES PVGIS'!W205","v":"00:00:00"},{"$f":"'IMPORTACIÓN DATOS ANUALES PVGIS'!X205","v":0},{"$f":"'IMPORTACIÓN DATOS ANUALES PVGIS'!Z205","v":"00:00:00"},{"$f":"'IMPORTACIÓN DATOS ANUALES PVGIS'!AA205","v":0},{"$f":"'IMPORTACIÓN DATOS ANUALES PVGIS'!AC205","v":"00:00:00"},{"$f":"'IMPORTACIÓN DATOS ANUALES PVGIS'!AD205","v":0},{"$f":"'IMPORTACIÓN DATOS ANUALES PVGIS'!AF205","v":"00:00:00"},{"$f":"'IMPORTACIÓN DATOS ANUALES PVGIS'!AG205","v":0},{"$f":"'IMPORTACIÓN DATOS ANUALES PVGIS'!AI205","v":"00:00:00"},{"$f":"'IMPORTACIÓN DATOS ANUALES PVGIS'!AJ205","v":0}]
[{"$f":"'IMPORTACIÓN DATOS ANUALES PVGIS'!B206","v":"00:00:00"},{"$f":"'IMPORTACIÓN DATOS ANUALES PVGIS'!C206","v":""},{"$f":"'IMPORTACIÓN DATOS ANUALES PVGIS'!E206","v":"00:00:00"},{"$f":"'IMPORTACIÓN DATOS ANUALES PVGIS'!F206","v":0},{"$f":"'IMPORTACIÓN DATOS ANUALES PVGIS'!H206","v":"00:00:00"},{"$f":"'IMPORTACIÓN DATOS ANUALES PVGIS'!F206","v":0},{"$f":"'IMPORTACIÓN DATOS ANUALES PVGIS'!K206","v":"00:00:00"},{"$f":"'IMPORTACIÓN DATOS ANUALES PVGIS'!L206","v":0},{"$f":"'IMPORTACIÓN DATOS ANUALES PVGIS'!N206","v":"00:00:00"},{"$f":"'IMPORTACIÓN DATOS ANUALES PVGIS'!O206","v":0},{"$f":"'IMPORTACIÓN DATOS ANUALES PVGIS'!Q206","v":"00:00:00"},{"$f":"'IMPORTACIÓN DATOS ANUALES PVGIS'!R206","v":0},{"$f":"'IMPORTACIÓN DATOS ANUALES PVGIS'!T206","v":"00:00:00"},{"$f":"'IMPORTACIÓN DATOS ANUALES PVGIS'!U206","v":0},{"$f":"'IMPORTACIÓN DATOS ANUALES PVGIS'!W206","v":"00:00:00"},{"$f":"'IMPORTACIÓN DATOS ANUALES PVGIS'!X206","v":0},{"$f":"'IMPORTACIÓN DATOS ANUALES PVGIS'!Z206","v":"00:00:00"},{"$f":"'IMPORTACIÓN DATOS ANUALES PVGIS'!AA206","v":0},{"$f":"'IMPORTACIÓN DATOS ANUALES PVGIS'!AC206","v":"00:00:00"},{"$f":"'IMPORTACIÓN DATOS ANUALES PVGIS'!AD206","v":0},{"$f":"'IMPORTACIÓN DATOS ANUALES PVGIS'!AF206","v":"00:00:00"},{"$f":"'IMPORTACIÓN DATOS ANUALES PVGIS'!AG206","v":0},{"$f":"'IMPORTACIÓN DATOS ANUALES PVGIS'!AI206","v":"00:00:00"},{"$f":"'IMPORTACIÓN DATOS ANUALES PVGIS'!AJ206","v":0}]
[{"$f":"'IMPORTACIÓN DATOS ANUALES PVGIS'!B207","v":"00:00:00"},{"$f":"'IMPORTACIÓN DATOS ANUALES PVGIS'!C207","v":""},{"$f":"'IMPORTACIÓN DATOS ANUALES PVGIS'!E207","v":"00:00:00"},{"$f":"'IMPORTACIÓN DATOS ANUALES PVGIS'!F207","v":0},{"$f":"'IMPORTACIÓN DATOS ANUALES PVGIS'!H207","v":"00:00:00"},{"$f":"'IMPORTACIÓN DATOS ANUALES PVGIS'!F207","v":0},{"$f":"'IMPORTACIÓN DATOS ANUALES PVGIS'!K207","v":"00:00:00"},{"$f":"'IMPORTACIÓN DATOS ANUALES PVGIS'!L207","v":0},{"$f":"'IMPORTACIÓN DATOS ANUALES PVGIS'!N207","v":"00:00:00"},{"$f":"'IMPORTACIÓN DATOS ANUALES PVGIS'!O207","v":0},{"$f":"'IMPORTACIÓN DATOS ANUALES PVGIS'!Q207","v":"00:00:00"},{"$f":"'IMPORTACIÓN DATOS ANUALES PVGIS'!R207","v":0},{"$f":"'IMPORTACIÓN DATOS ANUALES PVGIS'!T207","v":"00:00:00"},{"$f":"'IMPORTACIÓN DATOS ANUALES PVGIS'!U207","v":0},{"$f":"'IMPORTACIÓN DATOS ANUALES PVGIS'!W207","v":"00:00:00"},{"$f":"'IMPORTACIÓN DATOS ANUALES PVGIS'!X207","v":0},{"$f":"'IMPORTACIÓN DATOS ANUALES PVGIS'!Z207","v":"00:00:00"},{"$f":"'IMPORTACIÓN DATOS ANUALES PVGIS'!AA207","v":0},{"$f":"'IMPORTACIÓN DATOS ANUALES PVGIS'!AC207","v":"00:00:00"},{"$f":"'IMPORTACIÓN DATOS ANUALES PVGIS'!AD207","v":0},{"$f":"'IMPORTACIÓN DATOS ANUALES PVGIS'!AF207","v":"00:00:00"},{"$f":"'IMPORTACIÓN DATOS ANUALES PVGIS'!AG207","v":0},{"$f":"'IMPORTACIÓN DATOS ANUALES PVGIS'!AI207","v":"00:00:00"},{"$f":"'IMPORTACIÓN DATOS ANUALES PVGIS'!AJ207","v":0}]
[{"$f":"'IMPORTACIÓN DATOS ANUALES PVGIS'!B208","v":"00:00:00"},{"$f":"'IMPORTACIÓN DATOS ANUALES PVGIS'!C208","v":""},{"$f":"'IMPORTACIÓN DATOS ANUALES PVGIS'!E208","v":"00:00:00"},{"$f":"'IMPORTACIÓN DATOS ANUALES PVGIS'!F208","v":0},{"$f":"'IMPORTACIÓN DATOS ANUALES PVGIS'!H208","v":"00:00:00"},{"$f":"'IMPORTACIÓN DATOS ANUALES PVGIS'!F208","v":0},{"$f":"'IMPORTACIÓN DATOS ANUALES PVGIS'!K208","v":"00:00:00"},{"$f":"'IMPORTACIÓN DATOS ANUALES PVGIS'!L208","v":0},{"$f":"'IMPORTACIÓN DATOS ANUALES PVGIS'!N208","v":"00:00:00"},{"$f":"'IMPORTACIÓN DATOS ANUALES PVGIS'!O208","v":0},{"$f":"'IMPORTACIÓN DATOS ANUALES PVGIS'!Q208","v":"00:00:00"},{"$f":"'IMPORTACIÓN DATOS ANUALES PVGIS'!R208","v":0},{"$f":"'IMPORTACIÓN DATOS ANUALES PVGIS'!T208","v":"00:00:00"},{"$f":"'IMPORTACIÓN DATOS ANUALES PVGIS'!U208","v":0},{"$f":"'IMPORTACIÓN DATOS ANUALES PVGIS'!W208","v":"00:00:00"},{"$f":"'IMPORTACIÓN DATOS ANUALES PVGIS'!X208","v":0},{"$f":"'IMPORTACIÓN DATOS ANUALES PVGIS'!Z208","v":"00:00:00"},{"$f":"'IMPORTACIÓN DATOS ANUALES PVGIS'!AA208","v":0},{"$f":"'IMPORTACIÓN DATOS ANUALES PVGIS'!AC208","v":"00:00:00"},{"$f":"'IMPORTACIÓN DATOS ANUALES PVGIS'!AD208","v":0},{"$f":"'IMPORTACIÓN DATOS ANUALES PVGIS'!AF208","v":"00:00:00"},{"$f":"'IMPORTACIÓN DATOS ANUALES PVGIS'!AG208","v":0},{"$f":"'IMPORTACIÓN DATOS ANUALES PVGIS'!AI208","v":"00:00:00"},{"$f":"'IMPORTACIÓN DATOS ANUALES PVGIS'!AJ208","v":0}]
[{"$f":"'IMPORTACIÓN DATOS ANUALES PVGIS'!B209","v":"00:00:00"},{"$f":"'IMPORTACIÓN DATOS ANUALES PVGIS'!C209","v":""},{"$f":"'IMPORTACIÓN DATOS ANUALES PVGIS'!E209","v":"00:00:00"},{"$f":"'IMPORTACIÓN DATOS ANUALES PVGIS'!F209","v":0},{"$f":"'IMPORTACIÓN DATOS ANUALES PVGIS'!H209","v":"00:00:00"},{"$f":"'IMPORTACIÓN DATOS ANUALES PVGIS'!F209","v":0},{"$f":"'IMPORTACIÓN DATOS ANUALES PVGIS'!K209","v":"00:00:00"},{"$f":"'IMPORTACIÓN DATOS ANUALES PVGIS'!L209","v":0},{"$f":"'IMPORTACIÓN DATOS ANUALES PVGIS'!N209","v":"00:00:00"},{"$f":"'IMPORTACIÓN DATOS ANUALES PVGIS'!O209","v":0},{"$f":"'IMPORTACIÓN DATOS ANUALES PVGIS'!Q209","v":"00:00:00"},{"$f":"'IMPORTACIÓN DATOS ANUALES PVGIS'!R209","v":0},{"$f":"'IMPORTACIÓN DATOS ANUALES PVGIS'!T209","v":"00:00:00"},{"$f":"'IMPORTACIÓN DATOS ANUALES PVGIS'!U209","v":0},{"$f":"'IMPORTACIÓN DATOS ANUALES PVGIS'!W209","v":"00:00:00"},{"$f":"'IMPORTACIÓN DATOS ANUALES PVGIS'!X209","v":0},{"$f":"'IMPORTACIÓN DATOS ANUALES PVGIS'!Z209","v":"00:00:00"},{"$f":"'IMPORTACIÓN DATOS ANUALES PVGIS'!AA209","v":0},{"$f":"'IMPORTACIÓN DATOS ANUALES PVGIS'!AC209","v":"00:00:00"},{"$f":"'IMPORTACIÓN DATOS ANUALES PVGIS'!AD209","v":0},{"$f":"'IMPORTACIÓN DATOS ANUALES PVGIS'!AF209","v":"00:00:00"},{"$f":"'IMPORTACIÓN DATOS ANUALES PVGIS'!AG209","v":0},{"$f":"'IMPORTACIÓN DATOS ANUALES PVGIS'!AI209","v":"00:00:00"},{"$f":"'IMPORTACIÓN DATOS ANUALES PVGIS'!AJ209","v":0}]
[{"$f":"'IMPORTACIÓN DATOS ANUALES PVGIS'!B210","v":"00:00:00"},{"$f":"'IMPORTACIÓN DATOS ANUALES PVGIS'!C210","v":""},{"$f":"'IMPORTACIÓN DATOS ANUALES PVGIS'!E210","v":"00:00:00"},{"$f":"'IMPORTACIÓN DATOS ANUALES PVGIS'!F210","v":0},{"$f":"'IMPORTACIÓN DATOS ANUALES PVGIS'!H210","v":"00:00:00"},{"$f":"'IMPORTACIÓN DATOS ANUALES PVGIS'!F210","v":0},{"$f":"'IMPORTACIÓN DATOS ANUALES PVGIS'!K210","v":"00:00:00"},{"$f":"'IMPORTACIÓN DATOS ANUALES PVGIS'!L210","v":0},{"$f":"'IMPORTACIÓN DATOS ANUALES PVGIS'!N210","v":"00:00:00"},{"$f":"'IMPORTACIÓN DATOS ANUALES PVGIS'!O210","v":0},{"$f":"'IMPORTACIÓN DATOS ANUALES PVGIS'!Q210","v":"00:00:00"},{"$f":"'IMPORTACIÓN DATOS ANUALES PVGIS'!R210","v":0},{"$f":"'IMPORTACIÓN DATOS ANUALES PVGIS'!T210","v":"00:00:00"},{"$f":"'IMPORTACIÓN DATOS ANUALES PVGIS'!U210","v":0},{"$f":"'IMPORTACIÓN DATOS ANUALES PVGIS'!W210","v":"00:00:00"},{"$f":"'IMPORTACIÓN DATOS ANUALES PVGIS'!X210","v":0},{"$f":"'IMPORTACIÓN DATOS ANUALES PVGIS'!Z210","v":"00:00:00"},{"$f":"'IMPORTACIÓN DATOS ANUALES PVGIS'!AA210","v":0},{"$f":"'IMPORTACIÓN DATOS ANUALES PVGIS'!AC210","v":"00:00:00"},{"$f":"'IMPORTACIÓN DATOS ANUALES PVGIS'!AD210","v":0},{"$f":"'IMPORTACIÓN DATOS ANUALES PVGIS'!AF210","v":"00:00:00"},{"$f":"'IMPORTACIÓN DATOS ANUALES PVGIS'!AG210","v":0},{"$f":"'IMPORTACIÓN DATOS ANUALES PVGIS'!AI210","v":"00:00:00"},{"$f":"'IMPORTACIÓN DATOS ANUALES PVGIS'!AJ210","v":0}]
[{"$f":"'IMPORTACIÓN DATOS ANUALES PVGIS'!B211","v":"00:00:00"},{"$f":"'IMPORTACIÓN DATOS ANUALES PVGIS'!C211","v":""},{"$f":"'IMPORTACIÓN DATOS ANUALES PVGIS'!E211","v":"00:00:00"},{"$f":"'IMPORTACIÓN DATOS ANUALES PVGIS'!F211","v":0},{"$f":"'IMPORTACIÓN DATOS ANUALES PVGIS'!H211","v":"00:00:00"},{"$f":"'IMPORTACIÓN DATOS ANUALES PVGIS'!F211","v":0},{"$f":"'IMPORTACIÓN DATOS ANUALES PVGIS'!K211","v":"00:00:00"},{"$f":"'IMPORTACIÓN DATOS ANUALES PVGIS'!L211","v":0},{"$f":"'IMPORTACIÓN DATOS ANUALES PVGIS'!N211","v":"00:00:00"},{"$f":"'IMPORTACIÓN DATOS ANUALES PVGIS'!O211","v":0},{"$f":"'IMPORTACIÓN DATOS ANUALES PVGIS'!Q211","v":"00:00:00"},{"$f":"'IMPORTACIÓN DATOS ANUALES PVGIS'!R211","v":0},{"$f":"'IMPORTACIÓN DATOS ANUALES PVGIS'!T211","v":"00:00:00"},{"$f":"'IMPORTACIÓN DATOS ANUALES PVGIS'!U211","v":0},{"$f":"'IMPORTACIÓN DATOS ANUALES PVGIS'!W211","v":"00:00:00"},{"$f":"'IMPORTACIÓN DATOS ANUALES PVGIS'!X211","v":0},{"$f":"'IMPORTACIÓN DATOS ANUALES PVGIS'!Z211","v":"00:00:00"},{"$f":"'IMPORTACIÓN DATOS ANUALES PVGIS'!AA211","v":0},{"$f":"'IMPORTACIÓN DATOS ANUALES PVGIS'!AC211","v":"00:00:00"},{"$f":"'IMPORTACIÓN DATOS ANUALES PVGIS'!AD211","v":0},{"$f":"'IMPORTACIÓN DATOS ANUALES PVGIS'!AF211","v":"00:00:00"},{"$f":"'IMPORTACIÓN DATOS ANUALES PVGIS'!AG211","v":0},{"$f":"'IMPORTACIÓN DATOS ANUALES PVGIS'!AI211","v":"00:00:00"},{"$f":"'IMPORTACIÓN DATOS ANUALES PVGIS'!AJ211","v":0}]
[{"$f":"'IMPORTACIÓN DATOS ANUALES PVGIS'!B212","v":"00:00:00"},{"$f":"'IMPORTACIÓN DATOS ANUALES PVGIS'!C212","v":""},{"$f":"'IMPORTACIÓN DATOS ANUALES PVGIS'!E212","v":"00:00:00"},{"$f":"'IMPORTACIÓN DATOS ANUALES PVGIS'!F212","v":0},{"$f":"'IMPORTACIÓN DATOS ANUALES PVGIS'!H212","v":"00:00:00"},{"$f":"'IMPORTACIÓN DATOS ANUALES PVGIS'!F212","v":0},{"$f":"'IMPORTACIÓN DATOS ANUALES PVGIS'!K212","v":"00:00:00"},{"$f":"'IMPORTACIÓN DATOS ANUALES PVGIS'!L212","v":0},{"$f":"'IMPORTACIÓN DATOS ANUALES PVGIS'!N212","v":"00:00:00"},{"$f":"'IMPORTACIÓN DATOS ANUALES PVGIS'!O212","v":0},{"$f":"'IMPORTACIÓN DATOS ANUALES PVGIS'!Q212","v":"00:00:00"},{"$f":"'IMPORTACIÓN DATOS ANUALES PVGIS'!R212","v":0},{"$f":"'IMPORTACIÓN DATOS ANUALES PVGIS'!T212","v":"00:00:00"},{"$f":"'IMPORTACIÓN DATOS ANUALES PVGIS'!U212","v":0},{"$f":"'IMPORTACIÓN DATOS ANUALES PVGIS'!W212","v":"00:00:00"},{"$f":"'IMPORTACIÓN DATOS ANUALES PVGIS'!X212","v":0},{"$f":"'IMPORTACIÓN DATOS ANUALES PVGIS'!Z212","v":"00:00:00"},{"$f":"'IMPORTACIÓN DATOS ANUALES PVGIS'!AA212","v":0},{"$f":"'IMPORTACIÓN DATOS ANUALES PVGIS'!AC212","v":"00:00:00"},{"$f":"'IMPORTACIÓN DATOS ANUALES PVGIS'!AD212","v":0},{"$f":"'IMPORTACIÓN DATOS ANUALES PVGIS'!AF212","v":"00:00:00"},{"$f":"'IMPORTACIÓN DATOS ANUALES PVGIS'!AG212","v":0},{"$f":"'IMPORTACIÓN DATOS ANUALES PVGIS'!AI212","v":"00:00:00"},{"$f":"'IMPORTACIÓN DATOS ANUALES PVGIS'!AJ212","v":0}]
[{"$f":"'IMPORTACIÓN DATOS ANUALES PVGIS'!B213","v":"00:00:00"},{"$f":"'IMPORTACIÓN DATOS ANUALES PVGIS'!C213","v":""},{"$f":"'IMPORTACIÓN DATOS ANUALES PVGIS'!E213","v":"00:00:00"},{"$f":"'IMPORTACIÓN DATOS ANUALES PVGIS'!F213","v":0},{"$f":"'IMPORTACIÓN DATOS ANUALES PVGIS'!H213","v":"00:00:00"},{"$f":"'IMPORTACIÓN DATOS ANUALES PVGIS'!F213","v":0},{"$f":"'IMPORTACIÓN DATOS ANUALES PVGIS'!K213","v":"00:00:00"},{"$f":"'IMPORTACIÓN DATOS ANUALES PVGIS'!L213","v":0},{"$f":"'IMPORTACIÓN DATOS ANUALES PVGIS'!N213","v":"00:00:00"},{"$f":"'IMPORTACIÓN DATOS ANUALES PVGIS'!O213","v":0},{"$f":"'IMPORTACIÓN DATOS ANUALES PVGIS'!Q213","v":"00:00:00"},{"$f":"'IMPORTACIÓN DATOS ANUALES PVGIS'!R213","v":0},{"$f":"'IMPORTACIÓN DATOS ANUALES PVGIS'!T213","v":"00:00:00"},{"$f":"'IMPORTACIÓN DATOS ANUALES PVGIS'!U213","v":0},{"$f":"'IMPORTACIÓN DATOS ANUALES PVGIS'!W213","v":"00:00:00"},{"$f":"'IMPORTACIÓN DATOS ANUALES PVGIS'!X213","v":0},{"$f":"'IMPORTACIÓN DATOS ANUALES PVGIS'!Z213","v":"00:00:00"},{"$f":"'IMPORTACIÓN DATOS ANUALES PVGIS'!AA213","v":0},{"$f":"'IMPORTACIÓN DATOS ANUALES PVGIS'!AC213","v":"00:00:00"},{"$f":"'IMPORTACIÓN DATOS ANUALES PVGIS'!AD213","v":0},{"$f":"'IMPORTACIÓN DATOS ANUALES PVGIS'!AF213","v":"00:00:00"},{"$f":"'IMPORTACIÓN DATOS ANUALES PVGIS'!AG213","v":0},{"$f":"'IMPORTACIÓN DATOS ANUALES PVGIS'!AI213","v":"00:00:00"},{"$f":"'IMPORTACIÓN DATOS ANUALES PVGIS'!AJ213","v":0}]
[{"$f":"'IMPORTACIÓN DATOS ANUALES PVGIS'!B214","v":"00:00:00"},{"$f":"'IMPORTACIÓN DATOS ANUALES PVGIS'!C214","v":""},{"$f":"'IMPORTACIÓN DATOS ANUALES PVGIS'!E214","v":"00:00:00"},{"$f":"'IMPORTACIÓN DATOS ANUALES PVGIS'!F214","v":0},{"$f":"'IMPORTACIÓN DATOS ANUALES PVGIS'!H214","v":"00:00:00"},{"$f":"'IMPORTACIÓN DATOS ANUALES PVGIS'!F214","v":0},{"$f":"'IMPORTACIÓN DATOS ANUALES PVGIS'!K214","v":"00:00:00"},{"$f":"'IMPORTACIÓN DATOS ANUALES PVGIS'!L214","v":0},{"$f":"'IMPORTACIÓN DATOS ANUALES PVGIS'!N214","v":"00:00:00"},{"$f":"'IMPORTACIÓN DATOS ANUALES PVGIS'!O214","v":0},{"$f":"'IMPORTACIÓN DATOS ANUALES PVGIS'!Q214","v":"00:00:00"},{"$f":"'IMPORTACIÓN DATOS ANUALES PVGIS'!R214","v":0},{"$f":"'IMPORTACIÓN DATOS ANUALES PVGIS'!T214","v":"00:00:00"},{"$f":"'IMPORTACIÓN DATOS ANUALES PVGIS'!U214","v":0},{"$f":"'IMPORTACIÓN DATOS ANUALES PVGIS'!W214","v":"00:00:00"},{"$f":"'IMPORTACIÓN DATOS ANUALES PVGIS'!X214","v":0},{"$f":"'IMPORTACIÓN DATOS ANUALES PVGIS'!Z214","v":"00:00:00"},{"$f":"'IMPORTACIÓN DATOS ANUALES PVGIS'!AA214","v":0},{"$f":"'IMPORTACIÓN DATOS ANUALES PVGIS'!AC214","v":"00:00:00"},{"$f":"'IMPORTACIÓN DATOS ANUALES PVGIS'!AD214","v":0},{"$f":"'IMPORTACIÓN DATOS ANUALES PVGIS'!AF214","v":"00:00:00"},{"$f":"'IMPORTACIÓN DATOS ANUALES PVGIS'!AG214","v":0},{"$f":"'IMPORTACIÓN DATOS ANUALES PVGIS'!AI214","v":"00:00:00"},{"$f":"'IMPORTACIÓN DATOS ANUALES PVGIS'!AJ214","v":0}]
[{"$f":"'IMPORTACIÓN DATOS ANUALES PVGIS'!B215","v":"00:00:00"},{"$f":"'IMPORTACIÓN DATOS ANUALES PVGIS'!C215","v":""},{"$f":"'IMPORTACIÓN DATOS ANUALES PVGIS'!E215","v":"00:00:00"},{"$f":"'IMPORTACIÓN DATOS ANUALES PVGIS'!F215","v":0},{"$f":"'IMPORTACIÓN DATOS ANUALES PVGIS'!H215","v":"00:00:00"},{"$f":"'IMPORTACIÓN DATOS ANUALES PVGIS'!F215","v":0},{"$f":"'IMPORTACIÓN DATOS ANUALES PVGIS'!K215","v":"00:00:00"},{"$f":"'IMPORTACIÓN DATOS ANUALES PVGIS'!L215","v":0},{"$f":"'IMPORTACIÓN DATOS ANUALES PVGIS'!N215","v":"00:00:00"},{"$f":"'IMPORTACIÓN DATOS ANUALES PVGIS'!O215","v":0},{"$f":"'IMPORTACIÓN DATOS ANUALES PVGIS'!Q215","v":"00:00:00"},{"$f":"'IMPORTACIÓN DATOS ANUALES PVGIS'!R215","v":0},{"$f":"'IMPORTACIÓN DATOS ANUALES PVGIS'!T215","v":"00:00:00"},{"$f":"'IMPORTACIÓN DATOS ANUALES PVGIS'!U215","v":0},{"$f":"'IMPORTACIÓN DATOS ANUALES PVGIS'!W215","v":"00:00:00"},{"$f":"'IMPORTACIÓN DATOS ANUALES PVGIS'!X215","v":0},{"$f":"'IMPORTACIÓN DATOS ANUALES PVGIS'!Z215","v":"00:00:00"},{"$f":"'IMPORTACIÓN DATOS ANUALES PVGIS'!AA215","v":0},{"$f":"'IMPORTACIÓN DATOS ANUALES PVGIS'!AC215","v":"00:00:00"},{"$f":"'IMPORTACIÓN DATOS ANUALES PVGIS'!AD215","v":0},{"$f":"'IMPORTACIÓN DATOS ANUALES PVGIS'!AF215","v":"00:00:00"},{"$f":"'IMPORTACIÓN DATOS ANUALES PVGIS'!AG215","v":0},{"$f":"'IMPORTACIÓN DATOS ANUALES PVGIS'!AI215","v":"00:00:00"},{"$f":"'IMPORTACIÓN DATOS ANUALES PVGIS'!AJ215","v":0}]
[{"$f":"'IMPORTACIÓN DATOS ANUALES PVGIS'!B216","v":"00:00:00"},{"$f":"'IMPORTACIÓN DATOS ANUALES PVGIS'!C216","v":""},{"$f":"'IMPORTACIÓN DATOS ANUALES PVGIS'!E216","v":"00:00:00"},{"$f":"'IMPORTACIÓN DATOS ANUALES PVGIS'!F216","v":0},{"$f":"'IMPORTACIÓN DATOS ANUALES PVGIS'!H216","v":"00:00:00"},{"$f":"'IMPORTACIÓN DATOS ANUALES PVGIS'!F216","v":0},{"$f":"'IMPORTACIÓN DATOS ANUALES PVGIS'!K216","v":"00:00:00"},{"$f":"'IMPORTACIÓN DATOS ANUALES PVGIS'!L216","v":0},{"$f":"'IMPORTACIÓN DATOS ANUALES PVGIS'!N216","v":"00:00:00"},{"$f":"'IMPORTACIÓN DATOS ANUALES PVGIS'!O216","v":0},{"$f":"'IMPORTACIÓN DATOS ANUALES PVGIS'!Q216","v":"00:00:00"},{"$f":"'IMPORTACIÓN DATOS ANUALES PVGIS'!R216","v":0},{"$f":"'IMPORTACIÓN DATOS ANUALES PVGIS'!T216","v":"00:00:00"},{"$f":"'IMPORTACIÓN DATOS ANUALES PVGIS'!U216","v":0},{"$f":"'IMPORTACIÓN DATOS ANUALES PVGIS'!W216","v":"00:00:00"},{"$f":"'IMPORTACIÓN DATOS ANUALES PVGIS'!X216","v":0},{"$f":"'IMPORTACIÓN DATOS ANUALES PVGIS'!Z216","v":"00:00:00"},{"$f":"'IMPORTACIÓN DATOS ANUALES PVGIS'!AA216","v":0},{"$f":"'IMPORTACIÓN DATOS ANUALES PVGIS'!AC216","v":"00:00:00"},{"$f":"'IMPORTACIÓN DATOS ANUALES PVGIS'!AD216","v":0},{"$f":"'IMPORTACIÓN DATOS ANUALES PVGIS'!AF216","v":"00:00:00"},{"$f":"'IMPORTACIÓN DATOS ANUALES PVGIS'!AG216","v":0},{"$f":"'IMPORTACIÓN DATOS ANUALES PVGIS'!AI216","v":"00:00:00"},{"$f":"'IMPORTACIÓN DATOS ANUALES PVGIS'!AJ216","v":0}]
[{"$f":"'IMPORTACIÓN DATOS ANUALES PVGIS'!B217","v":"00:00:00"},{"$f":"'IMPORTACIÓN DATOS ANUALES PVGIS'!C217","v":""},{"$f":"'IMPORTACIÓN DATOS ANUALES PVGIS'!E217","v":"00:00:00"},{"$f":"'IMPORTACIÓN DATOS ANUALES PVGIS'!F217","v":0},{"$f":"'IMPORTACIÓN DATOS ANUALES PVGIS'!H217","v":"00:00:00"},{"$f":"'IMPORTACIÓN DATOS ANUALES PVGIS'!F217","v":0},{"$f":"'IMPORTACIÓN DATOS ANUALES PVGIS'!K217","v":"00:00:00"},{"$f":"'IMPORTACIÓN DATOS ANUALES PVGIS'!L217","v":0},{"$f":"'IMPORTACIÓN DATOS ANUALES PVGIS'!N217","v":"00:00:00"},{"$f":"'IMPORTACIÓN DATOS ANUALES PVGIS'!O217","v":0},{"$f":"'IMPORTACIÓN DATOS ANUALES PVGIS'!Q217","v":"00:00:00"},{"$f":"'IMPORTACIÓN DATOS ANUALES PVGIS'!R217","v":0},{"$f":"'IMPORTACIÓN DATOS ANUALES PVGIS'!T217","v":"00:00:00"},{"$f":"'IMPORTACIÓN DATOS ANUALES PVGIS'!U217","v":0},{"$f":"'IMPORTACIÓN DATOS ANUALES PVGIS'!W217","v":"00:00:00"},{"$f":"'IMPORTACIÓN DATOS ANUALES PVGIS'!X217","v":0},{"$f":"'IMPORTACIÓN DATOS ANUALES PVGIS'!Z217","v":"00:00:00"},{"$f":"'IMPORTACIÓN DATOS ANUALES PVGIS'!AA217","v":0},{"$f":"'IMPORTACIÓN DATOS ANUALES PVGIS'!AC217","v":"00:00:00"},{"$f":"'IMPORTACIÓN DATOS ANUALES PVGIS'!AD217","v":0},{"$f":"'IMPORTACIÓN DATOS ANUALES PVGIS'!AF217","v":"00:00:00"},{"$f":"'IMPORTACIÓN DATOS ANUALES PVGIS'!AG217","v":0},{"$f":"'IMPORTACIÓN DATOS ANUALES PVGIS'!AI217","v":"00:00:00"},{"$f":"'IMPORTACIÓN DATOS ANUALES PVGIS'!AJ217","v":0}]
[{"$f":"'IMPORTACIÓN DATOS ANUALES PVGIS'!B218","v":"00:00:00"},{"$f":"'IMPORTACIÓN DATOS ANUALES PVGIS'!C218","v":""},{"$f":"'IMPORTACIÓN DATOS ANUALES PVGIS'!E218","v":"00:00:00"},{"$f":"'IMPORTACIÓN DATOS ANUALES PVGIS'!F218","v":0},{"$f":"'IMPORTACIÓN DATOS ANUALES PVGIS'!H218","v":"00:00:00"},{"$f":"'IMPORTACIÓN DATOS ANUALES PVGIS'!F218","v":0},{"$f":"'IMPORTACIÓN DATOS ANUALES PVGIS'!K218","v":"00:00:00"},{"$f":"'IMPORTACIÓN DATOS ANUALES PVGIS'!L218","v":0},{"$f":"'IMPORTACIÓN DATOS ANUALES PVGIS'!N218","v":"00:00:00"},{"$f":"'IMPORTACIÓN DATOS ANUALES PVGIS'!O218","v":0},{"$f":"'IMPORTACIÓN DATOS ANUALES PVGIS'!Q218","v":"00:00:00"},{"$f":"'IMPORTACIÓN DATOS ANUALES PVGIS'!R218","v":0},{"$f":"'IMPORTACIÓN DATOS ANUALES PVGIS'!T218","v":"00:00:00"},{"$f":"'IMPORTACIÓN DATOS ANUALES PVGIS'!U218","v":0},{"$f":"'IMPORTACIÓN DATOS ANUALES PVGIS'!W218","v":"00:00:00"},{"$f":"'IMPORTACIÓN DATOS ANUALES PVGIS'!X218","v":0},{"$f":"'IMPORTACIÓN DATOS ANUALES PVGIS'!Z218","v":"00:00:00"},{"$f":"'IMPORTACIÓN DATOS ANUALES PVGIS'!AA218","v":0},{"$f":"'IMPORTACIÓN DATOS ANUALES PVGIS'!AC218","v":"00:00:00"},{"$f":"'IMPORTACIÓN DATOS ANUALES PVGIS'!AD218","v":0},{"$f":"'IMPORTACIÓN DATOS ANUALES PVGIS'!AF218","v":"00:00:00"},{"$f":"'IMPORTACIÓN DATOS ANUALES PVGIS'!AG218","v":0},{"$f":"'IMPORTACIÓN DATOS ANUALES PVGIS'!AI218","v":"00:00:00"},{"$f":"'IMPORTACIÓN DATOS ANUALES PVGIS'!AJ218","v":0}]
[{"$f":"'IMPORTACIÓN DATOS ANUALES PVGIS'!B219","v":"00:00:00"},{"$f":"'IMPORTACIÓN DATOS ANUALES PVGIS'!C219","v":""},{"$f":"'IMPORTACIÓN DATOS ANUALES PVGIS'!E219","v":"00:00:00"},{"$f":"'IMPORTACIÓN DATOS ANUALES PVGIS'!F219","v":0},{"$f":"'IMPORTACIÓN DATOS ANUALES PVGIS'!H219","v":"00:00:00"},{"$f":"'IMPORTACIÓN DATOS ANUALES PVGIS'!F219","v":0},{"$f":"'IMPORTACIÓN DATOS ANUALES PVGIS'!K219","v":"00:00:00"},{"$f":"'IMPORTACIÓN DATOS ANUALES PVGIS'!L219","v":0},{"$f":"'IMPORTACIÓN DATOS ANUALES PVGIS'!N219","v":"00:00:00"},{"$f":"'IMPORTACIÓN DATOS ANUALES PVGIS'!O219","v":0},{"$f":"'IMPORTACIÓN DATOS ANUALES PVGIS'!Q219","v":"00:00:00"},{"$f":"'IMPORTACIÓN DATOS ANUALES PVGIS'!R219","v":0},{"$f":"'IMPORTACIÓN DATOS ANUALES PVGIS'!T219","v":"00:00:00"},{"$f":"'IMPORTACIÓN DATOS ANUALES PVGIS'!U219","v":0},{"$f":"'IMPORTACIÓN DATOS ANUALES PVGIS'!W219","v":"00:00:00"},{"$f":"'IMPORTACIÓN DATOS ANUALES PVGIS'!X219","v":0},{"$f":"'IMPORTACIÓN DATOS ANUALES PVGIS'!Z219","v":"00:00:00"},{"$f":"'IMPORTACIÓN DATOS ANUALES PVGIS'!AA219","v":0},{"$f":"'IMPORTACIÓN DATOS ANUALES PVGIS'!AC219","v":"00:00:00"},{"$f":"'IMPORTACIÓN DATOS ANUALES PVGIS'!AD219","v":0},{"$f":"'IMPORTACIÓN DATOS ANUALES PVGIS'!AF219","v":"00:00:00"},{"$f":"'IMPORTACIÓN DATOS ANUALES PVGIS'!AG219","v":0},{"$f":"'IMPORTACIÓN DATOS ANUALES PVGIS'!AI219","v":"00:00:00"},{"$f":"'IMPORTACIÓN DATOS ANUALES PVGIS'!AJ219","v":0}]
[{"$f":"'IMPORTACIÓN DATOS ANUALES PVGIS'!B220","v":"00:00:00"},{"$f":"'IMPORTACIÓN DATOS ANUALES PVGIS'!C220","v":""},{"$f":"'IMPORTACIÓN DATOS ANUALES PVGIS'!E220","v":"00:00:00"},{"$f":"'IMPORTACIÓN DATOS ANUALES PVGIS'!F220","v":0},{"$f":"'IMPORTACIÓN DATOS ANUALES PVGIS'!H220","v":"00:00:00"},{"$f":"'IMPORTACIÓN DATOS ANUALES PVGIS'!F220","v":0},{"$f":"'IMPORTACIÓN DATOS ANUALES PVGIS'!K220","v":"00:00:00"},{"$f":"'IMPORTACIÓN DATOS ANUALES PVGIS'!L220","v":0},{"$f":"'IMPORTACIÓN DATOS ANUALES PVGIS'!N220","v":"00:00:00"},{"$f":"'IMPORTACIÓN DATOS ANUALES PVGIS'!O220","v":0},{"$f":"'IMPORTACIÓN DATOS ANUALES PVGIS'!Q220","v":"00:00:00"},{"$f":"'IMPORTACIÓN DATOS ANUALES PVGIS'!R220","v":0},{"$f":"'IMPORTACIÓN DATOS ANUALES PVGIS'!T220","v":"00:00:00"},{"$f":"'IMPORTACIÓN DATOS ANUALES PVGIS'!U220","v":0},{"$f":"'IMPORTACIÓN DATOS ANUALES PVGIS'!W220","v":"00:00:00"},{"$f":"'IMPORTACIÓN DATOS ANUALES PVGIS'!X220","v":0},{"$f":"'IMPORTACIÓN DATOS ANUALES PVGIS'!Z220","v":"00:00:00"},{"$f":"'IMPORTACIÓN DATOS ANUALES PVGIS'!AA220","v":0},{"$f":"'IMPORTACIÓN DATOS ANUALES PVGIS'!AC220","v":"00:00:00"},{"$f":"'IMPORTACIÓN DATOS ANUALES PVGIS'!AD220","v":0},{"$f":"'IMPORTACIÓN DATOS ANUALES PVGIS'!AF220","v":"00:00:00"},{"$f":"'IMPORTACIÓN DATOS ANUALES PVGIS'!AG220","v":0},{"$f":"'IMPORTACIÓN DATOS ANUALES PVGIS'!AI220","v":"00:00:00"},{"$f":"'IMPORTACIÓN DATOS ANUALES PVGIS'!AJ220","v":0}]
[{"$f":"'IMPORTACIÓN DATOS ANUALES PVGIS'!B221","v":"00:00:00"},{"$f":"'IMPORTACIÓN DATOS ANUALES PVGIS'!C221","v":""},{"$f":"'IMPORTACIÓN DATOS ANUALES PVGIS'!E221","v":"00:00:00"},{"$f":"'IMPORTACIÓN DATOS ANUALES PVGIS'!F221","v":0},{"$f":"'IMPORTACIÓN DATOS ANUALES PVGIS'!H221","v":"00:00:00"},{"$f":"'IMPORTACIÓN DATOS ANUALES PVGIS'!F221","v":0},{"$f":"'IMPORTACIÓN DATOS ANUALES PVGIS'!K221","v":"00:00:00"},{"$f":"'IMPORTACIÓN DATOS ANUALES PVGIS'!L221","v":0},{"$f":"'IMPORTACIÓN DATOS ANUALES PVGIS'!N221","v":"00:00:00"},{"$f":"'IMPORTACIÓN DATOS ANUALES PVGIS'!O221","v":0},{"$f":"'IMPORTACIÓN DATOS ANUALES PVGIS'!Q221","v":"00:00:00"},{"$f":"'IMPORTACIÓN DATOS ANUALES PVGIS'!R221","v":0},{"$f":"'IMPORTACIÓN DATOS ANUALES PVGIS'!T221","v":"00:00:00"},{"$f":"'IMPORTACIÓN DATOS ANUALES PVGIS'!U221","v":0},{"$f":"'IMPORTACIÓN DATOS ANUALES PVGIS'!W221","v":"00:00:00"},{"$f":"'IMPORTACIÓN DATOS ANUALES PVGIS'!X221","v":0},{"$f":"'IMPORTACIÓN DATOS ANUALES PVGIS'!Z221","v":"00:00:00"},{"$f":"'IMPORTACIÓN DATOS ANUALES PVGIS'!AA221","v":0},{"$f":"'IMPORTACIÓN DATOS ANUALES PVGIS'!AC221","v":"00:00:00"},{"$f":"'IMPORTACIÓN DATOS ANUALES PVGIS'!AD221","v":0},{"$f":"'IMPORTACIÓN DATOS ANUALES PVGIS'!AF221","v":"00:00:00"},{"$f":"'IMPORTACIÓN DATOS ANUALES PVGIS'!AG221","v":0},{"$f":"'IMPORTACIÓN DATOS ANUALES PVGIS'!AI221","v":"00:00:00"},{"$f":"'IMPORTACIÓN DATOS ANUALES PVGIS'!AJ221","v":0}]
[{"$f":"'IMPORTACIÓN DATOS ANUALES PVGIS'!B222","v":"00:00:00"},{"$f":"'IMPORTACIÓN DATOS ANUALES PVGIS'!C222","v":""},{"$f":"'IMPORTACIÓN DATOS ANUALES PVGIS'!E222","v":"00:00:00"},{"$f":"'IMPORTACIÓN DATOS ANUALES PVGIS'!F222","v":0},{"$f":"'IMPORTACIÓN DATOS ANUALES PVGIS'!H222","v":"00:00:00"},{"$f":"'IMPORTACIÓN DATOS ANUALES PVGIS'!F222","v":0},{"$f":"'IMPORTACIÓN DATOS ANUALES PVGIS'!K222","v":"00:00:00"},{"$f":"'IMPORTACIÓN DATOS ANUALES PVGIS'!L222","v":0},{"$f":"'IMPORTACIÓN DATOS ANUALES PVGIS'!N222","v":"00:00:00"},{"$f":"'IMPORTACIÓN DATOS ANUALES PVGIS'!O222","v":0},{"$f":"'IMPORTACIÓN DATOS ANUALES PVGIS'!Q222","v":"00:00:00"},{"$f":"'IMPORTACIÓN DATOS ANUALES PVGIS'!R222","v":0},{"$f":"'IMPORTACIÓN DATOS ANUALES PVGIS'!T222","v":"00:00:00"},{"$f":"'IMPORTACIÓN DATOS ANUALES PVGIS'!U222","v":0},{"$f":"'IMPORTACIÓN DATOS ANUALES PVGIS'!W222","v":"00:00:00"},{"$f":"'IMPORTACIÓN DATOS ANUALES PVGIS'!X222","v":0},{"$f":"'IMPORTACIÓN DATOS ANUALES PVGIS'!Z222","v":"00:00:00"},{"$f":"'IMPORTACIÓN DATOS ANUALES PVGIS'!AA222","v":0},{"$f":"'IMPORTACIÓN DATOS ANUALES PVGIS'!AC222","v":"00:00:00"},{"$f":"'IMPORTACIÓN DATOS ANUALES PVGIS'!AD222","v":0},{"$f":"'IMPORTACIÓN DATOS ANUALES PVGIS'!AF222","v":"00:00:00"},{"$f":"'IMPORTACIÓN DATOS ANUALES PVGIS'!AG222","v":0},{"$f":"'IMPORTACIÓN DATOS ANUALES PVGIS'!AI222","v":"00:00:00"},{"$f":"'IMPORTACIÓN DATOS ANUALES PVGIS'!AJ222","v":0}]
[{"$f":"'IMPORTACIÓN DATOS ANUALES PVGIS'!B223","v":"00:00:00"},{"$f":"'IMPORTACIÓN DATOS ANUALES PVGIS'!C223","v":""},{"$f":"'IMPORTACIÓN DATOS ANUALES PVGIS'!E223","v":"00:00:00"},{"$f":"'IMPORTACIÓN DATOS ANUALES PVGIS'!F223","v":0},{"$f":"'IMPORTACIÓN DATOS ANUALES PVGIS'!H223","v":"00:00:00"},{"$f":"'IMPORTACIÓN DATOS ANUALES PVGIS'!F223","v":0},{"$f":"'IMPORTACIÓN DATOS ANUALES PVGIS'!K223","v":"00:00:00"},{"$f":"'IMPORTACIÓN DATOS ANUALES PVGIS'!L223","v":0},{"$f":"'IMPORTACIÓN DATOS ANUALES PVGIS'!N223","v":"00:00:00"},{"$f":"'IMPORTACIÓN DATOS ANUALES PVGIS'!O223","v":0},{"$f":"'IMPORTACIÓN DATOS ANUALES PVGIS'!Q223","v":"00:00:00"},{"$f":"'IMPORTACIÓN DATOS ANUALES PVGIS'!R223","v":0},{"$f":"'IMPORTACIÓN DATOS ANUALES PVGIS'!T223","v":"00:00:00"},{"$f":"'IMPORTACIÓN DATOS ANUALES PVGIS'!U223","v":0},{"$f":"'IMPORTACIÓN DATOS ANUALES PVGIS'!W223","v":"00:00:00"},{"$f":"'IMPORTACIÓN DATOS ANUALES PVGIS'!X223","v":0},{"$f":"'IMPORTACIÓN DATOS ANUALES PVGIS'!Z223","v":"00:00:00"},{"$f":"'IMPORTACIÓN DATOS ANUALES PVGIS'!AA223","v":0},{"$f":"'IMPORTACIÓN DATOS ANUALES PVGIS'!AC223","v":"00:00:00"},{"$f":"'IMPORTACIÓN DATOS ANUALES PVGIS'!AD223","v":0},{"$f":"'IMPORTACIÓN DATOS ANUALES PVGIS'!AF223","v":"00:00:00"},{"$f":"'IMPORTACIÓN DATOS ANUALES PVGIS'!AG223","v":0},{"$f":"'IMPORTACIÓN DATOS ANUALES PVGIS'!AI223","v":"00:00:00"},{"$f":"'IMPORTACIÓN DATOS ANUALES PVGIS'!AJ223","v":0}]
[{"$f":"'IMPORTACIÓN DATOS ANUALES PVGIS'!B224","v":"00:00:00"},{"$f":"'IMPORTACIÓN DATOS ANUALES PVGIS'!C224","v":""},{"$f":"'IMPORTACIÓN DATOS ANUALES PVGIS'!E224","v":"00:00:00"},{"$f":"'IMPORTACIÓN DATOS ANUALES PVGIS'!F224","v":0},{"$f":"'IMPORTACIÓN DATOS ANUALES PVGIS'!H224","v":"00:00:00"},{"$f":"'IMPORTACIÓN DATOS ANUALES PVGIS'!F224","v":0},{"$f":"'IMPORTACIÓN DATOS ANUALES PVGIS'!K224","v":"00:00:00"},{"$f":"'IMPORTACIÓN DATOS ANUALES PVGIS'!L224","v":0},{"$f":"'IMPORTACIÓN DATOS ANUALES PVGIS'!N224","v":"00:00:00"},{"$f":"'IMPORTACIÓN DATOS ANUALES PVGIS'!O224","v":0},{"$f":"'IMPORTACIÓN DATOS ANUALES PVGIS'!Q224","v":"00:00:00"},{"$f":"'IMPORTACIÓN DATOS ANUALES PVGIS'!R224","v":0},{"$f":"'IMPORTACIÓN DATOS ANUALES PVGIS'!T224","v":"00:00:00"},{"$f":"'IMPORTACIÓN DATOS ANUALES PVGIS'!U224","v":0},{"$f":"'IMPORTACIÓN DATOS ANUALES PVGIS'!W224","v":"00:00:00"},{"$f":"'IMPORTACIÓN DATOS ANUALES PVGIS'!X224","v":0},{"$f":"'IMPORTACIÓN DATOS ANUALES PVGIS'!Z224","v":"00:00:00"},{"$f":"'IMPORTACIÓN DATOS ANUALES PVGIS'!AA224","v":0},{"$f":"'IMPORTACIÓN DATOS ANUALES PVGIS'!AC224","v":"00:00:00"},{"$f":"'IMPORTACIÓN DATOS ANUALES PVGIS'!AD224","v":0},{"$f":"'IMPORTACIÓN DATOS ANUALES PVGIS'!AF224","v":"00:00:00"},{"$f":"'IMPORTACIÓN DATOS ANUALES PVGIS'!AG224","v":0},{"$f":"'IMPORTACIÓN DATOS ANUALES PVGIS'!AI224","v":"00:00:00"},{"$f":"'IMPORTACIÓN DATOS ANUALES PVGIS'!AJ224","v":0}]
[{"$f":"'IMPORTACIÓN DATOS ANUALES PVGIS'!B225","v":"00:00:00"},{"$f":"'IMPORTACIÓN DATOS ANUALES PVGIS'!C225","v":""},{"$f":"'IMPORTACIÓN DATOS ANUALES PVGIS'!E225","v":"00:00:00"},{"$f":"'IMPORTACIÓN DATOS ANUALES PVGIS'!F225","v":0},{"$f":"'IMPORTACIÓN DATOS ANUALES PVGIS'!H225","v":"00:00:00"},{"$f":"'IMPORTACIÓN DATOS ANUALES PVGIS'!F225","v":0},{"$f":"'IMPORTACIÓN DATOS ANUALES PVGIS'!K225","v":"00:00:00"},{"$f":"'IMPORTACIÓN DATOS ANUALES PVGIS'!L225","v":0},{"$f":"'IMPORTACIÓN DATOS ANUALES PVGIS'!N225","v":"00:00:00"},{"$f":"'IMPORTACIÓN DATOS ANUALES PVGIS'!O225","v":0},{"$f":"'IMPORTACIÓN DATOS ANUALES PVGIS'!Q225","v":"00:00:00"},{"$f":"'IMPORTACIÓN DATOS ANUALES PVGIS'!R225","v":0},{"$f":"'IMPORTACIÓN DATOS ANUALES PVGIS'!T225","v":"00:00:00"},{"$f":"'IMPORTACIÓN DATOS ANUALES PVGIS'!U225","v":0},{"$f":"'IMPORTACIÓN DATOS ANUALES PVGIS'!W225","v":"00:00:00"},{"$f":"'IMPORTACIÓN DATOS ANUALES PVGIS'!X225","v":0},{"$f":"'IMPORTACIÓN DATOS ANUALES PVGIS'!Z225","v":"00:00:00"},{"$f":"'IMPORTACIÓN DATOS ANUALES PVGIS'!AA225","v":0},{"$f":"'IMPORTACIÓN DATOS ANUALES PVGIS'!AC225","v":"00:00:00"},{"$f":"'IMPORTACIÓN DATOS ANUALES PVGIS'!AD225","v":0},{"$f":"'IMPORTACIÓN DATOS ANUALES PVGIS'!AF225","v":"00:00:00"},{"$f":"'IMPORTACIÓN DATOS ANUALES PVGIS'!AG225","v":0},{"$f":"'IMPORTACIÓN DATOS ANUALES PVGIS'!AI225","v":"00:00:00"},{"$f":"'IMPORTACIÓN DATOS ANUALES PVGIS'!AJ225","v":0}]
[{"$f":"'IMPORTACIÓN DATOS ANUALES PVGIS'!B226","v":"00:00:00"},{"$f":"'IMPORTACIÓN DATOS ANUALES PVGIS'!C226","v":""},{"$f":"'IMPORTACIÓN DATOS ANUALES PVGIS'!E226","v":"00:00:00"},{"$f":"'IMPORTACIÓN DATOS ANUALES PVGIS'!F226","v":0},{"$f":"'IMPORTACIÓN DATOS ANUALES PVGIS'!H226","v":"00:00:00"},{"$f":"'IMPORTACIÓN DATOS ANUALES PVGIS'!F226","v":0},{"$f":"'IMPORTACIÓN DATOS ANUALES PVGIS'!K226","v":"00:00:00"},{"$f":"'IMPORTACIÓN DATOS ANUALES PVGIS'!L226","v":0},{"$f":"'IMPORTACIÓN DATOS ANUALES PVGIS'!N226","v":"00:00:00"},{"$f":"'IMPORTACIÓN DATOS ANUALES PVGIS'!O226","v":0},{"$f":"'IMPORTACIÓN DATOS ANUALES PVGIS'!Q226","v":"00:00:00"},{"$f":"'IMPORTACIÓN DATOS ANUALES PVGIS'!R226","v":0},{"$f":"'IMPORTACIÓN DATOS ANUALES PVGIS'!T226","v":"00:00:00"},{"$f":"'IMPORTACIÓN DATOS ANUALES PVGIS'!U226","v":0},{"$f":"'IMPORTACIÓN DATOS ANUALES PVGIS'!W226","v":"00:00:00"},{"$f":"'IMPORTACIÓN DATOS ANUALES PVGIS'!X226","v":0},{"$f":"'IMPORTACIÓN DATOS ANUALES PVGIS'!Z226","v":"00:00:00"},{"$f":"'IMPORTACIÓN DATOS ANUALES PVGIS'!AA226","v":0},{"$f":"'IMPORTACIÓN DATOS ANUALES PVGIS'!AC226","v":"00:00:00"},{"$f":"'IMPORTACIÓN DATOS ANUALES PVGIS'!AD226","v":0},{"$f":"'IMPORTACIÓN DATOS ANUALES PVGIS'!AF226","v":"00:00:00"},{"$f":"'IMPORTACIÓN DATOS ANUALES PVGIS'!AG226","v":0},{"$f":"'IMPORTACIÓN DATOS ANUALES PVGIS'!AI226","v":"00:00:00"},{"$f":"'IMPORTACIÓN DATOS ANUALES PVGIS'!AJ226","v":0}]
[{"$f":"'IMPORTACIÓN DATOS ANUALES PVGIS'!B227","v":"00:00:00"},{"$f":"'IMPORTACIÓN DATOS ANUALES PVGIS'!C227","v":""},{"$f":"'IMPORTACIÓN DATOS ANUALES PVGIS'!E227","v":"00:00:00"},{"$f":"'IMPORTACIÓN DATOS ANUALES PVGIS'!F227","v":0},{"$f":"'IMPORTACIÓN DATOS ANUALES PVGIS'!H227","v":"00:00:00"},{"$f":"'IMPORTACIÓN DATOS ANUALES PVGIS'!F227","v":0},{"$f":"'IMPORTACIÓN DATOS ANUALES PVGIS'!K227","v":"00:00:00"},{"$f":"'IMPORTACIÓN DATOS ANUALES PVGIS'!L227","v":0},{"$f":"'IMPORTACIÓN DATOS ANUALES PVGIS'!N227","v":"00:00:00"},{"$f":"'IMPORTACIÓN DATOS ANUALES PVGIS'!O227","v":0},{"$f":"'IMPORTACIÓN DATOS ANUALES PVGIS'!Q227","v":"00:00:00"},{"$f":"'IMPORTACIÓN DATOS ANUALES PVGIS'!R227","v":0},{"$f":"'IMPORTACIÓN DATOS ANUALES PVGIS'!T227","v":"00:00:00"},{"$f":"'IMPORTACIÓN DATOS ANUALES PVGIS'!U227","v":0},{"$f":"'IMPORTACIÓN DATOS ANUALES PVGIS'!W227","v":"00:00:00"},{"$f":"'IMPORTACIÓN DATOS ANUALES PVGIS'!X227","v":0},{"$f":"'IMPORTACIÓN DATOS ANUALES PVGIS'!Z227","v":"00:00:00"},{"$f":"'IMPORTACIÓN DATOS ANUALES PVGIS'!AA227","v":0},{"$f":"'IMPORTACIÓN DATOS ANUALES PVGIS'!AC227","v":"00:00:00"},{"$f":"'IMPORTACIÓN DATOS ANUALES PVGIS'!AD227","v":0},{"$f":"'IMPORTACIÓN DATOS ANUALES PVGIS'!AF227","v":"00:00:00"},{"$f":"'IMPORTACIÓN DATOS ANUALES PVGIS'!AG227","v":0},{"$f":"'IMPORTACIÓN DATOS ANUALES PVGIS'!AI227","v":"00:00:00"},{"$f":"'IMPORTACIÓN DATOS ANUALES PVGIS'!AJ227","v":0}]
[{"$f":"'IMPORTACIÓN DATOS ANUALES PVGIS'!B228","v":"00:00:00"},{"$f":"'IMPORTACIÓN DATOS ANUALES PVGIS'!C228","v":""},{"$f":"'IMPORTACIÓN DATOS ANUALES PVGIS'!E228","v":"00:00:00"},{"$f":"'IMPORTACIÓN DATOS ANUALES PVGIS'!F228","v":0},{"$f":"'IMPORTACIÓN DATOS ANUALES PVGIS'!H228","v":"00:00:00"},{"$f":"'IMPORTACIÓN DATOS ANUALES PVGIS'!F228","v":0},{"$f":"'IMPORTACIÓN DATOS ANUALES PVGIS'!K228","v":"00:00:00"},{"$f":"'IMPORTACIÓN DATOS ANUALES PVGIS'!L228","v":0},{"$f":"'IMPORTACIÓN DATOS ANUALES PVGIS'!N228","v":"00:00:00"},{"$f":"'IMPORTACIÓN DATOS ANUALES PVGIS'!O228","v":0},{"$f":"'IMPORTACIÓN DATOS ANUALES PVGIS'!Q228","v":"00:00:00"},{"$f":"'IMPORTACIÓN DATOS ANUALES PVGIS'!R228","v":0},{"$f":"'IMPORTACIÓN DATOS ANUALES PVGIS'!T228","v":"00:00:00"},{"$f":"'IMPORTACIÓN DATOS ANUALES PVGIS'!U228","v":0},{"$f":"'IMPORTACIÓN DATOS ANUALES PVGIS'!W228","v":"00:00:00"},{"$f":"'IMPORTACIÓN DATOS ANUALES PVGIS'!X228","v":0},{"$f":"'IMPORTACIÓN DATOS ANUALES PVGIS'!Z228","v":"00:00:00"},{"$f":"'IMPORTACIÓN DATOS ANUALES PVGIS'!AA228","v":0},{"$f":"'IMPORTACIÓN DATOS ANUALES PVGIS'!AC228","v":"00:00:00"},{"$f":"'IMPORTACIÓN DATOS ANUALES PVGIS'!AD228","v":0},{"$f":"'IMPORTACIÓN DATOS ANUALES PVGIS'!AF228","v":"00:00:00"},{"$f":"'IMPORTACIÓN DATOS ANUALES PVGIS'!AG228","v":0},{"$f":"'IMPORTACIÓN DATOS ANUALES PVGIS'!AI228","v":"00:00:00"},{"$f":"'IMPORTACIÓN DATOS ANUALES PVGIS'!AJ228","v":0}]
[{"$f":"'IMPORTACIÓN DATOS ANUALES PVGIS'!B229","v":"00:00:00"},{"$f":"'IMPORTACIÓN DATOS ANUALES PVGIS'!C229","v":""},{"$f":"'IMPORTACIÓN DATOS ANUALES PVGIS'!E229","v":"00:00:00"},{"$f":"'IMPORTACIÓN DATOS ANUALES PVGIS'!F229","v":0},{"$f":"'IMPORTACIÓN DATOS ANUALES PVGIS'!H229","v":"00:00:00"},{"$f":"'IMPORTACIÓN DATOS ANUALES PVGIS'!F229","v":0},{"$f":"'IMPORTACIÓN DATOS ANUALES PVGIS'!K229","v":"00:00:00"},{"$f":"'IMPORTACIÓN DATOS ANUALES PVGIS'!L229","v":0},{"$f":"'IMPORTACIÓN DATOS ANUALES PVGIS'!N229","v":"00:00:00"},{"$f":"'IMPORTACIÓN DATOS ANUALES PVGIS'!O229","v":0},{"$f":"'IMPORTACIÓN DATOS ANUALES PVGIS'!Q229","v":"00:00:00"},{"$f":"'IMPORTACIÓN DATOS ANUALES PVGIS'!R229","v":0},{"$f":"'IMPORTACIÓN DATOS ANUALES PVGIS'!T229","v":"00:00:00"},{"$f":"'IMPORTACIÓN DATOS ANUALES PVGIS'!U229","v":0},{"$f":"'IMPORTACIÓN DATOS ANUALES PVGIS'!W229","v":"00:00:00"},{"$f":"'IMPORTACIÓN DATOS ANUALES PVGIS'!X229","v":0},{"$f":"'IMPORTACIÓN DATOS ANUALES PVGIS'!Z229","v":"00:00:00"},{"$f":"'IMPORTACIÓN DATOS ANUALES PVGIS'!AA229","v":0},{"$f":"'IMPORTACIÓN DATOS ANUALES PVGIS'!AC229","v":"00:00:00"},{"$f":"'IMPORTACIÓN DATOS ANUALES PVGIS'!AD229","v":0},{"$f":"'IMPORTACIÓN DATOS ANUALES PVGIS'!AF229","v":"00:00:00"},{"$f":"'IMPORTACIÓN DATOS ANUALES PVGIS'!AG229","v":0},{"$f":"'IMPORTACIÓN DATOS ANUALES PVGIS'!AI229","v":"00:00:00"},{"$f":"'IMPORTACIÓN DATOS ANUALES PVGIS'!AJ229","v":0}]
[{"$f":"'IMPORTACIÓN DATOS ANUALES PVGIS'!B230","v":"00:00:00"},{"$f":"'IMPORTACIÓN DATOS ANUALES PVGIS'!C230","v":""},{"$f":"'IMPORTACIÓN DATOS ANUALES PVGIS'!E230","v":"00:00:00"},{"$f":"'IMPORTACIÓN DATOS ANUALES PVGIS'!F230","v":0},{"$f":"'IMPORTACIÓN DATOS ANUALES PVGIS'!H230","v":"00:00:00"},{"$f":"'IMPORTACIÓN DATOS ANUALES PVGIS'!F230","v":0},{"$f":"'IMPORTACIÓN DATOS ANUALES PVGIS'!K230","v":"00:00:00"},{"$f":"'IMPORTACIÓN DATOS ANUALES PVGIS'!L230","v":0},{"$f":"'IMPORTACIÓN DATOS ANUALES PVGIS'!N230","v":"00:00:00"},{"$f":"'IMPORTACIÓN DATOS ANUALES PVGIS'!O230","v":0},{"$f":"'IMPORTACIÓN DATOS ANUALES PVGIS'!Q230","v":"00:00:00"},{"$f":"'IMPORTACIÓN DATOS ANUALES PVGIS'!R230","v":0},{"$f":"'IMPORTACIÓN DATOS ANUALES PVGIS'!T230","v":"00:00:00"},{"$f":"'IMPORTACIÓN DATOS ANUALES PVGIS'!U230","v":0},{"$f":"'IMPORTACIÓN DATOS ANUALES PVGIS'!W230","v":"00:00:00"},{"$f":"'IMPORTACIÓN DATOS ANUALES PVGIS'!X230","v":0},{"$f":"'IMPORTACIÓN DATOS ANUALES PVGIS'!Z230","v":"00:00:00"},{"$f":"'IMPORTACIÓN DATOS ANUALES PVGIS'!AA230","v":0},{"$f":"'IMPORTACIÓN DATOS ANUALES PVGIS'!AC230","v":"00:00:00"},{"$f":"'IMPORTACIÓN DATOS ANUALES PVGIS'!AD230","v":0},{"$f":"'IMPORTACIÓN DATOS ANUALES PVGIS'!AF230","v":"00:00:00"},{"$f":"'IMPORTACIÓN DATOS ANUALES PVGIS'!AG230","v":0},{"$f":"'IMPORTACIÓN DATOS ANUALES PVGIS'!AI230","v":"00:00:00"},{"$f":"'IMPORTACIÓN DATOS ANUALES PVGIS'!AJ230","v":0}]
[{"$f":"'IMPORTACIÓN DATOS ANUALES PVGIS'!B231","v":"00:00:00"},{"$f":"'IMPORTACIÓN DATOS ANUALES PVGIS'!C231","v":""},{"$f":"'IMPORTACIÓN DATOS ANUALES PVGIS'!E231","v":"00:00:00"},{"$f":"'IMPORTACIÓN DATOS ANUALES PVGIS'!F231","v":0},{"$f":"'IMPORTACIÓN DATOS ANUALES PVGIS'!H231","v":"00:00:00"},{"$f":"'IMPORTACIÓN DATOS ANUALES PVGIS'!F231","v":0},{"$f":"'IMPORTACIÓN DATOS ANUALES PVGIS'!K231","v":"00:00:00"},{"$f":"'IMPORTACIÓN DATOS ANUALES PVGIS'!L231","v":0},{"$f":"'IMPORTACIÓN DATOS ANUALES PVGIS'!N231","v":"00:00:00"},{"$f":"'IMPORTACIÓN DATOS ANUALES PVGIS'!O231","v":0},{"$f":"'IMPORTACIÓN DATOS ANUALES PVGIS'!Q231","v":"00:00:00"},{"$f":"'IMPORTACIÓN DATOS ANUALES PVGIS'!R231","v":0},{"$f":"'IMPORTACIÓN DATOS ANUALES PVGIS'!T231","v":"00:00:00"},{"$f":"'IMPORTACIÓN DATOS ANUALES PVGIS'!U231","v":0},{"$f":"'IMPORTACIÓN DATOS ANUALES PVGIS'!W231","v":"00:00:00"},{"$f":"'IMPORTACIÓN DATOS ANUALES PVGIS'!X231","v":0},{"$f":"'IMPORTACIÓN DATOS ANUALES PVGIS'!Z231","v":"00:00:00"},{"$f":"'IMPORTACIÓN DATOS ANUALES PVGIS'!AA231","v":0},{"$f":"'IMPORTACIÓN DATOS ANUALES PVGIS'!AC231","v":"00:00:00"},{"$f":"'IMPORTACIÓN DATOS ANUALES PVGIS'!AD231","v":0},{"$f":"'IMPORTACIÓN DATOS ANUALES PVGIS'!AF231","v":"00:00:00"},{"$f":"'IMPORTACIÓN DATOS ANUALES PVGIS'!AG231","v":0},{"$f":"'IMPORTACIÓN DATOS ANUALES PVGIS'!AI231","v":"00:00:00"},{"$f":"'IMPORTACIÓN DATOS ANUALES PVGIS'!AJ231","v":0}]
[{"$f":"'IMPORTACIÓN DATOS ANUALES PVGIS'!B232","v":"00:00:00"},{"$f":"'IMPORTACIÓN DATOS ANUALES PVGIS'!C232","v":""},{"$f":"'IMPORTACIÓN DATOS ANUALES PVGIS'!E232","v":"00:00:00"},{"$f":"'IMPORTACIÓN DATOS ANUALES PVGIS'!F232","v":0},{"$f":"'IMPORTACIÓN DATOS ANUALES PVGIS'!H232","v":"00:00:00"},{"$f":"'IMPORTACIÓN DATOS ANUALES PVGIS'!F232","v":0},{"$f":"'IMPORTACIÓN DATOS ANUALES PVGIS'!K232","v":"00:00:00"},{"$f":"'IMPORTACIÓN DATOS ANUALES PVGIS'!L232","v":0},{"$f":"'IMPORTACIÓN DATOS ANUALES PVGIS'!N232","v":"00:00:00"},{"$f":"'IMPORTACIÓN DATOS ANUALES PVGIS'!O232","v":0},{"$f":"'IMPORTACIÓN DATOS ANUALES PVGIS'!Q232","v":"00:00:00"},{"$f":"'IMPORTACIÓN DATOS ANUALES PVGIS'!R232","v":0},{"$f":"'IMPORTACIÓN DATOS ANUALES PVGIS'!T232","v":"00:00:00"},{"$f":"'IMPORTACIÓN DATOS ANUALES PVGIS'!U232","v":0},{"$f":"'IMPORTACIÓN DATOS ANUALES PVGIS'!W232","v":"00:00:00"},{"$f":"'IMPORTACIÓN DATOS ANUALES PVGIS'!X232","v":0},{"$f":"'IMPORTACIÓN DATOS ANUALES PVGIS'!Z232","v":"00:00:00"},{"$f":"'IMPORTACIÓN DATOS ANUALES PVGIS'!AA232","v":0},{"$f":"'IMPORTACIÓN DATOS ANUALES PVGIS'!AC232","v":"00:00:00"},{"$f":"'IMPORTACIÓN DATOS ANUALES PVGIS'!AD232","v":0},{"$f":"'IMPORTACIÓN DATOS ANUALES PVGIS'!AF232","v":"00:00:00"},{"$f":"'IMPORTACIÓN DATOS ANUALES PVGIS'!AG232","v":0},{"$f":"'IMPORTACIÓN DATOS ANUALES PVGIS'!AI232","v":"00:00:00"},{"$f":"'IMPORTACIÓN DATOS ANUALES PVGIS'!AJ232","v":0}]
[{"$f":"'IMPORTACIÓN DATOS ANUALES PVGIS'!B233","v":"00:00:00"},{"$f":"'IMPORTACIÓN DATOS ANUALES PVGIS'!C233","v":""},{"$f":"'IMPORTACIÓN DATOS ANUALES PVGIS'!E233","v":"00:00:00"},{"$f":"'IMPORTACIÓN DATOS ANUALES PVGIS'!F233","v":0},{"$f":"'IMPORTACIÓN DATOS ANUALES PVGIS'!H233","v":"00:00:00"},{"$f":"'IMPORTACIÓN DATOS ANUALES PVGIS'!F233","v":0},{"$f":"'IMPORTACIÓN DATOS ANUALES PVGIS'!K233","v":"00:00:00"},{"$f":"'IMPORTACIÓN DATOS ANUALES PVGIS'!L233","v":0},{"$f":"'IMPORTACIÓN DATOS ANUALES PVGIS'!N233","v":"00:00:00"},{"$f":"'IMPORTACIÓN DATOS ANUALES PVGIS'!O233","v":0},{"$f":"'IMPORTACIÓN DATOS ANUALES PVGIS'!Q233","v":"00:00:00"},{"$f":"'IMPORTACIÓN DATOS ANUALES PVGIS'!R233","v":0},{"$f":"'IMPORTACIÓN DATOS ANUALES PVGIS'!T233","v":"00:00:00"},{"$f":"'IMPORTACIÓN DATOS ANUALES PVGIS'!U233","v":0},{"$f":"'IMPORTACIÓN DATOS ANUALES PVGIS'!W233","v":"00:00:00"},{"$f":"'IMPORTACIÓN DATOS ANUALES PVGIS'!X233","v":0},{"$f":"'IMPORTACIÓN DATOS ANUALES PVGIS'!Z233","v":"00:00:00"},{"$f":"'IMPORTACIÓN DATOS ANUALES PVGIS'!AA233","v":0},{"$f":"'IMPORTACIÓN DATOS ANUALES PVGIS'!AC233","v":"00:00:00"},{"$f":"'IMPORTACIÓN DATOS ANUALES PVGIS'!AD233","v":0},{"$f":"'IMPORTACIÓN DATOS ANUALES PVGIS'!AF233","v":"00:00:00"},{"$f":"'IMPORTACIÓN DATOS ANUALES PVGIS'!AG233","v":0},{"$f":"'IMPORTACIÓN DATOS ANUALES PVGIS'!AI233","v":"00:00:00"},{"$f":"'IMPORTACIÓN DATOS ANUALES PVGIS'!AJ233","v":0}]
[{"$f":"'IMPORTACIÓN DATOS ANUALES PVGIS'!B234","v":"00:00:00"},{"$f":"'IMPORTACIÓN DATOS ANUALES PVGIS'!C234","v":""},{"$f":"'IMPORTACIÓN DATOS ANUALES PVGIS'!E234","v":"00:00:00"},{"$f":"'IMPORTACIÓN DATOS ANUALES PVGIS'!F234","v":0},{"$f":"'IMPORTACIÓN DATOS ANUALES PVGIS'!H234","v":"00:00:00"},{"$f":"'IMPORTACIÓN DATOS ANUALES PVGIS'!F234","v":0},{"$f":"'IMPORTACIÓN DATOS ANUALES PVGIS'!K234","v":"00:00:00"},{"$f":"'IMPORTACIÓN DATOS ANUALES PVGIS'!L234","v":0},{"$f":"'IMPORTACIÓN DATOS ANUALES PVGIS'!N234","v":"00:00:00"},{"$f":"'IMPORTACIÓN DATOS ANUALES PVGIS'!O234","v":0},{"$f":"'IMPORTACIÓN DATOS ANUALES PVGIS'!Q234","v":"00:00:00"},{"$f":"'IMPORTACIÓN DATOS ANUALES PVGIS'!R234","v":0},{"$f":"'IMPORTACIÓN DATOS ANUALES PVGIS'!T234","v":"00:00:00"},{"$f":"'IMPORTACIÓN DATOS ANUALES PVGIS'!U234","v":0},{"$f":"'IMPORTACIÓN DATOS ANUALES PVGIS'!W234","v":"00:00:00"},{"$f":"'IMPORTACIÓN DATOS ANUALES PVGIS'!X234","v":0},{"$f":"'IMPORTACIÓN DATOS ANUALES PVGIS'!Z234","v":"00:00:00"},{"$f":"'IMPORTACIÓN DATOS ANUALES PVGIS'!AA234","v":0},{"$f":"'IMPORTACIÓN DATOS ANUALES PVGIS'!AC234","v":"00:00:00"},{"$f":"'IMPORTACIÓN DATOS ANUALES PVGIS'!AD234","v":0},{"$f":"'IMPORTACIÓN DATOS ANUALES PVGIS'!AF234","v":"00:00:00"},{"$f":"'IMPORTACIÓN DATOS ANUALES PVGIS'!AG234","v":0},{"$f":"'IMPORTACIÓN DATOS ANUALES PVGIS'!AI234","v":"00:00:00"},{"$f":"'IMPORTACIÓN DATOS ANUALES PVGIS'!AJ234","v":0}]
[{"$f":"'IMPORTACIÓN DATOS ANUALES PVGIS'!B235","v":"00:00:00"},{"$f":"'IMPORTACIÓN DATOS ANUALES PVGIS'!C235","v":""},{"$f":"'IMPORTACIÓN DATOS ANUALES PVGIS'!E235","v":"00:00:00"},{"$f":"'IMPORTACIÓN DATOS ANUALES PVGIS'!F235","v":0},{"$f":"'IMPORTACIÓN DATOS ANUALES PVGIS'!H235","v":"00:00:00"},{"$f":"'IMPORTACIÓN DATOS ANUALES PVGIS'!F235","v":0},{"$f":"'IMPORTACIÓN DATOS ANUALES PVGIS'!K235","v":"00:00:00"},{"$f":"'IMPORTACIÓN DATOS ANUALES PVGIS'!L235","v":0},{"$f":"'IMPORTACIÓN DATOS ANUALES PVGIS'!N235","v":"00:00:00"},{"$f":"'IMPORTACIÓN DATOS ANUALES PVGIS'!O235","v":0},{"$f":"'IMPORTACIÓN DATOS ANUALES PVGIS'!Q235","v":"00:00:00"},{"$f":"'IMPORTACIÓN DATOS ANUALES PVGIS'!R235","v":0},{"$f":"'IMPORTACIÓN DATOS ANUALES PVGIS'!T235","v":"00:00:00"},{"$f":"'IMPORTACIÓN DATOS ANUALES PVGIS'!U235","v":0},{"$f":"'IMPORTACIÓN DATOS ANUALES PVGIS'!W235","v":"00:00:00"},{"$f":"'IMPORTACIÓN DATOS ANUALES PVGIS'!X235","v":0},{"$f":"'IMPORTACIÓN DATOS ANUALES PVGIS'!Z235","v":"00:00:00"},{"$f":"'IMPORTACIÓN DATOS ANUALES PVGIS'!AA235","v":0},{"$f":"'IMPORTACIÓN DATOS ANUALES PVGIS'!AC235","v":"00:00:00"},{"$f":"'IMPORTACIÓN DATOS ANUALES PVGIS'!AD235","v":0},{"$f":"'IMPORTACIÓN DATOS ANUALES PVGIS'!AF235","v":"00:00:00"},{"$f":"'IMPORTACIÓN DATOS ANUALES PVGIS'!AG235","v":0},{"$f":"'IMPORTACIÓN DATOS ANUALES PVGIS'!AI235","v":"00:00:00"},{"$f":"'IMPORTACIÓN DATOS ANUALES PVGIS'!AJ235","v":0}]
[{"$f":"'IMPORTACIÓN DATOS ANUALES PVGIS'!B236","v":"00:00:00"},{"$f":"'IMPORTACIÓN DATOS ANUALES PVGIS'!C236","v":""},{"$f":"'IMPORTACIÓN DATOS ANUALES PVGIS'!E236","v":"00:00:00"},{"$f":"'IMPORTACIÓN DATOS ANUALES PVGIS'!F236","v":0},{"$f":"'IMPORTACIÓN DATOS ANUALES PVGIS'!H236","v":"00:00:00"},{"$f":"'IMPORTACIÓN DATOS ANUALES PVGIS'!F236","v":0},{"$f":"'IMPORTACIÓN DATOS ANUALES PVGIS'!K236","v":"00:00:00"},{"$f":"'IMPORTACIÓN DATOS ANUALES PVGIS'!L236","v":0},{"$f":"'IMPORTACIÓN DATOS ANUALES PVGIS'!N236","v":"00:00:00"},{"$f":"'IMPORTACIÓN DATOS ANUALES PVGIS'!O236","v":0},{"$f":"'IMPORTACIÓN DATOS ANUALES PVGIS'!Q236","v":"00:00:00"},{"$f":"'IMPORTACIÓN DATOS ANUALES PVGIS'!R236","v":0},{"$f":"'IMPORTACIÓN DATOS ANUALES PVGIS'!T236","v":"00:00:00"},{"$f":"'IMPORTACIÓN DATOS ANUALES PVGIS'!U236","v":0},{"$f":"'IMPORTACIÓN DATOS ANUALES PVGIS'!W236","v":"00:00:00"},{"$f":"'IMPORTACIÓN DATOS ANUALES PVGIS'!X236","v":0},{"$f":"'IMPORTACIÓN DATOS ANUALES PVGIS'!Z236","v":"00:00:00"},{"$f":"'IMPORTACIÓN DATOS ANUALES PVGIS'!AA236","v":0},{"$f":"'IMPORTACIÓN DATOS ANUALES PVGIS'!AC236","v":"00:00:00"},{"$f":"'IMPORTACIÓN DATOS ANUALES PVGIS'!AD236","v":0},{"$f":"'IMPORTACIÓN DATOS ANUALES PVGIS'!AF236","v":"00:00:00"},{"$f":"'IMPORTACIÓN DATOS ANUALES PVGIS'!AG236","v":0},{"$f":"'IMPORTACIÓN DATOS ANUALES PVGIS'!AI236","v":"00:00:00"},{"$f":"'IMPORTACIÓN DATOS ANUALES PVGIS'!AJ236","v":0}]
[{"$f":"'IMPORTACIÓN DATOS ANUALES PVGIS'!B237","v":"00:00:00"},{"$f":"'IMPORTACIÓN DATOS ANUALES PVGIS'!C237","v":""},{"$f":"'IMPORTACIÓN DATOS ANUALES PVGIS'!E237","v":"00:00:00"},{"$f":"'IMPORTACIÓN DATOS ANUALES PVGIS'!F237","v":0},{"$f":"'IMPORTACIÓN DATOS ANUALES PVGIS'!H237","v":"00:00:00"},{"$f":"'IMPORTACIÓN DATOS ANUALES PVGIS'!F237","v":0},{"$f":"'IMPORTACIÓN DATOS ANUALES PVGIS'!K237","v":"00:00:00"},{"$f":"'IMPORTACIÓN DATOS ANUALES PVGIS'!L237","v":0},{"$f":"'IMPORTACIÓN DATOS ANUALES PVGIS'!N237","v":"00:00:00"},{"$f":"'IMPORTACIÓN DATOS ANUALES PVGIS'!O237","v":0},{"$f":"'IMPORTACIÓN DATOS ANUALES PVGIS'!Q237","v":"00:00:00"},{"$f":"'IMPORTACIÓN DATOS ANUALES PVGIS'!R237","v":0},{"$f":"'IMPORTACIÓN DATOS ANUALES PVGIS'!T237","v":"00:00:00"},{"$f":"'IMPORTACIÓN DATOS ANUALES PVGIS'!U237","v":0},{"$f":"'IMPORTACIÓN DATOS ANUALES PVGIS'!W237","v":"00:00:00"},{"$f":"'IMPORTACIÓN DATOS ANUALES PVGIS'!X237","v":0},{"$f":"'IMPORTACIÓN DATOS ANUALES PVGIS'!Z237","v":"00:00:00"},{"$f":"'IMPORTACIÓN DATOS ANUALES PVGIS'!AA237","v":0},{"$f":"'IMPORTACIÓN DATOS ANUALES PVGIS'!AC237","v":"00:00:00"},{"$f":"'IMPORTACIÓN DATOS ANUALES PVGIS'!AD237","v":0},{"$f":"'IMPORTACIÓN DATOS ANUALES PVGIS'!AF237","v":"00:00:00"},{"$f":"'IMPORTACIÓN DATOS ANUALES PVGIS'!AG237","v":0},{"$f":"'IMPORTACIÓN DATOS ANUALES PVGIS'!AI237","v":"00:00:00"},{"$f":"'IMPORTACIÓN DATOS ANUALES PVGIS'!AJ237","v":0}]
[{"$f":"'IMPORTACIÓN DATOS ANUALES PVGIS'!B238","v":"00:00:00"},{"$f":"'IMPORTACIÓN DATOS ANUALES PVGIS'!C238","v":""},{"$f":"'IMPORTACIÓN DATOS ANUALES PVGIS'!E238","v":"00:00:00"},{"$f":"'IMPORTACIÓN DATOS ANUALES PVGIS'!F238","v":0},{"$f":"'IMPORTACIÓN DATOS ANUALES PVGIS'!H238","v":"00:00:00"},{"$f":"'IMPORTACIÓN DATOS ANUALES PVGIS'!F238","v":0},{"$f":"'IMPORTACIÓN DATOS ANUALES PVGIS'!K238","v":"00:00:00"},{"$f":"'IMPORTACIÓN DATOS ANUALES PVGIS'!L238","v":0},{"$f":"'IMPORTACIÓN DATOS ANUALES PVGIS'!N238","v":"00:00:00"},{"$f":"'IMPORTACIÓN DATOS ANUALES PVGIS'!O238","v":0},{"$f":"'IMPORTACIÓN DATOS ANUALES PVGIS'!Q238","v":"00:00:00"},{"$f":"'IMPORTACIÓN DATOS ANUALES PVGIS'!R238","v":0},{"$f":"'IMPORTACIÓN DATOS ANUALES PVGIS'!T238","v":"00:00:00"},{"$f":"'IMPORTACIÓN DATOS ANUALES PVGIS'!U238","v":0},{"$f":"'IMPORTACIÓN DATOS ANUALES PVGIS'!W238","v":"00:00:00"},{"$f":"'IMPORTACIÓN DATOS ANUALES PVGIS'!X238","v":0},{"$f":"'IMPORTACIÓN DATOS ANUALES PVGIS'!Z238","v":"00:00:00"},{"$f":"'IMPORTACIÓN DATOS ANUALES PVGIS'!AA238","v":0},{"$f":"'IMPORTACIÓN DATOS ANUALES PVGIS'!AC238","v":"00:00:00"},{"$f":"'IMPORTACIÓN DATOS ANUALES PVGIS'!AD238","v":0},{"$f":"'IMPORTACIÓN DATOS ANUALES PVGIS'!AF238","v":"00:00:00"},{"$f":"'IMPORTACIÓN DATOS ANUALES PVGIS'!AG238","v":0},{"$f":"'IMPORTACIÓN DATOS ANUALES PVGIS'!AI238","v":"00:00:00"},{"$f":"'IMPORTACIÓN DATOS ANUALES PVGIS'!AJ238","v":0}]
[{"$f":"'IMPORTACIÓN DATOS ANUALES PVGIS'!B239","v":"00:00:00"},{"$f":"'IMPORTACIÓN DATOS ANUALES PVGIS'!C239","v":""},{"$f":"'IMPORTACIÓN DATOS ANUALES PVGIS'!E239","v":"00:00:00"},{"$f":"'IMPORTACIÓN DATOS ANUALES PVGIS'!F239","v":0},{"$f":"'IMPORTACIÓN DATOS ANUALES PVGIS'!H239","v":"00:00:00"},{"$f":"'IMPORTACIÓN DATOS ANUALES PVGIS'!F239","v":0},{"$f":"'IMPORTACIÓN DATOS ANUALES PVGIS'!K239","v":"00:00:00"},{"$f":"'IMPORTACIÓN DATOS ANUALES PVGIS'!L239","v":0},{"$f":"'IMPORTACIÓN DATOS ANUALES PVGIS'!N239","v":"00:00:00"},{"$f":"'IMPORTACIÓN DATOS ANUALES PVGIS'!O239","v":0},{"$f":"'IMPORTACIÓN DATOS ANUALES PVGIS'!Q239","v":"00:00:00"},{"$f":"'IMPORTACIÓN DATOS ANUALES PVGIS'!R239","v":0},{"$f":"'IMPORTACIÓN DATOS ANUALES PVGIS'!T239","v":"00:00:00"},{"$f":"'IMPORTACIÓN DATOS ANUALES PVGIS'!U239","v":0},{"$f":"'IMPORTACIÓN DATOS ANUALES PVGIS'!W239","v":"00:00:00"},{"$f":"'IMPORTACIÓN DATOS ANUALES PVGIS'!X239","v":0},{"$f":"'IMPORTACIÓN DATOS ANUALES PVGIS'!Z239","v":"00:00:00"},{"$f":"'IMPORTACIÓN DATOS ANUALES PVGIS'!AA239","v":0},{"$f":"'IMPORTACIÓN DATOS ANUALES PVGIS'!AC239","v":"00:00:00"},{"$f":"'IMPORTACIÓN DATOS ANUALES PVGIS'!AD239","v":0},{"$f":"'IMPORTACIÓN DATOS ANUALES PVGIS'!AF239","v":"00:00:00"},{"$f":"'IMPORTACIÓN DATOS ANUALES PVGIS'!AG239","v":0},{"$f":"'IMPORTACIÓN DATOS ANUALES PVGIS'!AI239","v":"00:00:00"},{"$f":"'IMPORTACIÓN DATOS ANUALES PVGIS'!AJ239","v":0}]
[{"$f":"'IMPORTACIÓN DATOS ANUALES PVGIS'!B240","v":"00:00:00"},{"$f":"'IMPORTACIÓN DATOS ANUALES PVGIS'!C240","v":""},{"$f":"'IMPORTACIÓN DATOS ANUALES PVGIS'!E240","v":"00:00:00"},{"$f":"'IMPORTACIÓN DATOS ANUALES PVGIS'!F240","v":0},{"$f":"'IMPORTACIÓN DATOS ANUALES PVGIS'!H240","v":"00:00:00"},{"$f":"'IMPORTACIÓN DATOS ANUALES PVGIS'!F240","v":0},{"$f":"'IMPORTACIÓN DATOS ANUALES PVGIS'!K240","v":"00:00:00"},{"$f":"'IMPORTACIÓN DATOS ANUALES PVGIS'!L240","v":0},{"$f":"'IMPORTACIÓN DATOS ANUALES PVGIS'!N240","v":"00:00:00"},{"$f":"'IMPORTACIÓN DATOS ANUALES PVGIS'!O240","v":0},{"$f":"'IMPORTACIÓN DATOS ANUALES PVGIS'!Q240","v":"00:00:00"},{"$f":"'IMPORTACIÓN DATOS ANUALES PVGIS'!R240","v":0},{"$f":"'IMPORTACIÓN DATOS ANUALES PVGIS'!T240","v":"00:00:00"},{"$f":"'IMPORTACIÓN DATOS ANUALES PVGIS'!U240","v":0},{"$f":"'IMPORTACIÓN DATOS ANUALES PVGIS'!W240","v":"00:00:00"},{"$f":"'IMPORTACIÓN DATOS ANUALES PVGIS'!X240","v":0},{"$f":"'IMPORTACIÓN DATOS ANUALES PVGIS'!Z240","v":"00:00:00"},{"$f":"'IMPORTACIÓN DATOS ANUALES PVGIS'!AA240","v":0},{"$f":"'IMPORTACIÓN DATOS ANUALES PVGIS'!AC240","v":"00:00:00"},{"$f":"'IMPORTACIÓN DATOS ANUALES PVGIS'!AD240","v":0},{"$f":"'IMPORTACIÓN DATOS ANUALES PVGIS'!AF240","v":"00:00:00"},{"$f":"'IMPORTACIÓN DATOS ANUALES PVGIS'!AG240","v":0},{"$f":"'IMPORTACIÓN DATOS ANUALES PVGIS'!AI240","v":"00:00:00"},{"$f":"'IMPORTACIÓN DATOS ANUALES PVGIS'!AJ240","v":0}]
[{"$f":"'IMPORTACIÓN DATOS ANUALES PVGIS'!B241","v":"00:00:00"},{"$f":"'IMPORTACIÓN DATOS ANUALES PVGIS'!C241","v":""},{"$f":"'IMPORTACIÓN DATOS ANUALES PVGIS'!E241","v":"00:00:00"},{"$f":"'IMPORTACIÓN DATOS ANUALES PVGIS'!F241","v":0},{"$f":"'IMPORTACIÓN DATOS ANUALES PVGIS'!H241","v":"00:00:00"},{"$f":"'IMPORTACIÓN DATOS ANUALES PVGIS'!F241","v":0},{"$f":"'IMPORTACIÓN DATOS ANUALES PVGIS'!K241","v":"00:00:00"},{"$f":"'IMPORTACIÓN DATOS ANUALES PVGIS'!L241","v":0},{"$f":"'IMPORTACIÓN DATOS ANUALES PVGIS'!N241","v":"00:00:00"},{"$f":"'IMPORTACIÓN DATOS ANUALES PVGIS'!O241","v":0},{"$f":"'IMPORTACIÓN DATOS ANUALES PVGIS'!Q241","v":"00:00:00"},{"$f":"'IMPORTACIÓN DATOS ANUALES PVGIS'!R241","v":0},{"$f":"'IMPORTACIÓN DATOS ANUALES PVGIS'!T241","v":"00:00:00"},{"$f":"'IMPORTACIÓN DATOS ANUALES PVGIS'!U241","v":0},{"$f":"'IMPORTACIÓN DATOS ANUALES PVGIS'!W241","v":"00:00:00"},{"$f":"'IMPORTACIÓN DATOS ANUALES PVGIS'!X241","v":0},{"$f":"'IMPORTACIÓN DATOS ANUALES PVGIS'!Z241","v":"00:00:00"},{"$f":"'IMPORTACIÓN DATOS ANUALES PVGIS'!AA241","v":0},{"$f":"'IMPORTACIÓN DATOS ANUALES PVGIS'!AC241","v":"00:00:00"},{"$f":"'IMPORTACIÓN DATOS ANUALES PVGIS'!AD241","v":0},{"$f":"'IMPORTACIÓN DATOS ANUALES PVGIS'!AF241","v":"00:00:00"},{"$f":"'IMPORTACIÓN DATOS ANUALES PVGIS'!AG241","v":0},{"$f":"'IMPORTACIÓN DATOS ANUALES PVGIS'!AI241","v":"00:00:00"},{"$f":"'IMPORTACIÓN DATOS ANUALES PVGIS'!AJ241","v":0}]
[{"$f":"'IMPORTACIÓN DATOS ANUALES PVGIS'!B242","v":"00:00:00"},{"$f":"'IMPORTACIÓN DATOS ANUALES PVGIS'!C242","v":""},{"$f":"'IMPORTACIÓN DATOS ANUALES PVGIS'!E242","v":"00:00:00"},{"$f":"'IMPORTACIÓN DATOS ANUALES PVGIS'!F242","v":0},{"$f":"'IMPORTACIÓN DATOS ANUALES PVGIS'!H242","v":"00:00:00"},{"$f":"'IMPORTACIÓN DATOS ANUALES PVGIS'!F242","v":0},{"$f":"'IMPORTACIÓN DATOS ANUALES PVGIS'!K242","v":"00:00:00"},{"$f":"'IMPORTACIÓN DATOS ANUALES PVGIS'!L242","v":0},{"$f":"'IMPORTACIÓN DATOS ANUALES PVGIS'!N242","v":"00:00:00"},{"$f":"'IMPORTACIÓN DATOS ANUALES PVGIS'!O242","v":0},{"$f":"'IMPORTACIÓN DATOS ANUALES PVGIS'!Q242","v":"00:00:00"},{"$f":"'IMPORTACIÓN DATOS ANUALES PVGIS'!R242","v":0},{"$f":"'IMPORTACIÓN DATOS ANUALES PVGIS'!T242","v":"00:00:00"},{"$f":"'IMPORTACIÓN DATOS ANUALES PVGIS'!U242","v":0},{"$f":"'IMPORTACIÓN DATOS ANUALES PVGIS'!W242","v":"00:00:00"},{"$f":"'IMPORTACIÓN DATOS ANUALES PVGIS'!X242","v":0},{"$f":"'IMPORTACIÓN DATOS ANUALES PVGIS'!Z242","v":"00:00:00"},{"$f":"'IMPORTACIÓN DATOS ANUALES PVGIS'!AA242","v":0},{"$f":"'IMPORTACIÓN DATOS ANUALES PVGIS'!AC242","v":"00:00:00"},{"$f":"'IMPORTACIÓN DATOS ANUALES PVGIS'!AD242","v":0},{"$f":"'IMPORTACIÓN DATOS ANUALES PVGIS'!AF242","v":"00:00:00"},{"$f":"'IMPORTACIÓN DATOS ANUALES PVGIS'!AG242","v":0},{"$f":"'IMPORTACIÓN DATOS ANUALES PVGIS'!AI242","v":"00:00:00"},{"$f":"'IMPORTACIÓN DATOS ANUALES PVGIS'!AJ242","v":0}]
[{"$f":"'IMPORTACIÓN DATOS ANUALES PVGIS'!B243","v":"00:00:00"},{"$f":"'IMPORTACIÓN DATOS ANUALES PVGIS'!C243","v":""},{"$f":"'IMPORTACIÓN DATOS ANUALES PVGIS'!E243","v":"00:00:00"},{"$f":"'IMPORTACIÓN DATOS ANUALES PVGIS'!F243","v":0},{"$f":"'IMPORTACIÓN DATOS ANUALES PVGIS'!H243","v":"00:00:00"},{"$f":"'IMPORTACIÓN DATOS ANUALES PVGIS'!F243","v":0},{"$f":"'IMPORTACIÓN DATOS ANUALES PVGIS'!K243","v":"00:00:00"},{"$f":"'IMPORTACIÓN DATOS ANUALES PVGIS'!L243","v":0},{"$f":"'IMPORTACIÓN DATOS ANUALES PVGIS'!N243","v":"00:00:00"},{"$f":"'IMPORTACIÓN DATOS ANUALES PVGIS'!O243","v":0},{"$f":"'IMPORTACIÓN DATOS ANUALES PVGIS'!Q243","v":"00:00:00"},{"$f":"'IMPORTACIÓN DATOS ANUALES PVGIS'!R243","v":0},{"$f":"'IMPORTACIÓN DATOS ANUALES PVGIS'!T243","v":"00:00:00"},{"$f":"'IMPORTACIÓN DATOS ANUALES PVGIS'!U243","v":0},{"$f":"'IMPORTACIÓN DATOS ANUALES PVGIS'!W243","v":"00:00:00"},{"$f":"'IMPORTACIÓN DATOS ANUALES PVGIS'!X243","v":0},{"$f":"'IMPORTACIÓN DATOS ANUALES PVGIS'!Z243","v":"00:00:00"},{"$f":"'IMPORTACIÓN DATOS ANUALES PVGIS'!AA243","v":0},{"$f":"'IMPORTACIÓN DATOS ANUALES PVGIS'!AC243","v":"00:00:00"},{"$f":"'IMPORTACIÓN DATOS ANUALES PVGIS'!AD243","v":0},{"$f":"'IMPORTACIÓN DATOS ANUALES PVGIS'!AF243","v":"00:00:00"},{"$f":"'IMPORTACIÓN DATOS ANUALES PVGIS'!AG243","v":0},{"$f":"'IMPORTACIÓN DATOS ANUALES PVGIS'!AI243","v":"00:00:00"},{"$f":"'IMPORTACIÓN DATOS ANUALES PVGIS'!AJ243","v":0}]
[{"$f":"'IMPORTACIÓN DATOS ANUALES PVGIS'!B244","v":"00:00:00"},{"$f":"'IMPORTACIÓN DATOS ANUALES PVGIS'!C244","v":""},{"$f":"'IMPORTACIÓN DATOS ANUALES PVGIS'!E244","v":"00:00:00"},{"$f":"'IMPORTACIÓN DATOS ANUALES PVGIS'!F244","v":0},{"$f":"'IMPORTACIÓN DATOS ANUALES PVGIS'!H244","v":"00:00:00"},{"$f":"'IMPORTACIÓN DATOS ANUALES PVGIS'!F244","v":0},{"$f":"'IMPORTACIÓN DATOS ANUALES PVGIS'!K244","v":"00:00:00"},{"$f":"'IMPORTACIÓN DATOS ANUALES PVGIS'!L244","v":0},{"$f":"'IMPORTACIÓN DATOS ANUALES PVGIS'!N244","v":"00:00:00"},{"$f":"'IMPORTACIÓN DATOS ANUALES PVGIS'!O244","v":0},{"$f":"'IMPORTACIÓN DATOS ANUALES PVGIS'!Q244","v":"00:00:00"},{"$f":"'IMPORTACIÓN DATOS ANUALES PVGIS'!R244","v":0},{"$f":"'IMPORTACIÓN DATOS ANUALES PVGIS'!T244","v":"00:00:00"},{"$f":"'IMPORTACIÓN DATOS ANUALES PVGIS'!U244","v":0},{"$f":"'IMPORTACIÓN DATOS ANUALES PVGIS'!W244","v":"00:00:00"},{"$f":"'IMPORTACIÓN DATOS ANUALES PVGIS'!X244","v":0},{"$f":"'IMPORTACIÓN DATOS ANUALES PVGIS'!Z244","v":"00:00:00"},{"$f":"'IMPORTACIÓN DATOS ANUALES PVGIS'!AA244","v":0},{"$f":"'IMPORTACIÓN DATOS ANUALES PVGIS'!AC244","v":"00:00:00"},{"$f":"'IMPORTACIÓN DATOS ANUALES PVGIS'!AD244","v":0},{"$f":"'IMPORTACIÓN DATOS ANUALES PVGIS'!AF244","v":"00:00:00"},{"$f":"'IMPORTACIÓN DATOS ANUALES PVGIS'!AG244","v":0},{"$f":"'IMPORTACIÓN DATOS ANUALES PVGIS'!AI244","v":"00:00:00"},{"$f":"'IMPORTACIÓN DATOS ANUALES PVGIS'!AJ244","v":0}]
[{"$f":"'IMPORTACIÓN DATOS ANUALES PVGIS'!B245","v":"00:00:00"},{"$f":"'IMPORTACIÓN DATOS ANUALES PVGIS'!C245","v":""},{"$f":"'IMPORTACIÓN DATOS ANUALES PVGIS'!E245","v":"00:00:00"},{"$f":"'IMPORTACIÓN DATOS ANUALES PVGIS'!F245","v":0},{"$f":"'IMPORTACIÓN DATOS ANUALES PVGIS'!H245","v":"00:00:00"},{"$f":"'IMPORTACIÓN DATOS ANUALES PVGIS'!F245","v":0},{"$f":"'IMPORTACIÓN DATOS ANUALES PVGIS'!K245","v":"00:00:00"},{"$f":"'IMPORTACIÓN DATOS ANUALES PVGIS'!L245","v":0},{"$f":"'IMPORTACIÓN DATOS ANUALES PVGIS'!N245","v":"00:00:00"},{"$f":"'IMPORTACIÓN DATOS ANUALES PVGIS'!O245","v":0},{"$f":"'IMPORTACIÓN DATOS ANUALES PVGIS'!Q245","v":"00:00:00"},{"$f":"'IMPORTACIÓN DATOS ANUALES PVGIS'!R245","v":0},{"$f":"'IMPORTACIÓN DATOS ANUALES PVGIS'!T245","v":"00:00:00"},{"$f":"'IMPORTACIÓN DATOS ANUALES PVGIS'!U245","v":0},{"$f":"'IMPORTACIÓN DATOS ANUALES PVGIS'!W245","v":"00:00:00"},{"$f":"'IMPORTACIÓN DATOS ANUALES PVGIS'!X245","v":0},{"$f":"'IMPORTACIÓN DATOS ANUALES PVGIS'!Z245","v":"00:00:00"},{"$f":"'IMPORTACIÓN DATOS ANUALES PVGIS'!AA245","v":0},{"$f":"'IMPORTACIÓN DATOS ANUALES PVGIS'!AC245","v":"00:00:00"},{"$f":"'IMPORTACIÓN DATOS ANUALES PVGIS'!AD245","v":0},{"$f":"'IMPORTACIÓN DATOS ANUALES PVGIS'!AF245","v":"00:00:00"},{"$f":"'IMPORTACIÓN DATOS ANUALES PVGIS'!AG245","v":0},{"$f":"'IMPORTACIÓN DATOS ANUALES PVGIS'!AI245","v":"00:00:00"},{"$f":"'IMPORTACIÓN DATOS ANUALES PVGIS'!AJ245","v":0}]
[{"$f":"'IMPORTACIÓN DATOS ANUALES PVGIS'!B246","v":"00:00:00"},{"$f":"'IMPORTACIÓN DATOS ANUALES PVGIS'!C246","v":""}]

{"sheet":"IMPORTACIÓN DATOS ANUALES PVGIS","index":7,"n_rows":171720,"n_cols":36,"rows_kept":4500,"cut":true,"hidden":true,"merged":[[3,1,3,5],[17,1,17,5],[19,2,19,3],[19,4,19,5]],"bounds":{"rows_first":2000,"rows_last":500,"rows_between":2000,"halvings":0}}
[null,"DEBEMOS REALIZAR EL ESTUDIO EN PVGIS (ESTIMACIÓN FV E IMPORTAR LOS DATOS A LA TABLA)"]
[]
[]
[null,"Fixed system: inclination=35°, orientation=0°",null,null,null,null,null,"INVIERNO",null,null,"INVIERNO",null,{"$f":"H4","v":"INVIERNO"}]
[null,"Mes","Ed","Em","Hd","Hm",null,null,null,null,"VERANO"]
[null,"Ene","3,21","99,6","4,10",127]
[null,"Feb","3,84",108,"4,93",138]
[null,"Mar","4,66",144,"6,11",189,null,null,null,2017,"MESES","DÍAS ","DÍAS FINDE","FESTIVOS"]
[null,"Abr","4,74",142,"6,27",188,null,null,null,null,"Enero",31,8,2]
[null,"Mayo","5,05",156,"6,76",210,null,null,null,null,"Febrero",28,8]
[null,"Jun","5,29",159,"7,18",215,null,null,null,null,"Marzo",31,8]
[null,"Jul","5,30",164,"7,30",226,null,null,null,null,"Abril",30,10,1]
[null,"Ago","5,09",158,"7,03",218,null,null,null,null,"Mayo",31,8,1]
[null,"Sep","4,52",135,"6,17",185,null,null,null,null,"Junio",30,8]
[null,"Oct","4,04",125,"5,43",168,null,null,null,null,"Julio",31,10]
[null,"Nov","3,24","97,3","4,22",127,null,null,null,null,"Agosto",31,8,1]
[null,"Dic","2,88","89,3","3,68",114,null,{"$f":"D6+D7+D8+D9+D10+D11+D12+D13+D14+D15+D16+D17","v":1577.1999999999998},{"$f":"F6+F7+F8+F9+F10+F11+F12+F13+F14+F15+F16+F17","v":2105},null,"Septiembre",30,9]
[null,null,null,null,null,null,null,null,null,null,"Octubre",31,9,1]
[null,"Media anual","4,33",132,"5,77",176,null,null,null,null,"Noviembre",30,8,1]
[null,"Total para el año",1580,null,2110,null,null,{"$f":"H17","v":1577.1999999999998},{"$f":"I17","v":2105},null,"Diciembre",31,10,3]
[null,null,""]
[null,null,""]
[null,"http://re.jrc.ec.europa.eu/pvgis/apps4/pvest.php?lang=es&map=europe",""]
[null,null,""]
[null,null,""]
[null,null,""]
[null,"COPIAR TABLAS PVGIS MEDIA DIARIA IRRADIACIÓN INDICAR LA INCLINACIÓN PUESTA EN CUADRO RENTING EN LA WEB",""]
[null,"UNICAMENTE GC",""]
[null,"GC: IRRADIANCIA GLOBAL CIELO CLARO SOBRE UN PLANO FIJO (W/M2)",null,null,null,null,null,null,null,"NECESITAS OBTENER PORCENTAJES PARA SABER LO QUE PRODUCES PERO NADA MÁS"]
[null,"INCLINACION",null,null,{"$f":"'CUADRO RENTING'!V1","v":"ADOSADO"}]
[null,"ENERO",null,null,"FEBRERO",null,null,"MARZO",null,null,"ABRIL",null,null,"MAYO",null,null,"JUNIO",null,null,"JULIO",null,null,"AGOSTO",null,null,"SEPTIEMBRE",null,null,"OCTUBRE",null,null,"NOVIEMBRE",null,null,"DICIEMBRE"]
[null,"Hora","Gc",null,"Hora","Gc",null,"Hora","Gc",null,"Hora","Gc",null,"Hora","Gc",null,"Hora","Gc",null,"Hora","Gc",null,"Hora","Gc",null,"Hora","Gc",null,"Hora","Gc",null,"Hora","Gc",null,"Hora","Gc"]
[null,"07:37:00",156,null,"07:07:00",109,null,"06:22:00",44,null,"05:52:00",28,null,"05:22:00",28,null,"05:07:00",29,null,"05:07:00",24,null,"05:37:00",28,null,"06:07:00",27,null,"06:52:00",86,null,"07:22:00",107,null,"07:37:00",129]
[null,"07:52:00",234,null,"07:22:00",178,null,"06:37:00",95,null,"06:07:00",55,null,"05:37:00",39,null,"05:22:00",40,null,"05:22:00",36,null,"05:52:00",37,null,"06:22:00",61,null,"07:07:00",149,null,"07:37:00",179,null,"07:52:00",201]
[null,"08:07:00",303,null,"07:37:00",245,null,"06:52:00",152,null,"06:22:00",97,null,"05:52:00",47,null,"05:37:00",51,null,"05:37:00",47,null,"06:07:00",69,null,"06:37:00",104,null,"07:22:00",212,null,"07:52:00",246,null,"08:07:00",278]
[null,"08:22:00",370,null,"07:52:00",312,null,"07:07:00",215,null,"06:37:00",148,null,"06:07:00",85,null,"05:52:00",61,null,"05:52:00",56,null,"06:22:00",109,null,"06:52:00",154,null,"07:37:00",278,null,"08:07:00",313,null,"08:22:00",346]
[null,"08:37:00",435,null,"08:07:00",379,null,"07:22:00",281,null,"06:52:00",203,null,"06:22:00",131,null,"06:07:00",100,null,"06:07:00",94,null,"06:37:00",156,null,"07:07:00",210,null,"07:52:00",344,null,"08:22:00",378,null,"08:37:00",412]
[null,"08:52:00",497,null,"08:22:00",445,null,"07:37:00",349,null,"07:07:00",263,null,"06:37:00",181,null,"06:22:00",144,null,"06:22:00",137,null,"06:52:00",208,null,"07:22:00",269,null,"08:07:00",410,null,"08:37:00",441,null,"08:52:00",474]
[null,"09:07:00",555,null,"08:37:00",509,null,"07:52:00",416,null,"07:22:00",324,null,"06:52:00",235,null,"06:37:00",192,null,"06:37:00",185,null,"07:07:00",263,null,"07:37:00",330,null,"08:22:00",474,null,"08:52:00",502,null,"09:07:00",532]
[null,"09:22:00",609,null,"08:52:00",570,null,"08:07:00",483,null,"07:37:00",387,null,"07:07:00",292,null,"06:52:00",243,null,"06:52:00",236,null,"07:22:00",320,null,"07:52:00",392,null,"08:37:00",537,null,"09:07:00",559,null,"09:22:00",586]
[null,"09:37:00",660,null,"09:07:00",628,null,"08:22:00",549,null,"07:52:00",450,null,"07:22:00",350,null,"07:07:00",297,null,"07:07:00",290,null,"07:37:00",378,null,"08:07:00",453,null,"08:52:00",596,null,"09:22:00",613,null,"09:37:00",637]
[null,"09:52:00",706,null,"09:22:00",682,null,"08:37:00",612,null,"08:07:00",512,null,"07:37:00",409,null,"07:22:00",351,null,"07:22:00",345,null,"07:52:00",436,null,"08:22:00",513,null,"09:07:00",653,null,"09:37:00",663,null,"09:52:00",683]
[null,"10:07:00",748,null,"09:37:00",732,null,"08:52:00",672,null,"08:22:00",573,null,"07:52:00",467,null,"07:37:00",407,null,"07:37:00",401,null,"08:07:00",493,null,"08:37:00",572,null,"09:22:00",707,null,"09:52:00",708,null,"10:07:00",724]
[null,"10:22:00",784,null,"09:52:00",778,null,"09:07:00",730,null,"08:37:00",631,null,"08:07:00",525,null,"07:52:00",462,null,"07:52:00",456,null,"08:22:00",550,null,"08:52:00",628,null,"09:37:00",756,null,"10:07:00",750,null,"10:22:00",761]
[null,"10:37:00",816,null,"10:07:00",820,null,"09:22:00",784,null,"08:52:00",687,null,"08:22:00",581,null,"08:07:00",516,null,"08:07:00",511,null,"08:37:00",605,null,"09:07:00",681,null,"09:52:00",801,null,"10:22:00",786,null,"10:37:00",792]
[null,"10:52:00",843,null,"10:22:00",857,null,"09:37:00",834,null,"09:07:00",740,null,"08:37:00",635,null,"08:22:00",569,null,"08:22:00",565,null,"08:52:00",657,null,"09:22:00",731,null,"10:07:00",842,null,"10:37:00",818,null,"10:52:00",819]
[null,"11:07:00",865,null,"10:37:00",889,null,"09:52:00",879,null,"09:22:00",790,null,"08:52:00",687,null,"08:37:00",620,null,"08:37:00",616,null,"09:07:00",707,null,"09:37:00",778,null,"10:22:00",879,null,"10:52:00",844,null,"11:07:00",840]
[null,"11:22:00",881,null,"10:52:00",915,null,"10:07:00",920,null,"09:37:00",837,null,"09:07:00",736,null,"08:52:00",669,null,"08:52:00",666,null,"09:22:00",754,null,"09:52:00",821,null,"10:37:00",910,null,"11:07:00",865,null,"11:22:00",856]
[null,"11:37:00",892,null,"11:07:00",937,null,"10:22:00",957,null,"09:52:00",879,null,"09:22:00",782,null,"09:07:00",715,null,"09:07:00",713,null,"09:37:00",797,null,"10:07:00",859,null,"10:52:00",936,null,"11:22:00",882,null,"11:37:00",867]
[null,"11:52:00",897,null,"11:22:00",953,null,"10:37:00",988,null,"10:07:00",917,null,"09:37:00",825,null,"09:22:00",759,null,"09:22:00",757,null,"09:52:00",837,null,"10:22:00",893,null,"11:07:00",958,null,"11:37:00",892,null,"11:52:00",873]
[null,"12:07:00",897,null,"11:37:00",964,null,"10:52:00",1010,null,"10:22:00",951,null,"09:52:00",864,null,"09:37:00",799,null,"09:37:00",798,null,"10:07:00",873,null,"10:37:00",923,null,"11:22:00",974,null,"11:52:00",898,null,"12:07:00",873]
[null,"12:22:00",892,null,"11:52:00",970,null,"11:07:00",1040,null,"10:37:00",980,null,"10:07:00",900,null,"09:52:00",836,null,"09:52:00",835,null,"10:22:00",905,null,"10:52:00",948,null,"11:37:00",984,null,"12:07:00",898,null,"12:22:00",867]
[null,"12:37:00",881,null,"12:07:00",970,null,"11:22:00",1050,null,"10:52:00",1010,null,"10:22:00",931,null,"10:07:00",870,null,"10:07:00",869,null,"10:37:00",932,null,"11:07:00",968,null,"11:52:00",990,null,"12:22:00",892,null,"12:37:00",856]
[null,"12:52:00",865,null,"12:22:00",964,null,"11:37:00",1060,null,"11:07:00",1020,null,"10:37:00",958,null,"10:22:00",899,null,"10:22:00",899,null,"10:52:00",955,null,"11:22:00",983,null,"12:07:00",990,null,"12:37:00",882,null,"12:52:00",840]
[null,"13:07:00",843,null,"12:37:00",953,null,"11:52:00",1070,null,"11:22:00",1040,null,"10:52:00",981,null,"10:37:00",925,null,"10:37:00",925,null,"11:07:00",974,null,"11:37:00",993,null,"12:22:00",984,null,"12:52:00",865,null,"13:07:00",819]
[null,"13:22:00",816,null,"12:52:00",937,null,"12:07:00",1070,null,"11:37:00",1050,null,"11:07:00",999,null,"10:52:00",946,null,"10:52:00",947,null,"11:22:00",988,null,"11:52:00",998,null,"12:37:00",974,null,"13:07:00",844,null,"13:22:00",792]
[null,"13:37:00",784,null,"13:07:00",915,null,"12:22:00",1060,null,"11:52:00",1050,null,"11:22:00",1010,null,"11:07:00",964,null,"11:07:00",965,null,"11:37:00",997,null,"12:07:00",998,null,"12:52:00",958,null,"13:22:00",818,null,"13:37:00",761]
[null,"13:52:00",748,null,"13:22:00",889,null,"12:37:00",1050,null,"12:07:00",1050,null,"11:37:00",1020,null,"11:22:00",977,null,"11:22:00",978,null,"11:52:00",1000,null,"12:22:00",993,null,"13:07:00",936,null,"13:37:00",786,null,"13:52:00",724]
[null,"14:07:00",706,null,"13:37:00",857,null,"12:52:00",1040,null,"12:22:00",1050,null,"11:52:00",1030,null,"11:37:00",985,null,"11:37:00",987,null,"12:07:00",1000,null,"12:37:00",983,null,"13:22:00",910,null,"13:52:00",750,null,"14:07:00",683]
[null,"14:22:00",660,null,"13:52:00",820,null,"13:07:00",1010,null,"12:37:00",1040,null,"12:07:00",1030,null,"11:52:00",990,null,"11:52:00",991,null,"12:22:00",997,null,"12:52:00",968,null,"13:37:00",879,null,"14:07:00",708,null,"14:22:00",637]
[null,"14:37:00",609,null,"14:07:00",778,null,"13:22:00",988,null,"12:52:00",1020,null,"12:22:00",1020,null,"12:07:00",990,null,"12:07:00",991,null,"12:37:00",988,null,"13:07:00",948,null,"13:52:00",842,null,"14:22:00",663,null,"14:37:00",586]
[null,"14:52:00",555,null,"14:22:00",732,null,"13:37:00",957,null,"13:07:00",1010,null,"12:37:00",1010,null,"12:22:00",985,null,"12:22:00",987,null,"12:52:00",974,null,"13:22:00",923,null,"14:07:00",801,null,"14:37:00",613,null,"14:52:00",532]
[null,"15:07:00",497,null,"14:37:00",682,null,"13:52:00",920,null,"13:22:00",980,null,"12:52:00",999,null,"12:37:00",977,null,"12:37:00",978,null,"13:07:00",955,null,"13:37:00",893,null,"14:22:00",756,null,"14:52:00",559,null,"15:07:00",474]
[null,"15:22:00",435,null,"14:52:00",628,null,"14:07:00",879,null,"13:37:00",951,null,"13:07:00",981,null,"12:52:00",964,null,"12:52:00",965,null,"13:22:00",932,null,"13:52:00",859,null,"14:37:00",707,null,"15:07:00",502,null,"15:22:00",412]
[null,"15:37:00",370,null,"15:07:00",570,null,"14:22:00",834,null,"13:52:00",917,null,"13:22:00",958,null,"13:07:00",946,null,"13:07:00",947,null,"13:37:00",905,null,"14:07:00",821,null,"14:52:00",653,null,"15:22:00",441,null,"15:37:00",346]
[null,"15:52:00",303,null,"15:22:00",509,null,"14:37:00",784,null,"14:07:00",879,null,"13:37:00",931,null,"13:22:00",925,null,"13:22:00",925,null,"13:52:00",873,null,"14:22:00",778,null,"15:07:00",596,null,"15:37:00",378,null,"15:52:00",278]
[null,"16:07:00",234,null,"15:37:00",445,null,"14:52:00",730,null,"14:22:00",837,null,"13:52:00",900,null,"13:37:00",899,null,"13:37:00",899,null,"14:07:00",837,null,"14:37:00",731,null,"15:22:00",537,null,"15:52:00",313,null,"16:07:00",201]
[null,"16:22:00",156,null,"15:52:00",379,null,"15:07:00",672,null,"14:37:00",790,null,"14:07:00",864,null,"13:52:00",870,null,"13:52:00",869,null,"14:22:00",797,null,"14:52:00",681,null,"15:37:00",474,null,"16:07:00",246,null,"16:22:00",129]
[null,"16:37:00",91,null,"16:07:00",312,null,"15:22:00",612,null,"14:52:00",740,null,"14:22:00",825,null,"14:07:00",836,null,"14:07:00",835,null,"14:37:00",754,null,"15:07:00",628,null,"15:52:00",410,null,"16:22:00",179,null,"16:37:00",69]
[null,null,"",null,"16:22:00",245,null,"15:37:00",549,null,"15:07:00",687,null,"14:37:00",782,null,"14:22:00",799,null,"14:22:00",798,null,"14:52:00",707,null,"15:22:00",572,null,"16:07:00",344,null,"16:37:00",107]
[null,null,"",null,"16:37:00",178,null,"15:52:00",483,null,"15:22:00",631,null,"14:52:00",736,null,"14:37:00",759,null,"14:37:00",757,null,"15:07:00",657,null,"15:37:00",513,null,"16:22:00",278,null,"16:52:00",54]
[null,null,"",null,"16:52:00",109,null,"16:07:00",416,null,"15:37:00",573,null,"15:07:00",687,null,"14:52:00",715,null,"14:52:00",713,null,"15:22:00",605,null,"15:52:00",453,null,"16:37:00",212]
[null,null,"",null,"17:07:00",56,null,"16:22:00",349,null,"15:52:00",512,null,"15:22:00",635,null,"15:07:00",669,null,"15:07:00",666,null,"15:37:00",550,null,"16:07:00",392,null,"16:52:00",149]
[null,null,"",null,null,null,null,"16:37:00",281,null,"16:07:00",450,null,"15:37:00",581,null,"15:22:00",620,null,"15:22:00",616,null,"15:52:00",493,null,"16:22:00",330,null,"17:07:00",86]
[null,null,"",null,null,null,null,"16:52:00",215,null,"16:22:00",387,null,"15:52:00",525,null,"15:37:00",569,null,"15:37:00",565,null,"16:07:00",436,null,"16:37:00",269,null,"17:22:00",41]
[null,null,"",null,null,null,null,"17:07:00",152,null,"16:37:00",324,null,"16:07:00",467,null,"15:52:00",516,null,"15:52:00",511,null,"16:22:00",378,null,"16:52:00",210]
[null,null,"",null,null,null,null,"17:22:00",95,null,"16:52:00",263,null,"16:22:00",409,null,"16:07:00",462,null,"16:07:00",456,null,"16:37:00",320,null,"17:07:00",154]
[null,null,"",null,null,null,null,"17:37:00",44,null,"17:07:00",203,null,"16:37:00",350,null,"16:22:00",407,null,"16:22:00",401,null,"16:52:00",263,null,"17:22:00",104]
[null,null,"",null,null,null,null,"17:52:00",12,null,"17:22:00",148,null,"16:52:00",292,null,"16:37:00",351,null,"16:37:00",345,null,"17:07:00",208,null,"17:37:00",61]
[null,null,"",null,null,null,null,null,null,null,"17:37:00",97,null,"17:07:00",235,null,"16:52:00",297,null,"16:52:00",290,null,"17:22:00",156,null,"17:52:00",27]
[null,null,"",null,null,null,null,null,null,null,"17:52:00",55,null,"17:22:00",181,null,"17:07:00",243,null,"17:07:00",236,null,"17:37:00",109,null,"18:07:00",10]
[null,null,"",null,null,null,null,null,null,null,"18:07:00",28,null,"17:37:00",131,null,"17:22:00",192,null,"17:22:00",185,null,"17:52:00",69]
[null,null,"",null,null,null,null,null,null,null,"18:22:00",17,null,"17:52:00",85,null,"17:37:00",144,null,"17:37:00",137,null,"18:07:00",37]
[null,null,"",null,null,null,null,null,null,null,null,null,null,"18:07:00",47,null,"17:52:00",100,null,"17:52:00",94,null,"18:22:00",28]
[null,null,"",null,null,null,null,null,null,null,null,null,null,"18:22:00",39,null,"18:07:00",61,null,"18:07:00",56,null,"18:37:00",15]
[null,null,"",null,null,null,null,null,null,null,null,null,null,"18:37:00",28,null,"18:22:00",51,null,"18:22:00",47]
[null,null,"",null,null,null,null,null,null,null,null,null,null,"18:52:00",17,null,"18:37:00",40,null,"18:37:00",36]
[null,null,"",null,null,null,null,null,null,null,null,null,null,null,null,null,"18:52:00",29,null,"18:52:00",24]
[null,null,"",null,null,null,null,null,null,null,null,null,null,null,null,null,"19:07:00",18,null,"19:07:00",12]
[null,null,""]
[null,null,""]
[null,null,""]
[null,null,""]
[null,null,""]
[null,null,""]
[null,null,""]
[null,null,""]
[null,null,""]
[null,null,""]
[null,null,""]
[null,null,""]
[null,null,""]
[null,null,""]
[null,null,""]
[null,null,""]
[null,null,""]
[null,null,""]
[null,null,""]
[null,null,""]
[null,null,""]
[null,null,""]
[null,null,""]
[null,null,""]
[null,null,""]
[null,null,""]
[null,null,""]
[null,null,""]
[null,null,""]
[null,null,""]
[null,null,""]
[null,null,""]
[null,null,""]
[null,null,""]
[null,null,""]
[null,null,""]
[null,null,""]
[null,null,""]
[null,null,""]
[null,null,""]
[null,null,""]
[null,null,""]
[null,null,""]
[null,null,""]
[null,null,""]
[null,null,""]
[null,null,""]
[null,null,""]
[null,null,""]
[null,null,""]
[null,null,""]
[null,null,""]
[null,null,""]
[null,null,""]
[null,null,""]
[null,null,""]
[null,null,""]
[null,null,""]
[null,null,""]
[null,null,""]
[null,null,""]
[null,null,""]
[null,null,""]
[null,null,""]
[null,null,""]
[null,null,""]
[null,null,""]
[null,null,""]
[null,null,""]
[null,null,""]
[null,null,""]
[null,null,""]
[null,null,""]
[null,null,""]
[null,null,""]
[null,null,""]
[null,null,""]
[null,null,""]
[null,null,""]
[null,null,""]
[null,null,""]
[null,null,""]
[null,null,""]
[null,null,""]
[null,null,""]
[null,null,""]
[null,null,""]
[null,null,""]
[null,null,""]
[null,null,""]
[null,null,""]
[null,null,""]
[null,null,""]
[null,null,""]
[null,null,""]
[null,null,""]
[null,null,""]
[null,null,""]
[null,null,""]
[null,null,""]
[null,null,""]
[null,null,""]
[null,null,""]
[null,null,""]
[null,null,""]
[null,null,""]
[null,null,""]
[null,null,""]
[null,null,""]
[null,null,""]
[null,null,""]
[null,null,""]
[null,null,""]
[null,null,""]
[null,null,""]
[null,null,""]
[null,null,""]
[null,null,""]
[null,null,""]
[null,null,""]
[null,null,""]
[null,null,""]
[null,null,""]
[null,null,""]
[null,null,""]
[null,null,""]
[null,null,""]
[null,null,""]
[null,null,""]
[null,null,""]
[null,null,""]
[null,null,""]
[null,null,""]
[null,null,""]
[null,null,""]
[null,null,""]
[null,null,""]
[null,null,""]
[null,null,""]
[null,null,""]
[null,null,""]
[null,null,""]
[null,null,""]
[null,null,""]
[null,null,""]
[null,null,""]
[null,null,""]
[null,null,""]
[null,null,""]
[null,null,""]
[null,null,""]
[null,null,""]
[null,null,""]
[null,null,""]
[null,null,""]
[null,null,""]
[null,null,""]
[null,null,""]
[null,null,""]
[null,null,""]
[null,null,""]
[null,null,""]
[null,null,""]
[null,null,""]
[null,null,""]
[null,null,""]
[null,null,""]
[null,null,""]
[null,null,""]
[null,null,""]
[null,null,""]
[null,null,""]
[null,null,""]
[null,null,""]
[null,null,""]
[null,null,""]
[null,null,""]
[null,null,""]
[null,null,""]
[null,null,""]
[null,null,""]
[null,null,""]
[null,null,""]
[null,null,""]
[null,null,""]
[null,null,""]
[null,null,""]
[null,null,""]
[null,null,""]
[null,null,""]
[null,null,""]
[null,null,""]
[null,null,""]
[null,null,""]
[null,null,""]
[null,null,""]
[null,null,""]
[null,null,""]
[null,null,""]
[null,null,""]
[null,null,""]
[null,null,""]
[null,null,""]
[null,null,""]
[null,null,""]
[null,null,""]
[null,null,""]
[null,null,""]
[null,null,""]
[null,null,""]
[null,null,""]
[null,null,""]
[null,null,""]
[null,null,""]
[null,null,""]
[null,null,""]
[null,null,""]
[null,null,""]
[null,null,""]
[null,null,""]
[null,null,""]
[null,null,""]
[null,null,""]
[null,null,""]
[null,null,""]
[null,null,""]
[null,null,""]
[null,null,""]
[null,null,""]
[null,null,""]
[null,null,""]
[null,null,""]
[null,null,""]
[null,null,""]
[null,null,""]
[null,null,""]
[null,null,""]
[null,null,""]
[null,null,""]
[null,null,""]
[null,null,""]
[null,null,""]
[null,null,""]
[null,null,""]
[null,null,""]
[null,null,""]
[null,null,""]
[null,null,""]
[null,null,""]
[null,null,""]
[null,null,""]
[null,null,""]
[null,null,""]
[null,null,""]
[null,null,""]
[null,null,""]
[null,null,""]
[null,null,""]
[null,null,""]
[null,null,""]
[null,null,""]
[null,null,""]
[null,null,""]
[null,null,""]
[null,null,""]
[null,null,""]
[null,null,""]
[null,null,""]
[null,null,""]
[null,null,""]
[null,null,""]
[null,null,""]
[null,null,""]
[null,null,""]
[null,null,""]
[null,null,""]
[null,null,""]
[null,null,""]
[null,null,""]
[null,null,""]
[null,null,""]
[null,null,""]
[null,null,""]
[null,null,""]
[null,null,""]
[null,null,""]
[null,null,""]
[null,null,""]
[null,null,""]
[null,null,""]
[null,null,""]
[null,null,""]
[null,null,""]
[null,null,""]
[null,null,""]
[null,null,""]
[null,null,""]
[null,null,""]
[null,null,""]
[null,null,""]
[null,null,""]
[null,null,""]
[null,null,""]
[null,null,""]
[null,null,""]
[null,null,""]
[null,null,""]
[null,null,""]
[null,null,""]
[null,null,""]
[null,null,""]
[null,null,""]
[null,null,""]
[null,null,""]
[null,null,""]
[null,null,""]
[null,null,""]
[null,null,""]
[null,null,""]
[null,null,""]
[null,null,""]
[null,null,""]
[null,null,""]
[null,null,""]
[null,null,""]
[null,null,""]
[null,null,""]
[null,null,""]
[null,null,""]
[null,null,""]
[null,null,""]
[null,null,""]
[null,null,""]
[null,null,""]
[null,null,""]
[null,null,""]
[null,null,""]
[null,null,""]
[null,null,""]
[null,null,""]
[null,null,""]
[null,null,""]
[null,null,""]
[null,null,""]
[null,null,""]
[null,null,""]
[null,null,""]
[null,null,""]
[null,null,""]
[null,null,""]
[null,null,""]
[null,null,""]
[null,null,""]
[null,null,""]
[null,null,""]
[null,null,""]
[null,null,""]
[null,null,""]
[null,null,""]
[null,null,""]
[null,null,""]
[null,null,""]
[null,null,""]
[null,null,""]
[null,null,""]
[null,null,""]
[null,null,""]
[null,null,""]
[null,null,""]
[null,null,""]
[null,null,""]
[null,null,""]
[null,null,""]
[null,null,""]
[null,null,""]
[null,null,""]
[null,null,""]
[null,null,""]
[null,null,""]
[null,null,""]
[null,null,""]
[null,null,""]
[null,null,""]
[null,null,""]
[null,null,""]
[null,null,""]
[null,null,""]
[null,null,""]
[null,null,""]
[null,null,""]
[null,null,""]
[null,null,""]
[null,null,""]
[null,null,""]
[null,null,""]
[null,null,""]
[null,null,""]
[null,null,""]
[null,null,""]
[null,null,""]
[null,null,""]
[null,null,""]
[null,null,""]
[null,null,""]
[null,null,""]
[null,null,""]
[null,null,""]
[null,null,""]
[null,null,""]
[null,null,""]
[null,null,""]
[null,null,""]
[null,null,""]
[null,null,""]
[null,null,""]
[null,null,""]
[null,null,""]
[null,null,""]
[null,null,""]
[null,null,""]
[null,null,""]
[null,null,""]
[null,null,""]
[null,null,""]
[null,null,""]
[null,null,""]
[null,null,""]
[null,null,""]
[null,null,""]
[null,null,""]
[null,null,""]
[null,null,""]
[null,null,""]
[null,null,""]
[null,null,""]
[null,null,""]
[null,null,""]
[null,null,""]
[null,null,""]
[null,null,""]
[null,null,""]
[null,null,""]
[null,null,""]
[null,null,""]
[null,null,""]
[null,null,""]
[null,null,""]
[null,null,""]
[null,null,""]
[null,null,""]
[null,null,""]
[null,null,""]
[null,null,""]
[null,null,""]
[null,null,""]
[null,null,""]
[null,null,""]
[null,null,""]
[null,null,""]
[null,null,""]
[null,null,""]
[null,null,""]
[null,null,""]
[null,null,""]
[null,null,""]
[null,null,""]
[null,null,""]
[null,null,""]
[null,null,""]
[null,null,""]
[null,null,""]
[null,null,""]
[null,null,""]
[null,null,""]
[null,null,""]
[null,null,""]
[null,null,""]
[null,null,""]
[null,null,""]
[null,null,""]
[null,null,""]
[null,null,""]
[null,null,""]
[null,null,""]
[null,null,""]
[null,null,""]
[null,null,""]
[null,null,""]
[null,null,""]
[null,null,""]
[null,null,""]
[null,null,""]
[null,null,""]
[null,null,""]
[null,null,""]
[null,null,""]
[null,null,""]
[null,null,""]
[null,null,""]
[null,null,""]
[null,null,""]
[null,null,""]
[null,null,""]
[null,null,""]
[null,null,""]
[null,null,""]
[null,null,""]
[null,null,""]
[null,null,""]
[null,null,""]
[null,null,""]
[null,null,""]
[null,null,""]
[null,null,""]
[null,null,""]
[null,null,""]
[null,null,""]
[null,null,""]
[null,null,""]
[null,null,""]
[null,null,""]
[null,null,""]
[null,null,""]
[null,null,""]
[null,null,""]
[null,null,""]
[null,null,""]
[null,null,""]
[null,null,""]
[null,null,""]
[null,null,""]
[null,null,""]
[null,null,""]
[null,null,""]
[null,null,""]
[null,null,""]
[null,null,""]
[null,null,""]
[null,null,""]
[null,null,""]
[null,null,""]
[null,null,""]
[null,null,""]
[null,null,""]
[null,null,""]
[null,null,""]
[null,null,""]
[null,null,""]
[null,null,""]
[null,null,""]
[null,null,""]
[null,null,""]
[null,null,""]
[null,null,""]
[null,null,""]
[null,null,""]
[null,null,""]
[null,null,""]
[null,null,""]
[null,null,""]
[null,null,""]
[null,null,""]
[null,null,""]
[null,null,""]
[null,null,""]
[null,null,""]
[null,null,""]
[null,null,""]
[null,null,""]
[null,null,""]
[null,null,""]
[null,null,""]
[null,null,""]
[null,null,""]
[null,null,""]
[null,null,""]
[null,null,""]
[null,null,""]
[null,null,""]
[null,null,""]
[null,null,""]
[null,null,""]
[null,null,""]
[null,null,""]
[null,null,""]
[null,null,""]
[null,null,""]
[null,null,""]
[null,null,""]
[null,null,""]
[null,null,""]
[null,null,""]
[null,null,""]
[null,null,""]
[null,null,""]
[null,null,""]
[null,null,""]
[null,null,""]
[null,null,""]
[null,null,""]
[null,null,""]
[null,null,""]
[null,null,""]
[null,null,""]
[null,null,""]
[null,null,""]
[null,null,""]
[null,null,""]
[null,null,""]
[null,null,""]
[null,null,""]
[null,null,""]
[null,null,""]
[null,null,""]
[null,null,""]
[null,null,""]
[null,null,""]
[null,null,""]
[null,null,""]
[null,null,""]
[null,null,""]
[null,null,""]
[null,null,""]
[null,null,""]
[null,null,""]
[null,null,""]
[null,null,""]
[null,null,""]
[null,null,""]
[null,null,""]
[null,null,""]
[null,null,""]
[null,null,""]
[null,null,""]
[null,null,""]
[null,null,""]
[null,null,""]
[null,null,""]
[null,null,""]
[null,null,""]
[null,null,""]
[null,null,""]
[null,null,""]
[null,null,""]
[null,null,""]
[null,null,""]
[null,null,""]
[null,null,""]
[null,null,""]
[null,null,""]
[null,null,""]
[null,null,""]
[null,null,""]
[null,null,""]
[null,null,""]
[null,null,""]
[null,null,""]
[null,null,""]
[null,null,""]
[null,null,""]
[null,null,""]
[null,null,""]
[null,null,""]
[null,null,""]
[null,null,""]
[null,null,""]
[null,null,""]
[null,null,""]
[null,null,""]
[null,null,""]
[null,null,""]
[null,null,""]
[null,null,""]
[null,null,""]
[null,null,""]
[null,null,""]
[null,null,""]
[null,null,""]
[null,null,""]
[null,null,""]
[null,null,""]
[null,null,""]
[null,null,""]
[null,null,""]
[null,null,""]
[null,null,""]
[null,null,""]
[null,null,""]
[null,null,""]
[null,null,""]
[null,null,""]
[null,null,""]
[null,null,""]
[null,null,""]
[null,null,""]
[null,null,""]
[null,null,""]
[null,null,""]
[null,null,""]
[null,null,""]
[null,null,""]
[null,null,""]
[null,null,""]
[null,null,""]
[null,null,""]
[null,null,""]
[null,null,""]
[null,null,""]
[null,null,""]
[null,null,""]
[null,null,""]
[null,null,""]
[null,null,""]
[null,null,""]
[null,null,""]
[null,null,""]
[null,null,""]
[null,null,""]
[null,null,""]
[null,null,""]
[null,null,""]
[null,null,""]
[null,null,""]
[null,null,""]
[null,null,""]
[null,null,""]
[null,null,""]
[null,null,""]
[null,null,""]
[null,null,""]
[null,null,""]
[null,null,""]
[null,null,""]
[null,null,""]
[null,null,""]
[null,null,""]
[null,null,""]
[null,null,""]
[null,null,""]
[null,null,""]
[null,null,""]
[null,null,""]
[null,null,""]
[null,null,""]
[null,null,""]
[null,null,""]
[null,null,""]
[null,null,""]
[null,null,""]
[null,null,""]
[null,null,""]
[null,null,""]
[null,null,""]
[null,null,""]
[null,null,""]
[null,null,""]
[null,null,""]
[null,null,""]
[null,null,""]
[null,null,""]
[null,null,""]
[null,null,""]
[null,null,""]
[null,null,""]
[null,null,""]
[null,null,""]
[null,null,""]
[null,null,""]
[null,null,""]
[null,null,""]
[null,null,""]
[null,null,""]
[null,null,""]
[null,null,""]
[null,null,""]
[null,null,""]
[null,null,""]
[null,null,""]
[null,null,""]
[null,null,""]
[null,null,""]
[null,null,""]
[null,null,""]
[null,null,""]
[null,null,""]
[null,null,""]
[null,null,""]
[null,null,""]
[null,null,""]
[null,null,""]
[null,null,""]
[null,null,""]
[null,null,""]
[null,null,""]
[null,null,""]
[null,null,""]
[null,null,""]
[null,null,""]
[null,null,""]
[null,null,""]
[null,null,""]
[null,null,""]
[null,null,""]
[null,null,""]
[null,null,""]
[null,null,""]
[null,null,""]
[null,null,""]
[null,null,""]
[null,null,""]
[null,null,""]
[null,null,""]
[null,null,""]
[null,null,""]
[null,null,""]
[null,null,""]
[null,null,""]
[null,null,""]
[null,null,""]
[null,null,""]
[null,null,""]
[null,null,""]
[null,null,""]
[null,null,""]
[null,null,""]
[null,null,""]
[null,null,""]
[null,null,""]
[null,null,""]
[null,null,""]
[null,null,""]
[null,null,""]
[null,null,""]
[null,null,""]
[null,null,""]
[null,null,""]
[null,null,""]
[null,null,""]
[null,null,""]
[null,null,""]
[null,null,""]
[null,null,""]
[null,null,""]
[null,null,""]
[null,null,""]
[null,null,""]
[null,null,""]
[null,null,""]
[null,null,""]
[null,null,""]
[null,null,""]
[null,null,""]
[null,null,""]
[null,null,""]
[null,null,""]
[null,null,""]
[null,null,""]
[null,null,""]
[null,null,""]
[null,null,""]
[null,null,""]
[null,null,""]
[null,null,""]
[null,null,""]
[null,null,""]
[null,null,""]
[null,null,""]
[null,null,""]
[null,null,""]
[null,null,""]
[null,null,""]
[null,null,""]
[null,null,""]
[null,null,""]
[null,null,""]
[null,null,""]
[null,null,""]
[null,null,""]
[null,null,""]
[null,null,""]
[null,null,""]
[null,null,""]
[null,null,""]
[null,null,""]
[null,null,""]
[null,null,""]
[null,null,""]
[null,null,""]
[null,null,""]
[null,null,""]
[null,null,""]
[null,null,""]
[null,null,""]
[null,null,""]
[null,null,""]
[null,null,""]
[null,null,""]
[null,null,""]
[null,null,""]
[null,null,""]
[null,null,""]
[null,null,""]
[null,null,""]
[null,null,""]
[null,null,""]
[null,null,""]
[null,null,""]
[null,null,""]
[null,null,""]
[null,null,""]
[null,null,""]
[null,null,""]
[null,null,""]
[null,null,""]
[null,null,""]
[null,null,""]
[null,null,""]
[null,null,""]
[null,null,""]
[null,null,""]
[null,null,""]
[null,null,""]
[null,null,""]
[null,null,""]
[null,null,""]
[null,null,""]
[null,null,""]
[null,null,""]
[null,null,""]
[null,null,""]
[null,null,""]
[null,null,""]
[null,null,""]
[null,null,""]
[null,null,""]
[null,null,""]
[null,null,""]
[null,null,""]
[null,null,""]
[null,null,""]
[null,null,""]
[null,null,""]
[null,null,""]
[null,null,""]
[null,null,""]
[null,null,""]
[null,null,""]
[null,null,""]
[null,null,""]
[null,null,""]
[null,null,""]
[null,null,""]
[null,null,""]
[null,null,""]
[null,null,""]
[null,null,""]
[null,null,""]
[null,null,""]
[null,null,""]
[null,null,""]
[null,null,""]
[null,null,""]
[null,null,""]
[null,null,""]
[null,null,""]
[null,null,""]
[null,null,""]
[null,null,""]
[null,null,""]
[null,null,""]
[null,null,""]
[null,null,""]
[null,null,""]
[null,null,""]
[null,null,""]
[null,null,""]
[null,null,""]
[null,null,""]
[null,null,""]
[null,null,""]
[null,null,""]
[null,null,""]
[null,null,""]
[null,null,""]
[null,null,""]
[null,null,""]
[null,null,""]
[null,null,""]
[null,null,""]
[null,null,""]
[null,null,""]
[null,null,""]
[null,null,""]
[null,null,""]
[null,null,""]
[null,null,""]
[null,null,""]
[null,null,""]
[null,null,""]
[null,null,""]
[null,null,""]
[null,null,""]
[null,null,""]
[null,null,""]
[null,null,""]
[null,null,""]
[null,null,""]
[null,null,""]
[null,null,""]
[null,null,""]
[null,null,""]
[null,null,""]
[null,null,""]
[null,null,""]
[null,null,""]
[null,null,""]
[null,null,""]
[null,null,""]
[null,null,""]
[null,null,""]
[null,null,""]
[null,null,""]
[null,null,""]
[null,null,""]
[null,null,""]
[null,null,""]
[null,null,""]
[null,null,""]
[null,null,""]
[null,null,""]
[null,null,""]
[null,null,""]
[null,null,""]
[null,null,""]
[null,null,""]
[null,null,""]
[null,null,""]
[null,null,""]
[null,null,""]
[null,null,""]
[null,null,""]
[null,null,""]
[null,null,""]
[null,null,""]
[null,null,""]
[null,null,""]
[null,null,""]
[null,null,""]
[null,null,""]
[null,null,""]
[null,null,""]
[null,null,""]
[null,null,""]
[null,null,""]
[null,null,""]
[null,null,""]
[null,null,""]
[null,null,""]
[null,null,""]
[null,null,""]
[null,null,""]
[null,null,""]
[null,null,""]
[null,null,""]
[null,null,""]
[null,null,""]
[null,null,""]
[null,null,""]
[null,null,""]
[null,null,""]
[null,null,""]
[null,null,""]
[null,null,""]
[null,null,""]
[null,null,""]
[null,null,""]
[null,null,""]
[null,null,""]
[null,null,""]
[null,null,""]
[null,null,""]
[null,null,""]
[null,null,""]
[null,null,""]
[null,null,""]
[null,null,""]
[null,null,""]
[null,null,""]
[null,null,""]
[null,null,""]
[null,null,""]
[null,null,""]
[null,null,""]
[null,null,""]
[null,null,""]
[null,null,""]
[null,null,""]
[null,null,""]
[null,null,""]
[null,null,""]
[null,null,""]
[null,null,""]
[null,null,""]
[null,null,""]
[null,null,""]
[null,null,""]
[null,null,""]
[null,null,""]
[null,null,""]
[null,null,""]
[null,null,""]
[null,null,""]
[null,null,""]
[null,null,""]
[null,null,""]
[null,null,""]
[null,null,""]
[null,null,""]
[null,null,""]
[null,null,""]
[null,null,""]
[null,null,""]
[null,null,""]
[null,null,""]
[null,null,""]
[null,null,""]
[null,null,""]
[null,null,""]
[null,null,""]
[null,null,""]
[null,null,""]
[null,null,""]
[null,null,""]
[null,null,""]
[null,null,""]
[null,null,""]
[null,null,""]
[null,null,""]
[null,null,""]
[null,null,""]
[null,null,""]
[null,null,""]
[null,null,""]
[null,null,""]
[null,null,""]
[null,null,""]
[null,null,""]
[null,null,""]
[null,null,""]
[null,null,""]
[null,null,""]
[null,null,""]
[null,null,""]
[null,null,""]
[null,null,""]
[null,null,""]
[null,null,""]
[null,null,""]
[null,null,""]
[null,null,""]
[null,null,""]
[null,null,""]
[null,null,""]
[null,null,""]
[null,null,""]
[null,null,""]
[null,null,""]
[null,null,""]
[null,null,""]
[null,null,""]
[null,null,""]
[null,null,""]
[null,null,""]
[null,null,""]
[null,null,""]
[null,null,""]
[null,null,""]
[null,null,""]
[null,null,""]
[null,null,""]
[null,null,""]
[null,null,""]
[null,null,""]
[null,null,""]
[null,null,""]
[null,null,""]
[null,null,""]
[null,null,""]
[null,null,""]
[null,null,""]
[null,null,""]
[null,null,""]
[null,null,""]
[null,null,""]
[null,null,""]
[null,null,""]
[null,null,""]
[null,null,""]
[null,null,""]
[null,null,""]
[null,null,""]
[null,null,""]
[null,null,""]
[null,null,""]
[null,null,""]
[null,null,""]
[null,null,""]
[null,null,""]
[null,null,""]
[null,null,""]
[null,null,""]
[null,null,""]
[null,null,""]
[null,null,""]
[null,null,""]
[null,null,""]
[null,null,""]
[null,null,""]
[null,null,""]
[null,null,""]
[null,null,""]
[null,null,""]
[null,null,""]
[null,null,""]
[null,null,""]
[null,null,""]
[null,null,""]
[null,null,""]
[null,null,""]
[null,null,""]
[null,null,""]
[null,null,""]
[null,null,""]
[null,null,""]
[null,null,""]
[null,null,""]
[null,null,""]
[null,null,""]
[null,null,""]
[null,null,""]
[null,null,""]
[null,null,""]
[null,null,""]
[null,null,""]
[null,null,""]
[null,null,""]
[null,null,""]
[null,null,""]
[null,null,""]
[null,null,""]
[null,null,""]
[null,null,""]
[null,null,""]
[null,null,""]
[null,null,""]
[null,null,""]
[null,null,""]
[null,null,""]
[null,null,""]
[null,null,""]
[null,null,""]
[null,null,""]
[null,null,""]
[null,null,""]
[null,null,""]
[null,null,""]
[null,null,""]
[null,null,""]
[null,null,""]
[null,null,""]
[null,null,""]
[null,null,""]
[null,null,""]
[null,null,""]
[null,null,""]
[null,null,""]
[null,null,""]
[null,null,""]
[null,null,""]
[null,null,""]
[null,null,""]
[null,null,""]
[null,null,""]
[null,null,""]
[null,null,""]
[null,null,""]
[null,null,""]
[null,null,""]
[null,null,""]
[null,null,""]
[null,null,""]
[null,null,""]
[null,null,""]
[null,null,""]
[null,null,""]
[null,null,""]
[null,null,""]
[null,null,""]
[null,null,""]
[null,null,""]
[null,null,""]
[null,null,""]
[null,null,""]
[null,null,""]
[null,null,""]
[null,null,""]
[null,null,""]
[null,null,""]
[null,null,""]
[null,null,""]
[null,null,""]
[null,null,""]
[null,null,""]
[null,null,""]
[null,null,""]
[null,null,""]
[null,null,""]
[null,null,""]
[null,null,""]
[null,null,""]
[null,null,""]
[null,null,""]
[null,null,""]
[null,null,""]
[null,null,""]
[null,null,""]
[null,null,""]
[null,null,""]
[null,null,""]
[null,null,""]
[null,null,""]
[null,null,""]
[null,null,""]
[null,null,""]
[null,null,""]
[null,null,""]
[null,null,""]
[null,null,""]
[null,null,""]
[null,null,""]
[null,null,""]
[null,null,""]
[null,null,""]
[null,null,""]
[null,null,""]
[null,null,""]
[null,null,""]
[null,null,""]
[null,null,""]
[null,null,""]
[null,null,""]
[null,null,""]
[null,null,""]
[null,null,""]
[null,null,""]
[null,null,""]
[null,null,""]
[null,null,""]
[null,null,""]
[null,null,""]
[null,null,""]
[null,null,""]
[null,null,""]
[null,null,""]
[null,null,""]
[null,null,""]
[null,null,""]
[null,null,""]
[null,null,""]
[null,null,""]
[null,null,""]
[null,null,""]
[null,null,""]
[null,null,""]
[null,null,""]
[null,null,""]
[null,null,""]
[null,null,""]
[null,null,""]
[null,null,""]
[null,null,""]
[null,null,""]
[null,null,""]
[null,null,""]
[null,null,""]
[null,null,""]
[null,null,""]
[null,null,""]
[null,null,""]
[null,null,""]
[null,null,""]
[null,null,""]
[null,null,""]
[null,null,""]
[null,null,""]
[null,null,""]
[null,null,""]
[null,null,""]
[null,null,""]
[null,null,""]
[null,null,""]
[null,null,""]
[null,null,""]
[null,null,""]
[null,null,""]
[null,null,""]
[null,null,""]
[null,null,""]
[null,null,""]
[null,null,""]
[null,null,""]
[null,null,""]
[null,null,""]
[null,null,""]
[null,null,""]
[null,null,""]
[null,null,""]
[null,null,""]
[null,null,""]
[null,null,""]
[null,null,""]
[null,null,""]
[null,null,""]
[null,null,""]
[null,null,""]
[null,null,""]
[null,null,""]
[null,null,""]
[null,null,""]
[null,null,""]
[null,null,""]
[null,null,""]
[null,null,""]
[null,null,""]
[null,null,""]
[null,null,""]
[null,null,""]
[null,null,""]
[null,null,""]
[null,null,""]
[null,null,""]
[null,null,""]
[null,null,""]
[null,null,""]
[null,null,""]
[null,null,""]
[null,null,""]
[null,null,""]
[null,null,""]
[null,null,""]
[null,null,""]
[null,null,""]
[null,null,""]
[null,null,""]
[null,null,""]
[null,null,""]
[null,null,""]
[null,null,""]
[null,null,""]
[null,null,""]
[null,null,""]
[null,null,""]
[null,null,""]
[null,null,""]
[null,null,""]
[null,null,""]
[null,null,""]
[null,null,""]
[null,null,""]
[null,null,""]
[null,null,""]
[null,null,""]
[null,null,""]
[null,null,""]
[null,null,""]
[null,null,""]
[null,null,""]
[null,null,""]
[null,null,""]
[null,null,""]
[null,null,""]
[null,null,""]
[null,null,""]
[null,null,""]
[null,null,""]
[null,null,""]
[null,null,""]
[null,null,""]
[null,null,""]
[null,null,""]
[null,null,""]
[null,null,""]
[null,null,""]
[null,null,""]
[null,null,""]
[null,null,""]
[null,null,""]
[null,null,""]
[null,null,""]
[null,null,""]
[null,null,""]
[null,null,""]
[null,null,""]
[null,null,""]
[null,null,""]
[null,null,""]
[null,null,""]
[null,null,""]
[null,null,""]
[null,null,""]
[null,null,""]
[null,null,""]
[null,null,""]
[null,null,""]
[null,null,""]
[null,null,""]
[null,null,""]
[null,null,""]
[null,null,""]
[null,null,""]
[null,null,""]
[null,null,""]
[null,null,""]
[null,null,""]
[null,null,""]
[null,null,""]
[null,null,""]
[null,null,""]
[null,null,""]
[null,null,""]
[null,null,""]
[null,null,""]
[null,null,""]
[null,null,""]
[null,null,""]
[null,null,""]
[null,null,""]
[null,null,""]
[null,null,""]
[null,null,""]
[null,null,""]
[null,null,""]
[null,null,""]
[null,null,""]
[null,null,""]
[null,null,""]
[null,null,""]
[null,null,""]
[null,null,""]
[null,null,""]
[null,null,""]
[null,null,""]
[null,null,""]
[null,null,""]
[null,null,""]
[null,null,""]
[null,null,""]
[null,null,""]
[null,null,""]
[null,null,""]
[null,null,""]
[null,null,""]
[null,null,""]
[null,null,""]
[null,null,""]
[null,null,""]
[null,null,""]
[null,null,""]
[null,null,""]
[null,null,""]
[null,null,""]
[null,null,""]
[null,null,""]
[null,null,""]
[null,null,""]
[null,null,""]
[null,null,""]
[null,null,""]
[null,null,""]
[null,null,""]
[null,null,""]
[null,null,""]
[null,null,""]
[null,null,""]
[null,null,""]
[null,null,""]
[null,null,""]
[null,null,""]
[null,null,""]
[null,null,""]
[null,null,""]
[null,null,""]
[null,null,""]
[null,null,""]
[null,null,""]
[null,null,""]
[null,null,""]
[null,null,""]
[null,null,""]
[null,null,""]
[null,null,""]
[null,null,""]
[null,null,""]
[null,null,""]
[null,null,""]
[null,null,""]
[null,null,""]
[null,null,""]
[null,null,""]
[null,null,""]
[null,null,""]
[null,null,""]
[null,null,""]
[null,null,""]
[null,null,""]
[null,null,""]
[null,null,""]
[null,null,""]
[null,null,""]
[null,null,""]
[null,null,""]
[null,null,""]
[null,null,""]
[null,null,""]
[null,null,""]
[null,null,""]
[null,null,""]
[null,null,""]
[null,null,""]
[null,null,""]
[null,null,""]
[null,null,""]
[null,null,""]
[null,null,""]
[null,null,""]
[null,null,""]
[null,null,""]
[null,null,""]
[null,null,""]
[null,null,""]
[null,null,""]
[null,null,""]
[null,null,""]
[null,null,""]
[null,null,""]
[null,null,""]
[null,null,""]
[null,null,""]
[null,null,""]
[null,null,""]
[null,null,""]
[null,null,""]
[null,null,""]
[null,null,""]
[null,null,""]
[null,null,""]
[null,null,""]
[null,null,""]
[null,null,""]
[null,null,""]
[null,null,""]
[null,null,""]
[null,null,""]
[null,null,""]
[null,null,""]
[null,null,""]
[null,null,""]
[null,null,""]
[null,null,""]
[null,null,""]
[null,null,""]
[null,null,""]
[null,null,""]
[null,null,""]
[null,null,""]
[null,null,""]
[null,null,""]
[null,null,""]
[null,null,""]
[null,null,""]
[null,null,""]
[null,null,""]
[null,null,""]
[null,null,""]
[null,null,""]
[null,null,""]
[null,null,""]
[null,null,""]
[null,null,""]
[null,null,""]
[null,null,""]
[null,null,""]
[null,null,""]
[null,null,""]
[null,null,""]
[null,null,""]
[null,null,""]
[null,null,""]
[null,null,""]
[null,null,""]
[null,null,""]
[null,null,""]
[null,null,""]
[null,null,""]
[null,null,""]
[null,null,""]
[null,null,""]
[null,null,""]
[null,null,""]
[null,null,""]
[null,null,""]
[null,null,""]
[null,null,""]
[null,null,""]
[null,null,""]
[null,null,""]
[null,null,""]
[null,null,""]
[null,null,""]
[null,null,""]
[null,null,""]
[null,null,""]
[null,null,""]
[null,null,""]
[null,null,""]
[null,null,""]
[null,null,""]
[null,null,""]
[null,null,""]
[null,null,""]
[null,null,""]
[null,null,""]
[null,null,""]
[null,null,""]
[null,null,""]
[null,null,""]
[null,null,""]
[null,null,""]
[null,null,""]
[null,null,""]
[null,null,""]
[null,null,""]
[null,null,""]
[null,null,""]
[null,null,""]
[null,null,""]
[null,null,""]
[null,null,""]
[null,null,""]
[null,null,""]
[null,null,""]
[null,null,""]
[null,null,""]
[null,null,""]
[null,null,""]
[null,null,""]
[null,null,""]
[null,null,""]
[null,null,""]
[null,null,""]
[null,null,""]
[null,null,""]
[null,null,""]
[null,null,""]
[null,null,""]
[null,null,""]
[null,null,""]
[null,null,""]
[null,null,""]
[null,null,""]
[null,null,""]
[null,null,""]
[null,null,""]
[null,null,""]
[null,null,""]
[null,null,""]
[null,null,""]
[null,null,""]
[null,null,""]
[null,null,""]
[null,null,""]
[null,null,""]
[null,null,""]
[null,null,""]
[null,null,""]
[null,null,""]
[null,null,""]
[null,null,""]
[null,null,""]
[null,null,""]
[null,null,""]
[null,null,""]
[null,null,""]
[null,null,""]
[null,null,""]
[null,null,""]
[null,null,""]
[null,null,""]
[null,null,""]
[null,null,""]
[null,null,""]
[null,null,""]
[null,null,""]
[null,null,""]
[null,null,""]
[null,null,""]
[null,null,""]
[null,null,""]
[null,null,""]
[null,null,""]
[null,null,""]
[null,null,""]
[null,null,""]
[null,null,""]
[null,null,""]
[null,null,""]
[null,null,""]
[null,null,""]
[null,null,""]
[null,null,""]
[null,null,""]
[null,null,""]
[null,null,""]
[null,null,""]
[null,null,""]
[null,null,""]
[null,null,""]
[null,null,""]
[null,null,""]
[null,null,""]
[null,null,""]
[null,null,""]
[null,null,""]
[null,null,""]
[null,null,""]
[null,null,""]
[null,null,""]
[null,null,""]
[null,null,""]
[null,null,""]
[null,null,""]
[null,null,""]
[null,null,""]
[null,null,""]
[null,null,""]
[null,null,""]
[null,null,""]
[null,null,""]
[null,null,""]
[null,null,""]
[null,null,""]
[null,null,""]
[null,null,""]
[null,null,""]
[null,null,""]
[null,null,""]
[null,null,""]
[null,null,""]
[null,null,""]
[null,null,""]
[null,null,""]
[null,null,""]
[null,null,""]
[null,null,""]
[null,null,""]
[null,null,""]
[null,null,""]
[null,null,""]
[null,null,""]
[null,null,""]
[null,null,""]
[null,null,""]
[null,null,""]
[null,null,""]
[null,null,""]
[null,null,""]
[null,null,""]
[null,null,""]
[null,null,""]
[null,null,""]
[null,null,""]
[null,null,""]
[null,null,""]
[null,null,""]
[null,null,""]
[null,null,""]
[null,null,""]
[null,null,""]
[null,null,""]
[null,null,""]
[null,null,""]
[null,null,""]
[null,null,""]
[null,null,""]
[null,null,""]
[null,null,""]
[null,null,""]
[null,null,""]
[null,null,""]
[null,null,""]
[null,null,""]
[null,null,""]
[null,null,""]
[null,null,""]
[null,null,""]
[null,null,""]
[null,null,""]
[null,null,""]
[null,null,""]
[null,null,""]
[null,null,""]
[null,null,""]
[null,null,""]
[null,null,""]
[null,null,""]
[null,null,""]
[null,null,""]
[null,null,""]
[null,null,""]
[null,null,""]
[null,null,""]
[null,null,""]
[null,null,""]
[null,null,""]
[null,null,""]
[null,null,""]
[null,null,""]
[null,null,""]
[null,null,""]
[null,null,""]
[null,null,""]
[null,null,""]
[null,null,""]
[null,null,""]
[null,null,""]
[null,null,""]
[null,null,""]
[null,null,""]
[null,null,""]
[null,null,""]
[null,null,""]
[null,null,""]
[null,null,""]
[null,null,""]
[null,null,""]
[null,null,""]
[null,null,""]
[null,null,""]
[null,null,""]
[null,null,""]
[null,null,""]
[null,null,""]
[null,null,""]
[null,null,""]
[null,null,""]
[null,null,""]
[null,null,""]
[null,null,""]
[null,null,""]
[null,null,""]
[null,null,""]
[null,null,""]
[null,null,""]
[null,null,""]
[null,null,""]
[null,null,""]
[null,null,""]
[null,null,""]
[null,null,""]
[null,null,""]
[null,null,""]
[null,null,""]
[null,null,""]
[null,null,""]
[null,null,""]
[null,null,""]
[null,null,""]
[null,null,""]
[null,null,""]
[null,null,""]
[null,null,""]
[null,null,""]
[null,null,""]
[null,null,""]
[null,null,""]
[null,null,""]
[null,null,""]
[null,null,""]
[null,null,""]
[null,null,""]
[null,null,""]
[null,null,""]
[null,null,""]
[null,null,""]
[null,null,""]
[null,null,""]
[null,null,""]
[null,null,""]
[null,null,""]
[null,null,""]
[null,null,""]
[null,null,""]
[null,null,""]
[null,null,""]
[null,null,""]
[null,null,""]
[null,null,""]
[null,null,""]
[null,null,""]
[null,null,""]
[null,null,""]
[null,null,""]
[null,null,""]
[null,null,""]
[null,null,""]
[null,null,""]
[null,null,""]
[null,null,""]
[null,null,""]
[null,null,""]
[null,null,""]
[null,null,""]
[null,null,""]
[null,null,""]
[null,null,""]
[null,null,""]
[null,null,""]
[null,null,""]
[null,null,""]
[null,null,""]
[null,null,""]
[null,null,""]
[null,null,""]
[null,null,""]
[null,null,""]
[null,null,""]
[null,null,""]
[null,null,""]
[null,null,""]
[null,null,""]
[null,null,""]
[null,null,""]
[null,null,""]
[null,null,""]
[null,null,""]
[null,null,""]
[null,null,""]
[null,null,""]
[null,null,""]
[null,null,""]
[null,null,""]
[null,null,""]
[null,null,""]
[null,null,""]
[null,null,""]
[null,null,""]
[null,null,""]
[null,null,""]
[null,null,""]
[null,null,""]
[null,null,""]
[null,null,""]
[null,null,""]
[null,null,""]
[null,null,""]
[null,null,""]
[null,null,""]
[null,null,""]
[null,null,""]
[null,null,""]
[null,null,""]
[null,null,""]
[null,null,""]
[null,null,""]
[null,null,""]
[null,null,""]
[null,null,""]
[null,null,""]
[null,null,""]
[null,null,""]
[null,null,""]
[null,null,""]
[null,null,""]
[null,null,""]
[null,null,""]
[null,null,""]
[null,null,""]
[null,null,""]
[null,null,""]
[null,null,""]
[null,null,""]
[null,null,""]
[null,null,""]
[null,null,""]
[null,null,""]
[null,null,""]
[null,null,""]
[null,null,""]
[null,null,""]
[null,null,""]
[null,null,""]
[null,null,""]
[null,null,""]
[null,null,""]
[null,null,""]
[null,null,""]
[null,null,""]
[null,null,""]
[null,null,""]
[null,null,""]
[null,null,""]
[null,null,""]
[null,null,""]
[null,null,""]
[null,null,""]
[null,null,""]
[null,null,""]
[null,null,""]
[null,null,""]
[null,null,""]
[null,null,""]
[null,null,""]
[null,null,""]
[null,null,""]
[null,null,""]
[null,null,""]
[null,null,""]
[null,null,""]
[null,null,""]
[null,null,""]
[null,null,""]
[null,null,""]
[null,null,""]
[null,null,""]
[null,null,""]
[null,null,""]
[null,null,""]
[null,null,""]
[null,null,""]
[null,null,""]
[null,null,""]
[null,null,""]
[null,null,""]
[null,null,""]
[null,null,""]
[null,null,""]
[null,null,""]
[null,null,""]
[null,null,""]
[null,null,""]
[null,null,""]
[null,null,""]
[null,null,""]
[null,null,""]
[null,null,""]
[null,null,""]
[null,null,""]
[null,null,""]
[null,null,""]
[null,null,""]
[null,null,""]
[null,null,""]
[null,null,""]
[null,null,""]
[null,null,""]
[null,null,""]
[null,null,""]
[null,null,""]
[null,null,""]
[null,null,""]
[null,null,""]
[null,null,""]
[null,null,""]
[null,null,""]
[null,null,""]
[null,null,""]
[null,null,""]
[null,null,""]
[null,null,""]
[null,null,""]
[null,null,""]
[null,null,""]
[null,null,""]
[null,null,""]
[null,null,""]
[null,null,""]
[null,null,""]
[null,null,""]
[null,null,""]
[null,null,""]
[null,null,""]
[null,null,""]
[null,null,""]
[null,null,""]
[null,null,""]
[null,null,""]
[null,null,""]
[null,null,""]
[null,null,""]
[null,null,""]
[null,null,""]
[null,null,""]
[null,null,""]
[null,null,""]
[null,null,""]
[null,null,""]
[null,null,""]
[null,null,""]
[null,null,""]
[null,null,""]
[null,null,""]
[null,null,""]
[null,null,""]
[null,null,""]
[null,null,""]
[null,null,""]
[null,null,""]
[null,null,""]
[null,null,""]
[null,null,""]
[null,null,""]
[null,null,""]
[null,null,""]
[null,null,""]
[null,null,""]
[null,null,""]
[null,null,""]
[null,null,""]
[null,null,""]
[null,null,""]
[null,null,""]
[null,null,""]
[null,null,""]
[null,null,""]
[null,null,""]
[null,null,""]
[null,null,""]
[null,null,""]
[null,null,""]
[null,null,""]
[null,null,""]
[null,null,""]
[null,null,""]
[null,null,""]
[null,null,""]
[null,null,""]
[null,null,""]
[null,null,""]
[null,null,""]
[null,null,""]
[null,null,""]
[null,null,""]
[null,null,""]
[null,null,""]
[null,null,""]
[null,null,""]
[null,null,""]
[null,null,""]
[null,null,""]
[null,null,""]
[null,null,""]
[null,null,""]
[null,null,""]
[null,null,""]
[null,null,""]
[null,null,""]
[null,null,""]
[null,null,""]
[null,null,""]
[null,null,""]
[null,null,""]
[null,null,""]
[null,null,""]
[null,null,""]
[null,null,""]
[null,null,""]
[null,null,""]
[null,null,""]
[null,null,""]
[null,null,""]
[null,null,""]
[null,null,""]
[null,null,""]
[null,null,""]
[null,null,""]
[null,null,""]
[null,null,""]
[null,null,""]
[null,null,""]
[null,null,""]
[null,null,""]
[null,null,""]
[null,null,""]
[null,null,""]
[null,null,""]
[null,null,""]
[null,null,""]
[null,null,""]
[null,null,""]
[null,null,""]
[null,null,""]
[null,null,""]
[null,null,""]
[null,null,""]
[null,null,""]
[null,null,""]
[null,null,""]
[null,null,""]
[null,null,""]
[null,null,""]
[null,null,""]
[null,null,""]
[null,null,""]
[null,null,""]
[null,null,""]
[null,null,""]
[null,null,""]
[null,null,""]
[null,null,""]
[null,null,""]
[null,null,""]
[null,null,""]
[null,null,""]
[null,null,""]
[null,null,""]
[null,null,""]
[null,null,""]
[null,null,""]
[null,null,""]
[null,null,""]
[null,null,""]
[null,null,""]
[null,null,""]
[null,null,""]
[null,null,""]
[null,null,""]
[null,null,""]
[null,null,""]
[null,null,""]
[null,null,""]
[null,null,""]
[null,null,""]
[null,null,""]
[null,null,""]
[null,null,""]
[null,null,""]
[null,null,""]
[null,null,""]
[null,null,""]
[null,null,""]
[null,null,""]
[null,null,""]
[null,null,""]
[null,null,""]
[null,null,""]
[null,null,""]
[null,null,""]
[null,null,""]
[null,null,""]
[null,null,""]
[null,null,""]
[null,null,""]
[null,null,""]
[null,null,""]
[null,null,""]
[null,null,""]
[null,null,""]
[null,null,""]
[null,null,""]
[null,null,""]
[null,null,""]
[null,null,""]
[null,null,""]
[null,null,""]
[null,null,""]
[null,null,""]
[null,null,""]
[null,null,""]
[null,null,""]
[null,null,""]
[null,null,""]
[null,null,""]
[null,null,""]
[null,null,""]
[null,null,""]
[null,null,""]
[null,null,""]
[null,null,""]
[null,null,""]
[null,null,""]
[null,null,""]
[null,null,""]
[null,null,""]
[null,null,""]
[null,null,""]
[null,null,""]
[null,null,""]
[null,null,""]
[null,null,""]
[null,null,""]
[null,null,""]
[null,null,""]
[null,null,""]
[null,null,""]
[null,null,""]
[null,null,""]
[null,null,""]
[null,null,""]
[null,null,""]
[null,null,""]
[null,null,""]
[null,null,""]
[null,null,""]
[null,null,""]
[null,null,""]
[null,null,""]
[null,null,""]
[null,null,""]
[null,null,""]
[null,null,""]
[null,null,""]
[null,null,""]
[null,null,""]
[null,null,""]
[null,null,""]
[null,null,""]
[null,null,""]
[null,null,""]
[null,null,""]
[null,null,""]
[null,null,""]
[null,null,""]
[null,null,""]
[null,null,""]
[null,null,""]
[null,null,""]
[null,null,""]
[null,null,""]
[null,null,""]
[null,null,""]
[null,null,""]
[null,null,""]
[null,null,""]
[null,null,""]
[null,null,""]
[null,null,""]
[null,null,""]
[null,null,""]
[null,null,""]
[null,null,""]
[null,null,""]
[null,null,""]
[null,null,""]
[null,null,""]
[null,null,""]
[null,null,""]
[null,null,""]
[null,null,""]
[null,null,""]
[null,null,""]
[null,null,""]
[null,null,""]
[null,null,""]
[null,null,""]
[null,null,""]
[null,null,""]
[null,null,""]
[null,null,""]
[null,null,""]
[null,null,""]
[null,null,""]
[null,null,""]
[null,null,""]
[null,null,""]
[null,null,""]
[null,null,""]
[null,null,""]
[null,null,""]
[null,null,""]
[null,null,""]
[null,null,""]
[null,null,""]
[null,null,""]
[null,null,""]
[null,null,""]
[null,null,""]
[null,null,""]
[null,null,""]
[null,null,""]
[null,null,""]
[null,null,""]
[null,null,""]
[null,null,""]
[null,null,""]
[null,null,""]
[null,null,""]
[null,null,""]
[null,null,""]
[null,null,""]
[null,null,""]
[null,null,""]
[null,null,""]
[null,null,""]
[null,null,""]
[null,null,""]
[null,null,""]
[null,null,""]
[null,null,""]
[null,null,""]
[null,null,""]
[null,null,""]
[null,null,""]
[null,null,""]
[null,null,""]
[null,null,""]
[null,null,""]
[null,null,""]
[null,null,""]
[null,null,""]
[null,null,""]
[null,null,""]
[null,null,""]
[null,null,""]
[null,null,""]
[null,null,""]
[null,null,""]
[null,null,""]
[null,null,""]
[null,null,""]
[null,null,""]
[null,null,""]
[null,null,""]
[null,null,""]
[null,null,""]
[null,null,""]
[null,null,""]
[null,null,""]
[null,null,""]
[null,null,""]
[null,null,""]
[null,null,""]
[null,null,""]
[null,null,""]
[null,null,""]
[null,null,""]
[null,null,""]
[null,null,""]
[null,null,""]
[null,null,""]
[null,null,""]
[null,null,""]
[null,null,""]
[null,null,""]
[null,null,""]
[null,null,""]
[null,null,""]
[null,null,""]
[null,null,""]
[null,null,""]
[null,null,""]
[null,null,""]
[null,null,""]
[null,null,""]
[null,null,""]
[null,null,""]
[null,null,""]
[null,null,""]
[null,null,""]
[null,null,""]
[null,null,""]
[null,null,""]
[null,null,""]
[null,null,""]
[null,null,""]
[null,null,""]
[null,null,""]
[null,null,""]
[null,null,""]
[null,null,""]
[null,null,""]
[null,null,""]
[null,null,""]
[null,null,""]
[null,null,""]
[null,null,""]
[null,null,""]
[null,null,""]
[null,null,""]
[null,null,""]
[null,null,""]
[null,null,""]
[null,null,""]
[null,null,""]
[null,null,""]
[null,null,""]
[null,null,""]
[null,null,""]
[null,null,""]
[null,null,""]
[null,null,""]
[null,null,""]
[null,null,""]
[null,null,""]
[null,null,""]
[null,null,""]
[null,null,""]
[null,null,""]
[null,null,""]
[null,null,""]
[null,null,""]
[null,null,""]
[null,null,""]
[null,null,""]
[null,null,""]
[null,null,""]
[null,null,""]
[null,null,""]
[null,null,""]
[null,null,""]
[null,null,""]
[null,null,""]
[null,null,""]
[null,null,""]
[null,null,""]
[null,null,""]
[null,null,""]
[null,null,""]
[null,null,""]
[null,null,""]
[null,null,""]
[null,null,""]
[null,null,""]
[null,null,""]
[null,null,""]
[null,null,""]
[null,null,""]
[null,null,""]
[null,null,""]
[null,null,""]
[null,null,""]
[null,null,""]
[null,null,""]
[null,null,""]
[null,null,""]
[null,null,""]
[null,null,""]
[null,null,""]
[null,null,""]
[null,null,""]
[null,null,""]
[null,null,""]
[null,null,""]
[null,null,""]
[null,null,""]
[null,null,""]
[null,null,""]
[null,null,""]
[null,null,""]
[null,null,""]
[null,null,""]
[null,null,""]
[null,null,""]
[null,null,""]
[null,null,""]
[null,null,""]
[null,null,""]
[null,null,""]
[null,null,""]
[null,null,""]
[null,null,""]
[null,null,""]
[null,null,""]
[null,null,""]
[null,null,""]
[null,null,""]
[null,null,""]
[null,null,""]
[null,null,""]
[null,null,""]
[null,null,""]
[null,null,""]
[null,null,""]
[null,null,""]
[null,null,""]
[null,null,""]
[null,null,""]
[null,null,""]
[null,null,""]
[null,null,""]
[null,null,""]
[null,null,""]
[null,null,""]
[null,null,""]
[null,null,""]
[null,null,""]
[null,null,""]
[null,null,""]
[null,null,""]
[null,null,""]
[null,null,""]
[null,null,""]
[null,null,""]
[null,null,""]
[null,null,""]
[null,null,""]
[null,null,""]
[null,null,""]
[null,null,""]
[null,null,""]
[null,null,""]
[null,null,""]
[null,null,""]
[null,null,""]
[null,null,""]
[null,null,""]
[null,null,""]
[null,null,""]
[null,null,""]
[null,null,""]
[null,null,""]
[null,null,""]
[null,null,""]
[null,null,""]
[null,null,""]
[null,null,""]
[null,null,""]
[null,null,""]
[null,null,""]
[null,null,""]
[null,null,""]
[null,null,""]
[null,null,""]
[null,null,""]
[null,null,""]
[null,null,""]
[null,null,""]
[null,null,""]
[null,null,""]
[null,null,""]
[null,null,""]
[null,null,""]
[null,null,""]
[null,null,""]
[null,null,""]
[null,null,""]
[null,null,""]
[null,null,""]
[null,null,""]
[null,null,""]
[null,null,""]
[null,null,""]
[null,null,""]
[null,null,""]
[null,null,""]
[null,null,""]
[null,null,""]
[null,null,""]
[null,null,""]
[null,null,""]
[null,null,""]
[null,null,""]
[null,null,""]
[null,null,""]
[null,null,""]
[null,null,""]
[null,null,""]
[null,null,""]
[null,null,""]
[null,null,""]
[null,null,""]
[null,null,""]
[null,null,""]
[null,null,""]
[null,null,""]
[null,null,""]
[null,null,""]
[null,null,""]
[null,null,""]
[null,null,""]
[null,null,""]
[null,null,""]
[null,null,""]
[null,null,""]
[null,null,""]
[null,null,""]
[null,null,""]
[null,null,""]
[null,null,""]
[null,null,""]
[null,null,""]
[null,null,""]
[null,null,""]
[null,null,""]
[null,null,""]
[null,null,""]
[null,null,""]
[null,null,""]
[null,null,""]
[null,null,""]
[null,null,""]
[null,null,""]
[null,null,""]
[null,null,""]
[null,null,""]
[null,null,""]
[null,null,""]
[null,null,""]
[null,null,""]
[null,null,""]
[null,null,""]
[null,null,""]
[null,null,""]
[null,null,""]
[null,null,""]
[null,null,""]
[null,null,""]
[null,null,""]
[null,null,""]
[null,null,""]
[null,null,""]
[null,null,""]
[null,null,""]
[null,null,""]
[null,null,""]
[null,null,""]
[null,null,""]
[null,null,""]
[null,null,""]
[null,null,""]
[null,null,""]
[null,null,""]
[null,null,""]
[null,null,""]
[null,null,""]
[null,null,""]
[null,null,""]
[null,null,""]
[null,null,""]
[null,null,""]
[null,null,""]
[null,null,""]
[null,null,""]
[null,null,""]
[null,null,""]
[null,null,""]
[null,null,""]
[null,null,""]
[null,null,""]
[null,null,""]
[null,null,""]
[null,null,""]
[null,null,""]
[null,null,""]
[null,null,""]
[null,null,""]
[null,null,""]
[null,null,""]
[null,null,""]
[null,null,""]
[null,null,""]
[null,null,""]
[null,null,""]
[null,null,""]
[null,null,""]
[null,null,""]
[null,null,""]
[null,null,""]
[null,null,""]
[null,null,""]
[null,null,""]
[null,null,""]
[null,null,""]
[null,null,""]
[null,null,""]
[null,null,""]
[null,null,""]
[null,null,""]
[null,null,""]
[null,null,""]
[null,null,""]
[null,null,""]
[null,null,""]
[null,null,""]
[null,null,""]
[null,null,""]
[null,null,""]
[null,null,""]
[null,null,""]
[null,null,""]
[null,null,""]
[null,null,""]
[null,null,""]
[null,null,""]
[null,null,""]
[null,null,""]
[null,null,""]
[null,null,""]
[null,null,""]
[null,null,""]
[null,null,""]
[null,null,""]
[null,null,""]
[null,null,""]
[null,null,""]
[null,null,""]
[null,null,""]
[null,null,""]
[null,null,""]
[null,null,""]
[null,null,""]
[null,null,""]
[null,null,""]
[null,null,""]
[null,null,""]
[null,null,""]
[null,null,""]
[null,null,""]
[null,null,""]
[null,null,""]
[null,null,""]
[null,null,""]
[null,null,""]
[null,null,""]
[null,null,""]
[null,null,""]
[null,null,""]
[null,null,""]
[null,null,""]
[null,null,""]
[null,null,""]
[null,null,""]
[null,null,""]
[null,null,""]
[null,null,""]
[null,null,""]
[null,null,""]
[null,null,""]
[null,null,""]
[null,null,""]
[null,null,""]
[null,null,""]
[null,null,""]
[null,null,""]
[null,null,""]
[null,null,""]
[null,null,""]
[null,null,""]
[null,null,""]
[null,null,""]
[null,null,""]
[null,null,""]
[null,null,""]
[null,null,""]
[null,null,""]
[null,null,""]
[null,null,""]
[null,null,""]
[null,null,""]
[null,null,""]
[null,null,""]
[null,null,""]
[null,null,""]
[null,null,""]
[null,null,""]
[null,null,""]
[null,null,""]
[null,null,""]
[null,null,""]
[null,null,""]
[null,null,""]
[null,null,""]
[null,null,""]
[null,null,""]
[null,null,""]
[null,null,""]
[null,null,""]
[null,null,""]
[null,null,""]
[null,null,""]
[null,null,""]
[null,null,""]
[null,null,""]
[null,null,""]
[null,null,""]
[null,null,""]
[null,null,""]
[null,null,""]
[null,null,""]
[null,null,""]
[null,null,""]
[null,null,""]
[null,null,""]
[null,null,""]
[null,null,""]
[null,null,""]
[null,null,""]
[null,null,""]
[null,null,""]
[null,null,""]
[null,null,""]
[null,null,""]
[null,null,""]
[null,null,""]
[null,null,""]
[null,null,""]
[null,null,""]
[null,null,""]
[null,null,""]
[null,null,""]
[null,null,""]
[null,null,""]
[null,null,""]
[null,null,""]
[null,null,""]
[null,null,""]
[null,null,""]
[null,null,""]
[null,null,""]
[null,null,""]
[null,null,""]
[null,null,""]
[null,null,""]
[null,null,""]
[null,null,""]
[null,null,""]
[null,null,""]
[null,null,""]
[null,null,""]
[null,null,""]
[null,null,""]
[null,null,""]
[null,null,""]
[null,null,""]
[null,null,""]
[null,null,""]
[null,null,""]
[null,null,""]
[null,null,""]
[null,null,""]
[null,null,""]
[null,null,""]
[null,null,""]
[null,null,""]
[null,null,""]
[null,null,""]
[null,null,""]
[null,null,""]
[null,null,""]
[null,null,""]
[null,null,""]
[null,null,""]
[null,null,""]
[null,null,""]
[null,null,""]
[null,null,""]
[null,null,""]
[null,null,""]
[null,null,""]
[null,null,""]
[null,null,""]
[null,null,""]
[null,null,""]
[null,null,""]
[null,null,""]
[null,null,""]
[null,null,""]
[null,null,""]
[null,null,""]
[null,null,""]
[null,null,""]
[null,null,""]
[null,null,""]
[null,null,""]
[null,null,""]
[null,null,""]
[null,null,""]
[null,null,""]
[null,null,""]
[null,null,""]
[null,null,""]
[null,null,""]
[null,null,""]
[null,null,""]
[null,null,""]
[null,null,""]
[null,null,""]
[null,null,""]
[null,null,""]
[null,null,""]
[null,null,""]
[null,null,""]
[null,null,""]
[null,null,""]
[null,null,""]
[null,null,""]
[null,null,""]
[null,null,""]
[null,null,""]
[null,null,""]
[null,null,""]
[null,null,""]
[null,null,""]
[null,null,""]
[null,null,""]
[null,null,""]
[null,null,""]
[null,null,""]
[null,null,""]
[null,null,""]
[null,null,""]
[null,null,""]
[null,null,""]
[null,null,""]
[null,null,""]
[null,null,""]
[null,null,""]
[null,null,""]
[null,null,""]
[null,null,""]
[null,null,""]
[null,null,""]
[null,null,""]
[null,null,""]
[null,null,""]
[null,null,""]
[null,null,""]
[null,null,""]
[null,null,""]
[null,null,""]
[null,null,""]
[null,null,""]
[null,null,""]
[null,null,""]
[null,null,""]
[null,null,""]
[null,null,""]
[null,null,""]
[null,null,""]
[null,null,""]
[null,null,""]
[null,null,""]
[null,null,""]
[null,null,""]
[null,null,""]
[null,null,""]
[null,null,""]
[null,null,""]
[null,null,""]
[null,null,""]
[null,null,""]
[null,null,""]
[null,null,""]
[null,null,""]
[null,null,""]
[null,null,""]
[null,null,""]
[null,null,""]
[null,null,""]
[null,null,""]
[null,null,""]
[null,null,""]
[null,null,""]
[null,null,""]
[null,null,""]
[null,null,""]
[null,null,""]
[null,null,""]
[null,null,""]
[null,null,""]
[null,null,""]
[null,null,""]
[null,null,""]
[null,null,""]
[null,null,""]
[null,null,""]
[null,null,""]
[null,null,""]
[null,null,""]
[null,null,""]
[null,null,""]
[null,null,""]
[null,null,""]
[null,null,""]
[null,null,""]
[null,null,""]
[null,null,""]
[null,null,""]
[null,null,""]
[null,null,""]
[null,null,""]
[null,null,""]
[null,null,""]
[null,null,""]
[null,null,""]
[null,null,""]
[null,null,""]
[null,null,""]
[null,null,""]
[null,null,""]
[null,null,""]
[null,null,""]
[null,null,""]
[null,null,""]
[null,null,""]
[null,null,""]
[null,null,""]
[null,null,""]
[null,null,""]
[null,null,""]
[null,null,""]
[null,null,""]
[null,null,""]
[null,null,""]
[null,null,""]
[null,null,""]
[null,null,""]
[null,null,""]
[null,null,""]
[null,null,""]
[null,null,""]
[null,null,""]
[null,null,""]
[null,null,""]
[null,null,""]
[null,null,""]
[null,null,""]
[null,null,""]
[null,null,""]
[null,null,""]
[null,null,""]
[null,null,""]
[null,null,""]
[null,null,""]
[null,null,""]
[null,null,""]
[null,null,""]
[null,null,""]
[null,null,""]
[null,null,""]
[null,null,""]
[null,null,""]
[null,null,""]
[null,null,""]
[null,null,""]
[null,null,""]
[null,null,""]
[null,null,""]
[null,null,""]
[null,null,""]
[null,null,""]
[null,null,""]
[null,null,""]
[null,null,""]
[null,null,""]
[null,null,""]
[null,null,""]
[null,null,""]
[null,null,""]
[null,null,""]
[null,null,""]
[null,null,""]
[null,null,""]
[null,null,""]
[null,null,""]
[null,null,""]
[null,null,""]
[null,null,""]
[null,null,""]
[null,null,""]
[null,null,""]
[null,null,""]
[null,null,""]
[null,null,""]
[null,null,""]
[null,null,""]
[null,null,""]
[null,null,""]
[null,null,""]
[null,null,""]
[null,null,""]
[null,null,""]
[null,null,""]
[null,null,""]
[null,null,""]
[null,null,""]
[null,null,""]
[null,null,""]
[null,null,""]
[null,null,""]
[null,null,""]
[null,null,""]
[null,null,""]
[null,null,""]
[null,null,""]
[null,null,""]
[null,null,""]
[null,null,""]
[null,null,""]
[null,null,""]
[null,null,""]
[null,null,""]
[null,null,""]
[null,null,""]
[null,null,""]
[null,null,""]
[null,null,""]
[null,null,""]
[null,null,""]
[null,null,""]
[null,null,""]
[null,null,""]
[null,null,""]
[null,null,""]
[null,null,""]
[null,null,""]
[null,null,""]
[null,null,""]
[null,null,""]
[null,null,""]
[null,null,""]
[null,null,""]
[null,null,""]
[null,null,""]
[null,null,""]
[null,null,""]
[null,null,""]
[null,null,""]
[null,null,""]
[null,null,""]
[null,null,""]
[null,null,""]
[null,null,""]
[null,null,""]
[null,null,""]
[null,null,""]
[null,null,""]
[null,null,""]
[null,null,""]
[null,null,""]
[null,null,""]
[null,null,""]
[null,null,""]
[null,null,""]
[null,null,""]
[null,null,""]
[null,null,""]
[null,null,""]
[null,null,""]
[null,null,""]
[null,null,""]
[null,null,""]
[null,null,""]
[null,null,""]
[null,null,""]
[null,null,""]
[null,null,""]
[null,null,""]
[null,null,""]
[null,null,""]
[null,null,""]
[null,null,""]
[null,null,""]
[null,null,""]
[null,null,""]
[null,null,""]
[null,null,""]
[null,null,""]
[null,null,""]
[null,null,""]
[null,null,""]
[null,null,""]
[null,null,""]
[null,null,""]
[null,null,""]
[null,null,""]
[null,null,""]
[null,null,""]
[null,null,""]
[null,null,""]
[null,null,""]
[null,null,""]
[null,null,""]
[null,null,""]
[null,null,""]
[null,null,""]
[null,null,""]
[null,null,""]
[null,null,""]
[null,null,""]
[null,null,""]
[null,null,""]
[null,null,""]
[null,null,""]
[null,null,""]
[null,null,""]
[null,null,""]
[null,null,""]
[null,null,""]
[null,null,""]
[null,null,""]
[null,null,""]
[null,null,""]
[null,null,""]
[null,null,""]
[null,null,""]
[null,null,""]
[null,null,""]
[null,null,""]
[null,null,""]
[null,null,""]
[null,null,""]
[null,null,""]
[null,null,""]
[null,null,""]
[null,null,""]
[null,null,""]
[null,null,""]
[null,null,""]
[null,null,""]
[null,null,""]
[null,null,""]
[null,null,""]
[null,null,""]
[null,null,""]
[null,null,""]
[null,null,""]
[null,null,""]
[null,null,""]
[null,null,""]
[null,null,""]
[null,null,""]
[null,null,""]
[null,null,""]
[null,null,""]
[null,null,""]
[null,null,""]
[null,null,""]
[null,null,""]
[null,null,""]
[null,null,""]
[null,null,""]
[null,null,""]
[null,null,""]
[null,null,""]
[null,null,""]
[null,null,""]
[null,null,""]
[null,null,""]
[null,null,""]
[null,null,""]
[null,null,""]
[null,null,""]
[null,null,""]
[null,null,""]
[null,null,""]
[null,null,""]
[null,null,""]
[null,null,""]
[null,null,""]
[null,null,""]
[null,null,""]
[null,null,""]
[null,null,""]
[null,null,""]
[null,null,""]
[null,null,""]
[null,null,""]
[null,null,""]
[null,null,""]
[null,null,""]
[null,null,""]
[null,null,""]
[null,null,""]
[null,null,""]
[null,null,""]
[null,null,""]
[null,null,""]
[null,null,""]
[null,null,""]
[null,null,""]
[null,null,""]
[null,null,""]
[null,null,""]
[null,null,""]
[null,null,""]
[null,null,""]
[null,null,""]
[null,null,""]
[null,null,""]
[null,null,""]
[null,null,""]
[null,null,""]
[null,null,""]
[null,null,""]
[null,null,""]
[null,null,""]
[null,null,""]
[null,null,""]
[null,null,""]
[null,null,""]
[null,null,""]
[null,null,""]
[null,null,""]
[null,null,""]
[null,null,""]
[null,null,""]
[null,null,""]
[null,null,""]
[null,null,""]
[null,null,""]
[null,null,""]
[null,null,""]
[null,null,""]
[null,null,""]
[null,null,""]
[null,null,""]
[null,null,""]
[null,null,""]
[null,null,""]
[null,null,""]
[null,null,""]
[null,null,""]
[null,null,""]
[null,null,""]
[null,null,""]
[null,null,""]
[null,null,""]
[null,null,""]
[null,null,""]
[null,null,""]
[null,null,""]
[null,null,""]
[null,null,""]
[null,null,""]
[null,null,""]
[null,null,""]
[null,null,""]
[null,null,""]
[null,null,""]
[null,null,""]
[null,null,""]
[null,null,""]
[null,null,""]
[null,null,""]
[null,null,""]
[null,null,""]
[null,null,""]
[null,null,""]
[null,null,""]
[null,null,""]
[null,null,""]
[null,null,""]
[null,null,""]
[null,null,""]
[null,null,""]
[null,null,""]
[null,null,""]
[null,null,""]
[null,null,""]
[null,null,""]
[null,null,""]
[null,null,""]
[null,null,""]
[null,null,""]
[null,null,""]
[null,null,""]
[null,null,""]
[null,null,""]
[null,null,""]
[null,null,""]
[null,null,""]
[null,null,""]
[null,null,""]
[null,null,""]
[null,null,""]
[null,null,""]
[null,null,""]
[null,null,""]
[null,null,""]
[null,null,""]
[null,null,""]
[null,null,""]
[null,null,""]
[null,null,""]
[null,null,""]
[null,null,""]
[null,null,""]
[null,null,""]
[null,null,""]
[null,null,""]
[null,null,""]
[null,null,""]
[null,null,""]
[null,null,""]
[null,null,""]
[null,null,""]
[null,null,""]
[null,null,""]
[null,null,""]
[null,null,""]
[null,null,""]
[null,null,""]
[null,null,""]
[null,null,""]
[null,null,""]
[null,null,""]
[null,null,""]
[null,null,""]
[null,null,""]
[null,null,""]
[null,null,""]
[null,null,""]
[null,null,""]
[null,null,""]
[null,null,""]
[null,null,""]
[null,null,""]
[null,null,""]
[null,null,""]
[null,null,""]
[null,null,""]
[null,null,""]
[null,null,""]
[null,null,""]
[null,null,""]
[null,null,""]
[null,null,""]
[null,null,""]
[null,null,""]
[null,null,""]
[null,null,""]
[null,null,""]
[null,null,""]
[null,null,""]
[null,null,""]
[null,null,""]
[null,null,""]
[null,null,""]
[null,null,""]
[null,null,""]
[null,null,""]
[null,null,""]
[null,null,""]
[null,null,""]
[null,null,""]
[null,null,""]
[null,null,""]
[null,null,""]
[null,null,""]
[null,null,""]
[null,null,""]
[null,null,""]
[null,null,""]
[null,null,""]
[null,null,""]
[null,null,""]
[null,null,""]
[null,null,""]
[null,null,""]
[null,null,""]
[null,null,""]
[null,null,""]
[null,null,""]
[null,null,""]
[null,null,""]
[null,null,""]
[null,null,""]
[null,null,""]
[null,null,""]
[null,null,""]
[null,null,""]
[null,null,""]
[null,null,""]
[null,null,""]
[null,null,""]
[null,null,""]
[null,null,""]
[null,null,""]
[null,null,""]
[null,null,""]
[null,null,""]
[null,null,""]
[null,null,""]
[null,null,""]
[null,null,""]
[null,null,""]
[null,null,""]
[null,null,""]
[null,null,""]
[null,null,""]
[null,null,""]
[null,null,""]
[null,null,""]
[null,null,""]
[null,null,""]
[null,null,""]
[null,null,""]
[null,null,""]
[null,null,""]
[null,null,""]
[null,null,""]
[null,null,""]
[null,null,""]
[null,null,""]
[null,null,""]
[null,null,""]
[null,null,""]
[null,null,""]
[null,null,""]
[null,null,""]
[null,null,""]
[null,null,""]
[null,null,""]
[null,null,""]
[null,null,""]
[null,null,""]
[null,null,""]
[null,null,""]
[null,null,""]
[null,null,""]
[null,null,""]
[null,null,""]
[null,null,""]
[null,null,""]
[null,null,""]
[null,null,""]
[null,null,""]
[null,null,""]
[null,null,""]
[null,null,""]
[null,null,""]
[null,null,""]
[null,null,""]
[null,null,""]
[null,null,""]
[null,null,""]
[null,null,""]
[null,null,""]
[null,null,""]
[null,null,""]
[null,null,""]
[null,null,""]
[null,null,""]
[null,null,""]
[null,null,""]
[null,null,""]
[null,null,""]
[null,null,""]
[null,null,""]
[null,null,""]
[null,null,""]
[null,null,""]
[null,null,""]
[null,null,""]
[null,null,""]
[null,null,""]
[null,null,""]
[null,null,""]
[null,null,""]
[null,null,""]
[null,null,""]
[null,null,""]
[null,null,""]
[null,null,""]
[null,null,""]
[null,null,""]
[null,null,""]
[null,null,""]
[null,null,""]
[null,null,""]
[null,null,""]
[null,null,""]
[null,null,""]
[null,null,""]
[null,null,""]
[null,null,""]
[null,null,""]
[null,null,""]
[null,null,""]
[null,null,""]
[null,null,""]
[null,null,""]
[null,null,""]
[null,null,""]
[null,null,""]
[null,null,""]
[null,null,""]
[null,null,""]
[null,null,""]
[null,null,""]
[null,null,""]
[null,null,""]
[null,null,""]
[null,null,""]
[null,null,""]
[null,null,""]
[null,null,""]
[null,null,""]
[null,null,""]
[null,null,""]
[null,null,""]
[null,null,""]
[null,null,""]
[null,null,""]
[null,null,""]
[null,null,""]
[null,null,""]
[null,null,""]
[null,null,""]
[null,null,""]
[null,null,""]
[null,null,""]
[null,null,""]
[null,null,""]
[null,null,""]
[null,null,""]
[null,null,""]
[null,null,""]
[null,null,""]
[null,null,""]
[null,null,""]
[null,null,""]
[null,null,""]
[null,null,""]
[null,null,""]
[null,null,""]
[null,null,""]
[null,null,""]
[null,null,""]
[null,null,""]
[null,null,""]
[null,null,""]
[null,null,""]
[null,null,""]
[null,null,""]
[null,null,""]
[null,null,""]
[null,null,""]
[null,null,""]
[null,null,""]
[null,null,""]
[null,null,""]
[null,null,""]
[null,null,""]
[null,null,""]
[null,null,""]
[null,null,""]
[null,null,""]
[null,null,""]
[null,null,""]
[null,null,""]
[null,null,""]
[null,null,""]
[null,null,""]
[null,null,""]
[null,null,""]
[null,null,""]
[null,null,""]
[null,null,""]
[null,null,""]
[null,null,""]
[null,null,""]
[null,null,""]
[null,null,""]
[null,null,""]
[null,null,""]
[null,null,""]
[null,null,""]
[null,null,""]
[null,null,""]
[null,null,""]
[null,null,""]
[null,null,""]
[null,null,""]
[null,null,""]
[null,null,""]
[null,null,""]
[null,null,""]
[null,null,""]
[null,null,""]
[null,null,""]
[null,null,""]
[null,null,""]
[null,null,""]
[null,null,""]
[null,null,""]
[null,null,""]
[null,null,""]
[null,null,""]
[null,null,""]
[null,null,""]
[null,null,""]
[null,null,""]
[null,null,""]
[null,null,""]
[null,null,""]
[null,null,""]
[null,null,""]
[null,null,""]
[null,null,""]
[null,null,""]
[null,null,""]
[null,null,""]
[null,null,""]
[null,null,""]
[null,null,""]
[null,null,""]
[null,null,""]
[null,null,""]
[null,null,""]
[null,null,""]
[null,null,""]
[null,null,""]
[null,null,""]
[null,null,""]
[null,null,""]
[null,null,""]
[null,null,""]
[null,null,""]
[null,null,""]
[null,null,""]
[null,null,""]
[null,null,""]
[null,null,""]
[null,null,""]
[null,null,""]
[null,null,""]
[null,null,""]
[null,null,""]
[null,null,""]
[null,null,""]
[null,null,""]
[null,null,""]
[null,null,""]
[null,null,""]
[null,null,""]
[null,null,""]
[null,null,""]
[null,null,""]
[null,null,""]
[null,null,""]
[null,null,""]
[null,null,""]
[null,null,""]
[null,null,""]
[null,null,""]
[null,null,""]
[null,null,""]
[null,null,""]
[null,null,""]
[null,null,""]
[null,null,""]
[null,null,""]
[null,null,""]
[null,null,""]
[null,null,""]
[null,null,""]
[null,null,""]
[null,null,""]
[null,null,""]
[null,null,""]
[null,null,""]
[null,null,""]
[null,null,""]
[null,null,""]
[null,null,""]
[null,null,""]
[null,null,""]
[null,null,""]
[null,null,""]
[null,null,""]
[null,null,""]
[null,null,""]
[null,null,""]
[null,null,""]
[null,null,""]
[null,null,""]
[null,null,""]
[null,null,""]
[null,null,""]
[null,null,""]
[null,null,""]
[null,null,""]
[null,null,""]
[null,null,""]
[null,null,""]
[null,null,""]
[null,null,""]
[null,null,""]
[null,null,""]
[null,null,""]
[null,null,""]
[null,null,""]
[null,null,""]
[null,null,""]
[null,null,""]
[null,null,""]
[null,null,""]
[null,null,""]
[null,null,""]
[null,null,""]
[null,null,""]
[null,null,""]
[null,null,""]
[null,null,""]
[null,null,""]
[null,null,""]
[null,null,""]
[null,null,""]
[null,null,""]
[null,null,""]
[null,null,""]
[null,null,""]
[null,null,""]
[null,null,""]
[null,null,""]
[null,null,""]
[null,null,""]
[null,null,""]
[null,null,""]
[null,null,""]
[null,null,""]
[null,null,""]
[null,null,""]
[null,null,""]
[null,null,""]
[null,null,""]
[null,null,""]
[null,null,""]
[null,null,""]
[null,null,""]
[null,null,""]
[null,null,""]
[null,null,""]
[null,null,""]
[null,null,""]
[null,null,""]
[null,null,""]
[null,null,""]
[null,null,""]
[null,null,""]
[null,null,""]
[null,null,""]
[null,null,""]
[null,null,""]
[null,null,""]
[null,null,""]
[null,null,""]
[null,null,""]
[null,null,""]
[null,null,""]
[null,null,""]
[null,null,""]
[null,null,""]
[null,null,""]
[null,null,""]
[null,null,""]
[null,null,""]
[null,null,""]
[null,null,""]
[null,null,""]
[null,null,""]
[null,null,""]
[null,null,""]
[null,null,""]
[null,null,""]
[null,null,""]
[null,null,""]
[null,null,""]
[null,null,""]
[null,null,""]
[null,null,""]
[null,null,""]
[null,null,""]
[null,null,""]
[null,null,""]
[null,null,""]
[null,null,""]
[null,null,""]
[null,null,""]
[null,null,""]
[null,null,""]
[null,null,""]
[null,null,""]
[null,null,""]
[null,null,""]
[null,null,""]
[null,null,""]
[null,null,""]
[null,null,""]
[null,null,""]
[null,null,""]
[null,null,""]
[null,null,""]
[null,null,""]
[null,null,""]
[null,null,""]
[null,null,""]
[null,null,""]
[null,null,""]
[null,null,""]
[null,null,""]
[null,null,""]
[null,null,""]
[null,null,""]
[null,null,""]
[null,null,""]
[null,null,""]
[null,null,""]
[null,null,""]
[null,null,""]
[null,null,""]
[null,null,""]
[null,null,""]
[null,null,""]
[null,null,""]
[null,null,""]
[null,null,""]
[null,null,""]
[null,null,""]
[null,null,""]
[null,null,""]
[null,null,""]
[null,null,""]
[null,null,""]
[null,null,""]
[null,null,""]
[null,null,""]
[null,null,""]
[null,null,""]
[null,null,""]
[null,null,""]
[null,null,""]
[null,null,""]
[null,null,""]
[null,null,""]
[null,null,""]
[null,null,""]
[null,null,""]
[null,null,""]
[null,null,""]
[null,null,""]
[null,null,""]
[null,null,""]
[null,null,""]
[null,null,""]
[null,null,""]
[null,null,""]
[null,null,""]
[null,null,""]
[null,null,""]
[null,null,""]
[null,null,""]
[null,null,""]
[null,null,""]
[null,null,""]
[null,null,""]
[null,null,""]
[null,null,""]
[null,null,""]
[null,null,""]
[null,null,""]
[null,null,""]
[null,null,""]
[null,null,""]
[null,null,""]
[null,null,""]
[null,null,""]
[null,null,""]
[null,null,""]
[null,null,""]
[null,null,""]
[null,null,""]
[null,null,""]
[null,null,""]
[null,null,""]
[null,null,""]
[null,null,""]
[null,null,""]
[null,null,""]
[null,null,""]
[null,null,""]
[null,null,""]
[null,null,""]
[null,null,""]
[null,null,""]
[null,null,""]
[null,null,""]
[null,null,""]
[null,null,""]
[null,null,""]
[null,null,""]
[null,null,""]
[null,null,""]
[null,null,""]
[null,null,""]
[null,null,""]
[null,null,""]
[null,null,""]
[null,null,""]
[null,null,""]
[null,null,""]
[null,null,""]
[null,null,""]
[null,null,""]
[null,null,""]
[null,null,""]
[null,null,""]
[null,null,""]
[null,null,""]
[null,null,""]
[null,null,""]
[null,null,""]
[null,null,""]
[null,null,""]
[null,null,""]
[null,null,""]
[null,null,""]
[null,null,""]
[null,null,""]
[null,null,""]
[null,null,""]
[null,null,""]
[null,null,""]
[null,null,""]
[null,null,""]
[null,null,""]
[null,null,""]
[null,null,""]
[null,null,""]
[null,null,""]
[null,null,""]
[null,null,""]
[null,null,""]
[null,null,""]
[null,null,""]
[null,null,""]
[null,null,""]
[null,null,""]
[null,null,""]
[null,null,""]
[null,null,""]
[null,null,""]
[null,null,""]
[null,null,""]
[null,null,""]
[null,null,""]
[null,null,""]
[null,null,""]
[null,null,""]
[null,null,""]
[null,null,""]
[null,null,""]
[null,null,""]
[null,null,""]
[null,null,""]
[null,null,""]
[null,null,""]
[null,null,""]
[null,null,""]
[null,null,""]
[null,null,""]
[null,null,""]
[null,null,""]
[null,null,""]
[null,null,""]
[null,null,""]
[null,null,""]
[null,null,""]
[null,null,""]
[null,null,""]
[null,null,""]
[null,null,""]
[null,null,""]
[null,null,""]
[null,null,""]
[null,null,""]
[null,null,""]
[null,null,""]
[null,null,""]
[null,null,""]
[null,null,""]
[null,null,""]
[null,null,""]
[null,null,""]
[null,null,""]
[null,null,""]
[null,null,""]
[null,null,""]
[null,null,""]
[null,null,""]
[null,null,""]
[null,null,""]
[null,null,""]
[null,null,""]
[null,null,""]
[null,null,""]
[null,null,""]
[null,null,""]
[null,null,""]
[null,null,""]
[null,null,""]
[null,null,""]
[null,null,""]
[null,null,""]
[null,null,""]
[null,null,""]
[null,null,""]
[null,null,""]
[null,null,""]
[null,null,""]
[null,null,""]
[null,null,""]
[null,null,""]
[null,null,""]
[null,null,""]
[null,null,""]
[null,null,""]
[null,null,""]
[null,null,""]
[null,null,""]
[null,null,""]
[null,null,""]
[null,null,""]
[null,null,""]
[null,null,""]
[null,null,""]
[null,null,""]
[null,null,""]
[null,null,""]
[null,null,""]
[null,null,""]
[null,null,""]
[null,null,""]
[null,null,""]
[null,null,""]
[null,null,""]
[null,null,""]
[null,null,""]
[null,null,""]
[null,null,""]
[null,null,""]
[null,null,""]
[null,null,""]
[null,null,""]
[null,null,""]
[null,null,""]
[null,null,""]
[null,null,""]
[null,null,""]
[null,null,""]
[null,null,""]
[null,null,""]
[null,null,""]
[null,null,""]
[null,null,""]
[null,null,""]
[null,null,""]
[null,null,""]
[null,null,""]
[null,null,""]
[null,null,""]
[null,null,""]
[null,null,""]
[null,null,""]
[null,null,""]
[null,null,""]
[null,null,""]
[null,null,""]
[null,null,""]
[null,null,""]
[null,null,""]
[null,null,""]
[null,null,""]
[null,null,""]
[null,null,""]
[null,null,""]
[null,null,""]
[null,null,""]
[null,null,""]
[null,null,""]
[null,null,""]
[null,null,""]
[null,null,""]
[null,null,""]
[null,null,""]
[null,null,""]
[null,null,""]
[null,null,""]
[null,null,""]
[null,null,""]
[null,null,""]
[null,null,""]
[null,null,""]
[null,null,""]
[null,null,""]
[null,null,""]
[null,null,""]
[null,null,""]
[null,null,""]
[null,null,""]
[null,null,""]
[null,null,""]
[null,null,""]
[null,null,""]
[null,null,""]
[null,null,""]
[null,null,""]
[null,null,""]
[null,null,""]
[null,null,""]

{"sheet":"DISCR HORARIA PORCENTAJES","index":8,"n_rows":83,"n_cols":99,"rows_kept":83,"cut":false,"hidden":true,"merged":[]}
[" ","ZONA I",null,null,"2.0 dha"]
["ZONA I",1,2,3,4,5,6,7,8,9,10,11,12,13,14,15,16,17,18,19,20,21,22,23,24,null,"total","p1","p2","%p1","%p2"]
["Enero",0,0,0,0,0,0,0,0.05,0.14000000000000001,0.22,0.28000000000000003,0.3,0.28000000000000003,0.22,0.14000000000000001,0.05,0,0,0,0,0,0,0,0,null,{"$f":"SUM(AB3:AC3)","v":1.6800000000000002},{"$f":"SUM(J3:W3)","v":1.6300000000000001},{"$f":"SUM(B3:I3)+SUM(X3:Y3)","v":0.05},{"$f":"AB3/$AA$3","v":0.97023809523809523},{"$f":"AC3/$AA$3","v":2.976190476190476E-2}]
["Febrero",0,0,0,0,0,0,0.02,0.11,0.22,0.31,0.38,0.4,0.38,0.31,0.22,0.11,0.02,0,0,0,0,0,0,0,null,{"$f":"SUM(AB4:AC4)","v":2.48},{"$f":"SUM(J4:W4)","v":2.35},{"$f":"SUM(B4:I4)+SUM(X4:Y4)","v":0.13},{"$f":"AB4/$AA$3","v":1.3988095238095237},7.738095238095237E-2]
["Marzo",0,0,0,0,0,0,0.09,0.2,0.32,0.42,0.49,0.52,0.49,0.42,0.32,0.2,0.09,0,0,0,0,0,0,0,null,3.56,{"$f":"SUM(J5:W5)","v":3.27},{"$f":"SUM(B5:I5)+SUM(X5:Y5)","v":0.29000000000000004},1.9464285714285712,0.17261904761904762]
["Abril",0,0,0,0,0,0.05,0.16,0.28000000000000003,0.4,0.5,0.56999999999999995,0.6,0.56999999999999995,0.5,0.4,0.28000000000000003,0.16,0.05,0,0,0,0,0,0,null,4.5199999999999996,{"$f":"SUM(K6:X6)","v":3.63},{"$f":"SUM(B6:J6)+SUM(Y6)","v":0.89000000000000012},2.1607142857142856,0.52976190476190477]
["Mayo",0,0,0,0,0.02,0.11,0.22,0.34,0.45,0.55000000000000004,0.61,0.63,0.61,0.55000000000000004,0.45,0.34,0.22,0.11,0.02,0,0,0,0,0,null,5.2299999999999995,{"$f":"SUM(K7:X7)","v":4.09},{"$f":"SUM(B7:J7)+SUM(Y7)","v":1.1399999999999999},2.4345238095238093,0.67857142857142849]
["Junio",0,0,0,0,0.04,0.14000000000000001,0.26,0.38,0.5,0.59,0.66,0.68,0.66,0.59,0.5,0.38,0.26,0.14000000000000001,0.04,0,0,0,0,0,null,5.82,4.5,1.32,2.6785714285714284,0.7857142857142857]
["Julio",0,0,0,0,0.03,0.14000000000000001,0.26,0.4,0.53,0.63,0.7,0.73,0.7,0.63,0.53,0.4,0.26,0.14000000000000001,0.03,0,0,0,0,0,null,6.11,4.75,1.36,2.8273809523809521,0.80952380952380953]
["Agosto",0,0,0,0,0,0.08,0.2,0.34,0.47,0.56999999999999995,0.65,0.67,0.65,0.56999999999999995,0.47,0.34,0.2,0.08,0,0,0,0,0,0,null,5.29,4.2,1.0900000000000001,2.5,0.64880952380952384]
["Septiembre",0,0,0,0,0,0.01,0.12,0.25,0.38,0.5,0.56999999999999995,0.6,0.56999999999999995,0.5,0.38,0.25,0.12,0.01,0,0,0,0,0,0,null,4.26,3.4999999999999996,0.76,2.083333333333333,0.45238095238095233]
["Octubre",0,0,0,0,0,0,0.04,0.15,0.27,0.37,0.44,0.47,0.44,0.37,0.27,0.15,0.04,0,0,0,0,0,0,0,null,3.01,2.5499999999999998,0.46,1.5178571428571426,0.27380952380952378]
["Noviembre",0,0,0,0,0,0,0,7.0000000000000007E-2,0.17,0.25,0.31,0.34,0.31,0.25,0.17,7.0000000000000007E-2,0,0,0,0,0,0,0,0,null,1.9400000000000002,{"$f":"SUM(J13:W13)","v":1.87},{"$f":"SUM(B13:I13)+SUM(X13:Y13)","v":7.0000000000000007E-2},1.1130952380952381,4.1666666666666664E-2]
["Diciembre",0,0,0,0,0,0,0,0.04,0.12,0.2,0.26,0.28000000000000003,0.26,0.2,0.12,0.04,0,0,0,0,0,0,0,0,null,1.52,{"$f":"SUM(J14:W14)","v":1.48},{"$f":"SUM(B14:I14)+SUM(X14:Y14)","v":0.04},0.88095238095238082,2.3809523809523808E-2]
[null,null,null,null,null,null,null,null,null,null,null,null,null,null,null,null,null,null,null,null,null,null,null,null,null,null,0]
[null,null,null,null,null,null,null,null,null,null,null,null,null,null,null,null,null,null,null,null,null,null,null,null,null,null,null,0]
[0,"ZONA V",null,null,null,null,"2.0dha",null,null,null,null,null,null,null,null,null,null,null,null,null,null,null,null,null,null,null,null,null,null,null,null,null,0,"ZONA V",null,null,"3.0a",null,null,null,null,null,null,null,null,null,null,null,null,null,null,null,null,null,null,null,null,null,null,null,null,null,null,null,null,null,0,"ZONA V",null,null,"3.1 A"]
["ZONA V",1,2,3,4,5,6,7,8,9,10,11,12,13,14,15,16,17,18,19,20,21,22,23,24,null,"total","p1","p2","%p1","%p2",null,"ZONA V",1,2,3,4,5,6,7,8,9,10,11,12,13,14,15,16,17,18,19,20,21,22,23,24,null,"total","p1","p2","p3","%p1","%p2","%p3",null,"ZONA V",1,2,3,4,5,6,7,8,9,10,11,12,13,14,15,16,17,18,19,20,21,22,23,24,null,"total","p1","p2","p3","%p1","%p2","%p3"]
["Enero",0,0,0,0,0,0,0.01,0.12,0.25,0.36,0.44,0.47,0.44,0.36,0.25,0.12,0.01,0,0,0,0,0,0,0,null,{"$f":"SUM(AB19:AC19)","v":2.8299999999999996},{"$f":"SUM(J19:W19)","v":2.6999999999999997},{"$f":"SUM(B19:I19)+SUM(X19:Y19)","v":0.13},{"$f":"AB19/$AA$19","v":0.95406360424028269},{"$f":"AC19/$AA$19","v":4.5936395759717322E-2},null,"Enero",0,0,0,0,0,0,0.01,0.12,0.25,0.36,0.44,0.47,0.44,0.36,0.25,0.12,0.01,0,0,0,0,0,0,0,null,{"$f":"SUM(AH19:BF19)","v":2.8299999999999996},{"$f":"SUM(AZ19:BC19)","v":0},{"$f":"SUM(AP19:AY19)","v":2.6999999999999997},{"$f":"BG19-BH19-BI19","v":0.12999999999999989},{"$f":"BH19/$BG19","v":0},{"$f":"BI19/$BG19","v":0.95406360424028269},{"$f":"BJ19/$BG19","v":4.593639575971728E-2},null,"Enero",0,0,0,0,0,0,0.01,0.12,0.25,0.36,0.44,0.47,0.44,0.36,0.25,0.12,0.01,0,0,0,0,0,0,0,null,{"$f":"SUM(BP19:CN19)","v":2.8299999999999996},{"$f":"SUM(CH19:CK19)","v":0},{"$f":"SUM(BX19:CG19)","v":2.6999999999999997},{"$f":"CO19-CP19-CQ19","v":0.12999999999999989},{"$f":"CP19/$CO19","v":0},{"$f":"CQ19/$CO19","v":0.95406360424028269},{"$f":"CR19/$CO19","v":4.593639575971728E-2}]
["Febrero",0,0,0,0,0,0,0.05,0.19,0.34,0.47,0.56000000000000005,0.59,0.56000000000000005,0.47,0.34,0.19,0.05,0,0,0,0,0,0,0,null,{"$f":"SUM(AB20:AC20)","v":3.8099999999999996},{"$f":"SUM(J20:W20)","v":3.57},{"$f":"SUM(B20:I20)+SUM(X20:Y20)","v":0.24},{"$f":"AB20/$AA$19","v":1.2614840989399294},8.4805653710247356E-2,null,"Febrero",0,0,0,0,0,0,0.05,0.19,0.34,0.47,0.56000000000000005,0.59,0.56000000000000005,0.47,0.34,0.19,0.05,0,0,0,0,0,0,0,null,{"$f":"SUM(AH20:BF20)","v":3.81},{"$f":"SUM(AZ20:BC20)","v":0},{"$f":"SUM(AP20:AY20)","v":3.57},{"$f":"BG20-BH20-BI20","v":0.24000000000000021},{"$f":"BH20/$BG20","v":0},0.93700787401574792,6.2992125984252023E-2,null,"Febrero",0,0,0,0,0,0,0.05,0.19,0.34,0.47,0.56000000000000005,0.59,0.56000000000000005,0.47,0.34,0.19,0.05,0,0,0,0,0,0,0,null,{"$f":"SUM(BP20:CN20)","v":3.81},{"$f":"SUM(CH20:CK20)","v":0},{"$f":"SUM(BX20:CG20)","v":3.57},{"$f":"CO20-CP20-CQ20","v":0.24000000000000021},{"$f":"CP20/$CO20","v":0},0.93700787401574792,6.2992125984252023E-2]
["Marzo",0,0,0,0,0,0,0.13,0.3,0.47,0.63,0.73,0.77,0.73,0.63,0.47,0.3,0.13,0,0,0,0,0,0,0,null,5.2899999999999991,{"$f":"SUM(J21:W21)","v":4.8599999999999994},{"$f":"SUM(B21:I21)+SUM(X21:Y21)","v":0.43},1.7173144876325088,0.15194346289752653,null,"Marzo",0,0,0,0,0,0,0.13,0.3,0.47,0.63,0.73,0.77,0.73,0.63,0.47,0.3,0.13,0,0,0,0,0,0,0,null,5.2899999999999991,{"$f":"SUM(AZ21:BC21)*0.8+SUM(AS21:AV21)*0.2","v":0.51999999999999991},{"$f":"SUM(AP21:AY21)*0.8","v":3.8879999999999999},{"$f":"BG21-BH21-BI21","v":0.88199999999999967},9.8298676748582225E-2,0.73497164461247644,0.16672967863894136,null,"Marzo",0,0,0,0,0,0,0.13,0.3,0.47,0.63,0.73,0.77,0.73,0.63,0.47,0.3,0.13,0,0,0,0,0,0,0,null,5.2899999999999991,{"$f":"SUM(CH21:CK21)*0.8+SUM(CA21:CD21)*0.2","v":0.51999999999999991},{"$f":"SUM(BX21:CG21)*0.8","v":3.8879999999999999},{"$f":"CO21-CP21-CQ21","v":0.88199999999999967},9.8298676748582225E-2,0.73497164461247644,0.16672967863894136]
["Abril",0,0,0,0,0,0.05,0.2,0.38,0.55000000000000004,0.7,0.79,0.83,0.79,0.7,0.55000000000000004,0.38,0.2,0.05,0,0,0,0,0,0,null,6.17,{"$f":"SUM(K22:X22)","v":4.9899999999999993},{"$f":"SUM(B22:J22)+SUM(Y22)","v":1.1800000000000002},1.7632508833922262,0.4169611307420496,null,"Abril",0,0,0,0,0,0.05,0.2,0.38,0.55000000000000004,0.7,0.79,0.83,0.79,0.7,0.55000000000000004,0.38,0.2,0.05,0,0,0,0,0,0,null,6.17,{"$f":"SUM(AS22:AV22)","v":2.87},{"$f":"BG22-BH22-BJ22","v":2.67},{"$f":"SUM(AH22:AO22)","v":0.63},0.46515397082658028,0.4327390599675851,0.10210696920583469,null,"Abril",0,0,0,0,0,0.05,0.2,0.38,0.55000000000000004,0.7,0.79,0.83,0.79,0.7,0.55000000000000004,0.38,0.2,0.05,0,0,0,0,0,0,null,6.17,{"$f":"SUM(CA22:CD22)","v":2.87},{"$f":"CO22-CP22-CR22","v":2.67},{"$f":"SUM(BP22:BW22)","v":0.63},0.46515397082658028,0.4327390599675851,0.10210696920583469]
["Mayo",0,0,0,0,0,0.11,0.28000000000000003,0.46,0.64,0.79,0.89,0.93,0.89,0.79,0.64,0.46,0.28000000000000003,0.11,0,0,0,0,0,0,null,7.2700000000000014,{"$f":"SUM(K23:X23)","v":5.7800000000000011},{"$f":"SUM(B23:J23)+SUM(Y23)","v":1.4900000000000002},2.0424028268551244,0.52650176678445249,null,"Mayo",0,0,0,0,0,0.11,0.28000000000000003,0.46,0.64,0.79,0.89,0.93,0.89,0.79,0.64,0.46,0.28000000000000003,0.11,0,0,0,0,0,0,null,7.2700000000000005,3.2500000000000004,{"$f":"BG23-BH23-BJ23","v":3.1699999999999995},{"$f":"SUM(AH23:AO23)","v":0.85000000000000009},0.44704264099037144,0.43603851444291597,0.11691884456671252,null,"Mayo",0,0,0,0,0,0.11,0.28000000000000003,0.46,0.64,0.79,0.89,0.93,0.89,0.79,0.64,0.46,0.28000000000000003,0.11,0,0,0,0,0,0,null,7.2700000000000005,3.2500000000000004,{"$f":"CO23-CP23-CR23","v":3.1699999999999995},{"$f":"SUM(BP23:BW23)","v":0.85000000000000009},0.44704264099037144,0.43603851444291597,0.11691884456671252]
["Junio",0,0,0,0,0.01,0.14000000000000001,0.31,0.5,0.68,0.83,0.93,0.96,0.93,0.83,0.68,0.5,0.31,0.14000000000000001,0.01,0,0,0,0,0,null,7.759999999999998,6.1199999999999983,1.6400000000000001,2.1625441696113072,0.57950530035335701,null,"Junio",0,0,0,0,0.01,0.14000000000000001,0.31,0.5,0.68,0.83,0.93,0.96,0.93,0.83,0.68,0.5,0.31,0.14000000000000001,0.01,0,0,0,0,0,null,7.7599999999999989,3.4000000000000004,3.3999999999999986,0.96,0.43814432989690733,0.4381443298969071,0.12371134020618559,null,"Junio",0,0,0,0,0.01,0.14000000000000001,0.31,0.5,0.68,0.83,0.93,0.96,0.93,0.83,0.68,0.5,0.31,0.14000000000000001,0.01,0,0,0,0,0,null,7.7599999999999989,3.4000000000000004,3.3999999999999986,0.96,0.43814432989690733,0.4381443298969071,0.12371134020618559]
["Julio",0,0,0,0,0.01,0.14000000000000001,0.32,0.52,0.71,0.88,0.99,1,0.99,0.88,0.71,0.52,0.32,0.14000000000000001,0.01,0,0,0,0,0,null,8.14,6.44,1.7,2.2756183745583045,0.60070671378091878,null,"Julio",0,0,0,0,0.01,0.14000000000000001,0.32,0.52,0.71,0.88,0.99,1,0.99,0.88,0.71,0.52,0.32,0.14000000000000001,0.01,0,0,0,0,0,null,8.14,3.58,3.5700000000000003,0.99,0.43980343980343978,0.43857493857493857,0.12162162162162161,null,"Julio",0,0,0,0,0.01,0.14000000000000001,0.32,0.52,0.71,0.88,0.99,1,0.99,0.88,0.71,0.52,0.32,0.14000000000000001,0.01,0,0,0,0,0,null,8.14,3.58,3.5700000000000003,0.99,0.43980343980343978,0.43857493857493857,0.12162162162162161]
["Agosto",0,0,0,0,0,0.09,0.26,0.46,0.65,0.82,0.93,0.97,0.93,0.82,0.65,0.46,0.26,0.09,0,0,0,0,0,0,null,7.39,5.93,1.46,2.0954063604240285,0.51590106007067138,null,"Agosto",0,0,0,0,0,0.09,0.26,0.46,0.65,0.82,0.93,0.97,0.93,0.82,0.65,0.46,0.26,0.09,0,0,0,0,0,0,null,7.39,3.3699999999999997,3.2099999999999995,0.81,0.45602165087956698,0.4343707713125845,0.10960757780784845,null,"Agosto",0,0,0,0,0,0.09,0.26,0.46,0.65,0.82,0.93,0.97,0.93,0.82,0.65,0.46,0.26,0.09,0,0,0,0,0,0,null,7.39,3.3699999999999997,3.2099999999999995,0.81,0.45602165087956698,0.4343707713125845,0.10960757780784845]
["Septiembre",0,0,0,0,0,0.01,0.16,0.34,0.52,0.68,0.78,0.82,0.78,0.68,0.52,0.34,0.16,0.01,0,0,0,0,0,0,null,5.8,4.7699999999999996,1.03,1.6855123674911661,0.36395759717314491,null,"Septiembre",0,0,0,0,0,0.01,0.16,0.34,0.52,0.68,0.78,0.82,0.78,0.68,0.52,0.34,0.16,0.01,0,0,0,0,0,0,null,5.7999999999999989,2.8000000000000003,2.4899999999999984,0.51,0.4827586206896553,0.42931034482758601,8.7931034482758644E-2,null,"Septiembre",0,0,0,0,0,0.01,0.16,0.34,0.52,0.68,0.78,0.82,0.78,0.68,0.52,0.34,0.16,0.01,0,0,0,0,0,0,null,5.7999999999999989,2.8000000000000003,2.4899999999999984,0.51,0.4827586206896553,0.42931034482758601,8.7931034482758644E-2]
["Octubre",0,0,0,0,0,0,0.08,0.23,0.39,0.53,0.63,0.67,0.63,0.53,0.39,0.23,0.08,0,0,0,0,0,0,0,null,4.3900000000000006,3.6900000000000004,0.7,1.3038869257950534,0.24734982332155478,null,"Octubre",0,0,0,0,0,0,0.08,0.23,0.39,0.53,0.63,0.67,0.63,0.53,0.39,0.23,0.08,0,0,0,0,0,0,0,null,4.3899999999999997,{"$f":"SUM(AS28:AV28)*0.8","v":1.7760000000000002},2.3039999999999994,0.31,0.40455580865603652,0.52482915717539858,7.0615034168564919E-2,null,"Octubre",0,0,0,0,0,0,0.08,0.23,0.39,0.53,0.63,0.67,0.63,0.53,0.39,0.23,0.08,0,0,0,0,0,0,0,null,4.3899999999999997,{"$f":"SUM(CA28:CD28)*0.8","v":1.7760000000000002},2.3039999999999994,0.31,0.40455580865603652,0.52482915717539858,7.0615034168564919E-2]
["Noviembre",0,0,0,0,0,0,0.02,0.14000000000000001,0.28000000000000003,0.4,0.48,0.51,0.48,0.4,0.28000000000000003,0.14000000000000001,0.02,0,0,0,0,0,0,0,null,3.1500000000000004,{"$f":"SUM(J29:W29)","v":2.99},{"$f":"SUM(B29:I29)+SUM(X29:Y29)","v":0.16},1.0565371024734984,5.6537102473498239E-2,null,"Noviembre",0,0,0,0,0,0,0.02,0.14000000000000001,0.28000000000000003,0.4,0.48,0.51,0.48,0.4,0.28000000000000003,0.14000000000000001,0.02,0,0,0,0,0,0,0,null,3.1500000000000004,{"$f":"SUM(AZ29:BC29)","v":0},{"$f":"SUM(AP29:AY29)","v":2.99},{"$f":"BG29-BH29-BI29","v":0.16000000000000014},0,0.94920634920634916,5.0793650793650835E-2,null,"Noviembre",0,0,0,0,0,0,0.02,0.14000000000000001,0.28000000000000003,0.4,0.48,0.51,0.48,0.4,0.28000000000000003,0.14000000000000001,0.02,0,0,0,0,0,0,0,null,3.1500000000000004,{"$f":"SUM(CH29:CK29)","v":0},{"$f":"SUM(BX29:CG29)","v":2.99},{"$f":"CO29-CP29-CQ29","v":0.16000000000000014},0,0.94920634920634916,5.0793650793650835E-2]
["Diciembre",0,0,0,0,0,0,0.01,0.1,0.22,0.33,0.41,0.44,0.41,0.33,0.22,0.1,0.01,0,0,0,0,0,0,0,null,2.5799999999999996,{"$f":"SUM(J30:W30)","v":2.4699999999999998},{"$f":"SUM(B30:I30)+SUM(X30:Y30)","v":0.11},0.87279151943462896,3.8869257950530041E-2,null,"Diciembre",0,0,0,0,0,0,0.01,0.1,0.22,0.33,0.41,0.44,0.41,0.33,0.22,0.1,0.01,0,0,0,0,0,0,0,null,2.58,{"$f":"SUM(AZ30:BC30)","v":0},{"$f":"SUM(AP30:AY30)","v":2.4699999999999998},{"$f":"BG30-BH30-BI30","v":0.11000000000000032},0,0.95736434108527124,4.2635658914728806E-2,null,"Diciembre",0,0,0,0,0,0,0.01,0.1,0.22,0.33,0.41,0.44,0.41,0.33,0.22,0.1,0.01,0,0,0,0,0,0,0,null,2.58,{"$f":"SUM(CH30:CK30)","v":0},{"$f":"SUM(BX30:CG30)","v":2.4699999999999998},{"$f":"CO30-CP30-CQ30","v":0.11000000000000032},0,0.95736434108527124,4.2635658914728806E-2]
[]
[null,null,null,null,null,null,null,null,null,null,null,null,null,null,null,null,null,null,null,null,null,null,null,null,null,null,null,null,null,null,null,null,null,null,null,null,null,null,null,null,null,null,null,null,null,null,null,null,null,null,null,null,null,null,null,null,null,null,null,null,null,null,null,null,null,null,0,"ZONA V",null,null,"3.1 A sabados domingos y festivos"]
[null,null,null,null,null,null,null,null,null,null,null,null,null,null,null,null,null,null,null,null,null,null,null,null,null,null,null,null,null,null,null,null,null,null,null,null,null,null,null,null,null,null,null,null,null,null,null,null,null,null,null,null,null,null,null,null,null,null,null,null,null,null,null,null,null,null,"ZONA V",1,2,3,4,5,6,7,8,9,10,11,12,13,14,15,16,17,18,19,20,21,22,23,24,null,"total","p1","p2","p3","%p1","%p2","%p3"]
[null,null,null,null,null,null,null,null,null,null,null,null,null,null,null,null,null,null,null,null,null,null,null,null,null,null,null,null,null,null,null,null,null,null,null,null,null,null,null,null,null,null,null,null,null,null,null,null,null,null,null,null,null,null,null,null,null,null,null,null,null,null,null,null,null,null,"Enero",0,0,0,0,0,0,0.01,0.12,0.25,0.36,0.44,0.47,0.44,0.36,0.25,0.12,0.01,0,0,0,0,0,0,0,null,{"$f":"SUM(BP34:CN34)","v":2.8299999999999996},{"$f":"CO34-CR34-CQ34","v":0},{"$f":"SUM(CH34:CM34)","v":0},{"$f":"SUM(BP34:CG34)","v":2.8299999999999996},{"$f":"CP34/$CO34","v":0},{"$f":"CQ34/$CO34","v":0},{"$f":"CR34/$CO34","v":1}]
[null,null,null,null,null,null,null,null,null,null,null,null,null,null,null,null,null,null,null,null,null,null,null,null,null,null,null,null,null,null,null,null,null,null,null,null,null,null,null,null,null,null,null,null,null,null,null,null,null,null,null,null,null,null,null,null,null,null,null,null,null,null,null,null,null,null,"Febrero",0,0,0,0,0,0,0.05,0.19,0.34,0.47,0.56000000000000005,0.59,0.56000000000000005,0.47,0.34,0.19,0.05,0,0,0,0,0,0,0,null,{"$f":"SUM(BP35:CN35)","v":3.81},{"$f":"CO35-CR35-CQ35","v":0},{"$f":"SUM(CH35:CM35)","v":0},{"$f":"SUM(BP35:CG35)","v":3.81},{"$f":"CP35/$CO35","v":0},0,1]
[null,null,null,null,null,null,null,null,null,null,null,null,null,null,null,null,null,null,null,null,null,null,null,null,null,null,null,null,null,null,null,null,null,null,null,null,null,null,null,null,null,null,null,null,null,null,null,null,null,null,null,null,null,null,null,null,null,null,null,null,null,null,null,null,null,null,"Marzo",0,0,0,0,0,0,0.13,0.3,0.47,0.63,0.73,0.77,0.73,0.63,0.47,0.3,0.13,0,0,0,0,0,0,0,null,5.2899999999999991,0,0,5.2899999999999991,0,0,1]
[null,null,null,null,null,null,null,null,null,null,null,null,null,null,null,null,null,null,null,null,null,null,null,null,null,null,null,null,null,null,null,null,null,null,null,null,null,null,null,null,null,null,null,null,null,null,null,null,null,null,null,null,null,null,null,null,null,null,null,null,null,null,null,null,null,null,"Abril",0,0,0,0,0,0.05,0.2,0.38,0.55000000000000004,0.7,0.79,0.83,0.79,0.7,0.55000000000000004,0.38,0.2,0.05,0,0,0,0,0,0,null,6.17,0,0,6.17,0,0,1]
[null,null,null,null,null,null,null,null,null,null,null,null,null,null,null,null,null,null,null,null,null,null,null,null,null,null,null,null,null,null,null,null,null,null,null,null,null,null,null,null,null,null,null,null,null,null,null,null,null,null,null,null,null,null,null,null,null,null,null,null,null,null,null,null,null,null,"Mayo",0,0,0,0,0,0.11,0.28000000000000003,0.46,0.64,0.79,0.89,0.93,0.89,0.79,0.64,0.46,0.28000000000000003,0.11,0,0,0,0,0,0,null,7.2700000000000005,0,0,7.2700000000000005,0,0,1]
[null,null,null,null,null,null,null,null,null,null,null,null,null,null,null,null,null,null,null,null,null,null,null,null,null,null,null,null,null,null,null,null,null,null,null,null,null,null,null,null,null,null,null,null,null,null,null,null,null,null,null,null,null,null,null,null,null,null,null,null,null,null,null,null,null,null,"Junio",0,0,0,0,0.01,0.14000000000000001,0.31,0.5,0.68,0.83,0.93,0.96,0.93,0.83,0.68,0.5,0.31,0.14000000000000001,0.01,0,0,0,0,0,null,7.7599999999999989,0,0.01,7.7499999999999991,0,1.2886597938144332E-3,0.99871134020618557]
[null,null,null,null,null,null,null,null,null,null,null,null,null,null,null,null,null,null,null,null,null,null,null,null,null,null,null,null,null,null,null,null,null,null,null,null,null,null,null,null,null,null,null,null,null,null,null,null,null,null,null,null,null,null,null,null,null,null,null,null,null,null,null,null,null,null,"Julio",0,0,0,0,0.01,0.14000000000000001,0.32,0.52,0.71,0.88,0.99,1,0.99,0.88,0.71,0.52,0.32,0.14000000000000001,0.01,0,0,0,0,0,null,8.14,0,0.01,8.1300000000000008,0,1.2285012285012285E-3,0.99877149877149884]
[null,null,null,null,null,null,null,null,null,null,null,null,null,null,null,null,null,null,null,null,null,null,null,null,null,null,null,null,null,null,null,null,null,null,null,null,null,null,null,null,null,null,null,null,null,null,null,null,null,null,null,null,null,null,null,null,null,null,null,null,null,null,null,null,null,null,"Agosto",0,0,0,0,0,0.09,0.26,0.46,0.65,0.82,0.93,0.97,0.93,0.82,0.65,0.46,0.26,0.09,0,0,0,0,0,0,null,7.39,0,0,7.39,0,0,1]
[null,null,null,null,null,null,null,null,null,null,null,null,null,null,null,null,null,null,null,null,null,null,null,null,null,null,null,null,null,null,null,null,null,null,null,null,null,null,null,null,null,null,null,null,null,null,null,null,null,null,null,null,null,null,null,null,null,null,null,null,null,null,null,null,null,null,"Septiembre",0,0,0,0,0,0.01,0.16,0.34,0.52,0.68,0.78,0.82,0.78,0.68,0.52,0.34,0.16,0.01,0,0,0,0,0,0,null,5.7999999999999989,0,0,5.7999999999999989,0,0,1]
[null,null,null,null,null,null,null,null,null,null,null,null,null,null,null,null,null,null,null,null,null,null,null,null,null,null,null,null,null,null,null,null,null,null,null,null,null,null,null,null,null,null,null,null,null,null,null,null,null,null,null,null,null,null,null,null,null,null,null,null,null,null,null,null,null,null,"Octubre",0,0,0,0,0,0,0.08,0.23,0.39,0.53,0.63,0.67,0.63,0.53,0.39,0.23,0.08,0,0,0,0,0,0,0,null,4.3899999999999997,0,0,4.3899999999999997,0,0,1]
[null,null,null,null,null,null,null,null,null,null,null,null,null,null,null,null,null,null,null,null,null,null,null,null,null,null,null,null,null,null,null,null,null,null,null,null,null,null,null,null,null,null,null,null,null,null,null,null,null,null,null,null,null,null,null,null,null,null,null,null,null,null,null,null,null,null,"Noviembre",0,0,0,0,0,0,0.02,0.14000000000000001,0.28000000000000003,0.4,0.48,0.51,0.48,0.4,0.28000000000000003,0.14000000000000001,0.02,0,0,0,0,0,0,0,null,3.1500000000000004,0,0,3.1500000000000004,0,0,1]
[null,null,null,null,null,null,null,null,null,null,null,null,null,null,null,null,null,null,null,null,null,null,null,null,null,null,null,null,null,null,null,null,null,null,null,null,null,null,null,null,null,null,null,null,null,null,null,null,null,null,null,null,null,null,null,null,null,null,null,null,null,null,null,null,null,null,"Diciembre",0,0,0,0,0,0,0.01,0.1,0.22,0.33,0.41,0.44,0.41,0.33,0.22,0.1,0.01,0,0,0,0,0,0,0,null,2.58,0,0,2.58,0,0,1]
[]
[]
[]
[]
[]
[null,null,null,null,null,null,null,null,null,null,0,"ZONA V"]
[null,null,null,null,null,null,null,null,null,null,"ZONA V",1,2,3,4,5,6,7,8,9,10,11,12,13,14,15,16,17,18,19,20,21,22,23,24,null,"total","p1","p2","p3","p4","p5","p6","%p1","%p2","%p3","%p4","%p5","%p6"]
[null,null,null,null,null,null,null,null,null,null,"Enero",0,0,0,0,0,0,0.01,0.12,0.25,0.36,0.44,0.47,0.44,0.36,0.25,0.12,0.01,0,0,0,0,0,0,0,null,2.8299999999999996,1.3499999999999999,1.35,null,null,null,0.13,0.47703180212014135,0.47703180212014146,0,0,0,4.5936395759717322E-2]
[null,null,null,null,null,null,null,null,null,null,"Febrero",0,0,0,0,0,0,0.05,0.19,0.34,0.47,0.56000000000000005,0.59,0.56000000000000005,0.47,0.34,0.19,0.05,0,0,0,0,0,0,0,null,3.81,1.71,1.86,null,null,null,0.24,0.44881889763779526,0.48818897637795278,0,0,0,6.2992125984251968E-2]
[null,null,null,null,null,null,null,null,null,null,"Marzo",0,0,0,0,0,0,0.13,0.3,0.47,0.63,0.73,0.77,0.73,0.63,0.47,0.3,0.13,0,0,0,0,0,0,0,null,5.2899999999999991,null,null,0.13,4.7299999999999995,null,0.43,0,0,2.4574669187145563E-2,0.89413988657845,0,8.128544423440455E-2]
[null,null,null,null,null,null,null,null,null,null,"Abril",0,0,0,0,0,0.05,0.2,0.38,0.55000000000000004,0.7,0.79,0.83,0.79,0.7,0.55000000000000004,0.38,0.2,0.05,0,0,0,0,0,0,null,6.17,null,null,null,null,5.54,0.63,0,0,0,0,0.89789303079416538,0.10210696920583469]
[null,null,null,null,null,null,null,null,null,null,"Mayo",0,0,0,0,0,0.11,0.28000000000000003,0.46,0.64,0.79,0.89,0.93,0.89,0.79,0.64,0.46,0.28000000000000003,0.11,0,0,0,0,0,0,null,7.2700000000000005,null,null,null,null,6.4200000000000008,0.85000000000000009,0,0,0,0,0.88308115543328758,0.11691884456671252]
[null,null,null,null,null,null,null,null,null,null,"Junio",0,0,0,0,0.01,0.14000000000000001,0.31,0.5,0.68,0.83,0.93,0.96,0.93,0.83,0.68,0.5,0.31,0.14000000000000001,0.01,0,0,0,0,0,null,7.7599999999999989,null,null,5.1599999999999993,1.6400000000000001,null,0.96,0,0,0.66494845360824739,0.21134020618556706,0,0.12371134020618559]
[null,null,null,null,null,null,null,null,null,null,"Julio",0,0,0,0,0.01,0.14000000000000001,0.32,0.52,0.71,0.88,0.99,1,0.99,0.88,0.71,0.52,0.32,0.14000000000000001,0.01,0,0,0,0,0,null,8.14,4.5699999999999994,2.58,null,null,null,0.99,0.28071253071253066,0.15847665847665848,0,0,0,0.56081081081081086]
[null,null,null,null,null,null,null,null,null,null,"Agosto",0,0,0,0,0,0.09,0.26,0.46,0.65,0.82,0.93,0.97,0.93,0.82,0.65,0.46,0.26,0.09,0,0,0,0,0,0,null,7.39,null,null,null,null,null,7.39,0,0,0,0,0,1]
[null,null,null,null,null,null,null,null,null,null,"Septiembre",0,0,0,0,0,0.01,0.16,0.34,0.52,0.68,0.78,0.82,0.78,0.68,0.52,0.34,0.16,0.01,0,0,0,0,0,0,null,5.7999999999999989,null,null,4.26,1.03,null,0.51,0,0,0.73448275862068979,0.17758620689655177,0,8.7931034482758644E-2]
[null,null,null,null,null,null,null,null,null,null,"Octubre",0,0,0,0,0,0,0.08,0.23,0.39,0.53,0.63,0.67,0.63,0.53,0.39,0.23,0.08,0,0,0,0,0,0,0,null,4.3899999999999997,null,null,null,null,4.08,0.31,0,0,0,0,0.92938496583143515,7.0615034168564919E-2]
[null,null,null,null,null,null,null,null,null,null,"Noviembre",0,0,0,0,0,0,0.02,0.14000000000000001,0.28000000000000003,0.4,0.48,0.51,0.48,0.4,0.28000000000000003,0.14000000000000001,0.02,0,0,0,0,0,0,0,null,3.1500000000000004,null,null,0.02,2.97,null,0.16,0,0,6.3492063492063483E-3,0.94285714285714284,0,5.0793650793650787E-2]
[null,null,null,null,null,null,null,null,null,null,"Diciembre",0,0,0,0,0,0,0.01,0.1,0.22,0.33,0.41,0.44,0.41,0.33,0.22,0.1,0.01,0,0,0,0,0,0,0,null,2.58,1.26,1.21,null,null,null,0.11,0.48837209302325579,0.4689922480620155,0,0,0,4.2635658914728682E-2]
[]
[]
[]
[null,null,null,null,null,null,null,null,null,null,null,null,null,null,null,null,null,null,null,null,"tarifa 6.1 domingos y festivos"]
[]
[null,null,null,null,null,null,null,null,null,null,0,"ZONA V"]
[null,null,null,null,null,null,null,null,null,null,"ZONA V",1,2,3,4,5,6,7,8,9,10,11,12,13,14,15,16,17,18,19,20,21,22,23,24,null,"total y ","p6","p1","p2","p3","p4","p5","p6","%p1","%p2","%p3","%p4","%p5","%p6"]
[null,null,null,null,null,null,null,null,null,null,"Enero",0,0,0,0,0,0,0.01,0.12,0.25,0.36,0.44,0.47,0.44,0.36,0.25,0.12,0.01,0,0,0,0,0,0,0,null,2.8299999999999996,1,null,null,null,null,null,null,0,0,0,0,0,1]
[null,null,null,null,null,null,null,null,null,null,"Febrero",0,0,0,0,0,0,0.05,0.19,0.34,0.47,0.56000000000000005,0.59,0.56000000000000005,0.47,0.34,0.19,0.05,0,0,0,0,0,0,0,null,3.81,1,null,null,null,null,null,null,0,0,0,0,0,1]
[null,null,null,null,null,null,null,null,null,null,"Marzo",0,0,0,0,0,0,0.13,0.3,0.47,0.63,0.73,0.77,0.73,0.63,0.47,0.3,0.13,0,0,0,0,0,0,0,null,5.2899999999999991,1,null,null,null,null,null,null,0,0,0,0,0,1]
[null,null,null,null,null,null,null,null,null,null,"Abril",0,0,0,0,0,0.05,0.2,0.38,0.55000000000000004,0.7,0.79,0.83,0.79,0.7,0.55000000000000004,0.38,0.2,0.05,0,0,0,0,0,0,null,6.17,1,null,null,null,null,null,null,0,0,0,0,0,1]
[null,null,null,null,null,null,null,null,null,null,"Mayo",0,0,0,0,0,0.11,0.28000000000000003,0.46,0.64,0.79,0.89,0.93,0.89,0.79,0.64,0.46,0.28000000000000003,0.11,0,0,0,0,0,0,null,7.2700000000000005,1,null,null,null,null,null,null,0,0,0,0,0,1]
[null,null,null,null,null,null,null,null,null,null,"Junio",0,0,0,0,0.01,0.14000000000000001,0.31,0.5,0.68,0.83,0.93,0.96,0.93,0.83,0.68,0.5,0.31,0.14000000000000001,0.01,0,0,0,0,0,null,7.7599999999999989,1,null,null,null,null,null,null,0,0,0,0,0,1]
[null,null,null,null,null,null,null,null,null,null,"Julio",0,0,0,0,0.01,0.14000000000000001,0.32,0.52,0.71,0.88,0.99,1,0.99,0.88,0.71,0.52,0.32,0.14000000000000001,0.01,0,0,0,0,0,null,8.14,1,null,null,null,null,null,null,0,0,0,0,0,1]
[null,null,null,null,null,null,null,null,null,null,"Agosto",0,0,0,0,0,0.09,0.26,0.46,0.65,0.82,0.93,0.97,0.93,0.82,0.65,0.46,0.26,0.09,0,0,0,0,0,0,null,7.39,1,null,null,null,null,null,null,0,0,0,0,0,1]
[null,null,null,null,null,null,null,null,null,null,"Septiembre",0,0,0,0,0,0.01,0.16,0.34,0.52,0.68,0.78,0.82,0.78,0.68,0.52,0.34,0.16,0.01,0,0,0,0,0,0,null,5.7999999999999989,1,null,null,null,null,null,null,0,0,0,0,0,1]
[null,null,null,null,null,null,null,null,null,null,"Octubre",0,0,0,0,0,0,0.08,0.23,0.39,0.53,0.63,0.67,0.63,0.53,0.39,0.23,0.08,0,0,0,0,0,0,0,null,4.3899999999999997,1,null,null,null,null,null,null,0,0,0,0,0,1]
[null,null,null,null,null,null,null,null,null,null,"Noviembre",0,0,0,0,0,0,0.02,0.14000000000000001,0.28000000000000003,0.4,0.48,0.51,0.48,0.4,0.28000000000000003,0.14000000000000001,0.02,0,0,0,0,0,0,0,null,3.1500000000000004,1,null,null,null,null,null,null,0,0,0,0,0,1]
[null,null,null,null,null,null,null,null,null,null,"Diciembre",0,0,0,0,0,0,0.01,0.1,0.22,0.33,0.41,0.44,0.41,0.33,0.22,0.1,0.01,0,0,0,0,0,0,0,null,2.58,1,null,null,null,null,null,null,0,0,0,0,0,1]

{"sheet":"ZONAS CLIMÁTICAS","index":9,"n_rows":361,"n_cols":61,"rows_kept":361,"cut":false,"hidden":true,"merged":[]}
[null,"ZONA CLIMÁTICA",null,"producción electricidad media toto a 35 grados y 10 por ciento de perdidas",null,null,null,"ZONAS CLIMÁTICAS POR REGIONES"]
[]
["Albacete","V",{"$f":"IF(B3=\"I\",1,IF(B3=\"II\",2,IF(B3=\"III\",3,IF(B3=\"IV\",4,IF(B3=\"V\",5,0)))))","v":5},1.59]
["Alicante","V",{"$f":"IF(B4=\"I\",1,IF(B4=\"II\",2,IF(B4=\"III\",3,IF(B4=\"IV\",4,IF(B4=\"V\",5,0)))))","v":5},1.66,null,null,null,"Alcoy",4,null,"Albacete(ciudad)","Vitoria(ciudad)","Arteixo","Adra","Aviles","Ávila(ciudad)","Almendralejo","Badalona","Aranda_del_duero","Cáceres(ciudad)","Algeciras","Camargo","Burriana","Ceuta(ciudad)","Alcazar_de_Sam_juan","Baena","Cuenca(ciudad)","Blanes","Almuñecar","Guadalajara","Arrasate_Mondragón","Huelva","Huesca","Calvia","Alcalá_la_Real","Logroño","Arrecife","León(ciudad)","Lugo(ciudad)","Lleida(ciudad)","Alcalá_de_Henares","Antequera","Melilla(ciudad)","Águilas","Barañain","Ourense(ciudad)","Palencia(ciudad)","Cangas","Salamanca(ciudad)","Arona","Segovia(ciudad)","Alcalá_de_Guadaira","Soria(ciudad)","Reus","Teruel(ciudad)","Talavera_de_la_Reina","Alaquas","Medina_del_Campo","Barakaldo","Zamora(ciudad)","Zaragoza(ciudad)"]
["Almería","V",5,1.75,null,null,null,"Alicante(ciudad)",5,null,"Almansa",null,"Carballo","Almería(ciudad)","Castrillon",null,"Badajoz(ciudad)","Barbera_del_valles","Burgos(ciudad)","Plasencia","Arcos_de_la_Frontera","Santander","Castellon_de_la_Plana",null,"Ciudad_Real(ciudad)","Cabra",null,"Figueres","Baza",null,"Donostia_San_Sebastián",null,null,"Ciutadella_de_menorca","Andujar",null,"Arucas","Ponferrada",null,null,"Alcobendas","Benalmadena",null,"Alcantarilla","Pamplona",null,null,"A_Estrada",null,"Icod_de_los_Vinos",null,"Camas",null,"Tarragona(ciudad)",null,"Toledo(ciudad)","Aldaia","Valladolid(ciudad)","Basauri"]
["Avila","IV",4,1.46,null,null,null,"Benidorm",4,null,"Hellin",null,"Acoruña(ciudad)","El Ejido","Gijón",null,"Don Benito","Barcelona","Miranda_del_Ebro",null,"Barbate","Torrelavega","La_Vall_d´uixo",null,"Puertollano","Córdoba(ciudad)",null,"Girona(ciudad)","Granada(ciudad)",null,"Eibar",null,null,"Eivissa","Jaén",null,"Galdar","San_Andrés_del_Rabanedo",null,null,"Alcorcón","Estepona",null,"Caravaca_de_la_Cruz","Tudela",null,null,"Lalin",null,"La_Orotava",null,"Carmona",null,"Tortosa",null,null,"Algemesi",null,"Bilbao"]
["Badajoz","V",5,1.64,null,null,null,"Crevillent",5,null,"Villarobledo",null,"Ferrol","Roquetas de mar","Langreo",null,"Mérida","Castelldefels",null,null,"Cádiz(ciudad)",null,"Vila-Real",null,"Tomelloso","Lucena",null,"Olot","Guadix",null,"Errenteria",null,null,"inca","Linares",null,"Ingenio",null,null,null,"Aranjuez","Fuengirola",null,"Cartagena",null,null,null,"Marin",null,"Puerto_de_la_Cruz",null,"Coria_del_Río",null,"Valls",null,null,"Alzira",null,"Durango"]
["Baleares","IV",4,1.58,null,null,null,"Denia",4,null,null,null,"Naron",null,"Mieres",null,"Villanueva de la Serena","Cedanyola_del_Valles",null,null,"Chiclana_de_la_frontera",null,"Vinaroz",null,"Valdepeñas","Montilla",null,"Salt","Loja",null,"Irun",null,null,"Llucmajor","Martos",null,"Las_Palmas_de_Gran_Canaria",null,null,null,"Arganda_del_Rey","Málaga(ciudad)",null,"Cieza",null,null,null,"Pontevedra",null,"Los_Realejos",null,"Dos_Hermanas",null,"El_Vendrell",null,null,"Burjassot",null,"Erandio"]
["Barcelona","II",2,1.59,null,null,null,"Elche",5,null,null,null,"Oleiros",null,"Oviedo",null,null,"Cornellà_de_Llobregat",null,null,"Jerez_de_la_Frontera",null,null,null,null,"Priego_de_Córdoba",null,null,"Motril",null,null,null,null,"Mahon","Úbeda",null,"San_Bartolome_de_Tirajana",null,null,null,"Colmenar_Viejo","Marbella",null,"Jumilla",null,null,null,"Redondela",null,"San Cristobal",null,"Ecija",null,null,null,null,"Carcaixent",null,"Galdakao"]
["Burgos","II",2,1.41,null,null,null,"Elda",4,null,null,null,"Riveira",null,"San Martín del rey Aurelio",null,null,"Gava",null,null,"La_línea_de_la_Concepción",null,null,null,null,"Puente_Genil",null,null,null,null,null,null,null,"Manacor",null,null,"Santa_Lucia",null,null,null,"Collado_Villalba","Mijas",null,"Lorca",null,null,null,"Vigo",null,"Santa Cruz(ciudad)",null,"Lebrija",null,null,null,null,"Catarroja",null,"Getxo"]
["Caceres","V",5,1.64,null,null,null,"Ibi",4,null,null,null,"Santiago de compostela",null,"Siero",null,null,"Granollers",null,null,"El_Puerto_de_Santa_María",null,null,null,null,null,null,null,null,null,null,null,null,"Palma_de_Mallorca",null,null,"Telde",null,null,null,"Coslada","Rincón_de_la_Victoria",null,"Molina_de_Segura",null,null,null,"Vilagarcia_de_Arousa",null,"Tacoronte",null,"Mairena_del_Aljarafe",null,null,null,null,"Cullera",null,"Leioa"]
["Cádiz","IV",4,1.71,null,null,null,"Javea",4,null,null,null,null,null,null,null,null,"L´Hospitalet_de_Llobregat",null,null,"Puerto_Real",null,null,null,null,null,null,null,null,null,null,null,null,"Santa_Eulalia_del_río",null,null,null,null,null,null,"Fuenlabrada","Ronda",null,"Murcia(ciudad)",null,null,null,null,null,null,null,"Morón_de_la_Frontera",null,null,null,null,"Gandía",null,"Portugalete"]
["Canarias","V",5,1.93,null,null,null,"Novelda",4,null,null,null,null,null,null,null,null,"Igualada",null,null,"Rota",null,null,null,null,null,null,null,null,null,null,null,null,null,null,null,null,null,null,null,"Getafe","Torremolinos",null,"Torre-Pacheco",null,null,null,null,null,null,null,"Los_Palacios_y_Villafranca",null,null,null,null,"Manises",null,"Santurtzi"]
["Castellón","IV",4,1.64,null,null,null,"Orihuela",4,null,null,null,null,null,null,null,null,"Manresa",null,null,"San_Fernando",null,null,null,null,null,null,null,null,null,null,null,null,null,null,null,null,null,null,null,"Leganés","Velez-Málaga",null,"Totana_",null,null,null,null,null,null,null,"La_Rinconada",null,null,null,null,"Mislata",null,"Sestao"]
["Ciudad_Real","IV",4,1.62,null,null,null,"Petrer",4,null,null,null,null,null,null,null,null,"El_Mansou",null,null,"San_Roque",null,null,null,null,null,null,null,null,null,null,null,null,null,null,null,null,null,null,null,"Madrid(ciudad)",null,null,"Yecla",null,null,null,null,null,null,null,"San_Juan_de_Aznalfarache",null,null,null,null,"Oliva"]
["Córdoba","IV",4,1.63,null,null,null,"San Vicente",5,null,null,null,null,null,null,null,null,"Mataró",null,null,"Sanlucar_de_Barrameda",null,null,null,null,null,null,null,null,null,null,null,null,null,null,null,null,null,null,null,"Majadahonda",null,null,null,null,null,null,null,null,null,null,"Sevilla(ciudad)",null,null,null,null,"Ontinyent"]
["Cuenca","III",3,1.55,null,null,null,"Torrevieja",5,null,null,null,null,null,null,null,null,"Mollet_del_Valles",null,null,null,null,null,null,null,null,null,null,null,null,null,null,null,null,null,null,null,null,null,null,"Mostoles",null,null,null,null,null,null,null,null,null,null,"Utrera",null,null,null,null,"Paterna"]
["Gerona","III",3,1.52,null,null,null,"Villajoyosa",4,null,null,null,null,null,null,null,null,"Montcada_i",null,null,null,null,null,null,null,null,null,null,null,null,null,null,null,null,null,null,null,null,null,null,"Parla",null,null,null,null,null,null,null,null,null,null,null,null,null,null,null,"Quart_de_poblet"]
["Granada","IV",4,1.69,null,null,null,"Villena",4,null,null,null,null,null,null,null,null,"El_Prat_de_Llobregat",null,null,null,null,null,null,null,null,null,null,null,null,null,null,null,null,null,null,null,null,null,null,"Pinto",null,null,null,null,null,null,null,null,null,null,null,null,null,null,null,"Sagunto"]
["Guadalajara","IV",4,1.59,null,null,null,"lista grande",null,"30 GRADOS ","OPTIMO","angulo optimo",null,null,null,null,null,"Premia_de_mar",null,null,null,null,null,null,null,null,null,null,null,null,null,null,null,null,null,null,null,null,null,null,"Pozuelo_de_Alarcón",null,null,null,null,null,null,null,null,null,null,null,null,null,null,null,"Sueca"]
["Guipuzcoa","I",1,1.05,null,null,null,null,null,null,null,null,null,null,null,null,null,"Ripollet",null,null,null,null,null,null,null,null,null,null,null,null,null,null,null,null,null,null,null,null,null,null,"Rivas-Vaciamadrid",null,null,null,null,null,null,null,null,null,null,null,null,null,null,null,"Torrent"]
["Huelva","V",5,1.71,null,null,null,"Alcoy",4,1.55,1.56,34,null,null,null,null,null,"Rubi",null,null,null,null,null,null,null,null,null,null,null,null,null,null,null,null,null,null,null,null,null,null,"las_Rozas_de_Madrid",null,null,null,null,null,null,null,null,null,null,null,null,null,null,null,"Valencia(ciudad)"]
["Huesca","III",3,1.62,null,null,null,"Alicante(ciudad)",5,1.66,1.66,34,null,null,null,null,null,"Sabadell",null,null,null,null,null,null,null,null,null,null,null,null,null,null,null,null,null,null,null,null,null,null,"San_Fernando_de_Henares",null,null,null,null,null,null,null,null,null,null,null,null,null,null,null,"Xativa"]
["Jaen","IV",4,1.66,null,null,null,"Benidorm",4,1.66,1.66,35,null,null,null,null,null,"Sant_Adria_de_Besos",null,null,null,null,null,null,null,null,null,null,null,null,null,null,null,null,null,null,null,null,null,null,"San_Sebastián_de_los_Reyes",null,null,null,null,null,null,null,null,null,null,null,null,null,null,null,"Xirivella"]
["La_Coruña","I",1,1.39,null,null,null,"Crevillent",5,1.64,1.64,34,null,null,null,null,null,"Sant_Boi_de_Llobregat",null,null,null,null,null,null,null,null,null,null,null,null,null,null,null,null,null,null,null,null,null,null,"Torrejón_de_Ardoz"]
["León","III",3,1.58,null,null,null,"Denia",4,1.57,1.58,35,null,null,null,null,null,"Sant_Cugat_del_Valles",null,null,null,null,null,null,null,null,null,null,null,null,null,null,null,null,null,null,null,null,null,null,"Tres_Cantos"]
["Lérida","III",3,1.58,null,null,null,"Elche",5,1.65,1.65,34,null,null,null,null,null,"Sant_Feliu_de_Llobregat",null,null,null,null,null,null,null,null,null,null,null,null,null,null,null,null,null,null,null,null,null,null,"Valdemoro"]
["Logroño","II",2,1.38,null,null,null,"Elda",4,1.62,1.63,35,null,null,null,null,null,"Sant_Joan_Despí"]
["Lugo","II",2,1.33,null,null,null,"Ibi",4,1.63,1.63,35,null,null,null,null,null,"Sant_Pere_de_Ribes"]
["Madrid","IV",4,1.63,null,null,null,"Javea",4,1.67,1.67,35,null,null,null,null,null,"Sant_Vicenç_dels_Horts"]
["Málaga","IV",4,1.71,null,null,null,"Novelda",4,1.65,1.65,35,null,null,null,null,null,"Santa_Coloma_de_Gramenet"]
["Melilla","V",5,1.67,null,null,null,"Orihuela",4,1.62,1.62,34,null,null,null,null,null,"Terrasa_"]
["Murcia","IV",4,1.64,null,null,null,"Petrer",4,1.62,1.62,35,null,null,null,null,null,"Vic"]
["Orense","II",2,1.42,null,null,null,"San Vicente",5,1.66,1.67,35,null,null,null,null,null,"Viladecans"]
["Oviedo","I",1,1.27,null,null,null,"Torrevieja",5,1.68,1.68,34,null,null,null,null,null,"Vilafranca_del_Penedes"]
["Palencia","II",2,1.52,null,null,null,"Villajoyosa",4,1.64,1.65,35,null,null,null,null,null,"Vilanova_i_la_Geltru"]
["Pamplona","II",2,1.37,null,null,null,"Villena",4,1.63,1.63,35]
["Pontevedra","I",1,1.44]
["Salamanca","III",3,1.56,null,null,null,"Arteixo",1,1.34,1.34,36]
["Santander","I",1,1.1100000000000001,null,null,null,"Carballo",1,1.28,1.29,36]
["Segovia","III",3,1.49,null,null,null,"Acoruña(ciudad)",1,1.38,1.39,36]
["Sevilla","V",5,1.67,null,null,null,"Ferrol",1,1.36,1.37,36]
["Soria","III",3,1.54,null,null,null,"Naron",1,1.33,1.33,36]
["Tarragona","III",3,1.6,null,null,null,"Oleiros",1,1.35,1.35,36]
["Tenerife","V",5,1.93,null,null,null,"Riveira",1,1.48,1.48,36]
["Teruel","III",3,1.54,null,null,null,"Santiago de compostela",1,1.32,1.33,35]
["Toledo","IV",4,1.61]
["Valencia","IV",4,1.68,null,null,null,"Vitoria(ciudad)",1,1.29,1.29,34]
["Valladolid","II",2,1.53]
["Vitoria","I",1,1.29,null,null,null,"Albacete(ciudad)",5,1.58,1.59,35]
["Vizcaya","I",1,1.1599999999999999,null,null,null,"Almansa",5,1.61,1.61,35]
["Zamora","III",3,1.57,null,null,null,"Hellin",5,1.64,1.65,35]
["Zaragoza","IV",4,1.57,null,null,null,"Villarobledo",4,1.62,1.63,35]
[]
[null,null,null,null,null,null,null,"Adra",5,1.75,1.75,34]
["A_Coruña",null,null,null,null,null,null,"Almería(ciudad)",5,1.75,1.75,33]
["Alava",null,null,null,null,null,null,"El Ejido",5,1.75,1.76,34]
["Albacete",null,null,null,null,null,null,"Roquetas de mar",5,1.77,1.77,34]
["Alicante"]
["Almeria",null,null,null,null,null,null,"Aviles",1,1.22,1.22,37]
["Asturias",null,null,null,null,null,null,"Castrillon",1,1.1000000000000001,1.1000000000000001,31]
["Ávila",null,null,null,null,null,null,"Gijón",1,1.26,1.26,36]
["Badajoz",null,null,null,null,null,null,"Langreo",1,1.19,1.2,37]
["Barcelona",null,null,null,null,null,null,"Mieres",1,1.21,1.21,36]
["Burgos",null,null,null,null,null,null,"Oviedo",1,1.26,1.27,38]
["Cáceres",null,null,null,null,null,null,"San Martín del rey Aurelio",1,1.18,1.18,35]
["Cádiz",null,null,null,null,null,null,"Siero",1,1.23,1.23,37]
["Cantabria"]
["Castellón",null,null,null,null,null,null,"Ávila(ciudad)",4,1.46,1.46,34]
["Ciudad_Real"]
["Córdoba",null,null,null,null,null,null,"Almendralejo",5,1.63,1.63,34]
["Cuenca",null,null,null,null,null,null,"Badajoz(ciudad)",5,1.63,1.64,35]
["Girona",null,null,null,null,null,null,"Don Benito",5,1.64,1.65,35]
["Granada",null,null,null,null,null,null,"Mérida",5,1.63,1.63,34]
["Guadalajara",null,null,null,null,null,null,"Villanueva de la Serena",5,1.64,1.64,35]
["Guipuzcoa"]
["Huelva",null,null,null,null,null,null,"Badalona",2,1.58,1.59,37]
["Huesca",null,null,null,null,null,null,"Barbera_del_valles",2,1.58,1.59,38]
["Islas_Baleares",null,null,null,null,null,null,"Barcelona",2,1.58,1.59,37]
["Jaén",null,null,null,null,null,null,"Castelldefels",2,1.56,1.57,37]
["La_Rioja",null,null,null,null,null,null,"Cedanyola_del_Valles",2,1.58,1.59,38]
["Las_Palmas",null,null,null,null,null,null,"Cornellà_de_Llobregat",2,1.62,1.63,37]
["León",null,null,null,null,null,null,"Gava",2,1.56,1.57,37]
["Lugo",null,null,null,null,null,null,"Granollers",3,1.61,1.63,38]
["Lleida",null,null,null,null,null,null,"L´Hospitalet_de_Llobregat",2,1.62,1.63,37]
["Madrid",null,null,null,null,null,null,"Igualada",3,1.58,1.59,38]
["Málaga",null,null,null,null,null,null,"Manresa",3,1.58,1.59,38]
["Melilla",null,null,null,null,null,null,"El_Mansou",2,1.56,1.57,37]
["Murcia",null,null,null,null,null,null,"Mataró",2,1.57,1.58,38]
["Navarra",null,null,null,null,null,null,"Mollet_del_Valles",2,1.6,1.61,38]
["Ourense",null,null,null,null,null,null,"Montcada_i",2,1.66,1.66,36]
["Palencia",null,null,null,null,null,null,"El_Prat_de_Llobregat",2,1.65,1.66,37]
["Pontevedra",null,null,null,null,null,null,"Premia_de_mar",2,1.57,1.58,37]
["Salamanca",null,null,null,null,null,null,"Ripollet",2,1.58,1.59,38]
["Santa_Cruz_de_Tenerife",null,null,null,null,null,null,"Rubi",2,1.58,1.59,38]
["Segovia",null,null,null,null,null,null,"Sabadell",3,1.57,1.59,38]
["Sevilla",null,null,null,null,null,null,"Sant_Adria_de_Besos",2,1.58,1.59,37]
["Soria",null,null,null,null,null,null,"Sant_Boi_de_Llobregat",2,1.59,1.59,37]
["Tarragona",null,null,null,null,null,null,"Sant_Cugat_del_Valles",2,1.59,1.6,38]
["Teruel",null,null,null,null,null,null,"Sant_Feliu_de_Llobregat",2,1.6,1.61,37]
["Toledo",null,null,null,null,null,null,"Sant_Joan_Despí",2,1.61,1.62,37]
["Valencia",null,null,null,null,null,null,"Sant_Pere_de_Ribes",2,1.59,1.6,37]
["Valladolid",null,null,null,null,null,null,"Sant_Vicenç_dels_Horts",2,1.57,1.58,37]
["Vizcaya",null,null,null,null,null,null,"Santa_Coloma_de_Gramenet",2,1.53,1.54,37]
["Zamora",null,null,null,null,null,null,"Terrasa_",3,1.55,1.57,38]
["Zaragoza",null,null,null,null,null,null,"Vic",3,1.55,1.57,38]
[null,null,null,null,null,null,null,"Viladecans",2,1.64,1.65,37]
[null,null,null,null,null,null,null,"Vilafranca_del_Penedes",2,1.59,1.6,37]
[null,null,null,null,null,null,null,"Vilanova_i_la_Geltru",2,1.59,1.6,37]
[]
[null,null,null,null,null,null,null,"Aranda_del_duero",2,1.5,1.5,35]
[null,null,null,null,null,null,null,"Burgos(ciudad)",2,1.41,1.41,33]
[null,null,null,null,null,null,null,"Miranda_del_Ebro",2,1.33,1.34,34]
[]
[null,null,null,null,null,null,null,"Cáceres(ciudad)",5,1.63,1.64,34]
[null,null,null,null,null,null,null,"Plasencia",5,1.61,1.61,35]
[]
[null,null,null,null,null,null,null,"Algeciras",4,1.68,1.68,31]
[null,null,null,null,null,null,null,"Arcos_de_la_Frontera",5,1.69,1.69,33]
[null,null,null,null,null,null,null,"Barbate",4,1.71,1.71,32]
[null,null,null,null,null,null,null,"Cádiz(ciudad)",4,1.71,1.71,33]
[null,null,null,null,null,null,null,"Chiclana_de_la_frontera",4,1.74,1.74,33]
[null,null,null,null,null,null,null,"Jerez_de_la_Frontera",5,1.69,1.69,33]
[null,null,null,null,null,null,null,"La_línea_de_la_Concepción",4,1.59,1.59,31]
[null,null,null,null,null,null,null,"El_Puerto_de_Santa_María",4,1.74,1.74,33]
[null,null,null,null,null,null,null,"Puerto_Real",4,1.68,1.68,33]
[null,null,null,null,null,null,null,"Rota",5,1.73,1.73,33]
[null,null,null,null,null,null,null,"San_Fernando",4,1.73,1.73,33]
[null,null,null,null,null,null,null,"San_Roque",4,1.68,1.68,32]
[null,null,null,null,null,null,null,"Sanlucar_de_Barrameda",5,1.73,1.73,33]
[]
[null,null,null,null,null,null,null,"Camargo",1,1.22,1.23,36]
[null,null,null,null,null,null,null,"Santander",1,1.17,1.17,36]
[null,null,null,null,null,null,null,"Torrelavega",1,1.1599999999999999,1.1599999999999999,36]
[]
[null,null,null,null,null,null,null,"Burriana",4,1.64,1.65,36]
[null,null,null,null,null,null,null,"Castellon_de_la_Plana",4,1.63,1.64,36]
[null,null,null,null,null,null,null,"La_Vall_d´uixo",4,1.63,1.64,36]
[null,null,null,null,null,null,null,"Vila-Real",4,1.5,1.51,34]
[null,null,null,null,null,null,null,"Vinaroz",4,1.58,1.59,37]
[]
[null,null,null,null,null,null,null,"Ceuta(ciudad)",5,1.64,1.64,32]
[]
[null,null,null,null,null,null,null,"Alcazar_de_San_juan",4,1.62,1.62,35]
[null,null,null,null,null,null,null,"Ciudad_Real(ciudad)",4,1.62,1.62,35]
[null,null,null,null,null,null,null,"Puertollano",4,1.62,1.62,34]
[null,null,null,null,null,null,null,"Tomelloso",4,1.62,1.63,35]
[null,null,null,null,null,null,null,"Valdepeñas",4,1.62,1.62,34]
[]
[null,null,null,null,null,null,null,"Baena",5,1.64,1.65,33]
[null,null,null,null,null,null,null,"Cabra",5,1.62,1.62,33]
[null,null,null,null,null,null,null,"Córdoba(ciudad)",4,1.63,1.63,34]
[null,null,null,null,null,null,null,"Lucena",5,1.62,1.62,33]
[null,null,null,null,null,null,null,"Montilla",5,1.64,1.65,34]
[null,null,null,null,null,null,null,"Priego_de_Córdoba",5,1.63,1.63,33]
[null,null,null,null,null,null,null,"Puente_Genil",5,1.65,1.66,33]
[]
[null,null,null,null,null,null,null,"Cuenca",3,1.55,1.55,36]
[]
[null,null,null,null,null,null,null,"Blanes",3,1.55,1.56,37]
[null,null,null,null,null,null,null,"Figueres",3,1.5,1.51,38]
[null,null,null,null,null,null,null,"Girona(ciudad)",3,1.51,1.52,38]
[null,null,null,null,null,null,null,"Olot",3,1.48,1.49,39]
[null,null,null,null,null,null,null,"Salt",3,1.51,1.52,38]
[]
[null,null,null,null,null,null,null,"Almuñecar",4,1.75,1.75,33]
[null,null,null,null,null,null,null,"Baza",5,1.69,1.69,34]
[null,null,null,null,null,null,null,"Granada(ciudad)",4,1.69,1.69,33]
[null,null,null,null,null,null,null,"Guadix",4,1.71,1.71,35]
[null,null,null,null,null,null,null,"Loja",4,1.65,1.65,33]
[null,null,null,null,null,null,null,"Motril",5,1.83,1.83,34]
[]
[null,null,null,null,null,null,null,"Huelva",5,1.7,1.71,33]
[]
[null,null,null,null,null,null,null,"Huesca",3,1.61,1.62,38]
[]
[null,null,null,null,null,null,null,"Calvia",4,1.63,1.64,35]
[null,null,null,null,null,null,null,"Ciutadella_de_menorca",4,1.61,1.62,35]
[null,null,null,null,null,null,null,"Eivissa",4,1.65,1.66,35]
[null,null,null,null,null,null,null,"inca",4,1.54,1.55,35]
[null,null,null,null,null,null,null,"Llucmajor",4,1.58,1.58,35]
[null,null,null,null,null,null,null,"Mahon",4,1.65,1.66,35]
[null,null,null,null,null,null,null,"Manacor",4,1.57,1.57,35]
[null,null,null,null,null,null,null,"Palma_de_Mallorca",4,1.61,1.62,35]
[null,null,null,null,null,null,null,"Santa_Eulalia_del_río",4,1.68,1.68,35]
[]
[null,null,null,null,null,null,null,"Alcalá_la_Real",4,1.63,1.63,33]
[null,null,null,null,null,null,null,"Andujar",5,1.64,1.64,34]
[null,null,null,null,null,null,null,"Jaén",4,1.65,1.66,33]
[null,null,null,null,null,null,null,"Linares",5,1.64,1.65,34]
[null,null,null,null,null,null,null,"Martos",4,1.63,1.63,33]
[null,null,null,null,null,null,null,"Úbeda",5,1.69,1.69,34]
[]
[null,null,null,null,null,null,null,"Logroño",2,1.38,1.38,35]
[]
[null,null,null,null,null,null,null,"Arrecife",5,1.83,1.83,29]
[null,null,null,null,null,null,null,"Arucas",5,1.82,1.82,28]
[null,null,null,null,null,null,null,"Galdar",5,1.83,1.83,28]
[null,null,null,null,null,null,null,"Ingenio",5,1.84,1.85,28]
[null,null,null,null,null,null,null,"Las_Palmas_de_Gran_Canaria",5,1.8,1.81,28]
[null,null,null,null,null,null,null,"San_Bartolome_de_Tirajana",5,1.88,1.89,27]
[null,null,null,null,null,null,null,"Santa_Lucia",5,1.87,1.88,27]
[null,null,null,null,null,null,null,"Telde",5,1.82,1.82,28]
[]
[null,null,null,null,null,null,null,"León(ciudad)",3,1.57,1.58,36]
[null,null,null,null,null,null,null,"Ponferrada",2,1.47,1.48,36]
[null,null,null,null,null,null,null,"San_Andrés_del_Rabanedo",3,1.58,1.59,36]
[]
[null,null,null,null,null,null,null,"Lugo(ciudad)",2,1.33,1.33,34]
[]
[null,null,null,null,null,null,null,"Lleida(ciudad)",3,1.57,1.58,37]
[]
[null,null,null,null,null,null,null,"Alcalá_de_Henares",4,1.59,1.6,36]
[null,null,null,null,null,null,null,"Alcobendas",4,1.6,1.61,36]
[null,null,null,null,null,null,null,"Alcorcón",4,1.62,1.62,36]
[null,null,null,null,null,null,null,"Aranjuez",4,1.55,1.56,35]
[null,null,null,null,null,null,null,"Arganda_del_Rey",4,1.59,1.59,36]
[null,null,null,null,null,null,null,"Colmenar_Viejo",4,1.6,1.61,36]
[null,null,null,null,null,null,null,"Collado_Villalba",4,1.59,1.59,36]
[null,null,null,null,null,null,null,"Coslada",4,1.6,1.6,36]
[null,null,null,null,null,null,null,"Fuenlabrada",4,1.62,1.62,36]
[null,null,null,null,null,null,null,"Getafe",4,1.61,1.62,36]
[null,null,null,null,null,null,null,"Leganés",4,1.62,1.62,36]
[null,null,null,null,null,null,null,"Madrid(ciudad)",4,1.62,1.63,36]
[null,null,null,null,null,null,null,"Majadahonda",4,1.62,1.62,36]
[null,null,null,null,null,null,null,"Mostoles",4,1.61,1.61,36]
[null,null,null,null,null,null,null,"Parla",4,1.61,1.62,36]
[null,null,null,null,null,null,null,"Pinto",4,1.61,1.61,36]
[null,null,null,null,null,null,null,"Pozuelo_de_Alarcón",4,1.62,1.63,36]
[null,null,null,null,null,null,null,"Rivas-Vaciamadrid",4,1.61,1.61,36]
[null,null,null,null,null,null,null,"las_Rozas_de_Madrid",4,1.61,1.62,36]
[null,null,null,null,null,null,null,"San_Fernando_de_Henares",4,1.61,1.62,36]
[null,null,null,null,null,null,null,"San_Sebastián_de_los_Reyes",4,1.61,1.61,36]
[null,null,null,null,null,null,null,"Torrejón_de_Ardoz",4,1.6,1.61,36]
[null,null,null,null,null,null,null,"Tres_Cantos",4,1.61,1.62,36]
[null,null,null,null,null,null,null,"Valdemoro",4,1.61,1.61,36]
[null,null,null,null,null,null,null,"Antequera",4,1.6,1.6,31]
[null,null,null,null,null,null,null,"Benalmadena",4,1.71,1.71,33]
[null,null,null,null,null,null,null,"Estepona",4,1.67,1.67,32]
[null,null,null,null,null,null,null,"Fuengirola",4,1.71,1.71,33]
[null,null,null,null,null,null,null,"Málaga(ciudad)",4,1.7,1.71,33]
[null,null,null,null,null,null,null,"Marbella",4,1.68,1.68,32]
[null,null,null,null,null,null,null,"Mijas",4,1.67,1.67,31]
[null,null,null,null,null,null,null,"Rincón_de_la_Victoria",4,1.71,1.71,33]
[null,null,null,null,null,null,null,"Ronda",4,1.65,1.65,32]
[null,null,null,null,null,null,null,"Torremolinos",4,1.72,1.72,33]
[null,null,null,null,null,null,null,"Velez-Málaga",4,1.77,1.77,34]
[]
[null,null,null,null,null,null,null,"Melilla(ciudad)",5,1.67,1.67,32]
[]
[null,null,null,null,null,null,null,"Águilas",5,1.69,1.69,34]
[null,null,null,null,null,null,null,"Alcantarilla",4,1.63,1.64,34]
[null,null,null,null,null,null,null,"Caravaca_de_la_Cruz",5,1.61,1.61,34]
[null,null,null,null,null,null,null,"Cartagena",4,1.7,1.7,34]
[null,null,null,null,null,null,null,"Cieza",5,1.66,1.66,34]
[null,null,null,null,null,null,null,"Jumilla",5,1.65,1.65,35]
[null,null,null,null,null,null,null,"Lorca",5,1.65,1.65,34]
[null,null,null,null,null,null,null,"Molina_de_Segura",5,1.64,1.64,34]
[null,null,null,null,null,null,null,"Murcia(ciudad)",4,1.64,1.64,34]
[null,null,null,null,null,null,null,"Torre-Pacheco",4,1.66,1.66,34]
[null,null,null,null,null,null,null,"Totana_",5,1.63,1.63,34]
[null,null,null,null,null,null,null,"Yecla",5,1.63,1.64,35]
[]
[null,null,null,null,null,null,null,"Barañain",2,1.39,1.39,35]
[null,null,null,null,null,null,null,"Pamplona",2,1.37,1.37,35]
[null,null,null,null,null,null,null,"Tudela",3,1.5,1.51,36]
[]
[null,null,null,null,null,null,null,"Ourense(ciudad)",2,1.42,1.42,35]
[]
[null,null,null,null,null,null,null,"Palencia(ciudad)",2,1.52,1.52,35]
[]
[null,null,null,null,null,null,null,"Cangas",1,1.42,1.43,35]
[null,null,null,null,null,null,null,"A_Estrada",1,1.45,1.45,35]
[null,null,null,null,null,null,null,"Lalin",1,1.35,1.36,35]
[null,null,null,null,null,null,null,"Marin",1,1.42,1.42,35]
[null,null,null,null,null,null,null,"Pontevedra",1,1.44,1.44,35]
[null,null,null,null,null,null,null,"Redondela",1,1.39,1.39,34]
[null,null,null,null,null,null,null,"Vigo",1,1.39,1.39,35]
[null,null,null,null,null,null,null,"Vilagarcia_de_Arousa",1,1.45,1.46,36]
[]
[null,null,null,null,null,null,null,"Salamanca(ciudad)",3,1.55,1.56,34]
[]
[null,null,null,null,null,null,null,"Arona",5,1.89,1.89,27]
[null,null,null,null,null,null,null,"Icod_de_los_Vinos",5,1.83,1.83,27]
[null,null,null,null,null,null,null,"La_Orotava",5,1.82,1.82,27]
[null,null,null,null,null,null,null,"Puerto_de_la_Cruz",5,1.81,1.81,27]
[null,null,null,null,null,null,null,"Los_Realejos",5,1.81,1.81,27]
[null,null,null,null,null,null,null,"San Cristobal",5,1.85,1.85,28]
[null,null,null,null,null,null,null,"Santa Cruz(ciudad)",5,1.81,1.81,27]
[null,null,null,null,null,null,null,"Tacoronte",5,1.85,1.85,27]
[]
[null,null,null,null,null,null,null,"Segovia(ciudad)",3,1.49,1.49,34]
[]
[null,null,null,null,null,null,null,"Alcalá_de_Guadaira",5,1.67,1.67,33]
[null,null,null,null,null,null,null,"Camas",5,1.66,1.66,34]
[null,null,null,null,null,null,null,"Carmona",5,1.68,1.68,34]
[null,null,null,null,null,null,null,"Coria_del_Río",5,1.69,1.69,33]
[null,null,null,null,null,null,null,"Dos_Hermanas",5,1.68,1.69,33]
[null,null,null,null,null,null,null,"Ecija",5,1.65,1.66,34]
[null,null,null,null,null,null,null,"Lebrija",5,1.68,1.68,33]
[null,null,null,null,null,null,null,"Mairena_del_Aljarafe",5,1.69,1.69,33]
[null,null,null,null,null,null,null,"Morón_de_la_Frontera",5,1.65,1.65,33]
[null,null,null,null,null,null,null,"Los_Palacios_y_Villafranca",5,1.7,1.7,33]
[null,null,null,null,null,null,null,"La_Rinconada",5,1.68,1.68,33]
[null,null,null,null,null,null,null,"San_Juan_de_Aznalfarache",5,1.68,1.68,33]
[null,null,null,null,null,null,null,"Sevilla(ciudad)",5,1.67,1.67,33]
[null,null,null,null,null,null,null,"Utrera",5,1.67,1.67,33]
[]
[null,null,null,null,null,null,null,"Soria(ciudad)",3,1.54,1.54,37]
[]
[null,null,null,null,null,null,null,"Reus",4,1.6,1.61,37]
[null,null,null,null,null,null,null,"Tarragona(ciudad)",3,1.59,1.6,37]
[null,null,null,null,null,null,null,"Tortosa",4,1.55,1.56,37]
[null,null,null,null,null,null,null,"Valls",4,1.55,1.56,37]
[null,null,null,null,null,null,null,"El_Vendrell",3,1.64,1.65,37]
[]
[null,null,null,null,null,null,null,"Teruel(ciudad)",3,1.54,1.54,36]
[]
[null,null,null,null,null,null,null,"Talavera_de_la_Reina",4,1.62,1.63,36]
[null,null,null,null,null,null,null,"Toledo(ciudad)",4,1.58,1.59,34]
[]
[null,null,null,null,null,null,null,"Alaquas",4,1.63,1.63,36]
[null,null,null,null,null,null,null,"Aldaia",4,1.63,1.63,36]
[null,null,null,null,null,null,null,"Algemesi",4,1.61,1.61,35]
[null,null,null,null,null,null,null,"Alzira",4,1.61,1.61,35]
[null,null,null,null,null,null,null,"Burjassot",4,1.63,1.63,36]
[null,null,null,null,null,null,null,"Carcaixent",4,1.6,1.61,35]
[null,null,null,null,null,null,null,"Catarroja",4,1.66,1.66,36]
[null,null,null,null,null,null,null,"Cullera",4,1.64,1.64,35]
[null,null,null,null,null,null,null,"Gandía",4,1.59,1.6,35]
[null,null,null,null,null,null,null,"Manises",4,1.61,1.62,36]
[null,null,null,null,null,null,null,"Mislata",4,1.63,1.64,36]
[null,null,null,null,null,null,null,"Oliva",4,1.62,1.62,35]
[null,null,null,null,null,null,null,"Ontinyent",4,1.57,1.58,35]
[null,null,null,null,null,null,null,"Paterna",4,1.62,1.63,36]
[null,null,null,null,null,null,null,"Quart_de_poblet",4,1.63,1.63,36]
[null,null,null,null,null,null,null,"Sagunto",4,1.67,1.68,36]
[null,null,null,null,null,null,null,"Sueca",4,1.65,1.65,36]
[null,null,null,null,null,null,null,"Torrent",4,1.6,1.61,36]
[null,null,null,null,null,null,null,"Valencia(ciudad)",4,1.67,1.68,36]
[null,null,null,null,null,null,null,"Xativa",4,1.57,1.58,35]
[null,null,null,null,null,null,null,"Xirivella",4,1.63,1.64,36]
[]
[null,null,null,null,null,null,null,"Medina_del_Campo",3,1.55,1.55,35]
[null,null,null,null,null,null,null,"Valladolid(ciudad)",2,1.53,1.53,35]
[]
[null,null,null,null,null,null,null,"Barakaldo",1,1.2,1.21,35]
[null,null,null,null,null,null,null,"Basauri",1,1.18,1.18,35]
[null,null,null,null,null,null,null,"Bilbao",1,1.18,1.18,35]
[null,null,null,null,null,null,null,"Durango",1,1.18,1.18,35]
[null,null,null,null,null,null,null,"Erandio",1,1.2,1.2,35]
[null,null,null,null,null,null,null,"Galdakao",1,1.1399999999999999,1.1399999999999999,34]
[null,null,null,null,null,null,null,"Getxo",1,1.18,1.18,35]
[null,null,null,null,null,null,null,"Leioa",1,1.21,1.21,36]
[null,null,null,null,null,null,null,"Portugalete",1,1.21,1.22,35]
[null,null,null,null,null,null,null,"Santurtzi",1,1.21,1.21,35]
[null,null,null,null,null,null,null,"Sestao",1,1.2,1.21,35]
[]
[null,null,null,null,null,null,null,"Zamora(ciudad)",3,1.56,1.57,35]
[]
[null,null,null,null,null,null,null,"Zaragoza(ciudad)",4,1.57,1.58,37]

{"sheet":"RADIACIONES SEGÚN ZONA","index":10,"n_rows":84,"n_cols":52,"rows_kept":84,"cut":false,"hidden":true,"merged":[]}
[" ","ZONA I",null,null,null,null,null,null,null,null,null,null,null,null,null,null,null,null,null,null,null,null,null,null,null,null,"PRODUCCIÓN FV",{"$f":"'CUADRO RENTING'!D1*'CUADRO RENTING'!H3*0.815*1.5/1000","v":18.616229999999998}]
["ZONA I",1,2,3,4,5,6,7,8,9,10,11,12,13,14,15,16,17,18,19,20,21,22,23,24,null,1,"ZONA I",1,2,3,4,5,6,7,8,9,10,11,12,13,14,15,16,17,18,19,20,21,22,23,24]
["Enero",0,0,0,0,0,0,0,0.05,0.14000000000000001,0.22,0.28000000000000003,0.3,0.28000000000000003,0.22,0.14000000000000001,0.05,0,0,0,0,0,0,0,0,null,null,"Enero",{"$f":"B3*$AB$1","v":0},{"$f":"C3*$AB$1","v":0},0,0,0,0,0,0.9308114999999999,2.6062721999999998,4.0955705999999994,5.2125443999999996,5.5848689999999994,5.2125443999999996,4.0955705999999994,2.6062721999999998,0.9308114999999999,0,0,0,0,0,0,0,0]
["Febrero",0,0,0,0,0,0,0.02,0.11,0.22,0.31,0.38,0.4,0.38,0.31,0.22,0.11,0.02,0,0,0,0,0,0,0,null,null,"Febrero",{"$f":"B4*$AB$1","v":0},0,0,0,0,0,0.37232459999999995,2.0477852999999997,4.0955705999999994,5.7710312999999998,7.0741673999999994,7.4464919999999992,7.0741673999999994,5.7710312999999998,4.0955705999999994,2.0477852999999997,0.37232459999999995,0,0,0,0,0,0,0]
["Marzo",0,0,0,0,0,0,0.09,0.2,0.32,0.42,0.49,0.52,0.49,0.42,0.32,0.2,0.09,0,0,0,0,0,0,0,null,null,"Marzo",0,0,0,0,0,0,1.6754606999999997,3.7232459999999996,5.9571935999999992,7.818816599999999,9.1219526999999996,9.6804395999999997,9.1219526999999996,7.818816599999999,5.9571935999999992,3.7232459999999996,1.6754606999999997,0,0,0,0,0,0,0]
["Abril",0,0,0,0,0,0.05,0.16,0.28000000000000003,0.4,0.5,0.56999999999999995,0.6,0.56999999999999995,0.5,0.4,0.28000000000000003,0.16,0.05,0,0,0,0,0,0,null,null,"Abril",0,0,0,0,0,0.9308114999999999,2.9785967999999996,5.2125443999999996,7.4464919999999992,9.308114999999999,10.611251099999999,11.169737999999999,10.611251099999999,9.308114999999999,7.4464919999999992,5.2125443999999996,2.9785967999999996,0.9308114999999999,0,0,0,0,0,0]
["Mayo",0,0,0,0,0.02,0.11,0.22,0.34,0.45,0.55000000000000004,0.61,0.63,0.61,0.55000000000000004,0.45,0.34,0.22,0.11,0.02,0,0,0,0,0,null,null,"Mayo",0,0,0,0,0.37232459999999995,2.0477852999999997,4.0955705999999994,6.3295181999999999,8.3773035,10.2389265,11.355900299999998,11.728224899999999,11.355900299999998,10.2389265,8.3773035,6.3295181999999999,4.0955705999999994,2.0477852999999997,0.37232459999999995,0,0,0,0,0]
["Junio",0,0,0,0,0.04,0.14000000000000001,0.26,0.38,0.5,0.59,0.66,0.68,0.66,0.59,0.5,0.38,0.26,0.14000000000000001,0.04,0,0,0,0,0,null,null,"Junio",0,0,0,0,0.7446491999999999,2.6062721999999998,4.8402197999999999,7.0741673999999994,9.308114999999999,10.983575699999998,12.286711799999999,12.6590364,12.286711799999999,{"$f":"O8*$AB$1","v":10.983575699999998},9.308114999999999,7.0741673999999994,4.8402197999999999,2.6062721999999998,0.7446491999999999,0,0,0,0,0]
["Julio",0,0,0,0,0.03,0.14000000000000001,0.26,0.4,0.53,0.63,0.7,0.73,0.7,0.63,0.53,0.4,0.26,0.14000000000000001,0.03,0,0,0,0,0,null,null,"Julio",0,0,0,0,0.5584868999999999,2.6062721999999998,4.8402197999999999,7.4464919999999992,9.8666018999999991,11.728224899999999,13.031360999999999,13.589847899999999,13.031360999999999,11.728224899999999,9.8666018999999991,7.4464919999999992,4.8402197999999999,2.6062721999999998,0.5584868999999999,0,0,0,0,0]
["Agosto",0,0,0,0,0,0.08,0.2,0.34,0.47,0.56999999999999995,0.65,0.67,0.65,0.56999999999999995,0.47,0.34,0.2,0.08,0,0,0,0,0,0,null,null,"Agosto",0,0,0,0,0,1.4892983999999998,3.7232459999999996,6.3295181999999999,8.7496280999999989,10.611251099999999,12.1005495,12.4728741,12.1005495,10.611251099999999,8.7496280999999989,6.3295181999999999,3.7232459999999996,1.4892983999999998,0,0,0,0,0,0]
["Septiembre",0,0,0,0,0,0.01,0.12,0.25,0.38,0.5,0.56999999999999995,0.6,0.56999999999999995,0.5,0.38,0.25,0.12,0.01,0,0,0,0,0,0,null,null,"Septiembre",0,0,0,0,0,0.18616229999999998,2.2339475999999996,4.6540574999999995,7.0741673999999994,9.308114999999999,10.611251099999999,11.169737999999999,10.611251099999999,9.308114999999999,7.0741673999999994,4.6540574999999995,2.2339475999999996,0.18616229999999998,0,0,0,0,0,0]
["Octubre",0,0,0,0,0,0,0.04,0.15,0.27,0.37,0.44,0.47,0.44,0.37,0.27,0.15,0.04,0,0,0,0,0,0,0,null,null,"Octubre",0,0,0,0,0,0,0.7446491999999999,2.7924344999999997,5.0263821000000002,6.8880050999999991,8.1911411999999988,8.7496280999999989,8.1911411999999988,6.8880050999999991,5.0263821000000002,2.7924344999999997,0.7446491999999999,0,0,0,0,0,0,0]
["Noviembre",0,0,0,0,0,0,0,7.0000000000000007E-2,0.17,0.25,0.31,0.34,0.31,0.25,0.17,7.0000000000000007E-2,0,0,0,0,0,0,0,0,null,null,"Noviembre",0,0,0,0,0,0,0,1.3031360999999999,3.1647590999999999,4.6540574999999995,5.7710312999999998,6.3295181999999999,5.7710312999999998,4.6540574999999995,3.1647590999999999,1.3031360999999999,0,0,0,0,0,0,0,0]
["Diciembre",0,0,0,0,0,0,0,0.04,0.12,0.2,0.26,0.28000000000000003,0.26,0.2,0.12,0.04,0,0,0,0,0,0,0,0,null,null,"Diciembre",0,0,0,{"$f":"E14*$AB$1","v":0},0,0,0,0.7446491999999999,2.2339475999999996,3.7232459999999996,4.8402197999999999,5.2125443999999996,4.8402197999999999,3.7232459999999996,2.2339475999999996,0.7446491999999999,0,0,0,0,0,0,0,0]
["Media anual",0,0,0,0,0.01,0.05,0.11,0.22,0.33,0.43,0.49,0.52,0.49,0.43,0.33,0.22,0.11,0.05,0.01,0,0,0,0,0,null,null,"Media anual",0,0,0,0,0.75,4.416666666666667,11.416666666666666,21.75,33.083333333333336,42.583333333333336,49.333333333333336,51.833333333333336,49.333333333333336,42.583333333333336,33.083333333333336,21.75,11.416666666666666,4.416666666666667,0.75,0,0,0,0,0]
["Total anual",0,0,0,0,2.79,16.510000000000002,41.87,79.5,120.42,156.03,180.37,189.02,180.37,156.03,120.42,79.5,41.87,16.510000000000002,2.79,0,0,0,0,0,null,null,"Total anual",0,0,0,0,9,53,137,261,397,511,592,622,592,511,397,261,137,53,9,0,0,0,0,0]
[]
[{"$f":"$C$3","v":0},"ZONA II"]
["ZONA II",1,2,3,4,5,6,7,8,9,10,11,12,13,14,15,16,17,18,19,20,21,22,23,24,null,2,"ZONA 2",1,2,3,4,5,6,7,8,9,10,11,12,13,14,15,16,17,18,19,20,21,22,23,24]
["Enero",0,0,0,0,0,0,0,0.05,0.13,0.2,0.26,0.28000000000000003,0.26,0.2,0.13,0.05,0,0,0,0,0,0,0,0,null,null,"Enero",{"$f":"B20*$AB$1","v":0},{"$f":"C20*$AB$1","v":0},0,0,0,0,0,0.9308114999999999,2.4201098999999999,3.7232459999999996,4.8402197999999999,5.2125443999999996,4.8402197999999999,3.7232459999999996,2.4201098999999999,0.9308114999999999,0,{"$f":"S20*$AB$1","v":0},0,0,0,0,0,0]
["Febrero",0,0,0,0,0,0,0.02,0.12,0.23,0.33,0.39,0.42,0.39,0.33,0.23,0.12,0.02,0,0,0,0,0,0,0,null,null,"Febrero",{"$f":"B21*$AB$1","v":0},0,0,0,0,{"$f":"G21*$AB$1","v":0},0.37232459999999995,2.2339475999999996,4.2817328999999997,6.1433558999999995,7.2603296999999998,7.818816599999999,7.2603296999999998,6.1433558999999995,4.2817328999999997,2.2339475999999996,0.37232459999999995,0,0,0,0,0,0,0]
["Marzo",0,0,0,0,0,0,0.09,0.21,0.34,0.45,0.53,0.55000000000000004,0.53,0.45,0.34,0.21,0.09,0,0,0,0,0,0,0,null,null,"Marzo",0,0,0,0,0,0,1.6754606999999997,3.9094082999999995,6.3295181999999999,8.3773035,9.8666018999999991,10.2389265,9.8666018999999991,8.3773035,6.3295181999999999,3.9094082999999995,1.6754606999999997,0,0,0,0,0,0,0]
["Abril",0,0,0,0,0,0.06,0.18,0.31,0.45,0.56000000000000005,0.64,0.66,0.64,0.56000000000000005,0.45,0.31,0.18,0.06,0,0,0,0,0,0,null,null,"Abril",0,0,0,0,0,1.1169737999999998,3.3509213999999994,5.7710312999999998,8.3773035,10.425088799999999,11.914387199999998,12.286711799999999,11.914387199999998,10.425088799999999,8.3773035,5.7710312999999998,3.3509213999999994,1.1169737999999998,0,0,0,0,0,0]
["Mayo",0,0,0,0,0.02,0.12,0.25,0.39,0.53,0.64,0.72,0.74,0.72,0.64,0.53,0.39,0.25,0.12,0.02,0,0,0,0,0,null,null,"Mayo",0,0,0,0,0.37232459999999995,2.2339475999999996,4.6540574999999995,7.2603296999999998,9.8666018999999991,11.914387199999998,13.403685599999998,13.776010199999998,13.403685599999998,11.914387199999998,9.8666018999999991,7.2603296999999998,4.6540574999999995,2.2339475999999996,0.37232459999999995,0,0,0,0,0]
["Junio",0,0,0,0,0.04,0.15,0.28000000000000003,0.41,0.54,0.65,0.72,0.75,0.72,0.65,0.54,0.41,0.28000000000000003,0.15,0.04,0,0,0,0,0,null,null,"Junio",0,0,0,0,0.7446491999999999,2.7924344999999997,5.2125443999999996,7.6326542999999987,10.0527642,12.1005495,13.403685599999998,13.962172499999998,13.403685599999998,{"$f":"O25*$AB$1","v":12.1005495},10.0527642,7.6326542999999987,5.2125443999999996,2.7924344999999997,0.7446491999999999,0,0,0,0,0]
["Julio",0,0,0,0,0.04,0.16,0.3,0.45,0.6,0.72,0.8,0.83,0.8,0.72,0.6,0.45,0.3,0.16,0.04,0,0,0,0,0,null,null,"Julio",0,0,0,0,0.7446491999999999,2.9785967999999996,5.5848689999999994,8.3773035,11.169737999999999,13.403685599999998,14.892983999999998,15.451470899999997,14.892983999999998,13.403685599999998,11.169737999999999,8.3773035,5.5848689999999994,2.9785967999999996,0.7446491999999999,0,0,0,0,0]
["Agosto",0,0,0,0,0,0.1,0.24,0.4,0.56000000000000005,0.69,0.78,0.81,0.78,0.69,0.56000000000000005,0.4,0.24,0.1,0,0,0,0,0,0,null,null,"Agosto",0,0,0,0,0,1.8616229999999998,4.4678951999999992,7.4464919999999992,10.425088799999999,12.845198699999997,14.5206594,15.0791463,14.5206594,12.845198699999997,10.425088799999999,7.4464919999999992,4.4678951999999992,1.8616229999999998,0,0,0,0,0,0]
["Septiembre",0,0,0,0,0,0.02,0.14000000000000001,0.28999999999999998,0.44,0.56999999999999995,0.66,0.69,0.66,0.56999999999999995,0.44,0.28999999999999998,0.14000000000000001,0.02,0,0,0,0,0,0,null,null,"Septiembre",0,0,0,0,0,0.37232459999999995,2.6062721999999998,5.3987066999999991,8.1911411999999988,10.611251099999999,12.286711799999999,12.845198699999997,12.286711799999999,10.611251099999999,8.1911411999999988,5.3987066999999991,2.6062721999999998,0.37232459999999995,0,0,0,0,0,0]
["Octubre",0,0,0,0,0,0,0.04,0.16,0.28000000000000003,0.39,0.47,0.5,0.47,0.39,0.28000000000000003,0.16,0.04,0,0,0,0,0,0,0,null,null,"Octubre",0,0,0,0,0,0,0.7446491999999999,2.9785967999999996,5.2125443999999996,7.2603296999999998,8.7496280999999989,9.308114999999999,8.7496280999999989,7.2603296999999998,5.2125443999999996,2.9785967999999996,0.7446491999999999,0,0,0,0,0,0,0]
["Noviembre",0,0,0,0,0,0,0,7.0000000000000007E-2,0.16,0.25,0.31,0.33,0.31,0.25,0.16,7.0000000000000007E-2,0,0,0,0,0,0,0,0,null,null,"Noviembre",0,0,0,0,0,0,0,1.3031360999999999,2.9785967999999996,4.6540574999999995,5.7710312999999998,6.1433558999999995,5.7710312999999998,4.6540574999999995,2.9785967999999996,1.3031360999999999,0,0,0,0,0,0,0,0]
["Diciembre",0,0,0,0,0,0,0,0.03,0.11,0.18,0.23,0.25,0.23,0.18,0.11,0.03,0,0,0,0,0,0,0,0,null,null,"Diciembre",0,0,0,0,0,0,0,0.5584868999999999,2.0477852999999997,3.3509213999999994,4.2817328999999997,4.6540574999999995,4.2817328999999997,3.3509213999999994,2.0477852999999997,0.5584868999999999,0,0,0,0,0,0,0,0]
["Media anual",0,0,0,0,0.01,0.05,0.13,0.24,0.37,0.47,0.54,0.56999999999999995,0.54,0.47,0.37,0.24,0.13,0.05,0.01,0,0,0,0,0,null,null,"Media anual",0,0,0,0,0.75,4.416666666666667,11.416666666666666,21.75,33.083333333333336,42.583333333333336,49.333333333333336,51.833333333333336,49.333333333333336,42.583333333333336,33.083333333333336,21.75,11.416666666666666,4.416666666666667,0.75,0,0,0,0,0]
["Total anual",0,0,0,0,2.95,18.600000000000001,47.42,88.88,133.27000000000001,171.78,198,207.33,198,171.78,133.27000000000001,88.88,47.42,18.600000000000001,2.95,0,0,0,0,0,null,null,"Total anual",0,0,0,0,9,53,137,261,397,511,592,622,592,511,397,261,137,53,9,0,0,0,0,0]
[]
[{"$f":"$C$3","v":0},"ZONA III"]
["ZONA III",1,2,3,4,5,6,7,8,9,10,11,12,13,14,15,16,17,18,19,20,21,22,23,24,null,3,"ZONA 3"]
["Enero",0,0,0,0,0,0,0,0.06,0.15,0.23,0.28999999999999998,0.31,0.28999999999999998,0.23,0.15,0.06,0,0,0,0,0,0,0,0,null,null,"Enero",{"$f":"B37*$AB$1","v":0},{"$f":"C37*$AB$1","v":0},{"$f":"D37*$AB$1","v":0},{"$f":"E37*$AB$1","v":0},{"$f":"F37*$AB$1","v":0},{"$f":"G37*$AB$1","v":0},{"$f":"H37*$AB$1","v":0},{"$f":"I37*$AB$1","v":1.1169737999999998},{"$f":"J37*$AB$1","v":2.7924344999999997},{"$f":"K37*$AB$1","v":4.2817328999999997},{"$f":"L37*$AB$1","v":5.3987066999999991},{"$f":"M37*$AB$1","v":5.7710312999999998},{"$f":"N37*$AB$1","v":5.3987066999999991},{"$f":"O37*$AB$1","v":4.2817328999999997},{"$f":"P37*$AB$1","v":2.7924344999999997},{"$f":"Q37*$AB$1","v":1.1169737999999998},{"$f":"R37*$AB$1","v":0},{"$f":"S37*$AB$1","v":0},{"$f":"T37*$AB$1","v":0},{"$f":"U37*$AB$1","v":0},{"$f":"V37*$AB$1","v":0},{"$f":"W37*$AB$1","v":0},{"$f":"X37*$AB$1","v":0},{"$f":"Y37*$AB$1","v":0}]
["Febrero",0,0,0,0,0,0,0.02,0.13,0.24,0.34,0.41,0.44,0.41,0.34,0.24,0.13,0.02,0,0,0,0,0,0,0,null,null,"Febrero",{"$f":"B38*$AB$1","v":0},0,0,0,0,{"$f":"G38*$AB$1","v":0},0.37232459999999995,2.4201098999999999,4.4678951999999992,6.3295181999999999,7.6326542999999987,8.1911411999999988,7.6326542999999987,6.3295181999999999,4.4678951999999992,2.4201098999999999,0.37232459999999995,0,0,0,0,0,0,0]
["Marzo",0,0,0,0,0,0,0.1,0.23,0.36,0.48,0.56000000000000005,0.59,0.56000000000000005,0.48,0.36,0.23,0.1,0,0,0,0,0,0,0,null,null,"Marzo",0,0,0,0,0,{"$f":"G39*$AB$1","v":0},1.8616229999999998,4.2817328999999997,6.7018427999999988,8.9357903999999984,10.425088799999999,10.983575699999998,10.425088799999999,8.9357903999999984,6.7018427999999988,4.2817328999999997,1.8616229999999998,0,0,0,0,0,0,0]
["Abril",0,0,0,0,0,0.06,0.2,0.35,0.5,0.62,0.71,0.74,0.71,0.62,0.5,0.35,0.2,0.06,0,0,0,0,0,0,null,null,"Abril",0,0,0,0,0,1.1169737999999998,3.7232459999999996,6.5156804999999993,9.308114999999999,11.5420626,13.217523299999998,13.776010199999998,13.217523299999998,11.5420626,9.308114999999999,6.5156804999999993,3.7232459999999996,1.1169737999999998,0,0,0,0,0,0]
["Mayo",0,0,0,0,0.01,0.12,0.25,0.39,0.53,0.65,0.73,0.75,0.73,0.65,0.53,0.39,0.25,0.12,0.01,0,0,0,0,0,null,null,"Mayo",0,0,0,0,0.18616229999999998,2.2339475999999996,4.6540574999999995,7.2603296999999998,9.8666018999999991,12.1005495,13.589847899999999,13.962172499999998,13.589847899999999,12.1005495,9.8666018999999991,7.2603296999999998,4.6540574999999995,2.2339475999999996,0.18616229999999998,0,0,0,0,0]
["Junio",0,0,0,0,0.04,0.16,0.31,0.46,0.61,0.74,0.82,0.85,0.82,0.74,0.61,0.46,0.31,0.16,0.04,0,0,0,0,0,null,null,"Junio",0,0,0,0,0.7446491999999999,2.9785967999999996,5.7710312999999998,8.5634657999999995,11.355900299999998,13.776010199999998,15.265308599999997,15.823795499999997,15.265308599999997,13.776010199999998,11.355900299999998,8.5634657999999995,5.7710312999999998,2.9785967999999996,0.7446491999999999,0,0,0,0,0]
["Julio",0,0,0,0,0.03,0.17,0.33,0.51,0.69,0.83,0.93,0.96,0.93,0.83,0.69,0.51,0.33,0.17,0.03,0,0,0,0,0,null,null,"Julio",0,0,0,0,0.5584868999999999,3.1647590999999999,6.1433558999999995,9.4942772999999985,12.845198699999997,15.451470899999997,17.313093899999998,17.871580799999997,17.313093899999998,{"$f":"O43*$AB$1","v":15.451470899999997},12.845198699999997,9.4942772999999985,6.1433558999999995,3.1647590999999999,0.5584868999999999,0,0,0,0,0]
["Agosto",0,0,0,0,0,0.11,0.27,0.45,0.63,0.78,0.88,0.91,0.88,0.78,0.63,0.45,0.27,0.11,0,0,0,0,0,0,null,null,"Agosto",0,0,0,0,0,2.0477852999999997,5.0263821000000002,8.3773035,11.728224899999999,14.5206594,16.382282399999998,16.940769299999999,16.382282399999998,14.5206594,11.728224899999999,8.3773035,5.0263821000000002,2.0477852999999997,0,0,0,0,0,0]
["Septiembre",0,0,0,0,0,0.02,0.15,0.31,0.47,0.61,0.7,0.73,0.7,0.61,0.47,0.31,0.15,0.02,0,0,0,0,0,0,null,null,"Septiembre",0,0,0,0,0,0.37232459999999995,2.7924344999999997,5.7710312999999998,8.7496280999999989,11.355900299999998,13.031360999999999,13.589847899999999,13.031360999999999,11.355900299999998,8.7496280999999989,5.7710312999999998,2.7924344999999997,0.37232459999999995,0,0,0,0,0,0]
["Octubre",0,0,0,0,0,0,0.05,0.17,0.31,0.42,0.5,0.53,0.5,0.42,0.31,0.17,0.05,0,0,0,0,0,0,0,null,null,"Octubre",0,0,0,0,0,0,0.9308114999999999,3.1647590999999999,5.7710312999999998,7.818816599999999,9.308114999999999,9.8666018999999991,9.308114999999999,7.818816599999999,5.7710312999999998,3.1647590999999999,0.9308114999999999,0,0,0,0,0,0,0]
["Noviembre",0,0,0,0,0,0,0,0.09,0.19,0.28000000000000003,0.35,0.37,0.35,0.28000000000000003,0.19,0.09,0,0,0,0,0,0,0,0,null,null,"Noviembre",0,0,0,0,0,0,0,1.6754606999999997,3.5370836999999997,5.2125443999999996,6.5156804999999993,6.8880050999999991,6.5156804999999993,5.2125443999999996,3.5370836999999997,1.6754606999999997,0,0,0,0,0,0,0,0]
["Diciembre",0,0,0,0,0,0,0,0.05,0.13,0.22,0.27,0.28999999999999998,0.27,0.22,0.13,0.05,0,0,0,0,0,0,0,0,null,null,"Diciembre",0,0,0,0,0,0,0,0.9308114999999999,2.4201098999999999,4.0955705999999994,5.0263821000000002,5.3987066999999991,5.0263821000000002,4.0955705999999994,2.4201098999999999,0.9308114999999999,0,0,0,0,0,0,0,0]
["Media anual",0,0,0,0,0.01,0.05,0.14000000000000001,0.27,0.4,0.52,0.6,0.62,0.6,0.52,0.4,0.27,0.14000000000000001,0.05,0.01,0,0,0,0,0,null,null,"Media anual",0,0,0,0,0.75,4.416666666666667,11.416666666666666,21.75,33.083333333333336,42.583333333333336,49.333333333333336,51.833333333333336,49.333333333333336,42.583333333333336,33.083333333333336,21.75,11.416666666666666,4.416666666666667,0.75,0,0,0,0,0]
["Total anual",0,0,0,0,2.5,19.45,51.42,97.72,146.59,188.96,217.81,228.03,217.81,188.96,146.59,97.72,51.42,19.45,2.5,0,0,0,0,0,null,null,"Total anual",0,0,0,0,9,53,137,261,397,511,592,622,592,511,397,261,137,53,9,0,0,0,0,0]
[]
[{"$f":"$C$3","v":0},"ZONA IV"]
["ZONA IV",1,2,3,4,5,6,7,8,9,10,11,12,13,14,15,16,17,18,19,20,21,22,23,24,null,4,"ZONA 4",1,2,3,4,5,6,7,8,9,10,11,12,13,14,15,16,17,18,19,20,21,22,23,24]
["Enero",0,0,0,0,0,0,0,0.1,0.23,0.34,0.43,0.46,0.43,0.34,0.23,0.1,0,0,0,0,0,0,0,0,null,null,"Enero",{"$f":"B54*$AB$1","v":0},{"$f":"C54*$AB$1","v":0},{"$f":"D54*$AB$1","v":0},{"$f":"E54*$AB$1","v":0},{"$f":"F54*$AB$1","v":0},{"$f":"G54*$AB$1","v":0},{"$f":"H54*$AB$1","v":0},{"$f":"I54*$AB$1","v":1.8616229999999998},{"$f":"J54*$AB$1","v":4.2817328999999997},{"$f":"K54*$AB$1","v":6.3295181999999999},{"$f":"L54*$AB$1","v":8.0049788999999993},{"$f":"M54*$AB$1","v":8.5634657999999995},{"$f":"N54*$AB$1","v":8.0049788999999993},{"$f":"O54*$AB$1","v":6.3295181999999999},{"$f":"P54*$AB$1","v":4.2817328999999997},{"$f":"Q54*$AB$1","v":1.8616229999999998},{"$f":"R54*$AB$1","v":0},{"$f":"S54*$AB$1","v":0},{"$f":"T54*$AB$1","v":0},{"$f":"U54*$AB$1","v":0},{"$f":"V54*$AB$1","v":0},{"$f":"W54*$AB$1","v":0},{"$f":"X54*$AB$1","v":0},{"$f":"Y54*$AB$1","v":0}]
["Febrero",0,0,0,0,0,0,0.04,0.19,0.34,0.48,0.57999999999999996,0.61,0.57999999999999996,0.48,0.34,0.19,0.04,0,0,0,0,0,0,0,null,null,"Febrero",{"$f":"B55*$AB$1","v":0},0,0,0,0,{"$f":"G55*$AB$1","v":0},0.7446491999999999,3.5370836999999997,6.3295181999999999,8.9357903999999984,10.797413399999998,11.355900299999998,10.797413399999998,8.9357903999999984,6.3295181999999999,3.5370836999999997,0.7446491999999999,0,0,0,0,0,0,0]
["Marzo",0,0,0,0,0,0,0.11,0.26,0.42,0.55000000000000004,0.64,0.67,0.64,0.55000000000000004,0.42,0.26,0.11,0,0,0,0,0,0,0,null,null,"Marzo",0,0,0,0,0,{"$f":"G56*$AB$1","v":0},2.0477852999999997,4.8402197999999999,7.818816599999999,10.2389265,11.914387199999998,12.4728741,11.914387199999998,10.2389265,7.818816599999999,4.8402197999999999,2.0477852999999997,0,0,0,0,0,0,0]
["Abril",0,0,0,0,0,0.06,0.19,0.35,0.5,0.63,0.72,0.75,0.72,0.63,0.5,0.35,0.19,0.06,0,0,0,0,0,0,null,null,"Abril",0,0,0,0,0,1.1169737999999998,3.5370836999999997,6.5156804999999993,9.308114999999999,11.728224899999999,13.403685599999998,13.962172499999998,13.403685599999998,11.728224899999999,9.308114999999999,6.5156804999999993,3.5370836999999997,1.1169737999999998,0,0,0,0,0,0]
["Mayo",0,0,0,0,0,0.13,0.28000000000000003,0.44,0.6,0.74,0.83,0.86,0.83,0.74,0.6,0.44,0.28000000000000003,0.13,0,0,0,0,0,0,null,null,"Mayo",0,0,0,0,0,2.4201098999999999,5.2125443999999996,8.1911411999999988,11.169737999999999,13.776010199999998,15.451470899999997,16.009957799999999,15.451470899999997,13.776010199999998,11.169737999999999,8.1911411999999988,5.2125443999999996,2.4201098999999999,0,0,0,0,0,0]
["Junio",0,0,0,0,0.03,0.16,0.31,0.47,0.63,0.76,0.85,0.88,0.85,0.76,0.63,0.47,0.31,0.16,0.03,0,0,0,0,0,null,null,"Junio",0,0,0,0,0.5584868999999999,2.9785967999999996,5.7710312999999998,8.7496280999999989,11.728224899999999,14.148334799999999,15.823795499999997,16.382282399999998,15.823795499999997,14.148334799999999,11.728224899999999,8.7496280999999989,5.7710312999999998,2.9785967999999996,0.5584868999999999,0,0,0,0,0]
["Julio",0,0,0,0,0.02,0.16,0.33,0.51,0.69,0.83,0.93,0.97,0.93,0.83,0.69,0.51,0.33,0.16,0.02,0,0,0,0,0,null,null,"Julio",0,0,0,0,0.37232459999999995,2.9785967999999996,6.1433558999999995,9.4942772999999985,12.845198699999997,15.451470899999997,17.313093899999998,18.057743099999996,17.313093899999998,{"$f":"O60*$AB$1","v":15.451470899999997},12.845198699999997,9.4942772999999985,6.1433558999999995,2.9785967999999996,0.37232459999999995,0,0,0,0,0]
["Agosto",0,0,0,0,0,0.09,0.25,0.43,0.6,0.74,0.84,0.88,0.84,0.74,0.6,0.43,0.25,0.09,0,0,0,0,0,0,null,null,"Agosto",0,0,0,0,0,1.6754606999999997,4.6540574999999995,8.0049788999999993,11.169737999999999,13.776010199999998,15.637633199999998,16.382282399999998,15.637633199999998,13.776010199999998,11.169737999999999,8.0049788999999993,4.6540574999999995,1.6754606999999997,0,0,0,0,0,0]
["Septiembre",0,0,0,0,0,0.02,0.16,0.32,0.49,0.63,0.73,0.76,0.73,0.63,0.49,0.32,0.16,0.02,0,0,0,0,0,0,null,null,"Septiembre",0,0,0,0,0,0.37232459999999995,2.9785967999999996,5.9571935999999992,9.1219526999999996,11.728224899999999,13.589847899999999,14.148334799999999,13.589847899999999,11.728224899999999,9.1219526999999996,5.9571935999999992,2.9785967999999996,0.37232459999999995,0,0,0,0,0,0]
["Octubre",0,0,0,0,0,0,0.06,0.2,0.35,0.49,0.57999999999999996,0.61,0.57999999999999996,0.49,0.35,0.2,0.06,0,0,0,0,0,0,0,null,null,"Octubre",0,0,0,0,0,0,1.1169737999999998,3.7232459999999996,6.5156804999999993,9.1219526999999996,10.797413399999998,11.355900299999998,10.797413399999998,9.1219526999999996,6.5156804999999993,3.7232459999999996,1.1169737999999998,0,0,0,0,0,0,0]
["Noviembre",0,0,0,0,0,0,0,0.11,0.24,0.35,0.43,0.46,0.43,0.35,0.24,0.11,0,0,0,0,0,0,0,0,null,null,"Noviembre",0,0,0,0,0,0,0,2.0477852999999997,4.4678951999999992,6.5156804999999993,8.0049788999999993,8.5634657999999995,8.0049788999999993,6.5156804999999993,4.4678951999999992,2.0477852999999997,0,0,0,0,0,0,0,0]
["Diciembre",0,0,0,0,0,0,0,0.08,0.2,0.31,0.38,0.41,0.38,0.31,0.2,0.08,0,0,0,0,0,0,0,0,null,null,"Diciembre",0,0,0,0,0,0,0,1.4892983999999998,3.7232459999999996,5.7710312999999998,7.0741673999999994,7.6326542999999987,7.0741673999999994,5.7710312999999998,3.7232459999999996,1.4892983999999998,0,0,0,0,0,0,0,0]
["Media anual",0,0,0,0,0,0.05,0.14000000000000001,0.28999999999999998,0.44,0.56999999999999995,0.66,0.69,0.66,0.56999999999999995,0.44,0.28999999999999998,0.14000000000000001,0.05,0,0,0,0,0,0,null,null,"Media anual",0,0,0,0,0.75,4.416666666666667,11.416666666666666,21.75,33.083333333333336,42.583333333333336,49.333333333333336,51.833333333333336,49.333333333333336,42.583333333333336,33.083333333333336,21.75,11.416666666666666,4.416666666666667,0.75,0,0,0,0,0]
["Total anual",0,0,0,0,1.5,18.55,52.86,105.47,160.84,208.98,241.77,253.4,241.77,208.98,160.84,105.47,52.86,18.55,1.5,0,0,0,0,0,null,null,"Total anual",0,0,0,0,9,53,137,261,397,511,592,622,592,511,397,261,137,53,9,0,0,0,0,0]
[]
[{"$f":"$C$3","v":0},"ZONA V"]
["ZONA V",1,2,3,4,5,6,7,8,9,10,11,12,13,14,15,16,17,18,19,20,21,22,23,24,null,5,"ZONA 5",1,2,3,4,5,6,7,8,9,10,11,12,13,14,15,16,17,18,19,20,21,22,23,24]
["Enero",0,0,0,0,0,0,0.01,0.12,0.25,0.36,0.44,0.47,0.44,0.36,0.25,0.12,0.01,0,0,0,0,0,0,0,null,null,"Enero",{"$f":"B71*$AB$1","v":0},{"$f":"C71*$AB$1","v":0},{"$f":"D71*$AB$1","v":0},{"$f":"E71*$AB$1","v":0},{"$f":"F71*$AB$1","v":0},{"$f":"G71*$AB$1","v":0},{"$f":"H71*$AB$1","v":0.18616229999999998},{"$f":"I71*$AB$1","v":2.2339475999999996},{"$f":"J71*$AB$1","v":4.6540574999999995},{"$f":"K71*$AB$1","v":6.7018427999999988},{"$f":"L71*$AB$1","v":8.1911411999999988},{"$f":"M71*$AB$1","v":8.7496280999999989},{"$f":"N71*$AB$1","v":8.1911411999999988},{"$f":"O71*$AB$1","v":6.7018427999999988},{"$f":"P71*$AB$1","v":4.6540574999999995},{"$f":"Q71*$AB$1","v":2.2339475999999996},{"$f":"R71*$AB$1","v":0.18616229999999998},{"$f":"S71*$AB$1","v":0},{"$f":"T71*$AB$1","v":0},{"$f":"U71*$AB$1","v":0},{"$f":"V71*$AB$1","v":0},{"$f":"W71*$AB$1","v":0},{"$f":"X71*$AB$1","v":0},{"$f":"Y71*$AB$1","v":0}]
["Febrero",0,0,0,0,0,0,0.05,0.19,0.34,0.47,0.56000000000000005,0.59,0.56000000000000005,0.47,0.34,0.19,0.05,0,0,0,0,0,0,0,null,null,"Febrero",{"$f":"B72*$AB$1","v":0},0,0,0,0,{"$f":"G72*$AB$1","v":0},0.9308114999999999,3.5370836999999997,6.3295181999999999,8.7496280999999989,10.425088799999999,10.983575699999998,10.425088799999999,8.7496280999999989,6.3295181999999999,3.5370836999999997,0.9308114999999999,0,0,0,0,0,0,0]
["Marzo",0,0,0,0,0,0,0.13,0.3,0.47,0.63,0.73,0.77,0.73,0.63,0.47,0.3,0.13,0,0,0,0,0,0,0,null,null,"Marzo",0,0,0,0,0,{"$f":"G73*$AB$1","v":0},2.4201098999999999,5.5848689999999994,8.7496280999999989,11.728224899999999,13.589847899999999,14.334497099999998,13.589847899999999,11.728224899999999,8.7496280999999989,5.5848689999999994,2.4201098999999999,0,0,0,0,0,0,0]
["Abril",0,0,0,0,0,0.05,0.2,0.38,0.55000000000000004,0.7,0.79,0.83,0.79,0.7,0.55000000000000004,0.38,0.2,0.05,0,0,0,0,0,0,null,null,"Abril",0,0,0,0,0,0.9308114999999999,3.7232459999999996,7.0741673999999994,10.2389265,13.031360999999999,14.706821699999999,15.451470899999997,14.706821699999999,13.031360999999999,10.2389265,7.0741673999999994,3.7232459999999996,0.9308114999999999,0,0,0,0,0,0]
["Mayo",0,0,0,0,0,0.11,0.28000000000000003,0.46,0.64,0.79,0.89,0.93,0.89,0.79,0.64,0.46,0.28000000000000003,0.11,0,0,0,0,0,0,null,null,"Mayo",0,0,0,0,0,2.0477852999999997,5.2125443999999996,8.5634657999999995,11.914387199999998,14.706821699999999,16.568444699999997,17.313093899999998,16.568444699999997,14.706821699999999,11.914387199999998,8.5634657999999995,5.2125443999999996,2.0477852999999997,0,0,0,0,0,0]
["Junio",0,0,0,0,0.01,0.14000000000000001,0.31,0.5,0.68,0.83,0.93,0.96,0.93,0.83,0.68,0.5,0.31,0.14000000000000001,0.01,0,0,0,0,0,null,null,"Junio",0,0,0,0,0.18616229999999998,2.6062721999999998,5.7710312999999998,9.308114999999999,12.6590364,15.451470899999997,17.313093899999998,17.871580799999997,17.313093899999998,15.451470899999997,12.6590364,9.308114999999999,5.7710312999999998,2.6062721999999998,0.18616229999999998,0,0,0,0,0]
["Julio",0,0,0,0,0.01,0.14000000000000001,0.32,0.52,0.71,0.88,0.99,1,0.99,0.88,0.71,0.52,0.32,0.14000000000000001,0.01,0,0,0,0,0,null,null,"Julio",0,0,0,0,0.18616229999999998,2.6062721999999998,5.9571935999999992,9.6804395999999997,13.217523299999998,16.382282399999998,18.430067699999999,18.616229999999998,18.430067699999999,{"$f":"O77*$AB$1","v":16.382282399999998},13.217523299999998,9.6804395999999997,5.9571935999999992,2.6062721999999998,0.18616229999999998,0,0,0,0,0]
["Agosto",0,0,0,0,0,0.09,0.26,0.46,0.65,0.82,0.93,0.97,0.93,0.82,0.65,0.46,0.26,0.09,0,0,0,0,0,0,null,null,"Agosto",0,0,0,0,0,1.6754606999999997,4.8402197999999999,8.5634657999999995,12.1005495,15.265308599999997,17.313093899999998,18.057743099999996,17.313093899999998,15.265308599999997,12.1005495,8.5634657999999995,4.8402197999999999,1.6754606999999997,0,0,0,0,0,0]
["Septiembre",0,0,0,0,0,0.01,0.16,0.34,0.52,0.68,0.78,0.82,0.78,0.68,0.52,0.34,0.16,0.01,0,0,0,0,0,0,null,null,"Septiembre",0,0,0,0,0,0.18616229999999998,2.9785967999999996,6.3295181999999999,9.6804395999999997,12.6590364,14.5206594,15.265308599999997,14.5206594,12.6590364,9.6804395999999997,6.3295181999999999,2.9785967999999996,0.18616229999999998,0,0,0,0,0,0]
["Octubre",0,0,0,0,0,0,0.08,0.23,0.39,0.53,0.63,0.67,0.63,0.53,0.39,0.23,0.08,0,0,0,0,0,0,0,null,null,"Octubre",0,0,0,0,0,0,1.4892983999999998,4.2817328999999997,7.2603296999999998,9.8666018999999991,11.728224899999999,12.4728741,11.728224899999999,9.8666018999999991,7.2603296999999998,4.2817328999999997,1.4892983999999998,0,0,0,0,0,0,0]
["Noviembre",0,0,0,0,0,0,0.02,0.14000000000000001,0.28000000000000003,0.4,0.48,0.51,0.48,0.4,0.28000000000000003,0.14000000000000001,0.02,0,0,0,0,0,0,0,null,null,"Noviembre",0,0,0,0,0,0,0.37232459999999995,2.6062721999999998,5.2125443999999996,7.4464919999999992,8.9357903999999984,9.4942772999999985,8.9357903999999984,7.4464919999999992,5.2125443999999996,2.6062721999999998,0.37232459999999995,0,0,0,0,0,0,0]
["Diciembre",0,0,0,0,0,0,0.01,0.1,0.22,0.33,0.41,0.44,0.41,0.33,0.22,0.1,0.01,0,0,0,0,0,0,0,null,null,"Diciembre",0,0,0,0,0,0,0.18616229999999998,1.8616229999999998,4.0955705999999994,6.1433558999999995,7.6326542999999987,8.1911411999999988,7.6326542999999987,6.1433558999999995,4.0955705999999994,1.8616229999999998,0.18616229999999998,0,0,0,0,0,0,0]
["Media anual",0,0,0,0,0,0.05,0.15,0.31,0.48,0.62,0.72,0.75,0.72,0.62,0.48,0.31,0.15,0.05,0,0,0,0,0,0,null,null,"Media anual",0,0,0,0,0.75,4.416666666666667,11.416666666666666,21.75,33.083333333333336,42.583333333333336,49.333333333333336,51.833333333333336,49.333333333333336,42.583333333333336,33.083333333333336,21.75,11.416666666666666,4.416666666666667,0.75,0,0,0,0,0]
["Total anual",0,0,0,0,0.51,16.8,56.07,114.05,173.77,225.63,260.99,273.43,260.99,225.63,173.77,114.05,56.07,16.8,0.51,0,0,0,0,0,null,null,"Total anual",0,0,0,0,9,53,137,261,397,511,592,622,592,511,397,261,137,53,9,0,0,0,0,0]

{"sheet":"DISCRIMINACIÓN HORARIA","index":11,"n_rows":83,"n_cols":30,"rows_kept":83,"cut":false,"hidden":true,"merged":[]}
[null,null,null,null,null,null,"2.0DHA",null,null,null,null,null,null,null,null,null,null,null,null,null,null,"2.1 DHA"]
[null,"ENERO","FEBRERO","MARZO","ABRIL","MAYO","JUNIO","JULIO","AGOSTO","SEPTIEMBRE","OCTUBRE","NOVIEMBRE","DICIEMBRE",null,null,null,"ENERO","FEBRERO","MARZO","ABRIL","MAYO","JUNIO","JULIO","AGOSTO","SEPTIEMBRE","OCTUBRE","NOVIEMBRE","DICIEMBRE"]
["0 a 1","P1","P1","P1","P1","P1","P1","P1","P1","P1","P1","P1","P1",null,null,"0 a 1","P1","P1","P1","P1","P1","P1","P1","P1","P1","P1","P1","P1"]
["1 a 2","P1","P1","P1","P1","P1","P1","P1","P1","P1","P1","P1","P1",null,null,"1 a 2","P1","P1","P1","P1","P1","P1","P1","P1","P1","P1","P1","P1"]
["2 a 3","P1","P1","P1","P1","P1","P1","P1","P1","P1","P1","P1","P1",null,null,"2 a 3","P1","P1","P1","P1","P1","P1","P1","P1","P1","P1","P1","P1"]
["3 a 4","P1","P1","P1","P1","P1","P1","P1","P1","P1","P1","P1","P1",null,null,"3 a 4","P1","P1","P1","P1","P1","P1","P1","P1","P1","P1","P1","P1"]
["4 a 5","P1","P1","P1","P1","P1","P1","P1","P1","P1","P1","P1","P1",null,null,"4 a 5","P1","P1","P1","P1","P1","P1","P1","P1","P1","P1","P1","P1"]
["5 a 6","P1","P1","P1","P1","P1","P1","P1","P1","P1","P1","P1","P1",null,null,"5 a 6","P1","P1","P1","P1","P1","P1","P1","P1","P1","P1","P1","P1"]
["6 a 7 ","P1","P1","P1","P1","P1","P1","P1","P1","P1","P1","P1","P1",null,null,"6 a 7 ","P1","P1","P1","P1","P1","P1","P1","P1","P1","P1","P1","P1"]
["7 a 8 ","P1","P1","P1","P1","P1","P1","P1","P1","P1","P1","P1","P1",null,null,"7 a 8 ","P1","P1","P1","P1","P1","P1","P1","P1","P1","P1","P1","P1"]
["8 a 9","P1","P1","P1","P1","P1","P1","P1","P1","P1","P1","P1","P1",null,null,"8 a 9","P1","P1","P1","P1","P1","P1","P1","P1","P1","P1","P1","P1"]
["9 a 10","P1","P1","P1","P1","P1","P1","P1","P1","P1","P1","P1","P1",null,null,"9 a 10","P1","P1","P1","P1","P1","P1","P1","P1","P1","P1","P1","P1"]
["10 a 11","P1","P1","P1","P1","P1","P1","P1","P1","P1","P1","P1","P1",null,null,"10 a 11","P1","P1","P1","P1","P1","P1","P1","P1","P1","P1","P1","P1"]
["11 a 12","P1","P1","P1","P1","P1","P1","P1","P1","P1","P1","P1","P1",null,null,"11 a 12","P1","P1","P1","P1","P1","P1","P1","P1","P1","P1","P1","P1"]
["12  a 13","P2","P2","P2","P1","P1","P1","P1","P1","P1","P1","P2","P2",null,null,"12  a 13","P2","P2","P2","P1","P1","P1","P1","P1","P1","P1","P2","P2"]
["13 a 14","P2","P2","P2","P2","P2","P2","P2","P2","P2","P2","P2","P2",null,null,"13 a 14","P2","P2","P2","P2","P2","P2","P2","P2","P2","P2","P2","P2"]
["14 a 15","P2","P2","P2","P2","P2","P2","P2","P2","P2","P2","P2","P2",null,null,"14 a 15","P2","P2","P2","P2","P2","P2","P2","P2","P2","P2","P2","P2"]
["15 a 16","P2","P2","P2","P2","P2","P2","P2","P2","P2","P2","P2","P2",null,null,"15 a 16","P2","P2","P2","P2","P2","P2","P2","P2","P2","P2","P2","P2"]
["16 a 17","P2","P2","P2","P2","P2","P2","P2","P2","P2","P2","P2","P2",null,null,"16 a 17","P2","P2","P2","P2","P2","P2","P2","P2","P2","P2","P2","P2"]
["17 a 18","P2","P2","P2","P2","P2","P2","P2","P2","P2","P2","P2","P2",null,null,"17 a 18","P2","P2","P2","P2","P2","P2","P2","P2","P2","P2","P2","P2"]
["18 a 19","P2","P2","P2","P2","P2","P2","P2","P2","P2","P2","P2","P2",null,null,"18 a 19","P2","P2","P2","P2","P2","P2","P2","P2","P2","P2","P2","P2"]
["19 a 20","P2","P2","P2","P2","P2","P2","P2","P2","P2","P2","P2","P2",null,null,"19 a 20","P2","P2","P2","P2","P2","P2","P2","P2","P2","P2","P2","P2"]
["20 a 21","P2","P2","P2","P2","P2","P2","P2","P2","P2","P2","P2","P2",null,null,"20 a 21","P2","P2","P2","P2","P2","P2","P2","P2","P2","P2","P2","P2"]
["21 a 22","P2","P2","P2","P2","P2","P2","P2","P2","P2","P2","P2","P2",null,null,"21 a 22","P2","P2","P2","P2","P2","P2","P2","P2","P2","P2","P2","P2"]
["22 a 23","P1","P1","P1","P2","P2","P2","P2","P2","P2","P2","P1","P1",null,null,"22 a 23","P1","P1","P1","P2","P2","P2","P2","P2","P2","P2","P1","P1"]
["23 a 24","P1","P1","P1","P1","P1","P1","P1","P1","P1","P1","P1","P1",null,null,"23 a 24","P1","P1","P1","P1","P1","P1","P1","P1","P1","P1","P1","P1"]
[]
[]
[]
[null,null,null,null,null,null,"3.0",null,null,null,null,null,null,null,null,null,null,null,null,null,null,"3.1"]
[null,"ENERO","FEBRERO","MARZO","ABRIL","MAYO","JUNIO","JULIO","AGOSTO","SEPTIEMBRE","OCTUBRE","NOVIEMBRE","DICIEMBRE",null,null,null,"ENERO","FEBRERO","MARZO","ABRIL","MAYO","JUNIO","JULIO","AGOSTO","SEPTIEMBRE","OCTUBRE","NOVIEMBRE","DICIEMBRE",null,"FESTIVOS Y FINDE"]
["0 a 1","P3","P3","P3","P3","P3","P3","P3","P3","P3","P3","P3","P3",null,null,"0 a 1","P3","P3","P3","P3","P3","P3","P3","P3","P3","P3","P3","P3",null,"P3"]
["1 a 2","P3","P3","P3","P3","P3","P3","P3","P3","P3","P3","P3","P3",null,null,"1 a 2","P3","P3","P3","P3","P3","P3","P3","P3","P3","P3","P3","P3",null,"P3"]
["2 a 3","P3","P3","P3","P3","P3","P3","P3","P3","P3","P3","P3","P3",null,null,"2 a 3","P3","P3","P3","P3","P3","P3","P3","P3","P3","P3","P3","P3",null,"P3"]
["3 a 4","P3","P3","P3","P3","P3","P3","P3","P3","P3","P3","P3","P3",null,null,"3 a 4","P3","P3","P3","P3","P3","P3","P3","P3","P3","P3","P3","P3",null,"P3"]
["4 a 5","P3","P3","P3","P3","P3","P3","P3","P3","P3","P3","P3","P3",null,null,"4 a 5","P3","P3","P3","P3","P3","P3","P3","P3","P3","P3","P3","P3",null,"P3"]
["5 a 6","P3","P3","P3","P3","P3","P3","P3","P3","P3","P3","P3","P3",null,null,"5 a 6","P3","P3","P3","P3","P3","P3","P3","P3","P3","P3","P3","P3",null,"P3"]
["6 a 7 ","P3","P3","P3","P3","P3","P3","P3","P3","P3","P3","P3","P3",null,null,"6 a 7 ","P3","P3","P3","P3","P3","P3","P3","P3","P3","P3","P3","P3",null,"P3"]
["7 a 8 ","P3","P3","P3","P3","P3","P3","P3","P3","P3","P3","P3","P3",null,null,"7 a 8 ","P3","P3","P3","P3","P3","P3","P3","P3","P3","P3","P3","P3",null,"P3"]
["8 a 9","P2","P2","P2","P2","P2","P2","P2","P2","P2","P2","P2","P2",null,null,"8 a 9","P2","P2","P2","P2","P2","P2","P2","P2","P2","P2","P2","P2",null,"P3"]
["9 a 10","P2","P2","P2","P2","P2","P2","P2","P2","P2","P2","P2","P2",null,null,"9 a 10","P2","P2","P2","P2","P2","P2","P2","P2","P2","P2","P2","P2",null,"P3"]
["10 a 11","P2","P2","P2","P2","P2","P2","P2","P2","P2","P2","P2","P2",null,null,"10 a 11","P2","P2","P2","P2","P2","P2","P2","P2","P2","P2","P2","P2",null,"P3"]
["11 a 12","P2","P2","P2","P1","P1","P1","P1","P1","P1","P1","P2","P2",null,null,"11 a 12","P2","P2","P2","P1","P1","P1","P1","P1","P1","P1","P2","P2",null,"P3"]
["12  a 13","P2","P2","P2","P1","P1","P1","P1","P1","P1","P1","P2","P2",null,null,"12  a 13","P2","P2","P2","P1","P1","P1","P1","P1","P1","P1","P2","P2",null,"P3"]
["13 a 14","P2","P2","P2","P1","P1","P1","P1","P1","P1","P1","P2","P2",null,null,"13 a 14","P2","P2","P2","P1","P1","P1","P1","P1","P1","P1","P2","P2",null,"P3"]
["14 a 15","P2","P2","P2","P1","P1","P1","P1","P1","P1","P1","P2","P2",null,null,"14 a 15","P2","P2","P2","P1","P1","P1","P1","P1","P1","P1","P2","P2",null,"P3"]
["15 a 16","P2","P2","P2","P2","P2","P2","P2","P2","P2","P2","P2","P2",null,null,"15 a 16","P2","P2","P2","P2","P2","P2","P2","P2","P2","P2","P2","P2",null,"P3"]
["16 a 17","P2","P2","P2","P2","P2","P2","P2","P2","P2","P2","P2","P2",null,null,"16 a 17","P2","P2","P2","P2","P2","P2","P2","P2","P2","P2","P2","P2",null,"P3"]
["17 a 18","P2","P2","P2","P2","P2","P2","P2","P2","P2","P2","P2","P2",null,null,"17 a 18","P2","P2","P2","P2","P2","P2","P2","P2","P2","P2","P2","P2",null,"P3"]
["18 a 19","P1","P1","P1","P2","P2","P2","P2","P2","P2","P2","P1","P1",null,null,"18 a 19","P1","P1","P1","P2","P2","P2","P2","P2","P2","P2","P1","P1",null,"P2"]
["19 a 20","P1","P1","P1","P2","P2","P2","P2","P2","P2","P2","P1","P1",null,null,"19 a 20","P1","P1","P1","P2","P2","P2","P2","P2","P2","P2","P1","P1",null,"P2"]
["20 a 21","P1","P1","P1","P2","P2","P2","P2","P2","P2","P2","P1","P1",null,null,"20 a 21","P1","P1","P1","P2","P2","P2","P2","P2","P2","P2","P1","P1",null,"P2"]
["21 a 22","P1","P1","P1","P2","P2","P2","P2","P2","P2","P2","P1","P1",null,null,"21 a 22","P1","P1","P1","P2","P2","P2","P2","P2","P2","P2","P1","P1",null,"P2"]
["22 a 23","P2","P2","P2","P2","P2","P2","P2","P2","P2","P2","P2","P2",null,null,"22 a 23","P2","P2","P2","P2","P2","P2","P2","P2","P2","P2","P2","P2",null,"P2"]
["23 a 24","P2","P2","P2","P2","P2","P2","P2","P2","P2","P2","P2","P2",null,null,"23 a 24","P2","P2","P2","P2","P2","P2","P2","P2","P2","P2","P2","P2",null,"P2"]
[]
[]
[null,null,null,null,null,null,"6.1 A"]
[null,"ENERO","FEBRERO","MARZO","ABRIL","MAYO","JUNIO","JULIO","AGOSTO","SEPTIEMBRE","OCTUBRE","NOVIEMBRE","DICIEMBRE",null,"FESTIVOS","2 QUINCENA JULIO se consigue multiplicando julio por 0,5 y p6 por 1"]
["0 a 1","P6","P6","P6","P6","P6","P6","P6","P6","P6","P6","P6","P6",null,"P6"]
["1 a 2","P6","P6","P6","P6","P6","P6","P6","P6","P6","P6","P6","P6",null,"P6"]
["2 a 3","P6","P6","P6","P6","P6","P6","P6","P6","P6","P6","P6","P6",null,"P6"]
["3 a 4","P6","P6","P6","P6","P6","P6","P6","P6","P6","P6","P6","P6",null,"P6"]
["4 a 5","P6","P6","P6","P6","P6","P6","P6","P6","P6","P6","P6","P6",null,"P6"]
["5 a 6","P6","P6","P6","P6","P6","P6","P6","P6","P6","P6","P6","P6",null,"P6"]
["6 a 7 ","P6","P6","P6","P6","P6","P6","P6","P6","P6","P6","P6","P6",null,"P6"]
["7 a 8 ","P6","P6","P6","P6","P6","P6","P6","P6","P6","P6","P6","P6",null,"P6"]
["8 a 9","P2","P2","P4","P5","P5","P4","P2","P6","P4","P5","P4","P2",null,"P6"]
["9 a 10","P2","P2","P4","P5","P5","P3","P2","P6","P3","P5","P4","P2",null,"P6"]
["10 a 11","P1","P1","P4","P5","P5","P3","P2","P6","P3","P5","P4","P1",null,"P6"]
["11 a 12","P1","P1","P4","P5","P5","P3","P1","P6","P3","P5","P4","P1",null,"P6"]
["12  a 13","P1","P1","P4","P5","P5","P3","P1","P6","P3","P5","P4","P1",null,"P6"]
["13 a 14","P2","P2","P4","P5","P5","P3","P1","P6","P3","P5","P4","P2",null,"P6"]
["14 a 15","P2","P2","P4","P5","P5","P3","P1","P6","P3","P5","P4","P2",null,"P6"]
["15 a 16","P2","P2","P4","P5","P5","P4","P1","P6","P4","P5","P4","P2",null,"P6"]
["16 a 17","P2","P2","P3","P5","P5","P4","P1","P6","P4","P5","P3","P2",null,"P6"]
["17 a 18","P2","P2","P3","P5","P5","P4","P1","P6","P4","P5","P3","P2",null,"P6"]
["18 a 19","P1","P1","P3","P5","P5","P4","P1","P6","P4","P5","P3","P1",null,"P6"]
["19 a 20","P1","P1","P3","P5","P5","P4","P2","P6","P4","P5","P3","P1",null,"P6"]
["20 a 21","P1","P1","P3","P5","P5","P4","P2","P6","P4","P5","P3","P1",null,"P6"]
["21 a 22","P2","P2","P3","P5","P5","P4","P2","P6","P4","P5","P3","P2",null,"P6"]
["22 a 23","P2","P2","P4","P5","P5","P4","P2","P6","P4","P5","P4","P2",null,"P6"]
["23 a 24","P2","P2","P4","P5","P5","P4","P2","P6","P4","P5","P4","P2",null,"P6"]

{"sheet":"COSTES","index":12,"n_rows":23,"n_cols":8,"rows_kept":23,"cut":false,"hidden":true,"merged":[]}
["POTENCIA",{"$f":"'CUADRO RENTING'!D1","v":10000}]
["PRECIO VENTA",{"$f":"'CUADRO RENTING'!D2","v":1.25},"TOTAL",{"$f":"B1*B2","v":12500},{"$f":"D2-B23","v":1900},{"$f":"E2/D2","v":0.152}]
[null,null,{"$f":"B18","v":9600}]
[null,"COSTE","RATIO","% C. DIRECTOS","% C. TOTAL"]
["1. MÓDULOS",{"$f":"$B$1*C5","v":3600},0.36,{"$f":"B5/$B$18","v":0.375},{"$f":"B5/$B$23","v":0.33962264150943394}]
["2. INVERSORES",{"$f":"$B$1*C6","v":1200},0.12,{"$f":"B6/$B$18","v":0.125},0.11320754716981132]
["3. ESTRUCTURA",400,0.04,4.1666666666666664E-2,3.7735849056603772E-2]
["4. ELECTRICIDAD",800,0.08,8.3333333333333329E-2,7.5471698113207544E-2]
["5. BATERÍAS",0,0,0,0]
["6. MAQUINARIA",200,0.02,2.0833333333333332E-2,1.8867924528301886E-2]
["7, MANO DE OBRA",1200,0.12,0.125,0.11320754716981132]
["8. MONITORIZACION",0,0,0,0]
["9. ALARMA",0,0,0,0]
["10. CONTADOR",200,0,2.0833333333333332E-2,1.8867924528301886E-2,"Instalación",{"$f":"SUM(B7:B14)","v":2800},{"$f":"G14/B1","v":0.28000000000000003}]
["11. COMISIONES COMERCIALES",1000,0.1,0.10416666666666667,9.4339622641509441E-2]
["12. INGENIERÍA",1000,0.1,0.10416666666666667,9.4339622641509441E-2]
["13. TASAS",{"$f":"$B$1*C17","v":0},0,{"$f":"B17/$B$18","v":0},{"$f":"B17/$B$23","v":0}]
["TOTAL C. DIRECTOS",{"$f":"SUM(B5:B17)","v":9600},{"$f":"SUM(C5:C17)","v":0.94},null,{"$f":"B18/B23","v":0.90566037735849059}]
[]
["11. COSTE INDIRECTO",{"$f":"B1*C20","v":1000},0.1,null,{"$f":"B20/$B$23","v":9.4339622641509441E-2}]
[]
[]
["COSTE TOTAL",{"$f":"B18+B20","v":10600},{"$f":"B23/B1","v":1.06}]

{"sheet":"Venta","index":13,"n_rows":42,"n_cols":13,"rows_kept":42,"cut":false,"hidden":true,"merged":[]}
[{"$f":"'AHORRO FOTOVOLTAICA'!B8","v":244},{"$f":"'AHORRO FOTOVOLTAICA'!C8","v":0.11042719424593919},{"$f":"'AHORRO FOTOVOLTAICA'!D8","v":0},{"$f":"'AHORRO FOTOVOLTAICA'!E8","v":""},{"$f":"'AHORRO FOTOVOLTAICA'!F8","v":0},{"$f":"'AHORRO FOTOVOLTAICA'!G8","v":""},{"$f":"'AHORRO FOTOVOLTAICA'!H8","v":0},{"$f":"'AHORRO FOTOVOLTAICA'!I8","v":""},{"$f":"'AHORRO FOTOVOLTAICA'!J8","v":0},{"$f":"'AHORRO FOTOVOLTAICA'!K8","v":""}]
[{"$f":"'AHORRO FOTOVOLTAICA'!B9","v":269},{"$f":"'AHORRO FOTOVOLTAICA'!C9","v":0.11042719424593919},{"$f":"'AHORRO FOTOVOLTAICA'!D9","v":0},{"$f":"'AHORRO FOTOVOLTAICA'!E9","v":""},{"$f":"'AHORRO FOTOVOLTAICA'!F9","v":0},{"$f":"'AHORRO FOTOVOLTAICA'!G9","v":""},{"$f":"'AHORRO FOTOVOLTAICA'!H9","v":0},{"$f":"'AHORRO FOTOVOLTAICA'!I9","v":""},{"$f":"'AHORRO FOTOVOLTAICA'!J9","v":0},{"$f":"'AHORRO FOTOVOLTAICA'!K9","v":""},null,"Precio de Venta",{"$f":"IF('CUADRO RENTING'!H5=\"Tipo 2\",'CUADRO RENTING'!H6,0)","v":4.4999999999999998E-2}]
[{"$f":"'AHORRO FOTOVOLTAICA'!B10","v":1877},{"$f":"'AHORRO FOTOVOLTAICA'!C10","v":0.11042719424593919},{"$f":"'AHORRO FOTOVOLTAICA'!D10","v":0},{"$f":"'AHORRO FOTOVOLTAICA'!E10","v":""},{"$f":"'AHORRO FOTOVOLTAICA'!F10","v":0},{"$f":"'AHORRO FOTOVOLTAICA'!G10","v":""},{"$f":"'AHORRO FOTOVOLTAICA'!H10","v":0},{"$f":"'AHORRO FOTOVOLTAICA'!I10","v":""},{"$f":"'AHORRO FOTOVOLTAICA'!J10","v":0},{"$f":"'AHORRO FOTOVOLTAICA'!K10","v":""},null,"Venta",{"$f":"SUM(A42:J42)*M2+M4","v":328.56655211767691}]
[{"$f":"'AHORRO FOTOVOLTAICA'!B11","v":3602},{"$f":"'AHORRO FOTOVOLTAICA'!C11","v":0.11042719424593919},{"$f":"'AHORRO FOTOVOLTAICA'!D11","v":0},{"$f":"'AHORRO FOTOVOLTAICA'!E11","v":""},{"$f":"'AHORRO FOTOVOLTAICA'!F11","v":0},{"$f":"'AHORRO FOTOVOLTAICA'!G11","v":""},{"$f":"'AHORRO FOTOVOLTAICA'!H11","v":0},{"$f":"'AHORRO FOTOVOLTAICA'!I11","v":""},{"$f":"'AHORRO FOTOVOLTAICA'!J11","v":0},{"$f":"'AHORRO FOTOVOLTAICA'!K11","v":""},null,"Potencia",{"$f":"'CUADRO RENTING'!L5","v":200}]
[{"$f":"'AHORRO FOTOVOLTAICA'!B12","v":4133},{"$f":"'AHORRO FOTOVOLTAICA'!C12","v":0.11042719424593919},{"$f":"'AHORRO FOTOVOLTAICA'!D12","v":0},{"$f":"'AHORRO FOTOVOLTAICA'!E12","v":""},{"$f":"'AHORRO FOTOVOLTAICA'!F12","v":0},{"$f":"'AHORRO FOTOVOLTAICA'!G12","v":""},{"$f":"'AHORRO FOTOVOLTAICA'!H12","v":0},{"$f":"'AHORRO FOTOVOLTAICA'!I12","v":""},{"$f":"'AHORRO FOTOVOLTAICA'!J12","v":0},{"$f":"'AHORRO FOTOVOLTAICA'!K12","v":""}]
[{"$f":"'AHORRO FOTOVOLTAICA'!B13","v":5758},{"$f":"'AHORRO FOTOVOLTAICA'!C13","v":0.11042719424593919},{"$f":"'AHORRO FOTOVOLTAICA'!D13","v":0},{"$f":"'AHORRO FOTOVOLTAICA'!E13","v":""},{"$f":"'AHORRO FOTOVOLTAICA'!F13","v":0},{"$f":"'AHORRO FOTOVOLTAICA'!G13","v":""},{"$f":"'AHORRO FOTOVOLTAICA'!H13","v":0},{"$f":"'AHORRO FOTOVOLTAICA'!I13","v":""},{"$f":"'AHORRO FOTOVOLTAICA'!J13","v":0},{"$f":"'AHORRO FOTOVOLTAICA'!K13","v":""}]
[{"$f":"'AHORRO FOTOVOLTAICA'!B14","v":5876},{"$f":"'AHORRO FOTOVOLTAICA'!C14","v":0.11042719424593919},{"$f":"'AHORRO FOTOVOLTAICA'!D14","v":0},{"$f":"'AHORRO FOTOVOLTAICA'!E14","v":""},{"$f":"'AHORRO FOTOVOLTAICA'!F14","v":0},{"$f":"'AHORRO FOTOVOLTAICA'!G14","v":""},{"$f":"'AHORRO FOTOVOLTAICA'!H14","v":0},{"$f":"'AHORRO FOTOVOLTAICA'!I14","v":""},{"$f":"'AHORRO FOTOVOLTAICA'!J14","v":0},{"$f":"'AHORRO FOTOVOLTAICA'!K14","v":""}]
[{"$f":"'AHORRO FOTOVOLTAICA'!B15","v":4479},{"$f":"'AHORRO FOTOVOLTAICA'!C15","v":0.11042719424593919},{"$f":"'AHORRO FOTOVOLTAICA'!D15","v":0},{"$f":"'AHORRO FOTOVOLTAICA'!E15","v":""},{"$f":"'AHORRO FOTOVOLTAICA'!F15","v":0},{"$f":"'AHORRO FOTOVOLTAICA'!G15","v":""},{"$f":"'AHORRO FOTOVOLTAICA'!H15","v":0},{"$f":"'AHORRO FOTOVOLTAICA'!I15","v":""},{"$f":"'AHORRO FOTOVOLTAICA'!J15","v":0},{"$f":"'AHORRO FOTOVOLTAICA'!K15","v":""}]
[{"$f":"'AHORRO FOTOVOLTAICA'!B16","v":3333},{"$f":"'AHORRO FOTOVOLTAICA'!C16","v":0.11042719424593919},{"$f":"'AHORRO FOTOVOLTAICA'!D16","v":0},{"$f":"'AHORRO FOTOVOLTAICA'!E16","v":""},{"$f":"'AHORRO FOTOVOLTAICA'!F16","v":0},{"$f":"'AHORRO FOTOVOLTAICA'!G16","v":""},{"$f":"'AHORRO FOTOVOLTAICA'!H16","v":0},{"$f":"'AHORRO FOTOVOLTAICA'!I16","v":""},{"$f":"'AHORRO FOTOVOLTAICA'!J16","v":0},{"$f":"'AHORRO FOTOVOLTAICA'!K16","v":""}]
[{"$f":"'AHORRO FOTOVOLTAICA'!B17","v":2087},{"$f":"'AHORRO FOTOVOLTAICA'!C17","v":0.11042719424593919},{"$f":"'AHORRO FOTOVOLTAICA'!D17","v":0},{"$f":"'AHORRO FOTOVOLTAICA'!E17","v":""},{"$f":"'AHORRO FOTOVOLTAICA'!F17","v":0},{"$f":"'AHORRO FOTOVOLTAICA'!G17","v":""},{"$f":"'AHORRO FOTOVOLTAICA'!H17","v":0},{"$f":"'AHORRO FOTOVOLTAICA'!I17","v":""},{"$f":"'AHORRO FOTOVOLTAICA'!J17","v":0},{"$f":"'AHORRO FOTOVOLTAICA'!K17","v":""}]
[{"$f":"'AHORRO FOTOVOLTAICA'!B18","v":219},{"$f":"'AHORRO FOTOVOLTAICA'!C18","v":0.11042719424593919},{"$f":"'AHORRO FOTOVOLTAICA'!D18","v":0},{"$f":"'AHORRO FOTOVOLTAICA'!E18","v":""},{"$f":"'AHORRO FOTOVOLTAICA'!F18","v":0},{"$f":"'AHORRO FOTOVOLTAICA'!G18","v":""},{"$f":"'AHORRO FOTOVOLTAICA'!H18","v":0},{"$f":"'AHORRO FOTOVOLTAICA'!I18","v":""},{"$f":"'AHORRO FOTOVOLTAICA'!J18","v":0},{"$f":"'AHORRO FOTOVOLTAICA'!K18","v":""}]
[{"$f":"'AHORRO FOTOVOLTAICA'!B19","v":217},{"$f":"'AHORRO FOTOVOLTAICA'!C19","v":0.11042719424593919},{"$f":"'AHORRO FOTOVOLTAICA'!D19","v":0},{"$f":"'AHORRO FOTOVOLTAICA'!E19","v":""},{"$f":"'AHORRO FOTOVOLTAICA'!F19","v":0},{"$f":"'AHORRO FOTOVOLTAICA'!G19","v":""},{"$f":"'AHORRO FOTOVOLTAICA'!H19","v":0},{"$f":"'AHORRO FOTOVOLTAICA'!I19","v":""},{"$f":"'AHORRO FOTOVOLTAICA'!J19","v":0},{"$f":"'AHORRO FOTOVOLTAICA'!K19","v":""}]
[]
[]
[{"$f":"'AHORRO FOTOVOLTAICA'!B24","v":961.64646208470708},{"$f":"'AHORRO FOTOVOLTAICA'!C24","v":6.5668505384817444E-3},{"$f":"'AHORRO FOTOVOLTAICA'!D24","v":""},{"$f":"'AHORRO FOTOVOLTAICA'!E24","v":""},{"$f":"'AHORRO FOTOVOLTAICA'!F24","v":""},{"$f":"'AHORRO FOTOVOLTAICA'!G24","v":""},{"$f":"'AHORRO FOTOVOLTAICA'!H24","v":""},{"$f":"'AHORRO FOTOVOLTAICA'!I24","v":""},{"$f":"'AHORRO FOTOVOLTAICA'!J24","v":""},{"$f":"'AHORRO FOTOVOLTAICA'!K24","v":""}]
[{"$f":"'AHORRO FOTOVOLTAICA'!B25","v":1042.7491757545019},{"$f":"'AHORRO FOTOVOLTAICA'!C25","v":6.5668505384817444E-3},{"$f":"'AHORRO FOTOVOLTAICA'!D25","v":""},{"$f":"'AHORRO FOTOVOLTAICA'!E25","v":""},{"$f":"'AHORRO FOTOVOLTAICA'!F25","v":""},{"$f":"'AHORRO FOTOVOLTAICA'!G25","v":""},{"$f":"'AHORRO FOTOVOLTAICA'!H25","v":""},{"$f":"'AHORRO FOTOVOLTAICA'!I25","v":""},{"$f":"'AHORRO FOTOVOLTAICA'!J25","v":""},{"$f":"'AHORRO FOTOVOLTAICA'!K25","v":""}]
[{"$f":"'AHORRO FOTOVOLTAICA'!B26","v":1390.3322343393356},{"$f":"'AHORRO FOTOVOLTAICA'!C26","v":6.5668505384817444E-3},{"$f":"'AHORRO FOTOVOLTAICA'!D26","v":""},{"$f":"'AHORRO FOTOVOLTAICA'!E26","v":""},{"$f":"'AHORRO FOTOVOLTAICA'!F26","v":""},{"$f":"'AHORRO FOTOVOLTAICA'!G26","v":""},{"$f":"'AHORRO FOTOVOLTAICA'!H26","v":""},{"$f":"'AHORRO FOTOVOLTAICA'!I26","v":""},{"$f":"'AHORRO FOTOVOLTAICA'!J26","v":""},{"$f":"'AHORRO FOTOVOLTAICA'!K26","v":""}]
[{"$f":"'AHORRO FOTOVOLTAICA'!B27","v":1371.022064417956},{"$f":"'AHORRO FOTOVOLTAICA'!C27","v":6.5668505384817444E-3},{"$f":"'AHORRO FOTOVOLTAICA'!D27","v":""},{"$f":"'AHORRO FOTOVOLTAICA'!E27","v":""},{"$f":"'AHORRO FOTOVOLTAICA'!F27","v":""},{"$f":"'AHORRO FOTOVOLTAICA'!G27","v":""},{"$f":"'AHORRO FOTOVOLTAICA'!H27","v":""},{"$f":"'AHORRO FOTOVOLTAICA'!I27","v":""},{"$f":"'AHORRO FOTOVOLTAICA'!J27","v":""},{"$f":"'AHORRO FOTOVOLTAICA'!K27","v":""}]
[{"$f":"'AHORRO FOTOVOLTAICA'!B28","v":1506.1932538676137},{"$f":"'AHORRO FOTOVOLTAICA'!C28","v":6.5668505384817444E-3},{"$f":"'AHORRO FOTOVOLTAICA'!D28","v":""},{"$f":"'AHORRO FOTOVOLTAICA'!E28","v":""},{"$f":"'AHORRO FOTOVOLTAICA'!F28","v":""},{"$f":"'AHORRO FOTOVOLTAICA'!G28","v":""},{"$f":"'AHORRO FOTOVOLTAICA'!H28","v":""},{"$f":"'AHORRO FOTOVOLTAICA'!I28","v":""},{"$f":"'AHORRO FOTOVOLTAICA'!J28","v":""},{"$f":"'AHORRO FOTOVOLTAICA'!K28","v":""}]
[{"$f":"'AHORRO FOTOVOLTAICA'!B29","v":1535.1585087496833},{"$f":"'AHORRO FOTOVOLTAICA'!C29","v":6.5668505384817444E-3},{"$f":"'AHORRO FOTOVOLTAICA'!D29","v":""},{"$f":"'AHORRO FOTOVOLTAICA'!E29","v":""},{"$f":"'AHORRO FOTOVOLTAICA'!F29","v":""},{"$f":"'AHORRO FOTOVOLTAICA'!G29","v":""},{"$f":"'AHORRO FOTOVOLTAICA'!H29","v":""},{"$f":"'AHORRO FOTOVOLTAICA'!I29","v":""},{"$f":"'AHORRO FOTOVOLTAICA'!J29","v":""},{"$f":"'AHORRO FOTOVOLTAICA'!K29","v":""}]
[{"$f":"'AHORRO FOTOVOLTAICA'!B30","v":1583.4339335531324},{"$f":"'AHORRO FOTOVOLTAICA'!C30","v":6.5668505384817444E-3},{"$f":"'AHORRO FOTOVOLTAICA'!D30","v":""},{"$f":"'AHORRO FOTOVOLTAICA'!E30","v":""},{"$f":"'AHORRO FOTOVOLTAICA'!F30","v":""},{"$f":"'AHORRO FOTOVOLTAICA'!G30","v":""},{"$f":"'AHORRO FOTOVOLTAICA'!H30","v":""},{"$f":"'AHORRO FOTOVOLTAICA'!I30","v":""},{"$f":"'AHORRO FOTOVOLTAICA'!J30","v":""},{"$f":"'AHORRO FOTOVOLTAICA'!K30","v":""}]
[{"$f":"'AHORRO FOTOVOLTAICA'!B31","v":1525.5034237889934},{"$f":"'AHORRO FOTOVOLTAICA'!C31","v":6.5668505384817444E-3},{"$f":"'AHORRO FOTOVOLTAICA'!D31","v":""},{"$f":"'AHORRO FOTOVOLTAICA'!E31","v":""},{"$f":"'AHORRO FOTOVOLTAICA'!F31","v":""},{"$f":"'AHORRO FOTOVOLTAICA'!G31","v":""},{"$f":"'AHORRO FOTOVOLTAICA'!H31","v":""},{"$f":"'AHORRO FOTOVOLTAICA'!I31","v":""},{"$f":"'AHORRO FOTOVOLTAICA'!J31","v":""},{"$f":"'AHORRO FOTOVOLTAICA'!K31","v":""}]
[{"$f":"'AHORRO FOTOVOLTAICA'!B32","v":1303.4364696931273},{"$f":"'AHORRO FOTOVOLTAICA'!C32","v":6.5668505384817444E-3},{"$f":"'AHORRO FOTOVOLTAICA'!D32","v":""},{"$f":"'AHORRO FOTOVOLTAICA'!E32","v":""},{"$f":"'AHORRO FOTOVOLTAICA'!F32","v":""},{"$f":"'AHORRO FOTOVOLTAICA'!G32","v":""},{"$f":"'AHORRO FOTOVOLTAICA'!H32","v":""},{"$f":"'AHORRO FOTOVOLTAICA'!I32","v":""},{"$f":"'AHORRO FOTOVOLTAICA'!J32","v":""},{"$f":"'AHORRO FOTOVOLTAICA'!K32","v":""}]
[{"$f":"'AHORRO FOTOVOLTAICA'!B33","v":1206.8856200862288},{"$f":"'AHORRO FOTOVOLTAICA'!C33","v":6.5668505384817444E-3},{"$f":"'AHORRO FOTOVOLTAICA'!D33","v":""},{"$f":"'AHORRO FOTOVOLTAICA'!E33","v":""},{"$f":"'AHORRO FOTOVOLTAICA'!F33","v":""},{"$f":"'AHORRO FOTOVOLTAICA'!G33","v":""},{"$f":"'AHORRO FOTOVOLTAICA'!H33","v":""},{"$f":"'AHORRO FOTOVOLTAICA'!I33","v":""},{"$f":"'AHORRO FOTOVOLTAICA'!J33","v":""},{"$f":"'AHORRO FOTOVOLTAICA'!K33","v":""}]
[{"$f":"'AHORRO FOTOVOLTAICA'!B34","v":939.43976667512061},{"$f":"'AHORRO FOTOVOLTAICA'!C34","v":6.5668505384817444E-3},{"$f":"'AHORRO FOTOVOLTAICA'!D34","v":""},{"$f":"'AHORRO FOTOVOLTAICA'!E34","v":""},{"$f":"'AHORRO FOTOVOLTAICA'!F34","v":""},{"$f":"'AHORRO FOTOVOLTAICA'!G34","v":""},{"$f":"'AHORRO FOTOVOLTAICA'!H34","v":""},{"$f":"'AHORRO FOTOVOLTAICA'!I34","v":""},{"$f":"'AHORRO FOTOVOLTAICA'!J34","v":""},{"$f":"'AHORRO FOTOVOLTAICA'!K34","v":""}]
[{"$f":"'AHORRO FOTOVOLTAICA'!B35","v":862.19908698960194},{"$f":"'AHORRO FOTOVOLTAICA'!C35","v":6.5668505384817444E-3},{"$f":"'AHORRO FOTOVOLTAICA'!D35","v":""},{"$f":"'AHORRO FOTOVOLTAICA'!E35","v":""},{"$f":"'AHORRO FOTOVOLTAICA'!F35","v":""},{"$f":"'AHORRO FOTOVOLTAICA'!G35","v":""},{"$f":"'AHORRO FOTOVOLTAICA'!H35","v":""},{"$f":"'AHORRO FOTOVOLTAICA'!I35","v":""},{"$f":"'AHORRO FOTOVOLTAICA'!J35","v":""},{"$f":"'AHORRO FOTOVOLTAICA'!K35","v":""}]
[]
[]
[]
[{"$f":"IF(A15=\"\",0,A1-A15)","v":-717.64646208470708},{"$f":"IF(A30<0,-A30,0)","v":717.64646208470708},{"$f":"IF(C15=\"\",0,C1-C15)","v":0},0,{"$f":"IF(E15=\"\",0,E1-E15)","v":0},{"$f":"IF(E30<0,-E30,0)","v":0},{"$f":"IF(G15=\"\",0,G1-G15)","v":0},{"$f":"IF(G30<0,-G30,0)","v":0},{"$f":"IF(I15=\"\",0,I1-I15)","v":0},{"$f":"IF(I30<0,-I30,0)","v":0}]
[{"$f":"IF(A16=\"\",0,A2-A16)","v":-773.74917575450195},773.74917575450195,{"$f":"IF(C16=\"\",0,C2-C16)","v":0},{"$f":"IF(C31<0,-C31,0)","v":0},{"$f":"IF(E16=\"\",0,E2-E16)","v":0},0,{"$f":"IF(G16=\"\",0,G2-G16)","v":0},{"$f":"IF(G31<0,-G31,0)","v":0},{"$f":"IF(I16=\"\",0,I2-I16)","v":0},{"$f":"IF(I31<0,-I31,0)","v":0}]
[486.66776566066437,0,0,{"$f":"IF(C32<0,-C32,0)","v":0},0,0,0,{"$f":"IF(G32<0,-G32,0)","v":0},0,{"$f":"IF(I32<0,-I32,0)","v":0}]
[2230.9779355820438,0,0,{"$f":"IF(C33<0,-C33,0)","v":0},0,0,0,{"$f":"IF(G33<0,-G33,0)","v":0},0,{"$f":"IF(I33<0,-I33,0)","v":0}]
[2626.8067461323863,{"$f":"IF(A34<0,-A34,0)","v":0},0,{"$f":"IF(C34<0,-C34,0)","v":0},0,0,0,{"$f":"IF(G34<0,-G34,0)","v":0},0,{"$f":"IF(I34<0,-I34,0)","v":0}]
[4222.8414912503167,{"$f":"IF(A35<0,-A35,0)","v":0},0,{"$f":"IF(C35<0,-C35,0)","v":0},0,0,0,{"$f":"IF(G35<0,-G35,0)","v":0},0,{"$f":"IF(I35<0,-I35,0)","v":0}]
[4292.5660664468678,0,0,{"$f":"IF(C36<0,-C36,0)","v":0},0,0,0,{"$f":"IF(G36<0,-G36,0)","v":0},0,{"$f":"IF(I36<0,-I36,0)","v":0}]
[2953.4965762110069,0,0,{"$f":"IF(C37<0,-C37,0)","v":0},0,0,0,{"$f":"IF(G37<0,-G37,0)","v":0},0,{"$f":"IF(I37<0,-I37,0)","v":0}]
[2029.5635303068727,0,0,{"$f":"IF(C38<0,-C38,0)","v":0},0,0,0,{"$f":"IF(G38<0,-G38,0)","v":0},0,{"$f":"IF(I38<0,-I38,0)","v":0}]
[880.11437991377124,0,0,{"$f":"IF(C39<0,-C39,0)","v":0},0,0,0,{"$f":"IF(G39<0,-G39,0)","v":0},0,{"$f":"IF(I39<0,-I39,0)","v":0}]
[-720.43976667512061,720.43976667512061,0,{"$f":"IF(C40<0,-C40,0)","v":0},0,0,0,{"$f":"IF(G40<0,-G40,0)","v":0},0,{"$f":"IF(I40<0,-I40,0)","v":0}]
[-645.19908698960194,645.19908698960194,0,{"$f":"IF(C41<0,-C41,0)","v":0},0,0,0,{"$f":"IF(G41<0,-G41,0)","v":0},0,{"$f":"IF(I41<0,-I41,0)","v":0}]
[null,{"$f":"SUM(B30:B41)","v":2857.0344915039313},null,{"$f":"SUM(D30:D41)","v":0},null,{"$f":"SUM(F30:F41)","v":0},null,{"$f":"SUM(H30:H41)","v":0},null,{"$f":"SUM(J30:J41)","v":0}]

{"sheet":"Resumen oferta","index":14,"n_rows":18,"n_cols":7,"rows_kept":18,"cut":false,"hidden":true,"merged":[[17,2,17,3],[5,2,5,3],[6,2,6,3],[8,5,8,6],[9,6,9,7],[10,1,10,2],[10,6,10,7],[11,2,11,3],[11,6,11,7],[12,2,12,3],[13,2,13,3],[14,2,14,3],[2,1,2,2],[2,5,2,6],[3,2,3,3],[3,6,3,7],[4,2,4,3],[4,6,4,7]]}
[null,"RESUMEN DE LA OFERTA"]
[]
[null,"CLIENTE",null,null,null,"OFERTA"]
[null,"TROTALENGUAS S.L",null,null,null,"Fecha oferta","2018-08-27"]
[null,"PINTOR ENRIQUE VIDAL 3",null,null,null,"Válida hasta",{"$f":"G4+92","v":"2018-11-27"}]
[null,"03640 - MONOVAR (ALICANTE)"]
[]
[]
[null,null,null,null,null,"INSTALACIÓN SOLAR FV"]
[null,null,null,null,null,"P.V.P Instalación (SIN IVA)",{"$f":"'CUADRO RENTING'!D3","v":12500}]
[null,"INSTALACIÓN SOLAR FV"]
[null,"Inclinación/Orientación","15/15",null,null,"TOTAL Pago al contado",{"$f":"SUM(G10:H11)","v":12500}]
[null,"Superficie(m²)",{"$f":"'Balance energético y ahorro'!C4:D4*2","v":424},null,null,"No incluyen, tasas, avales o impuestos"]
[null,"Inyección a red","SI"]
[null,"Baterías","NO"]
[null,"Garantía Paneles (años)",null,10]
[null,"Garantía Inversores (años)",null,5]
[null,"Garantía Baterías (años)","NO"]

{"sheet":"Balance energético y ahorro","index":15,"n_rows":25,"n_cols":12,"rows_kept":25,"cut":false,"hidden":true,"merged":[[21,2,21,3],[21,5,21,6],[22,2,22,3],[22,6,22,7],[23,2,23,3],[20,6,20,7],[8,6,8,7],[9,6,9,7],[10,1,10,2],[11,2,11,3],[12,2,12,3],[13,2,13,3],[14,2,14,3],[15,2,15,3],[18,1,18,2],[19,2,19,3],[20,2,20,3],[5,2,5,3],[5,6,5,7],[6,2,6,3],[6,6,6,7],[7,2,7,3],[7,6,7,7],[2,1,2,2],[2,5,2,6],[3,2,3,3],[3,6,3,7],[4,2,4,3],[4,6,4,7]]}
[null,"Balance  y ahorro energético"]
[]
[null,"INSTALACIÓN SOLAR FV",null,null,null,"BALANCE ENERGÉTICO (Kwh/año)"]
[null,"Nº paneles",212,null,null,"Consumo",{"$f":"'AHORRO FOTOVOLTAICA'!B20+'AHORRO FOTOVOLTAICA'!D20+'AHORRO FOTOVOLTAICA'!F20","v":32094},null,null,null,"Columna1","Consumo"]
[null,"Nº inversores",2,null,null,"Generación FV potencial máx",{"$f":"'AHORRO FOTOVOLTAICA'!B37+'AHORRO FOTOVOLTAICA'!D37+'AHORRO FOTOVOLTAICA'!F37","v":15228.000000000004},null,null,null,"Autoconsumo",{"$f":"(G6/G4)*100","v":38.546038226759123}]
[null,"Potencia nominal (kWp)",{"$f":"'CUADRO RENTING'!D1","v":10000},null,null,"Autoconsumo",{"$f":"G5-Venta!B42-Venta!D42-Venta!F42-Venta!H42-Venta!J42","v":12370.965508496072},null,null,null,"Suministro de red",{"$f":"(G7/G4)*100","v":61.453961773240884}]
[null,"Potencia inversores(kWn)",70000,null,null,"Suministro de red",{"$f":"G4-G6","v":19723.034491503928}]
[null,"Potencia unitaria panel (kWp/panel)",330,null,null,"Inyección a red",{"$f":"G5-G6","v":2857.0344915039313}]
[null,null,null,null,null,"%Autoconsumo/ Gen.FV Potencial",{"$f":"G6/G5","v":0.81238281511006494}]
[null,null,null,null,null,"%Autoconsumo/ Consumo",{"$f":"G6/G4","v":0.38546038226759122}]
[null,"SISTEMA DE ALMACENAMIENTO"]
[null,"Nº Baterías","NO"]
[null,"Tipo","NO"]
[null,"Capacidad Nominal (kWh)","NO"]
[null,"Capacidad útil (kWh)","NO"]
[null,"Garantía (años)","NO"]
[]
[]
[null,"AHORRO ESTIMADO EN FACTURA ELECTRICA"]
[null,"Ahorro en término de energía",{"$f":"'AHORRO FUTURO'!C22","v":1366.0910112165093}]
[null,"Ahorro en término de potencia y venta",{"$f":"'AHORRO FUTURO'!F22","v":328.56655211767691}]
[null,"AHORRO TOTAL (€/AÑO SIN IVA)",{"$f":"SUM(C20:D21)","v":1694.6575633341863},null,null,"MEDIOAMBIENTE"]
[null,"AHORRO TOTAL (%)",{"$f":"C22/('AHORRO FUTURO'!B22+'AHORRO FUTURO'!C22)","v":0.3451341684543261},null,null,"Reducción de emisiones CO2/año",{"$f":"7869/18414*G5","v":6507.5014662756612}]
[null,"Incluye cargos RD900/2015",{"$f":"-'AHORRO FUTURO'!E22","v":-641.4098196845041}]
[null,"*Estimación en base al consumo del cliente"]

{"sheet":"Hoja2","index":16,"n_rows":68,"n_cols":13,"rows_kept":68,"cut":false,"hidden":true,"merged":[]}
["MES"]
[1,"REAL",{"$f":"F2+I2","v":7792},{"$f":"G2+J2","v":16992},{"$f":"H2+K2","v":7542},7792,16129,3681,0,863,3861]
[2,"REAL",{"$f":"F3+I3","v":8336},{"$f":"G3+J3","v":19103},{"$f":"H3+K3","v":8121},8336,18157,3855,0,946,4266]
[3,"REAL",13096,27716,13121,13096,25898,5306,0,1818,7815]
[4,"REAL",18335,28283,15212,18335,26110,6677,0,2173,8535]
[5,"REAL",10775,14617,10089,10775,12946,4881,0,1671,5208]
[6,"REAL",9235,14935,12492,9235,12830,5841,0,2105,6651]
[7,"REAL",11653,17195,13261,11653,15179,7416,0,2016,5845]
[8,"REAL",8093,12636,11261,8093,10595,5629,0,2041,5632]
[9,"REAL",8041,12023,10397,8041,10250,5594,0,1773,4803]
[10,"REAL",12308,16810,14485,12308,14208,6128,0,2602,8357]
[11,"REAL",9089,19620,12452,9089,17679,5640,0,1941,6812]
[12,"REAL",10253,23649,17983,10253,20709,7824,0,2940,10159]
[]
[]
[]
[]
[]
[]
[]
[]
[]
[]
[null,null,null,null,null,null,null,null,null,null,2]
[null,null,null,null,null,null,{"$f":"K25/K$37","v":1.0357824626299938},{"$f":"L25/L$37","v":1.0144695327301514},0.96320396386030205,"ENERO",9.7350000000000006E-2,8.9064000000000004E-2,6.8363000000000007E-2]
[null,null,null,null,null,null,{"$f":"K26/K$37","v":0.8904643642776523},0.87835493068976123,0.88311895690358622,"FEBRERO",8.3692000000000003E-2,7.7114000000000002E-2,6.2678999999999999E-2]
[null,null,null,null,null,null,0.90979684229099278,0.94391774653448801,0.98050593228796679,"MARZO",8.5509000000000002E-2,8.2869999999999999E-2,6.9591E-2]
[null,null,null,7.0191000000000003E-2,6.6266000000000005E-2,5.4552999999999997E-2,0.94437612327247689,0.96676677512804643,1.0276213902864286,"ABRIL",8.8759000000000005E-2,8.4876000000000007E-2,7.2935E-2]
[null,null,null,null,null,null,0.90690282246731169,0.9219913357455547,0.97699763412958873,"MAYO",8.5237000000000007E-2,8.0944999999999989E-2,6.9342000000000015E-2]
[null,null,null,null,null,null,0.90390240485599516,0.92470223744309576,0.96531739648583093,"JUNIO",8.4955000000000003E-2,8.1183000000000005E-2,6.8512999999999991E-2]
[null,null,null,null,null,null,0.86137520913815147,0.87227248738519492,0.86006845173448232,"JULIO",8.0958000000000002E-2,7.6580000000000009E-2,6.1043E-2]
[null,null,null,{"$f":"(6.77+1.4335)/100","v":8.2034999999999997E-2},{"$f":"(6.2353+1.2754)/100","v":7.5106999999999993E-2},{"$f":"(5.2436+0.7805)/100","v":6.0240999999999996E-2},0.99911778501085713,1.0193559899916849,0.99596216955600292,"AGOSTO",9.3904000000000001E-2,8.9492999999999989E-2,7.0688000000000001E-2]
[null,null,null,null,null,null,1.0777563898521338,1.0453373629836624,1.0212810924098417,"SEPTIEMBRE",0.101295,9.1774000000000008E-2,7.2485000000000008E-2]
[null,null,null,null,null,null,1.131838385307175,1.1127226337511058,1.1166814411262247,"OCTUBRE",0.106378,9.7689999999999999E-2,7.9256000000000007E-2]
[null,null,null,null,null,null,1.302904748267268,1.2856394348871025,1.2460376073594419,"NOVIEMBRE",0.12245600000000001,0.112871,8.8437000000000002E-2]
[null,null,null,null,null,null,1.0357824626299938,1.0144695327301514,0.96320396386030205,"DICIEMBRE",9.7349999999999992E-2,8.9064000000000004E-2,6.8363000000000007E-2]
[null,null,null,{"$f":"D28/G28","v":7.4325259046969877E-2},{"$f":"E28/H28","v":6.8543936040027023E-2},5.3086672305248973E-2,null,null,null,null,{"$f":"AVERAGE(K25:K36)","v":9.3986916666666656E-2},{"$f":"AVERAGE(L25:L36)","v":8.7793666666666673E-2},7.0974583333333341E-2]
[null,null,null,{"$f":"D32/G32","v":8.210743641112199E-2},{"$f":"E32/H32","v":7.368083450474712E-2},6.0485229099469975E-2]
[]
[null,null,null,"Fecha","Tipo","ConsumoP1","ConsumoP2","ConsumoP3","ConsumoP4","ConsumoP5","ConsumoP6"]
[null,null,null,"2018-02-12",null,244,8629,1410,0,3,2]
[null,null,null,"2018-03-13",null,266,8009,1363,3,4,3]
[null,null,null,"2018-04-12",null,1877,4398,1016,0,4,2]
[null,null,null,"2018-05-14",null,3394,3568,1066,208,160,66]
[null,null,null,"2018-06-12",null,4133,4267,1313,0,4,3]
[null,null,null,"2017-07-14",null,5755,6077,1576,3,4,3]
[null,null,null,"2017-08-11",null,5876,6525,1794,0,4,2]
[null,null,null,"2017-09-18",null,4268,4808,1237,211,236,75]
[null,null,null,"2017-10-17",null,3333,4144,980,0,4,3]
[null,null,null,"2017-11-15",null,2085,5836,1135,2,376,71]
[null,null,null,"2017-12-14",null,209,5749,808,10,457,81]
[null,null,null,"2018-01-15",null,215,7047,1137,2,6,4]
[]
[]
[]
[null,null,null,"Fecha","Tipo","ConsumoP1","ConsumoP2","ConsumoP3","ConsumoP4","ConsumoP5","ConsumoP6"]
[null,null,null,"2017-07-14",null,86,79,68,0,0,0]
[null,null,null,"2017-08-11",null,95,94,88,0,0,0]
[null,null,null,"2017-09-18",null,94,94,91,54,58,60]
[null,null,null,"2017-10-17",null,64,66,60,0,0,0]
[null,null,null,"2017-11-15",null,69,68,65,0,0,0]
[null,null,null,"2017-12-14",null,19,73,58,0,57,57]
[null,null,null,"2018-01-15",null,23,85,83,6,63,64]
[null,null,null,"2018-02-12",null,28,82,75,0,0,0]
[null,null,null,"2018-03-13",null,33,79,81,0,0,0]
[null,null,null,"2018-04-12",null,68,72,66,0,0,0]
[null,null,null,"2018-05-14",null,63,65,64,0,0,0]
[null,null,null,"2018-06-12",null,70,71,68,55,58,54]

{"sheet":"Hoja1","index":17,"n_rows":3,"n_cols":1,"rows_kept":3,"cut":false,"hidden":true,"merged":[]}
[{"$f":"64309+2*183","v":64675}]
[3500]
[{"$f":"A1+A2","v":68175}]